Workbook

Sheet Rekapitulácia stavby
A1: Export Komplet | BA1: 2.0 | BB1: ZAMOK | BT1: False | BU1: False | BV1: {cfe32b0f-a7e5-4fa4-824d-3fffcafea228}
BS2: 0,001 | BT2: 20
BS3: 0,001 | BT3: 20
D4: REKAPITULÁCIA STAVBY | AS4: v --- nižšie sa nachádzajú doplnkové a pomocné údaje k zostavám --- v | BE4: Návod na vyplnenie | BS4: 0,001
D5: Kód: | K5: ZSstrechaTelocvicna | BE5: Meniť je možné iba bunky so žltým podfarbením!_x000D_ _x000D_ 1) na prvom liste Rekapitulácie stavby vyplňte v zostave_x000D_ _x000D_ a) Rekapitulácia stavby_x000D_ - údaje o Zhotoviteľovi_x000D_ (prenesú sa do ostatných zostáv aj v iných listoch)_x000D_ _x000D_ b) Rekapitulácia objektov stavby_x000D_ - potrebné Ostatné náklady_x000D_ _x000D_ 2) na vybraných listoch vyplňte v zostave_x000D_ _x000D_ a) Krycí list_x000D_ - údaje o Zhotoviteľovi, pokiaľ sa líšia od údajov o Zhotoviteľovi na Rekapitulácii stavby_x000D_ (údaje se prenesú do ostatných zostav v danom liste)_x000D_ _x000D_ b) Rekapitulácia rozpočtu_x000D_ - potrebné Ostatné náklady_x000D_ _x000D_ c) Celkové náklady za stavbu_x000D_ - ceny na položkách_x000D_ - množstvo, pokiaľ má žlté podfarbenie_x000D_ - a v prípade potreby poznámku (tá je v skrytom stĺpci) | BS5: 0,001
D6: Stavba: | K6: Zlepšenie energetickej hospodárnosti ZŠ Malinovského Blok E | BS6: 0,001
D7: JKSO: | AK7: KS: | BS7: 0,001
D8: Miesto: | K8: Partizánske | AK8: Dátum: | AN8: 13. 9. 2019 | BS8: 0,001
BS9: 0,001
D10: Objednávateľ: | AK10: IČO: | AN10: 00310905 | BS10: 0,001
E11: Mesto Partizánske | AK11: IČ DPH: | BS11: 0,001
BS12: 0,001
D13: Zhotoviteľ: | AK13: IČO: | AN13: Vyplň údaj | BS13: 0,001
E14: Vyplň údaj | AK14: IČ DPH: | AN14: Vyplň údaj | BS14: 0,001
BS15: False
D16: Projektant: | AK16: IČO: | BS16: False
E17: Ing. Rastislav Ivanka | AK17: IČ DPH: | BS17: True
BS18: 0,01
D19: Spracovateľ: | AK19: IČO: | BS19: 0,01
E20: Ľudmila Tomášová | AK20: IČ DPH: | BS20: True
D22: Poznámka:
D26: Cena bez DPH | AK26: =ROUND(AG94,2) -> 0
L28: Sadzba dane | W28: Základ dane | AK28: Výška dane
D29: DPH | F29: základná | L29: 0.2 | W29: =ROUND(AZ94, 2) -> 0 | AK29: =ROUND(AV94, 2) -> 0
F30: znížená | L30: 0.2 | W30: =ROUND(BA94, 2) -> 0 | AK30: =ROUND(AW94, 2) -> 0
F31: zákl. prenesená | L31: 0.2 | W31: =ROUND(BB94, 2) -> 0 | AK31: 0
F32: zníž. prenesená | L32: 0.2 | W32: =ROUND(BC94, 2) -> 0 | AK32: 0
F33: nulová | L33: 0 | W33: =ROUND(BD94, 2) -> 0 | AK33: 0
D35: Cena s DPH | T35: v | X35: EUR | AK35: =SUM(AK26:AK33) -> 0
D49: Projektant | AH49: Spracovateľ
D60: Dátum a podpis: | V60: Pečiatka | AH60: Dátum a podpis: | AM60: Pečiatka
D64: Objednávateľ | AH64: Zhotoviteľ
D75: Dátum a podpis: | V75: Pečiatka | AH75: Dátum a podpis: | AM75: Pečiatka
C82: REKAPITULÁCIA OBJEKTOV STAVBY
C84: Kód: | L84: =K5 -> ZSstrechaTelocvicna
C85: Stavba: | L85: =K6 -> Zlepšenie energetickej hospodárnosti ZŠ Malinovského Blok E
C87: Miesto: | L87: =IF(K8="","",K8) -> Partizánske | AI87: Dátum: | AM87: =IF(AN8= "","",AN8) -> 13. 9. 2019
C89: Objednávateľ: | L89: =IF(E11= "","",E11) -> Mesto Partizánske | AI89: Projektant: | AM89: =IF(E17="","",E17) -> Ing. Rastislav Ivanka | AS89: Informatívne údaje z listov zákaziek
C90: Zhotoviteľ: | L90: =IF(E14= "Vyplň údaj","",E14) | AI90: Spracovateľ: | AM90: =IF(E20="","",E20) -> Ľudmila Tomášová
C92: Kód | I92: Popis | AG92: Cena bez DPH [EUR] | AN92: Cena s DPH [EUR] | AQ92: Typ | AS92: z toho Ostat._x000D_ náklady [EUR] | AT92: DPH [EUR] | AU92: Normohodiny [h] | AV92: DPH základná [EUR] | AW92: DPH znížená [EUR] | AX92: DPH základná prenesená_x000D_ [EUR] | AY92: DPH znížená prenesená_x000D_ [EUR] | AZ92: Základňa_x000D_ DPH základná | BA92: Základňa_x000D_ DPH znížená | BB92: Základňa_x000D_ DPH zákl. prenesená | BC92: Základňa_x000D_ DPH zníž. prenesená | BD92: Základňa_x000D_ DPH nulová
...

Sheet 1 - Architektúra (Strecha)
AT2: {9b697f3e-4e7b-4da3-b68f-a4de2bf15096}
AT3: 0
D4: KRYCÍ LIST ROZPOČTU | M4: v --- nižšie sa nachádzajú doplnkové a pomocné údaje k zostavám --- v | AT4: False
D6: Stavba:
E7: ='Rekapitulácia stavby'!K6 -> Zlepšenie energetickej hospodárnosti ZŠ Malinovského Blok E
D8: Objekt:
E9: 1 - Architektúra (Strecha)
D11: JKSO: | I11: KS:
D12: Miesto: | F12: Partizánske | I12: Dátum: | J12: ='Rekapitulácia stavby'!AN8 -> 13. 9. 2019
D14: Objednávateľ: | I14: IČO: | J14: 00310905
E15: Mesto Partizánske | I15: IČ DPH:
D17: Zhotoviteľ: | I17: IČO: | J17: ='Rekapitulácia stavby'!AN13 -> Vyplň údaj
E18: ='Rekapitulácia stavby'!E14 -> Vyplň údaj | I18: IČ DPH: | J18: ='Rekapitulácia stavby'!AN14 -> Vyplň údaj
D20: Projektant: | I20: IČO:
E21: Ing. Rastislav Ivanka | I21: IČ DPH:
D23: Spracovateľ: | I23: IČO:
E24: Ľudmila Tomášová | I24: IČ DPH:
D26: Poznámka:
D30: Náklady z rozpočtu | J30: =J96 -> 0
D31: Ostatné náklady | J31: =J105 -> 0
D32: Cena bez DPH | J32: =ROUND(J30 + J31, 2) -> 0
F34: Základ dane | I34: Sadzba dane | J34: Výška dane
D35: DPH | E35: základná | F35: =ROUND((SUM(BE105:BE112) + SUM(BE132:BE210)), 2) -> 0 | I35: 0.2 | J35: =ROUND(((SUM(BE105:BE112) + SUM(BE132:BE210))*I35), 2) -> 0
E36: znížená | F36: =ROUND((SUM(BF105:BF112) + SUM(BF132:BF210)), 2) -> 0 | I36: 0.2 | J36: =ROUND(((SUM(BF105:BF112) + SUM(BF132:BF210))*I36), 2) -> 0
E37: zákl. prenesená | F37: =ROUND((SUM(BG105:BG112) + SUM(BG132:BG210)), 2) -> 0 | I37: 0.2 | J37: =0 -> 0
E38: zníž. prenesená | F38: =ROUND((SUM(BH105:BH112) + SUM(BH132:BH210)), 2) -> 0 | I38: 0.2 | J38: =0 -> 0
E39: nulová | F39: =ROUND((SUM(BI105:BI112) + SUM(BI132:BI210)), 2) -> 0 | I39: 0 | J39: =0 -> 0
D41: Cena s DPH | G41: v | H41: EUR | J41: =SUM(J32:J39) -> 0
D50: Projektant | G50: Spracovateľ
D61: Dátum a podpis: | F61: Pečiatka | G61: Dátum a podpis: | J61: Pečiatka
D65: Objednávateľ | G65: Zhotoviteľ
D76: Dátum a podpis: | F76: Pečiatka | G76: Dátum a podpis: | J76: Pečiatka
C82: REKAPITULÁCIA ROZPOČTU
C84: Stavba:
E85: =E7 -> Zlepšenie energetickej hospodárnosti ZŠ Malinovského Blok E
C86: Objekt:
E87: =E9 -> 1 - Architektúra (Strecha)
C89: Miesto: | F89: =F12 -> Partizánske | I89: Dátum: | J89: =IF(J12="","",J12) -> 13. 9. 2019
C91: Objednávateľ: | F91: =E15 -> Mesto Partizánske | I91: Projektant: | J91: =E21 -> Ing. Rastislav Ivanka
C92: Zhotoviteľ: | F92: =IF(E18="","",E18) -> Vyplň údaj | I92: Spracovateľ: | J92: =E24 -> Ľudmila Tomášová
...

Sheet 2 - Bleskozvod (Strecha)
AT2: {320c6941-ec39-4fa2-8890-10c4a3f3584a}
AT3: 0
D4: KRYCÍ LIST ROZPOČTU | M4: v --- nižšie sa nachádzajú doplnkové a pomocné údaje k zostavám --- v | AT4: False
D6: Stavba:
E7: ='Rekapitulácia stavby'!K6 -> Zlepšenie energetickej hospodárnosti ZŠ Malinovského Blok E
D8: Objekt:
E9: 2 - Bleskozvod (Strecha)
D11: JKSO: | I11: KS:
D12: Miesto: | F12: Partizánske | I12: Dátum: | J12: ='Rekapitulácia stavby'!AN8 -> 13. 9. 2019
D14: Objednávateľ: | I14: IČO: | J14: 00310905
E15: Mesto Partizánske | I15: IČ DPH:
D17: Zhotoviteľ: | I17: IČO: | J17: ='Rekapitulácia stavby'!AN13 -> Vyplň údaj
E18: ='Rekapitulácia stavby'!E14 -> Vyplň údaj | I18: IČ DPH: | J18: ='Rekapitulácia stavby'!AN14 -> Vyplň údaj
D20: Projektant: | I20: IČO:
E21: Ing. Rastislav Ivanka | I21: IČ DPH:
D23: Spracovateľ: | I23: IČO:
E24: Ľudmila Tomášová | I24: IČ DPH:
D26: Poznámka:
D30: Náklady z rozpočtu | J30: =J96 -> 0
D31: Ostatné náklady | J31: =J103 -> 0
D32: Cena bez DPH | J32: =ROUND(J30 + J31, 2) -> 0
F34: Základ dane | I34: Sadzba dane | J34: Výška dane
D35: DPH | E35: základná | F35: =ROUND((SUM(BE103:BE110) + SUM(BE130:BE172)), 2) -> 0 | I35: 0.2 | J35: =ROUND(((SUM(BE103:BE110) + SUM(BE130:BE172))*I35), 2) -> 0
E36: znížená | F36: =ROUND((SUM(BF103:BF110) + SUM(BF130:BF172)), 2) -> 0 | I36: 0.2 | J36: =ROUND(((SUM(BF103:BF110) + SUM(BF130:BF172))*I36), 2) -> 0
E37: zákl. prenesená | F37: =ROUND((SUM(BG103:BG110) + SUM(BG130:BG172)), 2) -> 0 | I37: 0.2 | J37: =0 -> 0
E38: zníž. prenesená | F38: =ROUND((SUM(BH103:BH110) + SUM(BH130:BH172)), 2) -> 0 | I38: 0.2 | J38: =0 -> 0
E39: nulová | F39: =ROUND((SUM(BI103:BI110) + SUM(BI130:BI172)), 2) -> 0 | I39: 0 | J39: =0 -> 0
D41: Cena s DPH | G41: v | H41: EUR | J41: =SUM(J32:J39) -> 0
D50: Projektant | G50: Spracovateľ
D61: Dátum a podpis: | F61: Pečiatka | G61: Dátum a podpis: | J61: Pečiatka
D65: Objednávateľ | G65: Zhotoviteľ
D76: Dátum a podpis: | F76: Pečiatka | G76: Dátum a podpis: | J76: Pečiatka
C82: REKAPITULÁCIA ROZPOČTU
C84: Stavba:
E85: =E7 -> Zlepšenie energetickej hospodárnosti ZŠ Malinovského Blok E
C86: Objekt:
E87: =E9 -> 2 - Bleskozvod (Strecha)
C89: Miesto: | F89: =F12 -> Partizánske | I89: Dátum: | J89: =IF(J12="","",J12) -> 13. 9. 2019
C91: Objednávateľ: | F91: =E15 -> Mesto Partizánske | I91: Projektant: | J91: =E21 -> Ing. Rastislav Ivanka
C92: Zhotoviteľ: | F92: =IF(E18="","",E18) -> Vyplň údaj | I92: Spracovateľ: | J92: =E24 -> Ľudmila Tomášová
...

Sheet 3 - Svetelná elektroinšta...
AT2: {45e3988b-b156-4f55-b955-db37ad7d5fda}
AT3: 0
D4: KRYCÍ LIST ROZPOČTU | M4: v --- nižšie sa nachádzajú doplnkové a pomocné údaje k zostavám --- v | AT4: False
D6: Stavba:
E7: ='Rekapitulácia stavby'!K6 -> Zlepšenie energetickej hospodárnosti ZŠ Malinovského Blok E
D8: Objekt:
E9: 3 - Svetelná elektroinštalácia (Strecha)
D11: JKSO: | I11: KS:
D12: Miesto: | F12: Partizánske | I12: Dátum: | J12: ='Rekapitulácia stavby'!AN8 -> 13. 9. 2019
D14: Objednávateľ: | I14: IČO: | J14: 00310905
E15: Mesto Partizánske | I15: IČ DPH:
D17: Zhotoviteľ: | I17: IČO: | J17: ='Rekapitulácia stavby'!AN13 -> Vyplň údaj
E18: ='Rekapitulácia stavby'!E14 -> Vyplň údaj | I18: IČ DPH: | J18: ='Rekapitulácia stavby'!AN14 -> Vyplň údaj
D20: Projektant: | I20: IČO:
E21: Ing. Rastislav Ivanka | I21: IČ DPH:
D23: Spracovateľ: | I23: IČO:
E24: Ľudmila Tomášová | I24: IČ DPH:
D26: Poznámka:
D30: Náklady z rozpočtu | J30: =J96 -> 0
D31: Ostatné náklady | J31: =J102 -> 0
D32: Cena bez DPH | J32: =ROUND(J30 + J31, 2) -> 0
F34: Základ dane | I34: Sadzba dane | J34: Výška dane
D35: DPH | E35: základná | F35: =ROUND((SUM(BE102:BE109) + SUM(BE129:BE175)), 2) -> 0 | I35: 0.2 | J35: =ROUND(((SUM(BE102:BE109) + SUM(BE129:BE175))*I35), 2) -> 0
E36: znížená | F36: =ROUND((SUM(BF102:BF109) + SUM(BF129:BF175)), 2) -> 0 | I36: 0.2 | J36: =ROUND(((SUM(BF102:BF109) + SUM(BF129:BF175))*I36), 2) -> 0
E37: zákl. prenesená | F37: =ROUND((SUM(BG102:BG109) + SUM(BG129:BG175)), 2) -> 0 | I37: 0.2 | J37: =0 -> 0
E38: zníž. prenesená | F38: =ROUND((SUM(BH102:BH109) + SUM(BH129:BH175)), 2) -> 0 | I38: 0.2 | J38: =0 -> 0
E39: nulová | F39: =ROUND((SUM(BI102:BI109) + SUM(BI129:BI175)), 2) -> 0 | I39: 0 | J39: =0 -> 0
D41: Cena s DPH | G41: v | H41: EUR | J41: =SUM(J32:J39) -> 0
D50: Projektant | G50: Spracovateľ
D61: Dátum a podpis: | F61: Pečiatka | G61: Dátum a podpis: | J61: Pečiatka
D65: Objednávateľ | G65: Zhotoviteľ
D76: Dátum a podpis: | F76: Pečiatka | G76: Dátum a podpis: | J76: Pečiatka
C82: REKAPITULÁCIA ROZPOČTU
C84: Stavba:
E85: =E7 -> Zlepšenie energetickej hospodárnosti ZŠ Malinovského Blok E
C86: Objekt:
E87: =E9 -> 3 - Svetelná elektroinštalácia (Strecha)
C89: Miesto: | F89: =F12 -> Partizánske | I89: Dátum: | J89: =IF(J12="","",J12) -> 13. 9. 2019
C91: Objednávateľ: | F91: =E15 -> Mesto Partizánske | I91: Projektant: | J91: =E21 -> Ing. Rastislav Ivanka
C92: Zhotoviteľ: | F92: =IF(E18="","",E18) -> Vyplň údaj | I92: Spracovateľ: | J92: =E24 -> Ľudmila Tomášová
...
