Workbook

Sheet Rekapitulácia stavby
A1: Export Komplet | BA1: 2.0 | BB1: ZAMOK | BT1: False | BU1: False | BV1: {cfe32b0f-a7e5-4fa4-824d-3fffcafea228}
BS2: 0,001 | BT2: 20
BS3: 0,001 | BT3: 20
D4: REKAPITULÁCIA STAVBY | AS4: v --- nižšie sa nachádzajú doplnkové a pomocné údaje k zostavám --- v | BE4: Návod na vyplnenie | BS4: 0,001
D5: Kód: | K5: ZSstrechaTelocvicna | BE5: Meniť je možné iba bunky so žltým podfarbením!_x000D_ _x000D_ 1) na prvom liste Rekapitulácie stavby vyplňte v zostave_x000D_ _x000D_ a) Rekapitulácia stavby_x000D_ - údaje o Zhotoviteľovi_x000D_ (prenesú sa do ostatných zostáv aj v iných listoch)_x000D_ _x000D_ b) Rekapitulácia objektov stavby_x000D_ - potrebné Ostatné náklady_x000D_ _x000D_ 2) na vybraných listoch vyplňte v zostave_x000D_ _x000D_ a) Krycí list_x000D_ - údaje o Zhotoviteľovi, pokiaľ sa líšia od údajov o Zhotoviteľovi na Rekapitulácii stavby_x000D_ (údaje se prenesú do ostatných zostav v danom liste)_x000D_ _x000D_ b) Rekapitulácia rozpočtu_x000D_ - potrebné Ostatné náklady_x000D_ _x000D_ c) Celkové náklady za stavbu_x000D_ - ceny na položkách_x000D_ - množstvo, pokiaľ má žlté podfarbenie_x000D_ - a v prípade potreby poznámku (tá je v skrytom stĺpci) | BS5: 0,001
D6: Stavba: | K6: Zlepšenie energetickej hospodárnosti ZŠ Malinovského Blok E | BS6: 0,001
D7: JKSO: | AK7: KS: | BS7: 0,001
D8: Miesto: | K8: Partizánske | AK8: Dátum: | AN8: 13. 9. 2019 | BS8: 0,001
BS9: 0,001
D10: Objednávateľ: | AK10: IČO: | AN10: 00310905 | BS10: 0,001
E11: Mesto Partizánske | AK11: IČ DPH: | BS11: 0,001
BS12: 0,001
D13: Zhotoviteľ: | AK13: IČO: | AN13: Vyplň údaj | BS13: 0,001
E14: Vyplň údaj | AK14: IČ DPH: | AN14: Vyplň údaj | BS14: 0,001
BS15: False
D16: Projektant: | AK16: IČO: | BS16: False
E17: Ing. Rastislav Ivanka | AK17: IČ DPH: | BS17: True
BS18: 0,01
D19: Spracovateľ: | AK19: IČO: | BS19: 0,01
E20: Ľudmila Tomášová | AK20: IČ DPH: | BS20: True
D22: Poznámka:
D26: Cena bez DPH | AK26: =ROUND(AG94,2) -> 0
L28: Sadzba dane | W28: Základ dane | AK28: Výška dane
D29: DPH | F29: základná | L29: 0.2 | W29: =ROUND(AZ94, 2) -> 0 | AK29: =ROUND(AV94, 2) -> 0
F30: znížená | L30: 0.2 | W30: =ROUND(BA94, 2) -> 0 | AK30: =ROUND(AW94, 2) -> 0
F31: zákl. prenesená | L31: 0.2 | W31: =ROUND(BB94, 2) -> 0 | AK31: 0
F32: zníž. prenesená | L32: 0.2 | W32: =ROUND(BC94, 2) -> 0 | AK32: 0
F33: nulová | L33: 0 | W33: =ROUND(BD94, 2) -> 0 | AK33: 0
D35: Cena s DPH | T35: v | X35: EUR | AK35: =SUM(AK26:AK33) -> 0
D49: Projektant | AH49: Spracovateľ
D60: Dátum a podpis: | V60: Pečiatka | AH60: Dátum a podpis: | AM60: Pečiatka
D64: Objednávateľ | AH64: Zhotoviteľ
D75: Dátum a podpis: | V75: Pečiatka | AH75: Dátum a podpis: | AM75: Pečiatka
C82: REKAPITULÁCIA OBJEKTOV STAVBY
C84: Kód: | L84: =K5 -> ZSstrechaTelocvicna
C85: Stavba: | L85: =K6 -> Zlepšenie energetickej hospodárnosti ZŠ Malinovského Blok E
C87: Miesto: | L87: =IF(K8="","",K8) -> Partizánske | AI87: Dátum: | AM87: =IF(AN8= "","",AN8) -> 13. 9. 2019
C89: Objednávateľ: | L89: =IF(E11= "","",E11) -> Mesto Partizánske | AI89: Projektant: | AM89: =IF(E17="","",E17) -> Ing. Rastislav Ivanka | AS89: Informatívne údaje z listov zákaziek
C90: Zhotoviteľ: | L90: =IF(E14= "Vyplň údaj","",E14) | AI90: Spracovateľ: | AM90: =IF(E20="","",E20) -> Ľudmila Tomášová
C92: Kód | I92: Popis | AG92: Cena bez DPH [EUR] | AN92: Cena s DPH [EUR] | AQ92: Typ | AS92: z toho Ostat._x000D_ náklady [EUR] | AT92: DPH [EUR] | AU92: Normohodiny [h] | AV92: DPH základná [EUR] | AW92: DPH znížená [EUR] | AX92: DPH základná prenesená_x000D_ [EUR] | AY92: DPH znížená prenesená_x000D_ [EUR] | AZ92: Základňa_x000D_ DPH základná | BA92: Základňa_x000D_ DPH znížená | BB92: Základňa_x000D_ DPH zákl. prenesená | BC92: Základňa_x000D_ DPH zníž. prenesená | BD92: Základňa_x000D_ DPH nulová
C94: Náklady z rozpočtov | AG94: =ROUND(SUM(AG95:AG97),2) -> 0 | AN94: =SUM(AG94,AT94) -> 0 | AS94: =ROUND(SUM(AS95:AS97),2) -> 0 | AT94: =ROUND(SUM(AV94:AW94),2) -> 0 | AU94: =ROUND(SUM(AU95:AU97),5) -> 0 | AV94: =ROUND(AZ94*L29,2) -> 0 | AW94: =ROUND(BA94*L30,2) -> 0 | AX94: =ROUND(BB94*L29,2) -> 0 | AY94: =ROUND(BC94*L30,2) -> 0 | AZ94: =ROUND(SUM(AZ95:AZ97),2) -> 0 | BA94: =ROUND(SUM(BA95:BA97),2) -> 0 | BB94: =ROUND(SUM(BB95:BB97),2) -> 0 | BC94: =ROUND(SUM(BC95:BC97),2) -> 0 | BD94: =ROUND(SUM(BD95:BD97),2) -> 0 | BS94: D | BT94: 0 | BU94: ###NOIMPORT### | BV94: IMPORT | BW94: {cfe32b0f-a7e5-4fa4-824d-3fffcafea228} | BX94: {00000000-0000-0000-0000-000000000000}
A95: / | D95: 1 | J95: Architektúra (Strecha) | AG95: ='1 - Architektúra (Strecha)'!J32 -> 0 | AN95: =SUM(AG95,AT95) -> 0 | AQ95: STA | AS95: 0 | AT95: =ROUND(SUM(AV95:AW95),2) -> 0 | AU95: ='1 - Architektúra (Strecha)'!P132 -> 0 | AV95: ='1 - Architektúra (Strecha)'!J35 -> 0 | AW95: ='1 - Architektúra (Strecha)'!J36 -> 0 | AX95: ='1 - Architektúra (Strecha)'!J37 -> 0 | AY95: ='1 - Architektúra (Strecha)'!J38 -> 0 | AZ95: ='1 - Architektúra (Strecha)'!F35 -> 0 | BA95: ='1 - Architektúra (Strecha)'!F36 -> 0 | BB95: ='1 - Architektúra (Strecha)'!F37 -> 0 | BC95: ='1 - Architektúra (Strecha)'!F38 -> 0 | BD95: ='1 - Architektúra (Strecha)'!F39 -> 0 | BT95: 1 | BV95: IMPORT | BW95: {9b697f3e-4e7b-4da3-b68f-a4de2bf15096} | BX95: {cfe32b0f-a7e5-4fa4-824d-3fffcafea228} | CM95: 0
A96: / | D96: 2 | J96: Bleskozvod (Strecha) | AG96: ='2 - Bleskozvod (Strecha)'!J32 -> 0 | AN96: =SUM(AG96,AT96) -> 0 | AQ96: STA | AS96: 0 | AT96: =ROUND(SUM(AV96:AW96),2) -> 0 | AU96: ='2 - Bleskozvod (Strecha)'!P130 -> 0 | AV96: ='2 - Bleskozvod (Strecha)'!J35 -> 0 | AW96: ='2 - Bleskozvod (Strecha)'!J36 -> 0 | AX96: ='2 - Bleskozvod (Strecha)'!J37 -> 0 | AY96: ='2 - Bleskozvod (Strecha)'!J38 -> 0 | AZ96: ='2 - Bleskozvod (Strecha)'!F35 -> 0 | BA96: ='2 - Bleskozvod (Strecha)'!F36 -> 0 | BB96: ='2 - Bleskozvod (Strecha)'!F37 -> 0 | BC96: ='2 - Bleskozvod (Strecha)'!F38 -> 0 | BD96: ='2 - Bleskozvod (Strecha)'!F39 -> 0 | BT96: 1 | BV96: IMPORT | BW96: {320c6941-ec39-4fa2-8890-10c4a3f3584a} | BX96: {cfe32b0f-a7e5-4fa4-824d-3fffcafea228} | CM96: 0
A97: / | D97: 3 | J97: Svetelná elektroinštalácia (Strecha) | AG97: ='3 - Svetelná elektroinšta...'!J32 -> 0 | AN97: =SUM(AG97,AT97) -> 0 | AQ97: STA | AS97: 0 | AT97: =ROUND(SUM(AV97:AW97),2) -> 0 | AU97: ='3 - Svetelná elektroinšta...'!P129 -> 0 | AV97: ='3 - Svetelná elektroinšta...'!J35 -> 0 | AW97: ='3 - Svetelná elektroinšta...'!J36 -> 0 | AX97: ='3 - Svetelná elektroinšta...'!J37 -> 0 | AY97: ='3 - Svetelná elektroinšta...'!J38 -> 0 | AZ97: ='3 - Svetelná elektroinšta...'!F35 -> 0 | BA97: ='3 - Svetelná elektroinšta...'!F36 -> 0 | BB97: ='3 - Svetelná elektroinšta...'!F37 -> 0 | BC97: ='3 - Svetelná elektroinšta...'!F38 -> 0 | BD97: ='3 - Svetelná elektroinšta...'!F39 -> 0 | BT97: 1 | BV97: IMPORT | BW97: {45e3988b-b156-4f55-b955-db37ad7d5fda} | BX97: {cfe32b0f-a7e5-4fa4-824d-3fffcafea228} | CM97: 0

Sheet 1 - Architektúra (Strecha)
AT2: {9b697f3e-4e7b-4da3-b68f-a4de2bf15096}
AT3: 0
D4: KRYCÍ LIST ROZPOČTU | M4: v --- nižšie sa nachádzajú doplnkové a pomocné údaje k zostavám --- v | AT4: False
D6: Stavba:
E7: ='Rekapitulácia stavby'!K6 -> Zlepšenie energetickej hospodárnosti ZŠ Malinovského Blok E
D8: Objekt:
E9: 1 - Architektúra (Strecha)
D11: JKSO: | I11: KS:
D12: Miesto: | F12: Partizánske | I12: Dátum: | J12: ='Rekapitulácia stavby'!AN8 -> 13. 9. 2019
D14: Objednávateľ: | I14: IČO: | J14: 00310905
E15: Mesto Partizánske | I15: IČ DPH:
D17: Zhotoviteľ: | I17: IČO: | J17: ='Rekapitulácia stavby'!AN13 -> Vyplň údaj
E18: ='Rekapitulácia stavby'!E14 -> Vyplň údaj | I18: IČ DPH: | J18: ='Rekapitulácia stavby'!AN14 -> Vyplň údaj
D20: Projektant: | I20: IČO:
E21: Ing. Rastislav Ivanka | I21: IČ DPH:
D23: Spracovateľ: | I23: IČO:
E24: Ľudmila Tomášová | I24: IČ DPH:
D26: Poznámka:
D30: Náklady z rozpočtu | J30: =J96 -> 0
D31: Ostatné náklady | J31: =J105 -> 0
D32: Cena bez DPH | J32: =ROUND(J30 + J31, 2) -> 0
F34: Základ dane | I34: Sadzba dane | J34: Výška dane
D35: DPH | E35: základná | F35: =ROUND((SUM(BE105:BE112) + SUM(BE132:BE210)), 2) -> 0 | I35: 0.2 | J35: =ROUND(((SUM(BE105:BE112) + SUM(BE132:BE210))*I35), 2) -> 0
E36: znížená | F36: =ROUND((SUM(BF105:BF112) + SUM(BF132:BF210)), 2) -> 0 | I36: 0.2 | J36: =ROUND(((SUM(BF105:BF112) + SUM(BF132:BF210))*I36), 2) -> 0
E37: zákl. prenesená | F37: =ROUND((SUM(BG105:BG112) + SUM(BG132:BG210)), 2) -> 0 | I37: 0.2 | J37: =0 -> 0
E38: zníž. prenesená | F38: =ROUND((SUM(BH105:BH112) + SUM(BH132:BH210)), 2) -> 0 | I38: 0.2 | J38: =0 -> 0
E39: nulová | F39: =ROUND((SUM(BI105:BI112) + SUM(BI132:BI210)), 2) -> 0 | I39: 0 | J39: =0 -> 0
D41: Cena s DPH | G41: v | H41: EUR | J41: =SUM(J32:J39) -> 0
D50: Projektant | G50: Spracovateľ
D61: Dátum a podpis: | F61: Pečiatka | G61: Dátum a podpis: | J61: Pečiatka
D65: Objednávateľ | G65: Zhotoviteľ
D76: Dátum a podpis: | F76: Pečiatka | G76: Dátum a podpis: | J76: Pečiatka
C82: REKAPITULÁCIA ROZPOČTU
C84: Stavba:
E85: =E7 -> Zlepšenie energetickej hospodárnosti ZŠ Malinovského Blok E
C86: Objekt:
E87: =E9 -> 1 - Architektúra (Strecha)
C89: Miesto: | F89: =F12 -> Partizánske | I89: Dátum: | J89: =IF(J12="","",J12) -> 13. 9. 2019
C91: Objednávateľ: | F91: =E15 -> Mesto Partizánske | I91: Projektant: | J91: =E21 -> Ing. Rastislav Ivanka
C92: Zhotoviteľ: | F92: =IF(E18="","",E18) -> Vyplň údaj | I92: Spracovateľ: | J92: =E24 -> Ľudmila Tomášová
C94: Kód dielu - Popis | J94: Cena celkom [EUR]
C96: 1) Náklady z rozpočtu | J96: =J132 -> 0 | AU96: -1
D97: 9 - Ostatné konštrukcie a práce-búranie | J97: =J133 -> 0
D98: 712 - Izolácie striech | J98: =J141 -> 0
D99: 713 - Izolácie tepelné | J99: =J169 -> 0
D100: 721 - Zdravotech. vnútorná kanalizácia | J100: =J178 -> 0
D101: 762 - Konštrukcie tesárske | J101: =J182 -> 0
D102: 764 - Konštrukcie klampiarske | J102: =J204 -> 0
C105: 2) Ostatné náklady | J105: =ROUND(J106 + J107 + J108 + J109 + J110 + J111,2) -> 0 | N105: DPH
D106: GZS | J106: 0 | N106: znížená | AY106: VRN | BE106: =IF(N106="základná",J106,0) -> 0 | BF106: =IF(N106="znížená",J106,0) -> 0 | BG106: =IF(N106="zákl. prenesená",J106,0) -> 0 | BH106: =IF(N106="zníž. prenesená",J106,0) -> 0 | BI106: =IF(N106="nulová",J106,0) -> 0 | BJ106: 2
D107: Projektové práce | J107: 0 | N107: znížená | AY107: VRN | BE107: =IF(N107="základná",J107,0) -> 0 | BF107: =IF(N107="znížená",J107,0) -> 0 | BG107: =IF(N107="zákl. prenesená",J107,0) -> 0 | BH107: =IF(N107="zníž. prenesená",J107,0) -> 0 | BI107: =IF(N107="nulová",J107,0) -> 0 | BJ107: 2
D108: Sťažené podmienky | J108: 0 | N108: znížená | AY108: VRN | BE108: =IF(N108="základná",J108,0) -> 0 | BF108: =IF(N108="znížená",J108,0) -> 0 | BG108: =IF(N108="zákl. prenesená",J108,0) -> 0 | BH108: =IF(N108="zníž. prenesená",J108,0) -> 0 | BI108: =IF(N108="nulová",J108,0) -> 0 | BJ108: 2
D109: Vplyv prostredia | J109: 0 | N109: znížená | AY109: VRN | BE109: =IF(N109="základná",J109,0) -> 0 | BF109: =IF(N109="znížená",J109,0) -> 0 | BG109: =IF(N109="zákl. prenesená",J109,0) -> 0 | BH109: =IF(N109="zníž. prenesená",J109,0) -> 0 | BI109: =IF(N109="nulová",J109,0) -> 0 | BJ109: 2
D110: Iné VRN | J110: 0 | N110: znížená | AY110: VRN | BE110: =IF(N110="základná",J110,0) -> 0 | BF110: =IF(N110="znížená",J110,0) -> 0 | BG110: =IF(N110="zákl. prenesená",J110,0) -> 0 | BH110: =IF(N110="zníž. prenesená",J110,0) -> 0 | BI110: =IF(N110="nulová",J110,0) -> 0 | BJ110: 2
D111: Kompletačná činnosť | J111: =ROUND(J30*T111,2) -> 0 | N111: znížená | AY111: KOMPLETACNA | BE111: =IF(N111="základná",J111,0) -> 0 | BF111: =IF(N111="znížená",J111,0) -> 0 | BG111: =IF(N111="zákl. prenesená",J111,0) -> 0 | BH111: =IF(N111="zníž. prenesená",J111,0) -> 0 | BI111: =IF(N111="nulová",J111,0) -> 0 | BJ111: 2
C113: Celkové náklady za stavbu 1) + 2) | J113: =ROUND(J96+J105,2) -> 0
C119: ROZPOČET
C121: Stavba:
E122: =E7 -> Zlepšenie energetickej hospodárnosti ZŠ Malinovského Blok E
C123: Objekt:
E124: =E9 -> 1 - Architektúra (Strecha)
C126: Miesto: | F126: =F12 -> Partizánske | I126: Dátum: | J126: =IF(J12="","",J12) -> 13. 9. 2019
C128: Objednávateľ: | F128: =E15 -> Mesto Partizánske | I128: Projektant: | J128: =E21 -> Ing. Rastislav Ivanka
C129: Zhotoviteľ: | F129: =IF(E18="","",E18) -> Vyplň údaj | I129: Spracovateľ: | J129: =E24 -> Ľudmila Tomášová
C131: PČ | D131: Typ | E131: Kód | F131: Popis | G131: MJ | H131: Množstvo | I131: J.cena [EUR] | J131: Cena celkom [EUR] | K131: Cenová sústava | N131: DPH | O131: J. Nh [h] | P131: Nh celkom [h] | Q131: J. hmotnosť [t] | R131: Hmotnosť celkom [t] | S131: J. suť [t] | T131: Suť Celkom [t]
C132: Náklady z rozpočtu | J132: =BK132 -> 0 | P132: =P133+P141+P169+P178+P182+P204 -> 0 | R132: =R133+R141+R169+R178+R182+R204 -> 0 | T132: =T133+T141+T169+T178+T182+T204 -> 0 | AT132: D | AU132: -1 | BK132: =BK133+BK141+BK169+BK178+BK182+BK204 -> 0
D133: D | E133: 9 | F133: Ostatné konštrukcie a práce-búranie | J133: =BK133 -> 0 | P133: =SUM(P134:P140) -> 0 | R133: =SUM(R134:R140) -> 0 | T133: =SUM(T134:T140) -> 0 | AR133: 1 | AT133: D | AU133: 0 | AY133: ROZPOCET | BK133: =SUM(BK134:BK140) -> 0
C134: 1 | D134: K | E134: 965052121 | F134: Búranie cementového poteru strechy o hrúbke 2cm | G134: m2 | H134: 590 | J134: =ROUND(I134*H134,3) -> 0 | N134: znížená | P134: =O134*H134 -> 0 | Q134: 0 | R134: =Q134*H134 -> 0 | S134: 0 | T134: =S134*H134 -> 0 | AR134: 4 | AT134: K | AU134: 1 | AY134: ROZPOCET | BE134: =IF(N134="základná",J134,0) -> 0 | BF134: =IF(N134="znížená",J134,0) -> 0 | BG134: =IF(N134="zákl. prenesená",J134,0) -> 0 | BH134: =IF(N134="zníž. prenesená",J134,0) -> 0 | BI134: =IF(N134="nulová",J134,0) -> 0 | BJ134: 2 | BK134: =ROUND(I134*H134,3) -> 0 | BL134: 4 | BM134: 2
C135: 2 | D135: K | E135: 979081111 | F135: Odvoz sutiny a vybúraných hmôt po elektroinštaláciách na skládku do 1 km | G135: t | H135: 71.98 | J135: =ROUND(I135*H135,3) -> 0 | N135: znížená | P135: =O135*H135 -> 0 | Q135: 0 | R135: =Q135*H135 -> 0 | S135: 0 | T135: =S135*H135 -> 0 | AR135: 4 | AT135: K | AU135: 1 | AY135: ROZPOCET | BE135: =IF(N135="základná",J135,0) -> 0 | BF135: =IF(N135="znížená",J135,0) -> 0 | BG135: =IF(N135="zákl. prenesená",J135,0) -> 0 | BH135: =IF(N135="zníž. prenesená",J135,0) -> 0 | BI135: =IF(N135="nulová",J135,0) -> 0 | BJ135: 2 | BK135: =ROUND(I135*H135,3) -> 0 | BL135: 4 | BM135: 4
C136: 3 | D136: K | E136: 979081121 | F136: Odvoz sutiny a vybúraných hmôt na skládku za každý ďalší 1 km | G136: t | H136: 575.84 | J136: =ROUND(I136*H136,3) -> 0 | N136: znížená | P136: =O136*H136 -> 0 | Q136: 0 | R136: =Q136*H136 -> 0 | S136: 0 | T136: =S136*H136 -> 0 | AR136: 4 | AT136: K | AU136: 1 | AY136: ROZPOCET | BE136: =IF(N136="základná",J136,0) -> 0 | BF136: =IF(N136="znížená",J136,0) -> 0 | BG136: =IF(N136="zákl. prenesená",J136,0) -> 0 | BH136: =IF(N136="zníž. prenesená",J136,0) -> 0 | BI136: =IF(N136="nulová",J136,0) -> 0 | BJ136: 2 | BK136: =ROUND(I136*H136,3) -> 0 | BL136: 4 | BM136: 6
D137: VV | F137: 71,98*8 | H137: 575.84 | AT137: VV | AU137: 1 | AV137: 2 | AW137: True | AX137: 0 | AY137: ROZPOCET
D138: VV | F138: Súčet | H138: 575.84 | AT138: VV | AU138: 1 | AV138: 4 | AW138: True | AX138: 1 | AY138: ROZPOCET
C139: 4 | D139: K | E139: 979089612 | F139: Poplatok za skladovanie - iné odpady zo stavieb a demolácií (17 09), ostatné | G139: t | H139: 71.98 | J139: =ROUND(I139*H139,3) -> 0 | N139: znížená | P139: =O139*H139 -> 0 | Q139: 0 | R139: =Q139*H139 -> 0 | S139: 0 | T139: =S139*H139 -> 0 | AR139: 4 | AT139: K | AU139: 1 | AY139: ROZPOCET | BE139: =IF(N139="základná",J139,0) -> 0 | BF139: =IF(N139="znížená",J139,0) -> 0 | BG139: =IF(N139="zákl. prenesená",J139,0) -> 0 | BH139: =IF(N139="zníž. prenesená",J139,0) -> 0 | BI139: =IF(N139="nulová",J139,0) -> 0 | BJ139: 2 | BK139: =ROUND(I139*H139,3) -> 0 | BL139: 4 | BM139: 8
C140: 5 | D140: K | E140: 979089713 | F140: Prenájom kontajneru 7 m3 | G140: t | H140: 71.98 | J140: =ROUND(I140*H140,3) -> 0 | N140: znížená | P140: =O140*H140 -> 0 | Q140: 0 | R140: =Q140*H140 -> 0 | S140: 0 | T140: =S140*H140 -> 0 | AR140: 4 | AT140: K | AU140: 1 | AY140: ROZPOCET | BE140: =IF(N140="základná",J140,0) -> 0 | BF140: =IF(N140="znížená",J140,0) -> 0 | BG140: =IF(N140="zákl. prenesená",J140,0) -> 0 | BH140: =IF(N140="zníž. prenesená",J140,0) -> 0 | BI140: =IF(N140="nulová",J140,0) -> 0 | BJ140: 2 | BK140: =ROUND(I140*H140,3) -> 0 | BL140: 4 | BM140: 10
D141: D | E141: 712 | F141: Izolácie striech | J141: =BK141 -> 0 | P141: =SUM(P142:P168) -> 0 | R141: =SUM(R142:R168) -> 0 | T141: =SUM(T142:T168) -> 0 | AR141: 2 | AT141: D | AU141: 0 | AY141: ROZPOCET | BK141: =SUM(BK142:BK168) -> 0
C142: 6 | D142: K | E142: 712300831 | F142: Odstránenie povlakovej krytiny na strechách plochých 10st. jednovrstvovej, -0,00600t | G142: m2 | H142: 599 | J142: =ROUND(I142*H142,3) -> 0 | N142: znížená | P142: =O142*H142 -> 0 | Q142: 0 | R142: =Q142*H142 -> 0 | S142: 0 | T142: =S142*H142 -> 0 | AR142: 16 | AT142: K | AU142: 1 | AY142: ROZPOCET | BE142: =IF(N142="základná",J142,0) -> 0 | BF142: =IF(N142="znížená",J142,0) -> 0 | BG142: =IF(N142="zákl. prenesená",J142,0) -> 0 | BH142: =IF(N142="zníž. prenesená",J142,0) -> 0 | BI142: =IF(N142="nulová",J142,0) -> 0 | BJ142: 2 | BK142: =ROUND(I142*H142,3) -> 0 | BL142: 16 | BM142: 12
C143: 7 | D143: K | E143: 712300834 | F143: Odstránenie povlakovej krytiny na strechách plochých do 10st. každé ďalšie vrstvy, -0,00600t | G143: m2 | H143: 599 | J143: =ROUND(I143*H143,3) -> 0 | N143: znížená | P143: =O143*H143 -> 0 | Q143: 0 | R143: =Q143*H143 -> 0 | S143: 0 | T143: =S143*H143 -> 0 | AR143: 16 | AT143: K | AU143: 1 | AY143: ROZPOCET | BE143: =IF(N143="základná",J143,0) -> 0 | BF143: =IF(N143="znížená",J143,0) -> 0 | BG143: =IF(N143="zákl. prenesená",J143,0) -> 0 | BH143: =IF(N143="zníž. prenesená",J143,0) -> 0 | BI143: =IF(N143="nulová",J143,0) -> 0 | BJ143: 2 | BK143: =ROUND(I143*H143,3) -> 0 | BL143: 16 | BM143: 14
C144: 8 | D144: K | E144: 712361702 | F144: Zhotovenie povlakovej krytiny striech plochých do 10st. gumami fóliou prilepenou bodovo | G144: m2 | H144: 624 | J144: =ROUND(I144*H144,3) -> 0 | N144: znížená | P144: =O144*H144 -> 0 | Q144: 0 | R144: =Q144*H144 -> 0 | S144: 0 | T144: =S144*H144 -> 0 | AR144: 16 | AT144: K | AU144: 1 | AY144: ROZPOCET | BE144: =IF(N144="základná",J144,0) -> 0 | BF144: =IF(N144="znížená",J144,0) -> 0 | BG144: =IF(N144="zákl. prenesená",J144,0) -> 0 | BH144: =IF(N144="zníž. prenesená",J144,0) -> 0 | BI144: =IF(N144="nulová",J144,0) -> 0 | BJ144: 2 | BK144: =ROUND(I144*H144,3) -> 0 | BL144: 16 | BM144: 16
D145: VV | F145: 599+25 | H145: 624 | AT145: VV | AU145: 1 | AV145: 2 | AW145: True | AX145: 0 | AY145: ROZPOCET
D146: VV | F146: Súčet | H146: 624 | AT146: VV | AU146: 1 | AV146: 4 | AW146: True | AX146: 1 | AY146: ROZPOCET
C147: 9 | D147: M | E147: 2833000150 | F147: FATRAFOL 810 fólia 1,50 mm šedá | G147: m2 | H147: 718 | J147: =ROUND(I147*H147,3) -> 0 | N147: znížená | P147: =O147*H147 -> 0 | Q147: 0 | R147: =Q147*H147 -> 0 | S147: 0 | T147: =S147*H147 -> 0 | AR147: 32 | AT147: M | AU147: 1 | AY147: ROZPOCET | BE147: =IF(N147="základná",J147,0) -> 0 | BF147: =IF(N147="znížená",J147,0) -> 0 | BG147: =IF(N147="zákl. prenesená",J147,0) -> 0 | BH147: =IF(N147="zníž. prenesená",J147,0) -> 0 | BI147: =IF(N147="nulová",J147,0) -> 0 | BJ147: 2 | BK147: =ROUND(I147*H147,3) -> 0 | BL147: 16 | BM147: 18
D148: VV | F148: 624,347826086957 * 1,15 | H148: 718 | AT148: VV | AU148: 1 | AV148: 2 | AW148: True | AX148: 0 | AY148: ROZPOCET
D149: VV | F149: Súčet | H149: 718 | AT149: VV | AU149: 1 | AV149: 4 | AW149: True | AX149: 1 | AY149: ROZPOCET
C150: 10 | D150: M | E150: 2833000150N | F150: Tvárovtka TWOT | G150: ks | H150: 4 | J150: =ROUND(I150*H150,3) -> 0 | N150: znížená | P150: =O150*H150 -> 0 | Q150: 0 | R150: =Q150*H150 -> 0 | S150: 0 | T150: =S150*H150 -> 0 | AR150: 32 | AT150: M | AU150: 1 | AY150: ROZPOCET | BE150: =IF(N150="základná",J150,0) -> 0 | BF150: =IF(N150="znížená",J150,0) -> 0 | BG150: =IF(N150="zákl. prenesená",J150,0) -> 0 | BH150: =IF(N150="zníž. prenesená",J150,0) -> 0 | BI150: =IF(N150="nulová",J150,0) -> 0 | BJ150: 2 | BK150: =ROUND(I150*H150,3) -> 0 | BL150: 16 | BM150: 20
C151: 11 | D151: K | E151: 712391171 | F151: Zhotov. povlak. krytiny striech plochých do 10st. ostatné z ochrannej textílie podklad.vrstvy | G151: m2 | H151: 705 | J151: =ROUND(I151*H151,3) -> 0 | N151: znížená | P151: =O151*H151 -> 0 | Q151: 0 | R151: =Q151*H151 -> 0 | S151: 0 | T151: =S151*H151 -> 0 | AR151: 16 | AT151: K | AU151: 1 | AY151: ROZPOCET | BE151: =IF(N151="základná",J151,0) -> 0 | BF151: =IF(N151="znížená",J151,0) -> 0 | BG151: =IF(N151="zákl. prenesená",J151,0) -> 0 | BH151: =IF(N151="zníž. prenesená",J151,0) -> 0 | BI151: =IF(N151="nulová",J151,0) -> 0 | BJ151: 2 | BK151: =ROUND(I151*H151,3) -> 0 | BL151: 16 | BM151: 22
C152: 12 | D152: M | E152: 6936651000 | F152: Geotextílie netkané polypropylénové TIPPTEX / Tatratex pp/ 200 | G152: m2 | H152: 1676.63 | J152: =ROUND(I152*H152,3) -> 0 | N152: znížená | P152: =O152*H152 -> 0 | Q152: 0 | R152: =Q152*H152 -> 0 | S152: 0 | T152: =S152*H152 -> 0 | AR152: 32 | AT152: M | AU152: 1 | AY152: ROZPOCET | BE152: =IF(N152="základná",J152,0) -> 0 | BF152: =IF(N152="znížená",J152,0) -> 0 | BG152: =IF(N152="zákl. prenesená",J152,0) -> 0 | BH152: =IF(N152="zníž. prenesená",J152,0) -> 0 | BI152: =IF(N152="nulová",J152,0) -> 0 | BJ152: 2 | BK152: =ROUND(I152*H152,3) -> 0 | BL152: 16 | BM152: 24
C153: 13 | D153: M | E153: 6936651300 | F153: Geotextílie netkané polypropylénové TIPPTEX / Tatratex pp/ 300 | G153: m2 | H153: 88 | J153: =ROUND(I153*H153,3) -> 0 | N153: znížená | P153: =O153*H153 -> 0 | Q153: 0 | R153: =Q153*H153 -> 0 | S153: 0 | T153: =S153*H153 -> 0 | AR153: 32 | AT153: M | AU153: 1 | AY153: ROZPOCET | BE153: =IF(N153="základná",J153,0) -> 0 | BF153: =IF(N153="znížená",J153,0) -> 0 | BG153: =IF(N153="zákl. prenesená",J153,0) -> 0 | BH153: =IF(N153="zníž. prenesená",J153,0) -> 0 | BI153: =IF(N153="nulová",J153,0) -> 0 | BJ153: 2 | BK153: =ROUND(I153*H153,3) -> 0 | BL153: 16 | BM153: 26
C154: 14 | D154: M | E154: 6936653650 | F154: Parozabrana Fatrapar | G154: m2 | H154: 697 | J154: =ROUND(I154*H154,3) -> 0 | N154: znížená | P154: =O154*H154 -> 0 | Q154: 0 | R154: =Q154*H154 -> 0 | S154: 0 | T154: =S154*H154 -> 0 | AR154: 32 | AT154: M | AU154: 1 | AY154: ROZPOCET | BE154: =IF(N154="základná",J154,0) -> 0 | BF154: =IF(N154="znížená",J154,0) -> 0 | BG154: =IF(N154="zákl. prenesená",J154,0) -> 0 | BH154: =IF(N154="zníž. prenesená",J154,0) -> 0 | BI154: =IF(N154="nulová",J154,0) -> 0 | BJ154: 2 | BK154: =ROUND(I154*H154,3) -> 0 | BL154: 16 | BM154: 28
C155: 15 | D155: K | E155: 71293399N | F155: Pripevnenie izolacie kotviacím terčom | G155: ks | H155: 2898 | J155: =ROUND(I155*H155,3) -> 0 | N155: znížená | P155: =O155*H155 -> 0 | Q155: 0 | R155: =Q155*H155 -> 0 | S155: 0 | T155: =S155*H155 -> 0 | AR155: 16 | AT155: K | AU155: 1 | AY155: ROZPOCET | BE155: =IF(N155="základná",J155,0) -> 0 | BF155: =IF(N155="znížená",J155,0) -> 0 | BG155: =IF(N155="zákl. prenesená",J155,0) -> 0 | BH155: =IF(N155="zníž. prenesená",J155,0) -> 0 | BI155: =IF(N155="nulová",J155,0) -> 0 | BJ155: 2 | BK155: =ROUND(I155*H155,3) -> 0 | BL155: 16 | BM155: 30
C156: 16 | D156: M | E156: 28621008120N | F156: Teleskop R45 325 | G156: ks | H156: 2898 | J156: =ROUND(I156*H156,3) -> 0 | N156: znížená | P156: =O156*H156 -> 0 | Q156: 0 | R156: =Q156*H156 -> 0 | S156: 0 | T156: =S156*H156 -> 0 | AR156: 32 | AT156: M | AU156: 1 | AY156: ROZPOCET | BE156: =IF(N156="základná",J156,0) -> 0 | BF156: =IF(N156="znížená",J156,0) -> 0 | BG156: =IF(N156="zákl. prenesená",J156,0) -> 0 | BH156: =IF(N156="zníž. prenesená",J156,0) -> 0 | BI156: =IF(N156="nulová",J156,0) -> 0 | BJ156: 2 | BK156: =ROUND(I156*H156,3) -> 0 | BL156: 16 | BM156: 32
C157: 17 | D157: M | E157: 28621008130N | F157: Skrutka GBS 8*130 | G157: ks | H157: 2898 | J157: =ROUND(I157*H157,3) -> 0 | N157: znížená | P157: =O157*H157 -> 0 | Q157: 0 | R157: =Q157*H157 -> 0 | S157: 0 | T157: =S157*H157 -> 0 | AR157: 32 | AT157: M | AU157: 1 | AY157: ROZPOCET | BE157: =IF(N157="základná",J157,0) -> 0 | BF157: =IF(N157="znížená",J157,0) -> 0 | BG157: =IF(N157="zákl. prenesená",J157,0) -> 0 | BH157: =IF(N157="zníž. prenesená",J157,0) -> 0 | BI157: =IF(N157="nulová",J157,0) -> 0 | BJ157: 2 | BK157: =ROUND(I157*H157,3) -> 0 | BL157: 16 | BM157: 34
C158: 18 | D158: M | E158: 28621008140N | F158: Skrutka do dreva 5x35 | G158: ks | H158: 1865 | J158: =ROUND(I158*H158,3) -> 0 | N158: znížená | P158: =O158*H158 -> 0 | Q158: 0 | R158: =Q158*H158 -> 0 | S158: 0 | T158: =S158*H158 -> 0 | AR158: 32 | AT158: M | AU158: 1 | AY158: ROZPOCET | BE158: =IF(N158="základná",J158,0) -> 0 | BF158: =IF(N158="znížená",J158,0) -> 0 | BG158: =IF(N158="zákl. prenesená",J158,0) -> 0 | BH158: =IF(N158="zníž. prenesená",J158,0) -> 0 | BI158: =IF(N158="nulová",J158,0) -> 0 | BJ158: 2 | BK158: =ROUND(I158*H158,3) -> 0 | BL158: 16 | BM158: 36
C159: 19 | D159: M | E159: 28621008150N | F159: Skrutka do dreva 5x80 | G159: ks | H159: 1256 | J159: =ROUND(I159*H159,3) -> 0 | N159: znížená | P159: =O159*H159 -> 0 | Q159: 0 | R159: =Q159*H159 -> 0 | S159: 0 | T159: =S159*H159 -> 0 | AR159: 32 | AT159: M | AU159: 1 | AY159: ROZPOCET | BE159: =IF(N159="základná",J159,0) -> 0 | BF159: =IF(N159="znížená",J159,0) -> 0 | BG159: =IF(N159="zákl. prenesená",J159,0) -> 0 | BH159: =IF(N159="zníž. prenesená",J159,0) -> 0 | BI159: =IF(N159="nulová",J159,0) -> 0 | BJ159: 2 | BK159: =ROUND(I159*H159,3) -> 0 | BL159: 16 | BM159: 38
C160: 20 | D160: M | E160: 28621008160N | F160: Skrutka do dreva 5x50 | G160: ks | H160: 1531 | J160: =ROUND(I160*H160,3) -> 0 | N160: znížená | P160: =O160*H160 -> 0 | Q160: 0 | R160: =Q160*H160 -> 0 | S160: 0 | T160: =S160*H160 -> 0 | AR160: 32 | AT160: M | AU160: 1 | AY160: ROZPOCET | BE160: =IF(N160="základná",J160,0) -> 0 | BF160: =IF(N160="znížená",J160,0) -> 0 | BG160: =IF(N160="zákl. prenesená",J160,0) -> 0 | BH160: =IF(N160="zníž. prenesená",J160,0) -> 0 | BI160: =IF(N160="nulová",J160,0) -> 0 | BJ160: 2 | BK160: =ROUND(I160*H160,3) -> 0 | BL160: 16 | BM160: 40
C161: 21 | D161: M | E161: 28621008170N | F161: Zálievka Z 01 | G161: kg | H161: 5 | J161: =ROUND(I161*H161,3) -> 0 | N161: znížená | P161: =O161*H161 -> 0 | Q161: 0 | R161: =Q161*H161 -> 0 | S161: 0 | T161: =S161*H161 -> 0 | AR161: 32 | AT161: M | AU161: 1 | AY161: ROZPOCET | BE161: =IF(N161="základná",J161,0) -> 0 | BF161: =IF(N161="znížená",J161,0) -> 0 | BG161: =IF(N161="zákl. prenesená",J161,0) -> 0 | BH161: =IF(N161="zníž. prenesená",J161,0) -> 0 | BI161: =IF(N161="nulová",J161,0) -> 0 | BJ161: 2 | BK161: =ROUND(I161*H161,3) -> 0 | BL161: 16 | BM161: 42
C162: 22 | D162: M | E162: 3691000000 | F162: Riedidlo L494 | G162: kg | H162: 1.02 | J162: =ROUND(I162*H162,3) -> 0 | N162: znížená | P162: =O162*H162 -> 0 | Q162: 0 | R162: =Q162*H162 -> 0 | S162: 0 | T162: =S162*H162 -> 0 | AR162: 32 | AT162: M | AU162: 1 | AY162: ROZPOCET | BE162: =IF(N162="základná",J162,0) -> 0 | BF162: =IF(N162="znížená",J162,0) -> 0 | BG162: =IF(N162="zákl. prenesená",J162,0) -> 0 | BH162: =IF(N162="zníž. prenesená",J162,0) -> 0 | BI162: =IF(N162="nulová",J162,0) -> 0 | BJ162: 2 | BK162: =ROUND(I162*H162,3) -> 0 | BL162: 16 | BM162: 44
D163: VV | F163: 1 * 1,02 | H163: 1.02 | AT163: VV | AU163: 1 | AV163: 2 | AW163: True | AX163: 0 | AY163: ROZPOCET
D164: VV | F164: Súčet | H164: 1.02 | AT164: VV | AU164: 1 | AV164: 4 | AW164: True | AX164: 1 | AY164: ROZPOCET
C165: 23 | D165: M | E165: 4299003114N | F165: Tmel | G165: ks | H165: 13.26 | J165: =ROUND(I165*H165,3) -> 0 | N165: znížená | P165: =O165*H165 -> 0 | Q165: 0 | R165: =Q165*H165 -> 0 | S165: 0 | T165: =S165*H165 -> 0 | AR165: 32 | AT165: M | AU165: 1 | AY165: ROZPOCET | BE165: =IF(N165="základná",J165,0) -> 0 | BF165: =IF(N165="znížená",J165,0) -> 0 | BG165: =IF(N165="zákl. prenesená",J165,0) -> 0 | BH165: =IF(N165="zníž. prenesená",J165,0) -> 0 | BI165: =IF(N165="nulová",J165,0) -> 0 | BJ165: 2 | BK165: =ROUND(I165*H165,3) -> 0 | BL165: 16 | BM165: 46
D166: VV | F166: 13 * 1,02 | H166: 13.26 | AT166: VV | AU166: 1 | AV166: 2 | AW166: True | AX166: 0 | AY166: ROZPOCET
...

Sheet 2 - Bleskozvod (Strecha)
AT2: {320c6941-ec39-4fa2-8890-10c4a3f3584a}
AT3: 0
D4: KRYCÍ LIST ROZPOČTU | M4: v --- nižšie sa nachádzajú doplnkové a pomocné údaje k zostavám --- v | AT4: False
D6: Stavba:
E7: ='Rekapitulácia stavby'!K6 -> Zlepšenie energetickej hospodárnosti ZŠ Malinovského Blok E
D8: Objekt:
E9: 2 - Bleskozvod (Strecha)
D11: JKSO: | I11: KS:
D12: Miesto: | F12: Partizánske | I12: Dátum: | J12: ='Rekapitulácia stavby'!AN8 -> 13. 9. 2019
D14: Objednávateľ: | I14: IČO: | J14: 00310905
E15: Mesto Partizánske | I15: IČ DPH:
D17: Zhotoviteľ: | I17: IČO: | J17: ='Rekapitulácia stavby'!AN13 -> Vyplň údaj
E18: ='Rekapitulácia stavby'!E14 -> Vyplň údaj | I18: IČ DPH: | J18: ='Rekapitulácia stavby'!AN14 -> Vyplň údaj
D20: Projektant: | I20: IČO:
E21: Ing. Rastislav Ivanka | I21: IČ DPH:
D23: Spracovateľ: | I23: IČO:
E24: Ľudmila Tomášová | I24: IČ DPH:
D26: Poznámka:
D30: Náklady z rozpočtu | J30: =J96 -> 0
D31: Ostatné náklady | J31: =J103 -> 0
D32: Cena bez DPH | J32: =ROUND(J30 + J31, 2) -> 0
F34: Základ dane | I34: Sadzba dane | J34: Výška dane
D35: DPH | E35: základná | F35: =ROUND((SUM(BE103:BE110) + SUM(BE130:BE172)), 2) -> 0 | I35: 0.2 | J35: =ROUND(((SUM(BE103:BE110) + SUM(BE130:BE172))*I35), 2) -> 0
E36: znížená | F36: =ROUND((SUM(BF103:BF110) + SUM(BF130:BF172)), 2) -> 0 | I36: 0.2 | J36: =ROUND(((SUM(BF103:BF110) + SUM(BF130:BF172))*I36), 2) -> 0
E37: zákl. prenesená | F37: =ROUND((SUM(BG103:BG110) + SUM(BG130:BG172)), 2) -> 0 | I37: 0.2 | J37: =0 -> 0
E38: zníž. prenesená | F38: =ROUND((SUM(BH103:BH110) + SUM(BH130:BH172)), 2) -> 0 | I38: 0.2 | J38: =0 -> 0
E39: nulová | F39: =ROUND((SUM(BI103:BI110) + SUM(BI130:BI172)), 2) -> 0 | I39: 0 | J39: =0 -> 0
D41: Cena s DPH | G41: v | H41: EUR | J41: =SUM(J32:J39) -> 0
D50: Projektant | G50: Spracovateľ
D61: Dátum a podpis: | F61: Pečiatka | G61: Dátum a podpis: | J61: Pečiatka
D65: Objednávateľ | G65: Zhotoviteľ
D76: Dátum a podpis: | F76: Pečiatka | G76: Dátum a podpis: | J76: Pečiatka
C82: REKAPITULÁCIA ROZPOČTU
C84: Stavba:
E85: =E7 -> Zlepšenie energetickej hospodárnosti ZŠ Malinovského Blok E
C86: Objekt:
E87: =E9 -> 2 - Bleskozvod (Strecha)
C89: Miesto: | F89: =F12 -> Partizánske | I89: Dátum: | J89: =IF(J12="","",J12) -> 13. 9. 2019
C91: Objednávateľ: | F91: =E15 -> Mesto Partizánske | I91: Projektant: | J91: =E21 -> Ing. Rastislav Ivanka
C92: Zhotoviteľ: | F92: =IF(E18="","",E18) -> Vyplň údaj | I92: Spracovateľ: | J92: =E24 -> Ľudmila Tomášová
C94: Kód dielu - Popis | J94: Cena celkom [EUR]
C96: 1) Náklady z rozpočtu | J96: =J130 -> 0 | AU96: -1
D97: M - Práce a dodávky M | J97: =J131 -> 0
D98: 21-M - Elektromontáže | J98: =J132 -> 0
D99: 46-M - Zemné práce pri extr.mont.prácach | J99: =J166 -> 0
D100: HZS - Hodinové zúčtovacie sadzby | J100: =J170 -> 0
C103: 2) Ostatné náklady | J103: =ROUND(J104 + J105 + J106 + J107 + J108 + J109,2) -> 0 | N103: DPH
D104: GZS | J104: 0 | N104: znížená | AY104: VRN | BE104: =IF(N104="základná",J104,0) -> 0 | BF104: =IF(N104="znížená",J104,0) -> 0 | BG104: =IF(N104="zákl. prenesená",J104,0) -> 0 | BH104: =IF(N104="zníž. prenesená",J104,0) -> 0 | BI104: =IF(N104="nulová",J104,0) -> 0 | BJ104: 2
D105: Projektové práce | J105: 0 | N105: znížená | AY105: VRN | BE105: =IF(N105="základná",J105,0) -> 0 | BF105: =IF(N105="znížená",J105,0) -> 0 | BG105: =IF(N105="zákl. prenesená",J105,0) -> 0 | BH105: =IF(N105="zníž. prenesená",J105,0) -> 0 | BI105: =IF(N105="nulová",J105,0) -> 0 | BJ105: 2
D106: Sťažené podmienky | J106: 0 | N106: znížená | AY106: VRN | BE106: =IF(N106="základná",J106,0) -> 0 | BF106: =IF(N106="znížená",J106,0) -> 0 | BG106: =IF(N106="zákl. prenesená",J106,0) -> 0 | BH106: =IF(N106="zníž. prenesená",J106,0) -> 0 | BI106: =IF(N106="nulová",J106,0) -> 0 | BJ106: 2
D107: Vplyv prostredia | J107: 0 | N107: znížená | AY107: VRN | BE107: =IF(N107="základná",J107,0) -> 0 | BF107: =IF(N107="znížená",J107,0) -> 0 | BG107: =IF(N107="zákl. prenesená",J107,0) -> 0 | BH107: =IF(N107="zníž. prenesená",J107,0) -> 0 | BI107: =IF(N107="nulová",J107,0) -> 0 | BJ107: 2
D108: Iné VRN | J108: 0 | N108: znížená | AY108: VRN | BE108: =IF(N108="základná",J108,0) -> 0 | BF108: =IF(N108="znížená",J108,0) -> 0 | BG108: =IF(N108="zákl. prenesená",J108,0) -> 0 | BH108: =IF(N108="zníž. prenesená",J108,0) -> 0 | BI108: =IF(N108="nulová",J108,0) -> 0 | BJ108: 2
D109: Kompletačná činnosť | J109: =ROUND(J30*T109,2) -> 0 | N109: znížená | AY109: KOMPLETACNA | BE109: =IF(N109="základná",J109,0) -> 0 | BF109: =IF(N109="znížená",J109,0) -> 0 | BG109: =IF(N109="zákl. prenesená",J109,0) -> 0 | BH109: =IF(N109="zníž. prenesená",J109,0) -> 0 | BI109: =IF(N109="nulová",J109,0) -> 0 | BJ109: 2
C111: Celkové náklady za stavbu 1) + 2) | J111: =ROUND(J96+J103,2) -> 0
C117: ROZPOČET
C119: Stavba:
E120: =E7 -> Zlepšenie energetickej hospodárnosti ZŠ Malinovského Blok E
C121: Objekt:
E122: =E9 -> 2 - Bleskozvod (Strecha)
C124: Miesto: | F124: =F12 -> Partizánske | I124: Dátum: | J124: =IF(J12="","",J12) -> 13. 9. 2019
C126: Objednávateľ: | F126: =E15 -> Mesto Partizánske | I126: Projektant: | J126: =E21 -> Ing. Rastislav Ivanka
C127: Zhotoviteľ: | F127: =IF(E18="","",E18) -> Vyplň údaj | I127: Spracovateľ: | J127: =E24 -> Ľudmila Tomášová
C129: PČ | D129: Typ | E129: Kód | F129: Popis | G129: MJ | H129: Množstvo | I129: J.cena [EUR] | J129: Cena celkom [EUR] | K129: Cenová sústava | N129: DPH | O129: J. Nh [h] | P129: Nh celkom [h] | Q129: J. hmotnosť [t] | R129: Hmotnosť celkom [t] | S129: J. suť [t] | T129: Suť Celkom [t]
C130: Náklady z rozpočtu | J130: =BK130 -> 0 | P130: =P131+P170 -> 0 | R130: =R131+R170 -> 0.51804 | T130: =T131+T170 -> 0 | AT130: D | AU130: -1 | BK130: =BK131+BK170 -> 0
D131: D | E131: M | F131: Práce a dodávky M | J131: =BK131 -> 0 | P131: =P132+P166 -> 0 | R131: =R132+R166 -> 0.51804 | T131: =T132+T166 -> 0 | AR131: 3 | AT131: D | AU131: 0 | AY131: ROZPOCET | BK131: =BK132+BK166 -> 0
D132: D | E132: 21-M | F132: Elektromontáže | J132: =BK132 -> 0 | P132: =SUM(P133:P165) -> 0 | R132: =SUM(R133:R165) -> 0.51804 | T132: =SUM(T133:T165) -> 0 | AR132: 3 | AT132: D | AU132: 1 | AY132: ROZPOCET | BK132: =SUM(BK133:BK165) -> 0
C133: 1 | D133: K | E133: 210220021 | F133: Uzemňovacie vedenie v zemi FeZn vrátane izolácie spojov O 10mm | G133: m | H133: 60 | J133: =ROUND(I133*H133,3) -> 0 | N133: znížená | P133: =O133*H133 -> 0 | Q133: 0 | R133: =Q133*H133 -> 0 | S133: 0 | T133: =S133*H133 -> 0 | AR133: 64 | AT133: K | AU133: 2 | AY133: ROZPOCET | BE133: =IF(N133="základná",J133,0) -> 0 | BF133: =IF(N133="znížená",J133,0) -> 0 | BG133: =IF(N133="zákl. prenesená",J133,0) -> 0 | BH133: =IF(N133="zníž. prenesená",J133,0) -> 0 | BI133: =IF(N133="nulová",J133,0) -> 0 | BJ133: 2 | BK133: =ROUND(I133*H133,3) -> 0 | BL133: 64 | BM133: 2
C134: 2 | D134: M | E134: 3544224150 | F134: Územňovací vodič ocelový žiarovo zinkovaný označenie O 10 | G134: kg | H134: 37.2 | J134: =ROUND(I134*H134,3) -> 0 | N134: znížená | P134: =O134*H134 -> 0 | Q134: 0.001 | R134: =Q134*H134 -> 0.0372 | S134: 0 | T134: =S134*H134 -> 0 | AR134: 256 | AT134: M | AU134: 2 | AY134: ROZPOCET | BE134: =IF(N134="základná",J134,0) -> 0 | BF134: =IF(N134="znížená",J134,0) -> 0 | BG134: =IF(N134="zákl. prenesená",J134,0) -> 0 | BH134: =IF(N134="zníž. prenesená",J134,0) -> 0 | BI134: =IF(N134="nulová",J134,0) -> 0 | BJ134: 2 | BK134: =ROUND(I134*H134,3) -> 0 | BL134: 64 | BM134: 4
C135: 3 | D135: K | E135: 210220050 | F135: Označenie zvodov číselnými štítkami | G135: ks | H135: 6 | J135: =ROUND(I135*H135,3) -> 0 | N135: znížená | P135: =O135*H135 -> 0 | Q135: 0 | R135: =Q135*H135 -> 0 | S135: 0 | T135: =S135*H135 -> 0 | AR135: 64 | AT135: K | AU135: 2 | AY135: ROZPOCET | BE135: =IF(N135="základná",J135,0) -> 0 | BF135: =IF(N135="znížená",J135,0) -> 0 | BG135: =IF(N135="zákl. prenesená",J135,0) -> 0 | BH135: =IF(N135="zníž. prenesená",J135,0) -> 0 | BI135: =IF(N135="nulová",J135,0) -> 0 | BJ135: 2 | BK135: =ROUND(I135*H135,3) -> 0 | BL135: 64 | BM135: 6
C136: 4 | D136: M | E136: 3544247915 | F136: Štítok orientačný zemniaci, obj. č. EBL000000360; bleskozvodný a uzemňovací materiál | G136: ks | H136: 6 | J136: =ROUND(I136*H136,3) -> 0 | N136: znížená | P136: =O136*H136 -> 0 | Q136: 3e-05 | R136: =Q136*H136 -> 0.00018 | S136: 0 | T136: =S136*H136 -> 0 | AR136: 256 | AT136: M | AU136: 2 | AY136: ROZPOCET | BE136: =IF(N136="základná",J136,0) -> 0 | BF136: =IF(N136="znížená",J136,0) -> 0 | BG136: =IF(N136="zákl. prenesená",J136,0) -> 0 | BH136: =IF(N136="zníž. prenesená",J136,0) -> 0 | BI136: =IF(N136="nulová",J136,0) -> 0 | BJ136: 2 | BK136: =ROUND(I136*H136,3) -> 0 | BL136: 64 | BM136: 8
C137: 5 | D137: K | E137: 210220280 | F137: Uzemňovacia tyč FeZn ZT | G137: ks | H137: 24 | J137: =ROUND(I137*H137,3) -> 0 | N137: znížená | P137: =O137*H137 -> 0 | Q137: 0 | R137: =Q137*H137 -> 0 | S137: 0 | T137: =S137*H137 -> 0 | AR137: 64 | AT137: K | AU137: 2 | AY137: ROZPOCET | BE137: =IF(N137="základná",J137,0) -> 0 | BF137: =IF(N137="znížená",J137,0) -> 0 | BG137: =IF(N137="zákl. prenesená",J137,0) -> 0 | BH137: =IF(N137="zníž. prenesená",J137,0) -> 0 | BI137: =IF(N137="nulová",J137,0) -> 0 | BJ137: 2 | BK137: =ROUND(I137*H137,3) -> 0 | BL137: 64 | BM137: 10
C138: 6 | D138: M | E138: 3544222550 | F138: Uzemňovacia tyč ocelová žiarovo zinkovaná označenie ZT 2 m | G138: ks | H138: 24 | J138: =ROUND(I138*H138,3) -> 0 | N138: znížená | P138: =O138*H138 -> 0 | Q138: 0.00793 | R138: =Q138*H138 -> 0.19032 | S138: 0 | T138: =S138*H138 -> 0 | AR138: 256 | AT138: M | AU138: 2 | AY138: ROZPOCET | BE138: =IF(N138="základná",J138,0) -> 0 | BF138: =IF(N138="znížená",J138,0) -> 0 | BG138: =IF(N138="zákl. prenesená",J138,0) -> 0 | BH138: =IF(N138="zníž. prenesená",J138,0) -> 0 | BI138: =IF(N138="nulová",J138,0) -> 0 | BJ138: 2 | BK138: =ROUND(I138*H138,3) -> 0 | BL138: 64 | BM138: 12
C139: 7 | D139: K | E139: 210220800 | F139: Uzemňovacie vedenie na povrchu AlMgSi O 8-10 | G139: m | H139: 255 | J139: =ROUND(I139*H139,3) -> 0 | N139: znížená | P139: =O139*H139 -> 0 | Q139: 0 | R139: =Q139*H139 -> 0 | S139: 0 | T139: =S139*H139 -> 0 | AR139: 64 | AT139: K | AU139: 2 | AY139: ROZPOCET | BE139: =IF(N139="základná",J139,0) -> 0 | BF139: =IF(N139="znížená",J139,0) -> 0 | BG139: =IF(N139="zákl. prenesená",J139,0) -> 0 | BH139: =IF(N139="zníž. prenesená",J139,0) -> 0 | BI139: =IF(N139="nulová",J139,0) -> 0 | BJ139: 2 | BK139: =ROUND(I139*H139,3) -> 0 | BL139: 64 | BM139: 14
C140: 8 | D140: M | E140: 3544245350 | F140: Územňovací vodič zliatina AlMgSi označenie O 8 Al | G140: kg | H140: 34.425 | J140: =ROUND(I140*H140,3) -> 0 | N140: znížená | P140: =O140*H140 -> 0 | Q140: 0.00099985476 | R140: =Q140*H140 -> 0.03442 | S140: 0 | T140: =S140*H140 -> 0 | AR140: 256 | AT140: M | AU140: 2 | AY140: ROZPOCET | BE140: =IF(N140="základná",J140,0) -> 0 | BF140: =IF(N140="znížená",J140,0) -> 0 | BG140: =IF(N140="zákl. prenesená",J140,0) -> 0 | BH140: =IF(N140="zníž. prenesená",J140,0) -> 0 | BI140: =IF(N140="nulová",J140,0) -> 0 | BJ140: 2 | BK140: =ROUND(I140*H140,3) -> 0 | BL140: 64 | BM140: 16
C141: 9 | D141: K | E141: 210220810 | F141: Podpery vedenia zliatina AlMgSi na plochú strechu PV21 | G141: ks | H141: 125 | J141: =ROUND(I141*H141,3) -> 0 | N141: znížená | P141: =O141*H141 -> 0 | Q141: 0 | R141: =Q141*H141 -> 0 | S141: 0 | T141: =S141*H141 -> 0 | AR141: 64 | AT141: K | AU141: 2 | AY141: ROZPOCET | BE141: =IF(N141="základná",J141,0) -> 0 | BF141: =IF(N141="znížená",J141,0) -> 0 | BG141: =IF(N141="zákl. prenesená",J141,0) -> 0 | BH141: =IF(N141="zníž. prenesená",J141,0) -> 0 | BI141: =IF(N141="nulová",J141,0) -> 0 | BJ141: 2 | BK141: =ROUND(I141*H141,3) -> 0 | BL141: 64 | BM141: 18
C142: 10 | D142: M | E142: 3544218000 | F142: Podpera vedenia na ploché strechy betonová označenie PV 21 bet. | G142: ks | H142: 125 | J142: =ROUND(I142*H142,3) -> 0 | N142: znížená | P142: =O142*H142 -> 0 | Q142: 0.00109 | R142: =Q142*H142 -> 0.13625 | S142: 0 | T142: =S142*H142 -> 0 | AR142: 256 | AT142: M | AU142: 2 | AY142: ROZPOCET | BE142: =IF(N142="základná",J142,0) -> 0 | BF142: =IF(N142="znížená",J142,0) -> 0 | BG142: =IF(N142="zákl. prenesená",J142,0) -> 0 | BH142: =IF(N142="zníž. prenesená",J142,0) -> 0 | BI142: =IF(N142="nulová",J142,0) -> 0 | BJ142: 2 | BK142: =ROUND(I142*H142,3) -> 0 | BL142: 64 | BM142: 20
C143: 11 | D143: K | E143: 210220814 | F143: Podpery vedenia do muriva PV17-4 | G143: ks | H143: 85 | J143: =ROUND(I143*H143,3) -> 0 | N143: znížená | P143: =O143*H143 -> 0 | Q143: 0 | R143: =Q143*H143 -> 0 | S143: 0 | T143: =S143*H143 -> 0 | AR143: 64 | AT143: K | AU143: 2 | AY143: ROZPOCET | BE143: =IF(N143="základná",J143,0) -> 0 | BF143: =IF(N143="znížená",J143,0) -> 0 | BG143: =IF(N143="zákl. prenesená",J143,0) -> 0 | BH143: =IF(N143="zníž. prenesená",J143,0) -> 0 | BI143: =IF(N143="nulová",J143,0) -> 0 | BJ143: 2 | BK143: =ROUND(I143*H143,3) -> 0 | BL143: 64 | BM143: 22
C144: 12 | D144: M | E144: 3544241000 | F144: Podpera vedenia na zateplené fasády PV 17-4 | G144: ks | H144: 85 | J144: =ROUND(I144*H144,3) -> 0 | N144: znížená | P144: =O144*H144 -> 0 | Q144: 0.00051 | R144: =Q144*H144 -> 0.04335 | S144: 0 | T144: =S144*H144 -> 0 | AR144: 256 | AT144: M | AU144: 2 | AY144: ROZPOCET | BE144: =IF(N144="základná",J144,0) -> 0 | BF144: =IF(N144="znížená",J144,0) -> 0 | BG144: =IF(N144="zákl. prenesená",J144,0) -> 0 | BH144: =IF(N144="zníž. prenesená",J144,0) -> 0 | BI144: =IF(N144="nulová",J144,0) -> 0 | BJ144: 2 | BK144: =ROUND(I144*H144,3) -> 0 | BL144: 64 | BM144: 24
... C162: 30 | D162: M | E162: 3544245150 | F162: Držiak ochranného uholníka zliatina AlMgSi označenie DOU vr.3 | G162: ks | H162: 18 | J162: =ROUND(I162*H162,3) -> 0 | N162: znížená | P162: =O162*H162 -> 0 | Q162: 0.00051 | R162: =Q162*H162 -> 0.00918 | S162: 0 | T162: =S162*H162 -> 0 | AR162: 256 | AT162: M | AU162: 2 | AY162: ROZPOCET | BE162: =IF(N162="základná",J162,0) -> 0 | BF162: =IF(N162="znížená",J162,0) -> 0 | BG162: =IF(N162="zákl. prenesená",J162,0) -> 0 | BH162: =IF(N162="zníž. prenesená",J162,0) -> 0 | BI162: =IF(N162="nulová",J162,0) -> 0 | BJ162: 2 | BK162: =ROUND(I162*H162,3) -> 0 | BL162: 64 | BM162: 60
C163: 31 | D163: K | E163: MV | F163: Murárske výpomoci | G163: % | J163: =ROUND(I163*H163,3) -> 0 | N163: znížená | P163: =O163*H163 -> 0 | Q163: 0 | R163: =Q163*H163 -> 0 | S163: 0 | T163: =S163*H163 -> 0 | AR163: 64 | AT163: K | AU163: 2 | AY163: ROZPOCET | BE163: =IF(N163="základná",J163,0) -> 0 | BF163: =IF(N163="znížená",J163,0) -> 0 | BG163: =IF(N163="zákl. prenesená",J163,0) -> 0 | BH163: =IF(N163="zníž. prenesená",J163,0) -> 0 | BI163: =IF(N163="nulová",J163,0) -> 0 | BJ163: 2 | BK163: =ROUND(I163*H163,3) -> 0 | BL163: 64 | BM163: 62
C164: 32 | D164: K | E164: PM | F164: Podružný materiál | G164: % | J164: =ROUND(I164*H164,3) -> 0 | N164: znížená | P164: =O164*H164 -> 0 | Q164: 0 | R164: =Q164*H164 -> 0 | S164: 0 | T164: =S164*H164 -> 0 | AR164: 64 | AT164: K | AU164: 2 | AY164: ROZPOCET | BE164: =IF(N164="základná",J164,0) -> 0 | BF164: =IF(N164="znížená",J164,0) -> 0 | BG164: =IF(N164="zákl. prenesená",J164,0) -> 0 | BH164: =IF(N164="zníž. prenesená",J164,0) -> 0 | BI164: =IF(N164="nulová",J164,0) -> 0 | BJ164: 2 | BK164: =ROUND(I164*H164,3) -> 0 | BL164: 64 | BM164: 64
C165: 33 | D165: K | E165: PPV | F165: Podiel pridružených výkonov | G165: % | J165: =ROUND(I165*H165,3) -> 0 | N165: znížená | P165: =O165*H165 -> 0 | Q165: 0 | R165: =Q165*H165 -> 0 | S165: 0 | T165: =S165*H165 -> 0 | AR165: 64 | AT165: K | AU165: 2 | AY165: ROZPOCET | BE165: =IF(N165="základná",J165,0) -> 0 | BF165: =IF(N165="znížená",J165,0) -> 0 | BG165: =IF(N165="zákl. prenesená",J165,0) -> 0 | BH165: =IF(N165="zníž. prenesená",J165,0) -> 0 | BI165: =IF(N165="nulová",J165,0) -> 0 | BJ165: 2 | BK165: =ROUND(I165*H165,3) -> 0 | BL165: 64 | BM165: 66
D166: D | E166: 46-M | F166: Zemné práce pri extr.mont.prácach | J166: =BK166 -> 0 | P166: =SUM(P167:P169) -> 0 | R166: =SUM(R167:R169) -> 0 | T166: =SUM(T167:T169) -> 0 | AR166: 3 | AT166: D | AU166: 1 | AY166: ROZPOCET | BK166: =SUM(BK167:BK169) -> 0
C167: 34 | D167: K | E167: 460200143 | F167: Hĺbenie káblovej ryhy ručne 35 cm širokej a 60 cm hlbokej, v zemine triedy 3 | G167: m | H167: 45 | J167: =ROUND(I167*H167,3) -> 0 | N167: znížená | P167: =O167*H167 -> 0 | Q167: 0 | R167: =Q167*H167 -> 0 | S167: 0 | T167: =S167*H167 -> 0 | AR167: 64 | AT167: K | AU167: 2 | AY167: ROZPOCET | BE167: =IF(N167="základná",J167,0) -> 0 | BF167: =IF(N167="znížená",J167,0) -> 0 | BG167: =IF(N167="zákl. prenesená",J167,0) -> 0 | BH167: =IF(N167="zníž. prenesená",J167,0) -> 0 | BI167: =IF(N167="nulová",J167,0) -> 0 | BJ167: 2 | BK167: =ROUND(I167*H167,3) -> 0 | BL167: 64 | BM167: 68
C168: 35 | D168: K | E168: 460560143 | F168: Ručný zásyp nezap. káblovej ryhy bez zhutn. zeminy, 35 cm širokej, 60 cm hlbokej v zemine tr. 3 | G168: m | H168: 45 | J168: =ROUND(I168*H168,3) -> 0 | N168: znížená | P168: =O168*H168 -> 0 | Q168: 0 | R168: =Q168*H168 -> 0 | S168: 0 | T168: =S168*H168 -> 0 | AR168: 64 | AT168: K | AU168: 2 | AY168: ROZPOCET | BE168: =IF(N168="základná",J168,0) -> 0 | BF168: =IF(N168="znížená",J168,0) -> 0 | BG168: =IF(N168="zákl. prenesená",J168,0) -> 0 | BH168: =IF(N168="zníž. prenesená",J168,0) -> 0 | BI168: =IF(N168="nulová",J168,0) -> 0 | BJ168: 2 | BK168: =ROUND(I168*H168,3) -> 0 | BL168: 64 | BM168: 70
C169: 36 | D169: K | E169: PPV | F169: Podiel pridružených výkonov | G169: % | J169: =ROUND(I169*H169,3) -> 0 | N169: znížená | P169: =O169*H169 -> 0 | Q169: 0 | R169: =Q169*H169 -> 0 | S169: 0 | T169: =S169*H169 -> 0 | AR169: 64 | AT169: K | AU169: 2 | AY169: ROZPOCET | BE169: =IF(N169="základná",J169,0) -> 0 | BF169: =IF(N169="znížená",J169,0) -> 0 | BG169: =IF(N169="zákl. prenesená",J169,0) -> 0 | BH169: =IF(N169="zníž. prenesená",J169,0) -> 0 | BI169: =IF(N169="nulová",J169,0) -> 0 | BJ169: 2 | BK169: =ROUND(I169*H169,3) -> 0 | BL169: 64 | BM169: 72
D170: D | E170: HZS | F170: Hodinové zúčtovacie sadzby | J170: =BK170 -> 0 | P170: =SUM(P171:P172) -> 0 | R170: =SUM(R171:R172) -> 0 | T170: =SUM(T171:T172) -> 0 | AR170: 4 | AT170: D | AU170: 0 | AY170: ROZPOCET | BK170: =SUM(BK171:BK172) -> 0
C171: 37 | D171: K | E171: HZS000113 | F171: Demontáž jestvujúceho bleskozvodu | G171: hod | H171: 30 | J171: =ROUND(I171*H171,3) -> 0 | N171: znížená | P171: =O171*H171 -> 0 | Q171: 0 | R171: =Q171*H171 -> 0 | S171: 0 | T171: =S171*H171 -> 0 | AR171: 262144 | AT171: K | AU171: 1 | AY171: ROZPOCET | BE171: =IF(N171="základná",J171,0) -> 0 | BF171: =IF(N171="znížená",J171,0) -> 0 | BG171: =IF(N171="zákl. prenesená",J171,0) -> 0 | BH171: =IF(N171="zníž. prenesená",J171,0) -> 0 | BI171: =IF(N171="nulová",J171,0) -> 0 | BJ171: 2 | BK171: =ROUND(I171*H171,3) -> 0 | BL171: 262144 | BM171: 74
C172: 38 | D172: K | E172: HZS000114 | F172: Revízia | G172: hod | H172: 15 | J172: =ROUND(I172*H172,3) -> 0 | N172: znížená | P172: =O172*H172 -> 0 | Q172: 0 | R172: =Q172*H172 -> 0 | S172: 0 | T172: =S172*H172 -> 0 | AR172: 262144 | AT172: K | AU172: 1 | AY172: ROZPOCET | BE172: =IF(N172="základná",J172,0) -> 0 | BF172: =IF(N172="znížená",J172,0) -> 0 | BG172: =IF(N172="zákl. prenesená",J172,0) -> 0 | BH172: =IF(N172="zníž. prenesená",J172,0) -> 0 | BI172: =IF(N172="nulová",J172,0) -> 0 | BJ172: 2 | BK172: =ROUND(I172*H172,3) -> 0 | BL172: 262144 | BM172: 76

Sheet 3 - Svetelná elektroinšta...
AT2: {45e3988b-b156-4f55-b955-db37ad7d5fda}
AT3: 0
D4: KRYCÍ LIST ROZPOČTU | M4: v --- nižšie sa nachádzajú doplnkové a pomocné údaje k zostavám --- v | AT4: False
D6: Stavba:
E7: ='Rekapitulácia stavby'!K6 -> Zlepšenie energetickej hospodárnosti ZŠ Malinovského Blok E
D8: Objekt:
E9: 3 - Svetelná elektroinštalácia (Strecha)
D11: JKSO: | I11: KS:
D12: Miesto: | F12: Partizánske | I12: Dátum: | J12: ='Rekapitulácia stavby'!AN8 -> 13. 9. 2019
D14: Objednávateľ: | I14: IČO: | J14: 00310905
E15: Mesto Partizánske | I15: IČ DPH:
D17: Zhotoviteľ: | I17: IČO: | J17: ='Rekapitulácia stavby'!AN13 -> Vyplň údaj
E18: ='Rekapitulácia stavby'!E14 -> Vyplň údaj | I18: IČ DPH: | J18: ='Rekapitulácia stavby'!AN14 -> Vyplň údaj
D20: Projektant: | I20: IČO:
E21: Ing. Rastislav Ivanka | I21: IČ DPH:
D23: Spracovateľ: | I23: IČO:
E24: Ľudmila Tomášová | I24: IČ DPH:
D26: Poznámka:
D30: Náklady z rozpočtu | J30: =J96 -> 0
D31: Ostatné náklady | J31: =J102 -> 0
D32: Cena bez DPH | J32: =ROUND(J30 + J31, 2) -> 0
F34: Základ dane | I34: Sadzba dane | J34: Výška dane
D35: DPH | E35: základná | F35: =ROUND((SUM(BE102:BE109) + SUM(BE129:BE175)), 2) -> 0 | I35: 0.2 | J35: =ROUND(((SUM(BE102:BE109) + SUM(BE129:BE175))*I35), 2) -> 0
E36: znížená | F36: =ROUND((SUM(BF102:BF109) + SUM(BF129:BF175)), 2) -> 0 | I36: 0.2 | J36: =ROUND(((SUM(BF102:BF109) + SUM(BF129:BF175))*I36), 2) -> 0
E37: zákl. prenesená | F37: =ROUND((SUM(BG102:BG109) + SUM(BG129:BG175)), 2) -> 0 | I37: 0.2 | J37: =0 -> 0
E38: zníž. prenesená | F38: =ROUND((SUM(BH102:BH109) + SUM(BH129:BH175)), 2) -> 0 | I38: 0.2 | J38: =0 -> 0
E39: nulová | F39: =ROUND((SUM(BI102:BI109) + SUM(BI129:BI175)), 2) -> 0 | I39: 0 | J39: =0 -> 0
D41: Cena s DPH | G41: v | H41: EUR | J41: =SUM(J32:J39) -> 0
D50: Projektant | G50: Spracovateľ
D61: Dátum a podpis: | F61: Pečiatka | G61: Dátum a podpis: | J61: Pečiatka
D65: Objednávateľ | G65: Zhotoviteľ
D76: Dátum a podpis: | F76: Pečiatka | G76: Dátum a podpis: | J76: Pečiatka
C82: REKAPITULÁCIA ROZPOČTU
C84: Stavba:
E85: =E7 -> Zlepšenie energetickej hospodárnosti ZŠ Malinovského Blok E
C86: Objekt:
E87: =E9 -> 3 - Svetelná elektroinštalácia (Strecha)
C89: Miesto: | F89: =F12 -> Partizánske | I89: Dátum: | J89: =IF(J12="","",J12) -> 13. 9. 2019
C91: Objednávateľ: | F91: =E15 -> Mesto Partizánske | I91: Projektant: | J91: =E21 -> Ing. Rastislav Ivanka
C92: Zhotoviteľ: | F92: =IF(E18="","",E18) -> Vyplň údaj | I92: Spracovateľ: | J92: =E24 -> Ľudmila Tomášová
C94: Kód dielu - Popis | J94: Cena celkom [EUR]
C96: 1) Náklady z rozpočtu | J96: =J129 -> 0 | AU96: -1
D97: M - Práce a dodávky M | J97: =J130 -> 0
D98: 21-M - Elektromontáže | J98: =J131 -> 0
D99: HZS - Hodinové zúčtovacie sadzby | J99: =J173 -> 0
C102: 2) Ostatné náklady | J102: =ROUND(J103 + J104 + J105 + J106 + J107 + J108,2) -> 0 | N102: DPH
D103: GZS | J103: 0 | N103: znížená | AY103: VRN | BE103: =IF(N103="základná",J103,0) -> 0 | BF103: =IF(N103="znížená",J103,0) -> 0 | BG103: =IF(N103="zákl. prenesená",J103,0) -> 0 | BH103: =IF(N103="zníž. prenesená",J103,0) -> 0 | BI103: =IF(N103="nulová",J103,0) -> 0 | BJ103: 2
D104: Projektové práce | J104: 0 | N104: znížená | AY104: VRN | BE104: =IF(N104="základná",J104,0) -> 0 | BF104: =IF(N104="znížená",J104,0) -> 0 | BG104: =IF(N104="zákl. prenesená",J104,0) -> 0 | BH104: =IF(N104="zníž. prenesená",J104,0) -> 0 | BI104: =IF(N104="nulová",J104,0) -> 0 | BJ104: 2
D105: Sťažené podmienky | J105: 0 | N105: znížená | AY105: VRN | BE105: =IF(N105="základná",J105,0) -> 0 | BF105: =IF(N105="znížená",J105,0) -> 0 | BG105: =IF(N105="zákl. prenesená",J105,0) -> 0 | BH105: =IF(N105="zníž. prenesená",J105,0) -> 0 | BI105: =IF(N105="nulová",J105,0) -> 0 | BJ105: 2
D106: Vplyv prostredia | J106: 0 | N106: znížená | AY106: VRN | BE106: =IF(N106="základná",J106,0) -> 0 | BF106: =IF(N106="znížená",J106,0) -> 0 | BG106: =IF(N106="zákl. prenesená",J106,0) -> 0 | BH106: =IF(N106="zníž. prenesená",J106,0) -> 0 | BI106: =IF(N106="nulová",J106,0) -> 0 | BJ106: 2
D107: Iné VRN | J107: 0 | N107: znížená | AY107: VRN | BE107: =IF(N107="základná",J107,0) -> 0 | BF107: =IF(N107="znížená",J107,0) -> 0 | BG107: =IF(N107="zákl. prenesená",J107,0) -> 0 | BH107: =IF(N107="zníž. prenesená",J107,0) -> 0 | BI107: =IF(N107="nulová",J107,0) -> 0 | BJ107: 2
D108: Kompletačná činnosť | J108: =ROUND(J30*T108,2) -> 0 | N108: znížená | AY108: KOMPLETACNA | BE108: =IF(N108="základná",J108,0) -> 0 | BF108: =IF(N108="znížená",J108,0) -> 0 | BG108: =IF(N108="zákl. prenesená",J108,0) -> 0 | BH108: =IF(N108="zníž. prenesená",J108,0) -> 0 | BI108: =IF(N108="nulová",J108,0) -> 0 | BJ108: 2
C110: Celkové náklady za stavbu 1) + 2) | J110: =ROUND(J96+J102,2) -> 0
C116: ROZPOČET
C118: Stavba:
E119: =E7 -> Zlepšenie energetickej hospodárnosti ZŠ Malinovského Blok E
C120: Objekt:
E121: =E9 -> 3 - Svetelná elektroinštalácia (Strecha)
C123: Miesto: | F123: =F12 -> Partizánske | I123: Dátum: | J123: =IF(J12="","",J12) -> 13. 9. 2019
C125: Objednávateľ: | F125: =E15 -> Mesto Partizánske | I125: Projektant: | J125: =E21 -> Ing. Rastislav Ivanka
C126: Zhotoviteľ: | F126: =IF(E18="","",E18) -> Vyplň údaj | I126: Spracovateľ: | J126: =E24 -> Ľudmila Tomášová
C128: PČ | D128: Typ | E128: Kód | F128: Popis | G128: MJ | H128: Množstvo | I128: J.cena [EUR] | J128: Cena celkom [EUR] | K128: Cenová sústava | N128: DPH | O128: J. Nh [h] | P128: Nh celkom [h] | Q128: J. hmotnosť [t] | R128: Hmotnosť celkom [t] | S128: J. suť [t] | T128: Suť Celkom [t]
C129: Náklady z rozpočtu | J129: =BK129 -> 0 | P129: =P130+P173 -> 0 | R129: =R130+R173 -> 1.0267392 | T129: =T130+T173 -> 0 | AT129: D | AU129: -1 | BK129: =BK130+BK173 -> 0
D130: D | E130: M | F130: Práce a dodávky M | J130: =BK130 -> 0 | P130: =P131 -> 0 | R130: =R131 -> 1.0267392 | T130: =T131 -> 0 | AR130: 3 | AT130: D | AU130: 0 | AY130: ROZPOCET | BK130: =BK131 -> 0
D131: D | E131: 21-M | F131: Elektromontáže | J131: =BK131 -> 0 | P131: =SUM(P132:P172) -> 0 | R131: =SUM(R132:R172) -> 1.0267392 | T131: =SUM(T132:T172) -> 0 | AR131: 3 | AT131: D | AU131: 1 | AY131: ROZPOCET | BK131: =SUM(BK132:BK172) -> 0
C132: 1 | D132: K | E132: 210010059 | F132: Rúrka tuhá elektroinštalačná z PVC typ 1525, uložená pevne | G132: m | H132: 30 | J132: =ROUND(I132*H132,3) -> 0 | N132: znížená | P132: =O132*H132 -> 0 | Q132: 0 | R132: =Q132*H132 -> 0 | S132: 0 | T132: =S132*H132 -> 0 | AR132: 64 | AT132: K | AU132: 2 | AY132: ROZPOCET | BE132: =IF(N132="základná",J132,0) -> 0 | BF132: =IF(N132="znížená",J132,0) -> 0 | BG132: =IF(N132="zákl. prenesená",J132,0) -> 0 | BH132: =IF(N132="zníž. prenesená",J132,0) -> 0 | BI132: =IF(N132="nulová",J132,0) -> 0 | BJ132: 2 | BK132: =ROUND(I132*H132,3) -> 0 | BL132: 64 | BM132: 2
C133: 2 | D133: M | E133: 3457100080 | F133: 4025HF - bezhalogenová tuhá hrdlovaná trubka se střední mechanickou odolností | G133: m | H133: 30 | J133: =ROUND(I133*H133,3) -> 0 | N133: znížená | P133: =O133*H133 -> 0 | Q133: 0.00106 | R133: =Q133*H133 -> 0.0318 | S133: 0 | T133: =S133*H133 -> 0 | AR133: 256 | AT133: M | AU133: 2 | AY133: ROZPOCET | BE133: =IF(N133="základná",J133,0) -> 0 | BF133: =IF(N133="znížená",J133,0) -> 0 | BG133: =IF(N133="zákl. prenesená",J133,0) -> 0 | BH133: =IF(N133="zníž. prenesená",J133,0) -> 0 | BI133: =IF(N133="nulová",J133,0) -> 0 | BJ133: 2 | BK133: =ROUND(I133*H133,3) -> 0 | BL133: 64 | BM133: 4
C134: 3 | D134: K | E134: 210010313 | F134: Krabica (KSK 125) s krytím IP 66, HF, vrátane zapojenia, štvorcová | G134: ks | H134: 10 | J134: =ROUND(I134*H134,3) -> 0 | N134: znížená | P134: =O134*H134 -> 0 | Q134: 0 | R134: =Q134*H134 -> 0 | S134: 0 | T134: =S134*H134 -> 0 | AR134: 64 | AT134: K | AU134: 2 | AY134: ROZPOCET | BE134: =IF(N134="základná",J134,0) -> 0 | BF134: =IF(N134="znížená",J134,0) -> 0 | BG134: =IF(N134="zákl. prenesená",J134,0) -> 0 | BH134: =IF(N134="zníž. prenesená",J134,0) -> 0 | BI134: =IF(N134="nulová",J134,0) -> 0 | BJ134: 2 | BK134: =ROUND(I134*H134,3) -> 0 | BL134: 64 | BM134: 6
C135: 4 | D135: M | E135: 3450913000 | F135: Krabica KSK 125 | G135: ks | H135: 10 | J135: =ROUND(I135*H135,3) -> 0 | N135: znížená | P135: =O135*H135 -> 0 | Q135: 0.00032 | R135: =Q135*H135 -> 0.0032 | S135: 0 | T135: =S135*H135 -> 0 | AR135: 256 | AT135: M | AU135: 2 | AY135: ROZPOCET | BE135: =IF(N135="základná",J135,0) -> 0 | BF135: =IF(N135="znížená",J135,0) -> 0 | BG135: =IF(N135="zákl. prenesená",J135,0) -> 0 | BH135: =IF(N135="zníž. prenesená",J135,0) -> 0 | BI135: =IF(N135="nulová",J135,0) -> 0 | BJ135: 2 | BK135: =ROUND(I135*H135,3) -> 0 | BL135: 64 | BM135: 8
C136: 5 | D136: K | E136: 210020302 | F136: Káblový žľab, pozink. vrátane príslušenstva, 35/50 mm bez veka vrátane podpery | G136: m | H136: 165 | J136: =ROUND(I136*H136,3) -> 0 | N136: znížená | P136: =O136*H136 -> 0 | Q136: 0 | R136: =Q136*H136 -> 0 | S136: 0 | T136: =S136*H136 -> 0 | AR136: 64 | AT136: K | AU136: 2 | AY136: ROZPOCET | BE136: =IF(N136="základná",J136,0) -> 0 | BF136: =IF(N136="znížená",J136,0) -> 0 | BG136: =IF(N136="zákl. prenesená",J136,0) -> 0 | BH136: =IF(N136="zníž. prenesená",J136,0) -> 0 | BI136: =IF(N136="nulová",J136,0) -> 0 | BJ136: 2 | BK136: =ROUND(I136*H136,3) -> 0 | BL136: 64 | BM136: 10
C137: 6 | D137: M | E137: 3450600003 | F137: Káblový žľab 35/50 elektroinštalačný materiál | G137: m | H137: 165 | J137: =ROUND(I137*H137,3) -> 0 | N137: znížená | P137: =O137*H137 -> 0 | Q137: 0.00173 | R137: =Q137*H137 -> 0.28545 | S137: 0 | T137: =S137*H137 -> 0 | AR137: 256 | AT137: M | AU137: 2 | AY137: ROZPOCET | BE137: =IF(N137="základná",J137,0) -> 0 | BF137: =IF(N137="znížená",J137,0) -> 0 | BG137: =IF(N137="zákl. prenesená",J137,0) -> 0 | BH137: =IF(N137="zníž. prenesená",J137,0) -> 0 | BI137: =IF(N137="nulová",J137,0) -> 0 | BJ137: 2 | BK137: =ROUND(I137*H137,3) -> 0 | BL137: 64 | BM137: 12
C138: 7 | D138: K | E138: 210020651 | F138: Oceľová nosná konštrukcia pre prístroje a elektrické zariadenia hmotnosti do 5 kg | G138: ks | H138: 50 | J138: =ROUND(I138*H138,3) -> 0 | N138: znížená | P138: =O138*H138 -> 0 | Q138: 0 | R138: =Q138*H138 -> 0 | S138: 0 | T138: =S138*H138 -> 0 | AR138: 64 | AT138: K | AU138: 2 | AY138: ROZPOCET | BE138: =IF(N138="základná",J138,0) -> 0 | BF138: =IF(N138="znížená",J138,0) -> 0 | BG138: =IF(N138="zákl. prenesená",J138,0) -> 0 | BH138: =IF(N138="zníž. prenesená",J138,0) -> 0 | BI138: =IF(N138="nulová",J138,0) -> 0 | BJ138: 2 | BK138: =ROUND(I138*H138,3) -> 0 | BL138: 64 | BM138: 14
C139: 8 | D139: M | E139: 1321122400 | F139: Tyč oceľová jemná kruhová D 8 mm, ozn. 11 373, podľa EN alebo EN ISO S235JRG1 | G139: t | H139: 0.025 | J139: =ROUND(I139*H139,3) -> 0 | N139: znížená | P139: =O139*H139 -> 0 | Q139: 1 | R139: =Q139*H139 -> 0.025 | S139: 0 | T139: =S139*H139 -> 0 | AR139: 256 | AT139: M | AU139: 2 | AY139: ROZPOCET | BE139: =IF(N139="základná",J139,0) -> 0 | BF139: =IF(N139="znížená",J139,0) -> 0 | BG139: =IF(N139="zákl. prenesená",J139,0) -> 0 | BH139: =IF(N139="zníž. prenesená",J139,0) -> 0 | BI139: =IF(N139="nulová",J139,0) -> 0 | BJ139: 2 | BK139: =ROUND(I139*H139,3) -> 0 | BL139: 64 | BM139: 16
C140: 9 | D140: M | E140: 1322325000 | F140: Tyč oceľová plochá, š.25xhr.5 mm, ozn.11 523, podľa EN ISO S355J0 | G140: t | H140: 0.08 | J140: =ROUND(I140*H140,3) -> 0 | N140: znížená | P140: =O140*H140 -> 0 | Q140: 1 | R140: =Q140*H140 -> 0.08 | S140: 0 | T140: =S140*H140 -> 0 | AR140: 256 | AT140: M | AU140: 2 | AY140: ROZPOCET | BE140: =IF(N140="základná",J140,0) -> 0 | BF140: =IF(N140="znížená",J140,0) -> 0 | BG140: =IF(N140="zákl. prenesená",J140,0) -> 0 | BH140: =IF(N140="zníž. prenesená",J140,0) -> 0 | BI140: =IF(N140="nulová",J140,0) -> 0 | BJ140: 2 | BK140: =ROUND(I140*H140,3) -> 0 | BL140: 64 | BM140: 18
C141: 10 | D141: M | E141: 1323103000 | F141: Tyč oceľová prierezu L 30x30x4 mm, ozn. 11 373, podľa EN ISO S235JRG1 | G141: t | H141: 0.125 | J141: =ROUND(I141*H141,3) -> 0 | N141: znížená | P141: =O141*H141 -> 0 | Q141: 1 | R141: =Q141*H141 -> 0.125 | S141: 0 | T141: =S141*H141 -> 0 | AR141: 256 | AT141: M | AU141: 2 | AY141: ROZPOCET | BE141: =IF(N141="základná",J141,0) -> 0 | BF141: =IF(N141="znížená",J141,0) -> 0 | BG141: =IF(N141="zákl. prenesená",J141,0) -> 0 | BH141: =IF(N141="zníž. prenesená",J141,0) -> 0 | BI141: =IF(N141="nulová",J141,0) -> 0 | BJ141: 2 | BK141: =ROUND(I141*H141,3) -> 0 | BL141: 64 | BM141: 20
C142: 11 | D142: M | E142: 2462153500 | F142: Farba syntetická suríková S 2005 | G142: kg | H142: 1.288 | J142: =ROUND(I142*H142,3) -> 0 | N142: znížená | P142: =O142*H142 -> 0 | Q142: 0.0010015528 | R142: =Q142*H142 -> 0.00129 | S142: 0 | T142: =S142*H142 -> 0 | AR142: 256 | AT142: M | AU142: 2 | AY142: ROZPOCET | BE142: =IF(N142="základná",J142,0) -> 0 | BF142: =IF(N142="znížená",J142,0) -> 0 | BG142: =IF(N142="zákl. prenesená",J142,0) -> 0 | BH142: =IF(N142="zníž. prenesená",J142,0) -> 0 | BI142: =IF(N142="nulová",J142,0) -> 0 | BJ142: 2 | BK142: =ROUND(I142*H142,3) -> 0 | BL142: 64 | BM142: 22
C143: 12 | D143: M | E143: 2464203000 | F143: Riedidlo do olejovo-syntetickej farby S 6006 | G143: kg | H143: 0.429 | J143: =ROUND(I143*H143,3) -> 0 | N143: znížená | P143: =O143*H143 -> 0 | Q143: 0.001002331 | R143: =Q143*H143 -> 0.00043 | S143: 0 | T143: =S143*H143 -> 0 | AR143: 256 | AT143: M | AU143: 2 | AY143: ROZPOCET | BE143: =IF(N143="základná",J143,0) -> 0 | BF143: =IF(N143="znížená",J143,0) -> 0 | BG143: =IF(N143="zákl. prenesená",J143,0) -> 0 | BH143: =IF(N143="zníž. prenesená",J143,0) -> 0 | BI143: =IF(N143="nulová",J143,0) -> 0 | BJ143: 2 | BK143: =ROUND(I143*H143,3) -> 0 | BL143: 64 | BM143: 24
... C167: 36 | D167: M | E167: 3410350864 | F167: N2XH 3x1,5 Nehorľavý kábel bez funkčnosti VDE | G167: m | H167: 345 | J167: =ROUND(I167*H167,3) -> 0 | N167: znížená | P167: =O167*H167 -> 0 | Q167: 0.0002 | R167: =Q167*H167 -> 0.069 | S167: 0 | T167: =S167*H167 -> 0 | AR167: 256 | AT167: M | AU167: 2 | AY167: ROZPOCET | BE167: =IF(N167="základná",J167,0) -> 0 | BF167: =IF(N167="znížená",J167,0) -> 0 | BG167: =IF(N167="zákl. prenesená",J167,0) -> 0 | BH167: =IF(N167="zníž. prenesená",J167,0) -> 0 | BI167: =IF(N167="nulová",J167,0) -> 0 | BJ167: 2 | BK167: =ROUND(I167*H167,3) -> 0 | BL167: 64 | BM167: 72
C168: 37 | D168: K | E168: MD | F168: Mimostavenisková doprava | G168: % | J168: =ROUND(I168*H168,3) -> 0 | N168: znížená | P168: =O168*H168 -> 0 | Q168: 0 | R168: =Q168*H168 -> 0 | S168: 0 | T168: =S168*H168 -> 0 | AR168: 64 | AT168: K | AU168: 2 | AY168: ROZPOCET | BE168: =IF(N168="základná",J168,0) -> 0 | BF168: =IF(N168="znížená",J168,0) -> 0 | BG168: =IF(N168="zákl. prenesená",J168,0) -> 0 | BH168: =IF(N168="zníž. prenesená",J168,0) -> 0 | BI168: =IF(N168="nulová",J168,0) -> 0 | BJ168: 2 | BK168: =ROUND(I168*H168,3) -> 0 | BL168: 64 | BM168: 74
C169: 38 | D169: K | E169: MV | F169: Murárske výpomoci | G169: % | J169: =ROUND(I169*H169,3) -> 0 | N169: znížená | P169: =O169*H169 -> 0 | Q169: 0 | R169: =Q169*H169 -> 0 | S169: 0 | T169: =S169*H169 -> 0 | AR169: 64 | AT169: K | AU169: 2 | AY169: ROZPOCET | BE169: =IF(N169="základná",J169,0) -> 0 | BF169: =IF(N169="znížená",J169,0) -> 0 | BG169: =IF(N169="zákl. prenesená",J169,0) -> 0 | BH169: =IF(N169="zníž. prenesená",J169,0) -> 0 | BI169: =IF(N169="nulová",J169,0) -> 0 | BJ169: 2 | BK169: =ROUND(I169*H169,3) -> 0 | BL169: 64 | BM169: 76
C170: 39 | D170: K | E170: PD | F170: Presun dodávok | G170: % | J170: =ROUND(I170*H170,3) -> 0 | N170: znížená | P170: =O170*H170 -> 0 | Q170: 0 | R170: =Q170*H170 -> 0 | S170: 0 | T170: =S170*H170 -> 0 | AR170: 64 | AT170: K | AU170: 2 | AY170: ROZPOCET | BE170: =IF(N170="základná",J170,0) -> 0 | BF170: =IF(N170="znížená",J170,0) -> 0 | BG170: =IF(N170="zákl. prenesená",J170,0) -> 0 | BH170: =IF(N170="zníž. prenesená",J170,0) -> 0 | BI170: =IF(N170="nulová",J170,0) -> 0 | BJ170: 2 | BK170: =ROUND(I170*H170,3) -> 0 | BL170: 64 | BM170: 78
C171: 40 | D171: K | E171: PM | F171: Podružný materiál | G171: % | J171: =ROUND(I171*H171,3) -> 0 | N171: znížená | P171: =O171*H171 -> 0 | Q171: 0 | R171: =Q171*H171 -> 0 | S171: 0 | T171: =S171*H171 -> 0 | AR171: 64 | AT171: K | AU171: 2 | AY171: ROZPOCET | BE171: =IF(N171="základná",J171,0) -> 0 | BF171: =IF(N171="znížená",J171,0) -> 0 | BG171: =IF(N171="zákl. prenesená",J171,0) -> 0 | BH171: =IF(N171="zníž. prenesená",J171,0) -> 0 | BI171: =IF(N171="nulová",J171,0) -> 0 | BJ171: 2 | BK171: =ROUND(I171*H171,3) -> 0 | BL171: 64 | BM171: 80
C172: 41 | D172: K | E172: PPV | F172: Podiel pridružených výkonov | G172: % | J172: =ROUND(I172*H172,3) -> 0 | N172: znížená | P172: =O172*H172 -> 0 | Q172: 0 | R172: =Q172*H172 -> 0 | S172: 0 | T172: =S172*H172 -> 0 | AR172: 64 | AT172: K | AU172: 2 | AY172: ROZPOCET | BE172: =IF(N172="základná",J172,0) -> 0 | BF172: =IF(N172="znížená",J172,0) -> 0 | BG172: =IF(N172="zákl. prenesená",J172,0) -> 0 | BH172: =IF(N172="zníž. prenesená",J172,0) -> 0 | BI172: =IF(N172="nulová",J172,0) -> 0 | BJ172: 2 | BK172: =ROUND(I172*H172,3) -> 0 | BL172: 64 | BM172: 82
D173: D | E173: HZS | F173: Hodinové zúčtovacie sadzby | J173: =BK173 -> 0 | P173: =SUM(P174:P175) -> 0 | R173: =SUM(R174:R175) -> 0 | T173: =SUM(T174:T175) -> 0 | AR173: 4 | AT173: D | AU173: 0 | AY173: ROZPOCET | BK173: =SUM(BK174:BK175) -> 0
C174: 42 | D174: K | E174: HZS000113 | F174: Demontaž jestvujucej nepotrobnej elektroinštalácie | G174: hod | H174: 50 | J174: =ROUND(I174*H174,3) -> 0 | N174: znížená | P174: =O174*H174 -> 0 | Q174: 0 | R174: =Q174*H174 -> 0 | S174: 0 | T174: =S174*H174 -> 0 | AR174: 262144 | AT174: K | AU174: 1 | AY174: ROZPOCET | BE174: =IF(N174="základná",J174,0) -> 0 | BF174: =IF(N174="znížená",J174,0) -> 0 | BG174: =IF(N174="zákl. prenesená",J174,0) -> 0 | BH174: =IF(N174="zníž. prenesená",J174,0) -> 0 | BI174: =IF(N174="nulová",J174,0) -> 0 | BJ174: 2 | BK174: =ROUND(I174*H174,3) -> 0 | BL174: 262144 | BM174: 84
C175: 43 | D175: K | E175: HZS000114 | F175: Vyhotovenie revizie elektrickeho zariadenie | G175: hod | H175: 20 | J175: =ROUND(I175*H175,3) -> 0 | N175: znížená | P175: =O175*H175 -> 0 | Q175: 0 | R175: =Q175*H175 -> 0 | S175: 0 | T175: =S175*H175 -> 0 | AR175: 262144 | AT175: K | AU175: 1 | AY175: ROZPOCET | BE175: =IF(N175="základná",J175,0) -> 0 | BF175: =IF(N175="znížená",J175,0) -> 0 | BG175: =IF(N175="zákl. prenesená",J175,0) -> 0 | BH175: =IF(N175="zníž. prenesená",J175,0) -> 0 | BI175: =IF(N175="nulová",J175,0) -> 0 | BJ175: 2 | BK175: =ROUND(I175*H175,3) -> 0 | BL175: 262144 | BM175: 86
