Workbook

Sheet Rekapitulácia stavby
A1: Export Komplet | BA1: 2.0 | BB1: ZAMOK | BT1: False | BU1: False | BV1: {16a6640d-71fb-4a05-ba5b-c933d7d08b55}
BS2: 0,001 | BT2: 20
BS3: 0,001 | BT3: 20
D4: REKAPITULÁCIA STAVBY | AS4: v --- nižšie sa nachádzajú doplnkové a pomocné údaje k zostavám --- v | BE4: Návod na vyplnenie | BS4: 0,001
D5: Kód: | K5: ZStelocvicna | BE5: Meniť je možné iba bunky so žltým podfarbením!_x000D_ _x000D_ 1) na prvom liste Rekapitulácie stavby vyplňte v zostave_x000D_ _x000D_ a) Rekapitulácia stavby_x000D_ - údaje o Zhotoviteľovi_x000D_ (prenesú sa do ostatných zostáv aj v iných listoch)_x000D_ _x000D_ b) Rekapitulácia objektov stavby_x000D_ - potrebné Ostatné náklady_x000D_ _x000D_ 2) na vybraných listoch vyplňte v zostave_x000D_ _x000D_ a) Krycí list_x000D_ - údaje o Zhotoviteľovi, pokiaľ sa líšia od údajov o Zhotoviteľovi na Rekapitulácii stavby_x000D_ (údaje se prenesú do ostatných zostav v danom liste)_x000D_ _x000D_ b) Rekapitulácia rozpočtu_x000D_ - potrebné Ostatné náklady_x000D_ _x000D_ c) Celkové náklady za stavbu_x000D_ - ceny na položkách_x000D_ - množstvo, pokiaľ má žlté podfarbenie_x000D_ - a v prípade potreby poznámku (tá je v skrytom stĺpci) | BS5: 0,001
D6: Stavba: | K6: Zlepšenie energetickej hospodárnosti ZŠ Malinovského Blok E | BS6: 0,001
D7: JKSO: | AK7: KS: | BS7: 0,001
D8: Miesto: | K8: Partizánske | AK8: Dátum: | AN8: 11. 9. 2019 | BS8: 0,001
BS9: 0,001
D10: Objednávateľ: | AK10: IČO: | AN10: 00310905 | BS10: 0,001
E11: Mesto Partizánske | AK11: IČ DPH: | BS11: 0,001
BS12: 0,001
D13: Zhotoviteľ: | AK13: IČO: | AN13: Vyplň údaj | BS13: 0,001
E14: Vyplň údaj | AK14: IČ DPH: | AN14: Vyplň údaj | BS14: 0,001
BS15: False
D16: Projektant: | AK16: IČO: | BS16: False
E17: Ing. Rastislav Ivanka | AK17: IČ DPH: | BS17: True
BS18: 0,01
D19: Spracovateľ: | AK19: IČO: | BS19: 0,01
E20: Ľudmila Tomášová | AK20: IČ DPH: | BS20: True
D22: Poznámka:
D26: Cena bez DPH | AK26: =ROUND(AG94,2) -> 0
L28: Sadzba dane | W28: Základ dane | AK28: Výška dane
D29: DPH | F29: základná | L29: 0.2 | W29: =ROUND(AZ94, 2) -> 0 | AK29: =ROUND(AV94, 2) -> 0
F30: znížená | L30: 0.2 | W30: =ROUND(BA94, 2) -> 0 | AK30: =ROUND(AW94, 2) -> 0
F31: zákl. prenesená | L31: 0.2 | W31: =ROUND(BB94, 2) -> 0 | AK31: 0
F32: zníž. prenesená | L32: 0.2 | W32: =ROUND(BC94, 2) -> 0 | AK32: 0
F33: nulová | L33: 0 | W33: =ROUND(BD94, 2) -> 0 | AK33: 0
D35: Cena s DPH | T35: v | X35: EUR | AK35: =SUM(AK26:AK33) -> 0
D49: Projektant | AH49: Spracovateľ
D60: Dátum a podpis: | V60: Pečiatka | AH60: Dátum a podpis: | AM60: Pečiatka
D64: Objednávateľ | AH64: Zhotoviteľ
D75: Dátum a podpis: | V75: Pečiatka | AH75: Dátum a podpis: | AM75: Pečiatka
C82: REKAPITULÁCIA OBJEKTOV STAVBY
C84: Kód: | L84: =K5 -> ZStelocvicna
C85: Stavba: | L85: =K6 -> Zlepšenie energetickej hospodárnosti ZŠ Malinovského Blok E
C87: Miesto: | L87: =IF(K8="","",K8) -> Partizánske | AI87: Dátum: | AM87: =IF(AN8= "","",AN8) -> 11. 9. 2019
C89: Objednávateľ: | L89: =IF(E11= "","",E11) -> Mesto Partizánske | AI89: Projektant: | AM89: =IF(E17="","",E17) -> Ing. Rastislav Ivanka | AS89: Informatívne údaje z listov zákaziek
C90: Zhotoviteľ: | L90: =IF(E14= "Vyplň údaj","",E14) | AI90: Spracovateľ: | AM90: =IF(E20="","",E20) -> Ľudmila Tomášová
C92: Kód | I92: Popis | AG92: Cena bez DPH [EUR] | AN92: Cena s DPH [EUR] | AQ92: Typ | AS92: z toho Ostat._x000D_ náklady [EUR] | AT92: DPH [EUR] | AU92: Normohodiny [h] | AV92: DPH základná [EUR] | AW92: DPH znížená [EUR] | AX92: DPH základná prenesená_x000D_ [EUR] | AY92: DPH znížená prenesená_x000D_ [EUR] | AZ92: Základňa_x000D_ DPH základná | BA92: Základňa_x000D_ DPH znížená | BB92: Základňa_x000D_ DPH zákl. prenesená | BC92: Základňa_x000D_ DPH zníž. prenesená | BD92: Základňa_x000D_ DPH nulová
C94: Náklady z rozpočtov | AG94: =ROUND(AG95,2) -> 0 | AN94: =SUM(AG94,AT94) -> 0 | AS94: =ROUND(AS95,2) -> 0 | AT94: =ROUND(SUM(AV94:AW94),2) -> 0 | AU94: =ROUND(AU95,5) -> 0 | AV94: =ROUND(AZ94*L29,2) -> 0 | AW94: =ROUND(BA94*L30,2) -> 0 | AX94: =ROUND(BB94*L29,2) -> 0 | AY94: =ROUND(BC94*L30,2) -> 0 | AZ94: =ROUND(AZ95,2) -> 0 | BA94: =ROUND(BA95,2) -> 0 | BB94: =ROUND(BB95,2) -> 0 | BC94: =ROUND(BC95,2) -> 0 | BD94: =ROUND(BD95,2) -> 0 | BS94: D | BT94: 0 | BV94: IMPORT | BW94: {16a6640d-71fb-4a05-ba5b-c933d7d08b55} | BX94: {00000000-0000-0000-0000-000000000000}
A95: / | D95: ZStelocvicna | J95: Zlepšenie energetickej hospodárnosti ZŠ Malinovského Blok E | AG95: ='ZStelocvicna - Zlepšenie ...'!J30 -> 0 | AN95: =SUM(AG95,AT95) -> 0 | AQ95: STA | AS95: 0 | AT95: =ROUND(SUM(AV95:AW95),2) -> 0 | AU95: ='ZStelocvicna - Zlepšenie ...'!P134 -> 0 | AV95: ='ZStelocvicna - Zlepšenie ...'!J33 -> 0 | AW95: ='ZStelocvicna - Zlepšenie ...'!J34 -> 0 | AX95: ='ZStelocvicna - Zlepšenie ...'!J35 -> 0 | AY95: ='ZStelocvicna - Zlepšenie ...'!J36 -> 0 | AZ95: ='ZStelocvicna - Zlepšenie ...'!F33 -> 0 | BA95: ='ZStelocvicna - Zlepšenie ...'!F34 -> 0 | BB95: ='ZStelocvicna - Zlepšenie ...'!F35 -> 0 | BC95: ='ZStelocvicna - Zlepšenie ...'!F36 -> 0 | BD95: ='ZStelocvicna - Zlepšenie ...'!F37 -> 0 | BT95: 1 | BU95: ###NOINSERT### | BV95: IMPORT | BW95: {16a6640d-71fb-4a05-ba5b-c933d7d08b55} | BX95: {00000000-0000-0000-0000-000000000000}

Sheet ZStelocvicna - Zlepšenie ...
AT2: {16a6640d-71fb-4a05-ba5b-c933d7d08b55}
AT3: 0
D4: KRYCÍ LIST ROZPOČTU | M4: v --- nižšie sa nachádzajú doplnkové a pomocné údaje k zostavám --- v | AT4: False
D6: Stavba:
E7: Zlepšenie energetickej hospodárnosti ZŠ Malinovského Blok E
D9: JKSO: | I9: KS:
D10: Miesto: | F10: Partizánske | I10: Dátum: | J10: ='Rekapitulácia stavby'!AN8 -> 11. 9. 2019
D12: Objednávateľ: | I12: IČO: | J12: 00310905
E13: Mesto Partizánske | I13: IČ DPH:
D15: Zhotoviteľ: | I15: IČO: | J15: ='Rekapitulácia stavby'!AN13 -> Vyplň údaj
E16: ='Rekapitulácia stavby'!E14 -> Vyplň údaj | I16: IČ DPH: | J16: ='Rekapitulácia stavby'!AN14 -> Vyplň údaj
D18: Projektant: | I18: IČO:
E19: Ing. Rastislav Ivanka | I19: IČ DPH:
D21: Spracovateľ: | I21: IČO:
E22: Ľudmila Tomášová | I22: IČ DPH:
D24: Poznámka:
D28: Náklady z rozpočtu | J28: =J94 -> 0
D29: Ostatné náklady | J29: =J109 -> 0
D30: Cena bez DPH | J30: =ROUND(J28 + J29, 2) -> 0
F32: Základ dane | I32: Sadzba dane | J32: Výška dane
D33: DPH | E33: základná | F33: =ROUND((SUM(BE109:BE116) + SUM(BE134:BE380)), 2) -> 0 | I33: 0.2 | J33: =ROUND(((SUM(BE109:BE116) + SUM(BE134:BE380))*I33), 2) -> 0
E34: znížená | F34: =ROUND((SUM(BF109:BF116) + SUM(BF134:BF380)), 2) -> 0 | I34: 0.2 | J34: =ROUND(((SUM(BF109:BF116) + SUM(BF134:BF380))*I34), 2) -> 0
E35: zákl. prenesená | F35: =ROUND((SUM(BG109:BG116) + SUM(BG134:BG380)), 2) -> 0 | I35: 0.2 | J35: =0 -> 0
E36: zníž. prenesená | F36: =ROUND((SUM(BH109:BH116) + SUM(BH134:BH380)), 2) -> 0 | I36: 0.2 | J36: =0 -> 0
E37: nulová | F37: =ROUND((SUM(BI109:BI116) + SUM(BI134:BI380)), 2) -> 0 | I37: 0 | J37: =0 -> 0
D39: Cena s DPH | G39: v | H39: EUR | J39: =SUM(J30:J37) -> 0
D50: Projektant | G50: Spracovateľ
D61: Dátum a podpis: | F61: Pečiatka | G61: Dátum a podpis: | J61: Pečiatka
D65: Objednávateľ | G65: Zhotoviteľ
D76: Dátum a podpis: | F76: Pečiatka | G76: Dátum a podpis: | J76: Pečiatka
C82: REKAPITULÁCIA ROZPOČTU
C84: Stavba:
E85: =E7 -> Zlepšenie energetickej hospodárnosti ZŠ Malinovského Blok E
C87: Miesto: | F87: =F10 -> Partizánske | I87: Dátum: | J87: =IF(J10="","",J10) -> 11. 9. 2019
C89: Objednávateľ: | F89: =E13 -> Mesto Partizánske | I89: Projektant: | J89: =E19 -> Ing. Rastislav Ivanka
C90: Zhotoviteľ: | F90: =IF(E16="","",E16) -> Vyplň údaj | I90: Spracovateľ: | J90: =E22 -> Ľudmila Tomášová
C92: Kód dielu - Popis | J92: Cena celkom [EUR]
C94: 1) Náklady z rozpočtu | J94: =J134 -> 0 | AU94: -1
D95: 1 - Zemné práce | J95: =J135 -> 0
D96: 3 - Zvislé a kompletné konštrukcie | J96: =J148 -> 0
D97: 6 - Úpravy povrchov, podlahy, osadenie | J97: =J162 -> 0
D98: 9 - Ostatné konštrukcie a práce-búranie | J98: =J284 -> 0
D99: 99 - Presun hmôt HSV | J99: =J318 -> 0
D100: 711 - Izolácie proti vode a vlhkosti | J100: =J320 -> 0
D101: 764 - Konštrukcie klampiarske | J101: =J328 -> 0
D102: 767 - Konštrukcie doplnkové kovové | J102: =J336 -> 0
D103: 783 - Dokončovacie práce - nátery | J103: =J356 -> 0
D104: 784 - Dokončovacie práce - maľby | J104: =J364 -> 0
D105: 21-M - Elektromontáže | J105: =J377 -> 0
D106: 24-M - Montáže vzduchotechnických zariad. | J106: =J379 -> 0
C109: 2) Ostatné náklady | J109: =ROUND(J110 + J111 + J112 + J113 + J114 + J115,2) -> 0 | N109: DPH
D110: GZS | J110: 0 | N110: znížená | AY110: VRN | BE110: =IF(N110="základná",J110,0) -> 0 | BF110: =IF(N110="znížená",J110,0) -> 0 | BG110: =IF(N110="zákl. prenesená",J110,0) -> 0 | BH110: =IF(N110="zníž. prenesená",J110,0) -> 0 | BI110: =IF(N110="nulová",J110,0) -> 0 | BJ110: 2
D111: Projektové práce | J111: 0 | N111: znížená | AY111: VRN | BE111: =IF(N111="základná",J111,0) -> 0 | BF111: =IF(N111="znížená",J111,0) -> 0 | BG111: =IF(N111="zákl. prenesená",J111,0) -> 0 | BH111: =IF(N111="zníž. prenesená",J111,0) -> 0 | BI111: =IF(N111="nulová",J111,0) -> 0 | BJ111: 2
D112: Sťažené podmienky | J112: 0 | N112: znížená | AY112: VRN | BE112: =IF(N112="základná",J112,0) -> 0 | BF112: =IF(N112="znížená",J112,0) -> 0 | BG112: =IF(N112="zákl. prenesená",J112,0) -> 0 | BH112: =IF(N112="zníž. prenesená",J112,0) -> 0 | BI112: =IF(N112="nulová",J112,0) -> 0 | BJ112: 2
D113: Vplyv prostredia | J113: 0 | N113: znížená | AY113: VRN | BE113: =IF(N113="základná",J113,0) -> 0 | BF113: =IF(N113="znížená",J113,0) -> 0 | BG113: =IF(N113="zákl. prenesená",J113,0) -> 0 | BH113: =IF(N113="zníž. prenesená",J113,0) -> 0 | BI113: =IF(N113="nulová",J113,0) -> 0 | BJ113: 2
D114: Iné VRN | J114: 0 | N114: znížená | AY114: VRN | BE114: =IF(N114="základná",J114,0) -> 0 | BF114: =IF(N114="znížená",J114,0) -> 0 | BG114: =IF(N114="zákl. prenesená",J114,0) -> 0 | BH114: =IF(N114="zníž. prenesená",J114,0) -> 0 | BI114: =IF(N114="nulová",J114,0) -> 0 | BJ114: 2
D115: Kompletačná činnosť | J115: =ROUND(J28*T115,2) -> 0 | N115: znížená | AY115: KOMPLETACNA | BE115: =IF(N115="základná",J115,0) -> 0 | BF115: =IF(N115="znížená",J115,0) -> 0 | BG115: =IF(N115="zákl. prenesená",J115,0) -> 0 | BH115: =IF(N115="zníž. prenesená",J115,0) -> 0 | BI115: =IF(N115="nulová",J115,0) -> 0 | BJ115: 2
C117: Celkové náklady za stavbu 1) + 2) | J117: =ROUND(J94+J109,2) -> 0
C123: ROZPOČET
C125: Stavba:
E126: =E7 -> Zlepšenie energetickej hospodárnosti ZŠ Malinovského Blok E
C128: Miesto: | F128: =F10 -> Partizánske | I128: Dátum: | J128: =IF(J10="","",J10) -> 11. 9. 2019
C130: Objednávateľ: | F130: =E13 -> Mesto Partizánske | I130: Projektant: | J130: =E19 -> Ing. Rastislav Ivanka
C131: Zhotoviteľ: | F131: =IF(E16="","",E16) -> Vyplň údaj | I131: Spracovateľ: | J131: =E22 -> Ľudmila Tomášová
C133: PČ | D133: Typ | E133: Kód | F133: Popis | G133: MJ | H133: Množstvo | I133: J.cena [EUR] | J133: Cena celkom [EUR] | K133: Cenová sústava | N133: DPH | O133: J. Nh [h] | P133: Nh celkom [h] | Q133: J. hmotnosť [t] | R133: Hmotnosť celkom [t] | S133: J. suť [t] | T133: Suť Celkom [t]
C134: Náklady z rozpočtu | J134: =BK134 -> 0 | P134: =P135+P148+P162+P284+P318+P320+P328+P336+P356+P364+P377+P379 -> 0 | R134: =R135+R148+R162+R284+R318+R320+R328+R336+R356+R364+R377+R379 -> 0 | T134: =T135+T148+T162+T284+T318+T320+T328+T336+T356+T364+T377+T379 -> 0 | AT134: D | AU134: -1 | BK134: =BK135+BK148+BK162+BK284+BK318+BK320+BK328+BK336+BK356+BK364+BK377+BK379 -> 0
D135: D | E135: 1 | F135: Zemné práce | J135: =BK135 -> 0 | P135: =SUM(P136:P147) -> 0 | R135: =SUM(R136:R147) -> 0 | T135: =SUM(T136:T147) -> 0 | AR135: 1 | AT135: D | AU135: 0 | AY135: ROZPOCET | BK135: =SUM(BK136:BK147) -> 0
C136: 1 | D136: K | E136: 122201101 | F136: Odkopávka a prekopávka nezapažená v hornine 3, do 100 m3 | G136: m3 | H136: 0.568 | J136: =ROUND(I136*H136,3) -> 0 | N136: znížená | P136: =O136*H136 -> 0 | Q136: 0 | R136: =Q136*H136 -> 0 | S136: 0 | T136: =S136*H136 -> 0 | AR136: 4 | AT136: K | AU136: 1 | AY136: ROZPOCET | BE136: =IF(N136="základná",J136,0) -> 0 | BF136: =IF(N136="znížená",J136,0) -> 0 | BG136: =IF(N136="zákl. prenesená",J136,0) -> 0 | BH136: =IF(N136="zníž. prenesená",J136,0) -> 0 | BI136: =IF(N136="nulová",J136,0) -> 0 | BJ136: 2 | BK136: =ROUND(I136*H136,3) -> 0 | BL136: 4 | BM136: 537513015
D137: VV | F137: "Okapový chodník" | AT137: VV | AU137: 1 | AV137: 1 | AW137: True | AX137: 0 | AY137: ROZPOCET
D138: VV | F138: 18,92*0,10*0,30 | H138: 0.568 | AT138: VV | AU138: 1 | AV138: 2 | AW138: True | AX138: 0 | AY138: ROZPOCET
D139: VV | F139: Súčet | H139: 0.568 | AT139: VV | AU139: 1 | AV139: 4 | AW139: True | AX139: 1 | AY139: ROZPOCET
C140: 2 | D140: K | E140: 132201101 | F140: Výkop ryhy do šírky 600 mm v horn.3 do 100 m3 | G140: m3 | H140: 1.171 | J140: =ROUND(I140*H140,3) -> 0 | N140: znížená | P140: =O140*H140 -> 0 | Q140: 0 | R140: =Q140*H140 -> 0 | S140: 0 | T140: =S140*H140 -> 0 | AR140: 4 | AT140: K | AU140: 1 | AY140: ROZPOCET | BE140: =IF(N140="základná",J140,0) -> 0 | BF140: =IF(N140="znížená",J140,0) -> 0 | BG140: =IF(N140="zákl. prenesená",J140,0) -> 0 | BH140: =IF(N140="zníž. prenesená",J140,0) -> 0 | BI140: =IF(N140="nulová",J140,0) -> 0 | BJ140: 2 | BK140: =ROUND(I140*H140,3) -> 0 | BL140: 4 | BM140: 486570647
D141: VV | F141: "okapový chodník | AT141: VV | AU141: 1 | AV141: 1 | AW141: True | AX141: 0 | AY141: ROZPOCET
D142: VV | F142: 18,92*0,20*0,30+0,30*0,20*0,30*2 | H142: 1.171 | AT142: VV | AU142: 1 | AV142: 2 | AW142: True | AX142: 0 | AY142: ROZPOCET
D143: VV | F143: Súčet | H143: 1.171 | AT143: VV | AU143: 1 | AV143: 4 | AW143: True | AX143: 1 | AY143: ROZPOCET
C144: 3 | D144: K | E144: 181301102 | F144: Rozprestretie ornice v rovine, plocha do 500 m2,hr.do 150 mm | G144: m2 | H144: 18.2 | J144: =ROUND(I144*H144,3) -> 0 | N144: znížená | P144: =O144*H144 -> 0 | Q144: 0 | R144: =Q144*H144 -> 0 | S144: 0 | T144: =S144*H144 -> 0 | AR144: 4 | AT144: K | AU144: 1 | AY144: ROZPOCET | BE144: =IF(N144="základná",J144,0) -> 0 | BF144: =IF(N144="znížená",J144,0) -> 0 | BG144: =IF(N144="zákl. prenesená",J144,0) -> 0 | BH144: =IF(N144="zníž. prenesená",J144,0) -> 0 | BI144: =IF(N144="nulová",J144,0) -> 0 | BJ144: 2 | BK144: =ROUND(I144*H144,3) -> 0 | BL144: 4 | BM144: -2085222699
D145: VV | F145: "Okapový chodník" | AT145: VV | AU145: 1 | AV145: 1 | AW145: True | AX145: 0 | AY145: ROZPOCET
D146: VV | F146: 18,20*1,00 | H146: 18.2 | AT146: VV | AU146: 1 | AV146: 2 | AW146: True | AX146: 0 | AY146: ROZPOCET
D147: VV | F147: Súčet | H147: 18.2 | AT147: VV | AU147: 1 | AV147: 4 | AW147: True | AX147: 1 | AY147: ROZPOCET
D148: D | E148: 3 | F148: Zvislé a kompletné konštrukcie | J148: =BK148 -> 0 | P148: =SUM(P149:P161) -> 0 | R148: =SUM(R149:R161) -> 0 | T148: =SUM(T149:T161) -> 0 | AR148: 1 | AT148: D | AU148: 0 | AY148: ROZPOCET | BK148: =SUM(BK149:BK161) -> 0
C149: 4 | D149: K | E149: 312275511 | F149: Murivo výplňové z tvárnic PORFIX s P+D a kapsou hr. 250 PKD 490x250x250 domurrovanie otvorov | G149: m3 | H149: 11.213 | J149: =ROUND(I149*H149,3) -> 0 | N149: znížená | P149: =O149*H149 -> 0 | Q149: 0 | R149: =Q149*H149 -> 0 | S149: 0 | T149: =S149*H149 -> 0 | AR149: 4 | AT149: K | AU149: 1 | AY149: ROZPOCET | BE149: =IF(N149="základná",J149,0) -> 0 | BF149: =IF(N149="znížená",J149,0) -> 0 | BG149: =IF(N149="zákl. prenesená",J149,0) -> 0 | BH149: =IF(N149="zníž. prenesená",J149,0) -> 0 | BI149: =IF(N149="nulová",J149,0) -> 0 | BJ149: 2 | BK149: =ROUND(I149*H149,3) -> 0 | BL149: 4 | BM149: 1695405693
D150: VV | F150: "domurovanie medziokenných pilierov | AT150: VV | AU150: 1 | AV150: 1 | AW150: True | AX150: 0 | AY150: ROZPOCET
D151: VV | F151: 0,50*4,80*0,25*14 | H151: 8.4 | AT151: VV | AU151: 1 | AV151: 2 | AW151: True | AX151: 0 | AY151: ROZPOCET
D152: VV | F152: "domurovanie stien | AT152: VV | AU152: 1 | AV152: 1 | AW152: True | AX152: 0 | AY152: ROZPOCET
D153: VV | F153: 3,00*0,75*0,25*5 | H153: 2.813 | AT153: VV | AU153: 1 | AV153: 2 | AW153: True | AX153: 0 | AY153: ROZPOCET
D154: VV | F154: Súčet | H154: 11.213 | AT154: VV | AU154: 1 | AV154: 4 | AW154: True | AX154: 1 | AY154: ROZPOCET
C155: 5 | D155: K | E155: 317121116 | F155: Montáž prekladu pre svetl. otv. nad 180 cm | G155: ks | H155: 6 | J155: =ROUND(I155*H155,3) -> 0 | N155: znížená | P155: =O155*H155 -> 0 | Q155: 0 | R155: =Q155*H155 -> 0 | S155: 0 | T155: =S155*H155 -> 0 | AR155: 4 | AT155: K | AU155: 1 | AY155: ROZPOCET | BE155: =IF(N155="základná",J155,0) -> 0 | BF155: =IF(N155="znížená",J155,0) -> 0 | BG155: =IF(N155="zákl. prenesená",J155,0) -> 0 | BH155: =IF(N155="zníž. prenesená",J155,0) -> 0 | BI155: =IF(N155="nulová",J155,0) -> 0 | BJ155: 2 | BK155: =ROUND(I155*H155,3) -> 0 | BL155: 4 | BM155: 682457099
C156: 6 | D156: M | E156: 5934079100 | F156: Keramický preklad POROTHERM KP 23,8 70x238x2500 mm | G156: ks | H156: 6.06 | J156: =ROUND(I156*H156,3) -> 0 | N156: znížená | P156: =O156*H156 -> 0 | Q156: 0 | R156: =Q156*H156 -> 0 | S156: 0 | T156: =S156*H156 -> 0 | AR156: 8 | AT156: M | AU156: 1 | AY156: ROZPOCET | BE156: =IF(N156="základná",J156,0) -> 0 | BF156: =IF(N156="znížená",J156,0) -> 0 | BG156: =IF(N156="zákl. prenesená",J156,0) -> 0 | BH156: =IF(N156="zníž. prenesená",J156,0) -> 0 | BI156: =IF(N156="nulová",J156,0) -> 0 | BJ156: 2 | BK156: =ROUND(I156*H156,3) -> 0 | BL156: 4 | BM156: 225616963
D157: VV | F157: 6 * 1,01 | H157: 6.06 | AT157: VV | AU157: 1 | AV157: 2 | AW157: True | AX157: 0 | AY157: ROZPOCET
D158: VV | F158: Súčet | H158: 6.06 | AT158: VV | AU158: 1 | AV158: 4 | AW158: True | AX158: 1 | AY158: ROZPOCET
C159: 7 | D159: K | E159: 340291132 | F159: Vypílenie okenných otvorov 750x900 do plynosilikatových blokov | G159: m | H159: 13.2 | J159: =ROUND(I159*H159,3) -> 0 | N159: znížená | P159: =O159*H159 -> 0 | Q159: 0 | R159: =Q159*H159 -> 0 | S159: 0 | T159: =S159*H159 -> 0 | AR159: 4 | AT159: K | AU159: 1 | AY159: ROZPOCET | BE159: =IF(N159="základná",J159,0) -> 0 | BF159: =IF(N159="znížená",J159,0) -> 0 | BG159: =IF(N159="zákl. prenesená",J159,0) -> 0 | BH159: =IF(N159="zníž. prenesená",J159,0) -> 0 | BI159: =IF(N159="nulová",J159,0) -> 0 | BJ159: 2 | BK159: =ROUND(I159*H159,3) -> 0 | BL159: 4 | BM159: -1798962253
D160: VV | F160: (0,75*2+0,90*2)*4 | H160: 13.2 | AT160: VV | AU160: 1 | AV160: 2 | AW160: True | AX160: 0 | AY160: ROZPOCET
D161: VV | F161: Súčet | H161: 13.2 | AT161: VV | AU161: 1 | AV161: 4 | AW161: True | AX161: 1 | AY161: ROZPOCET
D162: D | E162: 6 | F162: Úpravy povrchov, podlahy, osadenie | J162: =BK162 -> 0 | P162: =SUM(P163:P283) -> 0 | R162: =SUM(R163:R283) -> 0 | T162: =SUM(T163:T283) -> 0 | AR162: 1 | AT162: D | AU162: 0 | AY162: ROZPOCET | BK162: =SUM(BK163:BK283) -> 0
C163: 8 | D163: K | E163: 61240215pen | F163: Penetrácia stien po vyspravkách a novovybudovaných | G163: m2 | H163: 114.3 | J163: =ROUND(I163*H163,3) -> 0 | N163: znížená | P163: =O163*H163 -> 0 | Q163: 0 | R163: =Q163*H163 -> 0 | S163: 0 | T163: =S163*H163 -> 0 | AR163: 4 | AT163: K | AU163: 1 | AY163: ROZPOCET | BE163: =IF(N163="základná",J163,0) -> 0 | BF163: =IF(N163="znížená",J163,0) -> 0 | BG163: =IF(N163="zákl. prenesená",J163,0) -> 0 | BH163: =IF(N163="zníž. prenesená",J163,0) -> 0 | BI163: =IF(N163="nulová",J163,0) -> 0 | BJ163: 2 | BK163: =ROUND(I163*H163,3) -> 0 | BL163: 4 | BM163: 132510005
C164: 9 | D164: K | E164: 612462115 | F164: Vnútorná omietka stien štuková zo suchých zmesi jemná | G164: m2 | H164: 114.3 | J164: =ROUND(I164*H164,3) -> 0 | N164: znížená | P164: =O164*H164 -> 0 | Q164: 0 | R164: =Q164*H164 -> 0 | S164: 0 | T164: =S164*H164 -> 0 | AR164: 4 | AT164: K | AU164: 1 | AY164: ROZPOCET | BE164: =IF(N164="základná",J164,0) -> 0 | BF164: =IF(N164="znížená",J164,0) -> 0 | BG164: =IF(N164="zákl. prenesená",J164,0) -> 0 | BH164: =IF(N164="zníž. prenesená",J164,0) -> 0 | BI164: =IF(N164="nulová",J164,0) -> 0 | BJ164: 2 | BK164: =ROUND(I164*H164,3) -> 0 | BL164: 4 | BM164: -1863917897
D165: VV | F165: 3,00*0,75*6 | H165: 13.5 | AT165: VV | AU165: 1 | AV165: 2 | AW165: True | AX165: 0 | AY165: ROZPOCET
D166: VV | F166: 1,50*4,80*14 | H166: 100.8 | AT166: VV | AU166: 1 | AV166: 2 | AW166: True | AX166: 0 | AY166: ROZPOCET
D167: VV | F167: Súčet | H167: 114.3 | AT167: VV | AU167: 1 | AV167: 4 | AW167: True | AX167: 1 | AY167: ROZPOCET
C168: 10 | D168: K | E168: 612473185 | F168: Príplatok za zabudované omietniky v ploche stien (meria sa v m2 plochy) | G168: m2 | H168: 1019.659 | J168: =ROUND(I168*H168,3) -> 0 | N168: znížená | P168: =O168*H168 -> 0 | Q168: 0 | R168: =Q168*H168 -> 0 | S168: 0 | T168: =S168*H168 -> 0 | AR168: 4 | AT168: K | AU168: 1 | AY168: ROZPOCET | BE168: =IF(N168="základná",J168,0) -> 0 | BF168: =IF(N168="znížená",J168,0) -> 0 | BG168: =IF(N168="zákl. prenesená",J168,0) -> 0 | BH168: =IF(N168="zníž. prenesená",J168,0) -> 0 | BI168: =IF(N168="nulová",J168,0) -> 0 | BJ168: 2 | BK168: =ROUND(I168*H168,3) -> 0 | BL168: 4 | BM168: -905419838
...
