Workbook

Sheet Rekapitulácia stavby
A1: Export Komplet | BA1: 2.0 | BB1: ZAMOK | BT1: False | BU1: False | BV1: {bebdc6e8-08ad-46ef-8bd1-0cd4edf10476}
BS2: 0,001 | BT2: 20
BS3: 0,001 | BT3: 20
D4: REKAPITULÁCIA STAVBY | AS4: v --- nižšie sa nachádzajú doplnkové a pomocné údaje k zostavám --- v | BE4: Návod na vyplnenie | BS4: 0,001
D5: Kód: | K5: ZS2jedalen | BE5: Meniť je možné iba bunky so žltým podfarbením!_x000D_ _x000D_ 1) na prvom liste Rekapitulácie stavby vyplňte v zostave_x000D_ _x000D_ a) Rekapitulácia stavby_x000D_ - údaje o Zhotoviteľovi_x000D_ (prenesú sa do ostatných zostáv aj v iných listoch)_x000D_ _x000D_ b) Rekapitulácia objektov stavby_x000D_ - potrebné Ostatné náklady_x000D_ _x000D_ 2) na vybraných listoch vyplňte v zostave_x000D_ _x000D_ a) Krycí list_x000D_ - údaje o Zhotoviteľovi, pokiaľ sa líšia od údajov o Zhotoviteľovi na Rekapitulácii stavby_x000D_ (údaje se prenesú do ostatných zostav v danom liste)_x000D_ _x000D_ b) Rekapitulácia rozpočtu_x000D_ - potrebné Ostatné náklady_x000D_ _x000D_ c) Celkové náklady za stavbu_x000D_ - ceny na položkách_x000D_ - množstvo, pokiaľ má žlté podfarbenie_x000D_ - a v prípade potreby poznámku (tá je v skrytom stĺpci) | BS5: 0,001
D6: Stavba: | K6: Rekonštrukcia a vybavenie ZŠ Jašíka v Partizánskom | BS6: 0,001
D7: JKSO: | AK7: KS: | BS7: 0,001
D8: Miesto: | AK8: Dátum: | AN8: 27. 6. 2019 | BS8: 0,001
BS9: 0,001
D10: Objednávateľ: | AK10: IČO: | BS10: 0,001
E11: ZŠ Rudolfa Jašíka | AK11: IČ DPH: | BS11: 0,001
BS12: 0,001
D13: Zhotoviteľ: | AK13: IČO: | AN13: Vyplň údaj | BS13: 0,001
E14: Vyplň údaj | AK14: IČ DPH: | AN14: Vyplň údaj | BS14: 0,001
BS15: False
D16: Projektant: | AK16: IČO: | BS16: False
E17: Ing. Rastislav Ivanka a Ľudmila Tomášová | AK17: IČ DPH: | BS17: True
BS18: 0,01
D19: Spracovateľ: | AK19: IČO: | BS19: 0,01
E20: Ľudmila Tomášová | AK20: IČ DPH: | BS20: True
D22: Poznámka:
D26: Cena bez DPH | AK26: =ROUND(AG94,2) -> 0
L28: Sadzba dane | W28: Základ dane | AK28: Výška dane
D29: DPH | F29: základná | L29: 0.2 | W29: =ROUND(AZ94, 2) -> 0 | AK29: =ROUND(AV94, 2) -> 0
F30: znížená | L30: 0.2 | W30: =ROUND(BA94, 2) -> 0 | AK30: =ROUND(AW94, 2) -> 0
F31: zákl. prenesená | L31: 0.2 | W31: =ROUND(BB94, 2) -> 0 | AK31: 0
F32: zníž. prenesená | L32: 0.2 | W32: =ROUND(BC94, 2) -> 0 | AK32: 0
F33: nulová | L33: 0 | W33: =ROUND(BD94, 2) -> 0 | AK33: 0
D35: Cena s DPH | T35: v | X35: EUR | AK35: =SUM(AK26:AK33) -> 0
D49: Projektant | AH49: Spracovateľ
D60: Dátum a podpis: | V60: Pečiatka | AH60: Dátum a podpis: | AM60: Pečiatka
D64: Objednávateľ | AH64: Zhotoviteľ
D75: Dátum a podpis: | V75: Pečiatka | AH75: Dátum a podpis: | AM75: Pečiatka
C82: REKAPITULÁCIA OBJEKTOV STAVBY
C84: Kód: | L84: =K5 -> ZS2jedalen
C85: Stavba: | L85: =K6 -> Rekonštrukcia a vybavenie ZŠ Jašíka v Partizánskom
C87: Miesto: | L87: =IF(K8="","",K8) | AI87: Dátum: | AM87: =IF(AN8= "","",AN8) -> 27. 6. 2019
C89: Objednávateľ: | L89: =IF(E11= "","",E11) -> ZŠ Rudolfa Jašíka | AI89: Projektant: | AM89: =IF(E17="","",E17) -> Ing. Rastislav Ivanka a Ľudmila Tomášová | AS89: Informatívne údaje z listov zákaziek
C90: Zhotoviteľ: | L90: =IF(E14= "Vyplň údaj","",E14) | AI90: Spracovateľ: | AM90: =IF(E20="","",E20) -> Ľudmila Tomášová
C92: Kód | I92: Popis | AG92: Cena bez DPH [EUR] | AN92: Cena s DPH [EUR] | AQ92: Typ | AS92: z toho Ostat._x000D_ náklady [EUR] | AT92: DPH [EUR] | AU92: Normohodiny [h] | AV92: DPH základná [EUR] | AW92: DPH znížená [EUR] | AX92: DPH základná prenesená_x000D_ [EUR] | AY92: DPH znížená prenesená_x000D_ [EUR] | AZ92: Základňa_x000D_ DPH základná | BA92: Základňa_x000D_ DPH znížená | BB92: Základňa_x000D_ DPH zákl. prenesená | BC92: Základňa_x000D_ DPH zníž. prenesená | BD92: Základňa_x000D_ DPH nulová
C94: Náklady z rozpočtov | AG94: =ROUND(AG95,2) -> 0 | AN94: =SUM(AG94,AT94) -> 0 | AS94: =ROUND(AS95,2) -> 0 | AT94: =ROUND(SUM(AV94:AW94),2) -> 0 | AU94: =ROUND(AU95,5) -> 0 | AV94: =ROUND(AZ94*L29,2) -> 0 | AW94: =ROUND(BA94*L30,2) -> 0 | AX94: =ROUND(BB94*L29,2) -> 0 | AY94: =ROUND(BC94*L30,2) -> 0 | AZ94: =ROUND(AZ95,2) -> 0 | BA94: =ROUND(BA95,2) -> 0 | BB94: =ROUND(BB95,2) -> 0 | BC94: =ROUND(BC95,2) -> 0 | BD94: =ROUND(BD95,2) -> 0 | BS94: D | BT94: 0 | BU94: ###NOIMPORT### | BV94: IMPORT | BW94: {bebdc6e8-08ad-46ef-8bd1-0cd4edf10476} | BX94: {00000000-0000-0000-0000-000000000000}
A95: / | D95: 1 | J95: Stavebné úpravy vnútorných priestorov jedállni | AG95: ='1 - Stavebné úpravy vnúto...'!J32 -> 0 | AN95: =SUM(AG95,AT95) -> 0 | AQ95: STA | AS95: 0 | AT95: =ROUND(SUM(AV95:AW95),2) -> 0 | AU95: ='1 - Stavebné úpravy vnúto...'!P147 -> 0 | AV95: ='1 - Stavebné úpravy vnúto...'!J35 -> 0 | AW95: ='1 - Stavebné úpravy vnúto...'!J36 -> 0 | AX95: ='1 - Stavebné úpravy vnúto...'!J37 -> 0 | AY95: ='1 - Stavebné úpravy vnúto...'!J38 -> 0 | AZ95: ='1 - Stavebné úpravy vnúto...'!F35 -> 0 | BA95: ='1 - Stavebné úpravy vnúto...'!F36 -> 0 | BB95: ='1 - Stavebné úpravy vnúto...'!F37 -> 0 | BC95: ='1 - Stavebné úpravy vnúto...'!F38 -> 0 | BD95: ='1 - Stavebné úpravy vnúto...'!F39 -> 0 | BT95: 1 | BV95: IMPORT | BW95: {a317eea1-f03f-4e30-b3dd-64347577bf39} | BX95: {bebdc6e8-08ad-46ef-8bd1-0cd4edf10476} | CM95: 0

Sheet 1 - Stavebné úpravy vnúto...
AT2: {a317eea1-f03f-4e30-b3dd-64347577bf39}
AT3: 0
D4: KRYCÍ LIST ROZPOČTU | M4: v --- nižšie sa nachádzajú doplnkové a pomocné údaje k zostavám --- v | AT4: False
D6: Stavba:
E7: ='Rekapitulácia stavby'!K6 -> Rekonštrukcia a vybavenie ZŠ Jašíka v Partizánskom
D8: Objekt:
E9: Stavebné úpravy vnútorných priestorov jedállni
D11: JKSO: | I11: KS:
D12: Miesto: | I12: Dátum: | J12: ='Rekapitulácia stavby'!AN8 -> 27. 6. 2019
D14: Objednávateľ: | I14: IČO: | J14: =IF('Rekapitulácia stavby'!AN10="","",'Rekapitulácia stavby'!AN10)
E15: =IF('Rekapitulácia stavby'!E11="","",'Rekapitulácia stavby'!E11) -> ZŠ Rudolfa Jašíka | I15: IČ DPH: | J15: =IF('Rekapitulácia stavby'!AN11="","",'Rekapitulácia stavby'!AN11)
D17: Zhotoviteľ: | I17: IČO: | J17: ='Rekapitulácia stavby'!AN13 -> Vyplň údaj
E18: ='Rekapitulácia stavby'!E14 -> Vyplň údaj | I18: IČ DPH: | J18: ='Rekapitulácia stavby'!AN14 -> Vyplň údaj
D20: Projektant: | I20: IČO: | J20: =IF('Rekapitulácia stavby'!AN16="","",'Rekapitulácia stavby'!AN16)
E21: =IF('Rekapitulácia stavby'!E17="","",'Rekapitulácia stavby'!E17) -> Ing. Rastislav Ivanka a Ľudmila Tomášová | I21: IČ DPH: | J21: =IF('Rekapitulácia stavby'!AN17="","",'Rekapitulácia stavby'!AN17)
D23: Spracovateľ: | I23: IČO: | J23: =IF('Rekapitulácia stavby'!AN19="","",'Rekapitulácia stavby'!AN19)
E24: =IF('Rekapitulácia stavby'!E20="","",'Rekapitulácia stavby'!E20) -> Ľudmila Tomášová | I24: IČ DPH: | J24: =IF('Rekapitulácia stavby'!AN20="","",'Rekapitulácia stavby'!AN20)
D26: Poznámka:
D30: Náklady z rozpočtu | J30: =J96 -> 0
D31: Ostatné náklady | J31: =J120 -> 0
D32: Cena bez DPH | J32: =ROUND(J30 + J31, 2) -> 0
F34: Základ dane | I34: Sadzba dane | J34: Výška dane
D35: DPH | E35: základná | F35: =ROUND((SUM(BE120:BE127) + SUM(BE147:BE471)), 2) -> 0 | I35: 0.2 | J35: =ROUND(((SUM(BE120:BE127) + SUM(BE147:BE471))*I35), 2) -> 0
E36: znížená | F36: =ROUND((SUM(BF120:BF127) + SUM(BF147:BF471)), 2) -> 0 | I36: 0.2 | J36: =ROUND(((SUM(BF120:BF127) + SUM(BF147:BF471))*I36), 2) -> 0
E37: zákl. prenesená | F37: =ROUND((SUM(BG120:BG127) + SUM(BG147:BG471)), 2) -> 0 | I37: 0.2 | J37: =0 -> 0
E38: zníž. prenesená | F38: =ROUND((SUM(BH120:BH127) + SUM(BH147:BH471)), 2) -> 0 | I38: 0.2 | J38: =0 -> 0
E39: nulová | F39: =ROUND((SUM(BI120:BI127) + SUM(BI147:BI471)), 2) -> 0 | I39: 0 | J39: =0 -> 0
D41: Cena s DPH | G41: v | H41: EUR | J41: =SUM(J32:J39) -> 0
D50: Projektant | G50: Spracovateľ
D61: Dátum a podpis: | F61: Pečiatka | G61: Dátum a podpis: | J61: Pečiatka
D65: Objednávateľ | G65: Zhotoviteľ
D76: Dátum a podpis: | F76: Pečiatka | G76: Dátum a podpis: | J76: Pečiatka
C82: REKAPITULÁCIA ROZPOČTU
C84: Stavba:
E85: =E7 -> Rekonštrukcia a vybavenie ZŠ Jašíka v Partizánskom
C86: Objekt:
E87: =E9 -> Stavebné úpravy vnútorných priestorov jedállni
C89: Miesto: | F89: =F12 | I89: Dátum: | J89: =IF(J12="","",J12) -> 27. 6. 2019
C91: Objednávateľ: | F91: =E15 -> ZŠ Rudolfa Jašíka | I91: Projektant: | J91: =E21 -> Ing. Rastislav Ivanka a Ľudmila Tomášová
C92: Zhotoviteľ: | F92: =IF(E18="","",E18) -> Vyplň údaj | I92: Spracovateľ: | J92: =E24 -> Ľudmila Tomášová
C94: Kód dielu - Popis | J94: Cena celkom [EUR]
C96: 1) Náklady z rozpočtu | J96: =J147 -> 0 | AU96: -1
D97: HSV - Práce a dodávky HSV | J97: =J148 -> 0
D98: 3 - Zvislé a kompletné konštrukcie | J98: =J149 -> 0
D99: 4 - Vodorovné konštrukcie | J99: =J196 -> 0
D100: 5 - Komunikácie | J100: =J210 -> 0
D101: 6 - Úpravy povrchov, podlahy, osadenie | J101: =J222 -> 0
D102: 9 - Ostatné konštrukcie a práce-búranie | J102: =J276 -> 0
D103: 99 - Presun hmôt HSV | J103: =J329 -> 0
D104: PSV - Práce a dodávky PSV | J104: =J331 -> 0
D105: 711 - Izolácie proti vode a vlhkosti | J105: =J332 -> 0
D106: 721 - Zdravotech. vnútorná kanalizácia | J106: =J349 -> 0
D107: 731 - Ústredné kúrenie, kotolne | J107: =J351 -> 0
D108: 766 - Konštrukcie stolárske | J108: =J353 -> 0
D109: 767 - Konštrukcie doplnkové kovové | J109: =J368 -> 0
D110: 771 - Podlahy z dlaždíc | J110: =J396 -> 0
D111: 776 - Podlahy povlakové | J111: =J404 -> 0
D112: 781 - Dokončovacie práce a obklady | J112: =J415 -> 0
D113: 783 - Dokončovacie práce - nátery | J113: =J437 -> 0
D114: 784 - Dokončovacie práce - maľby | J114: =J448 -> 0
D115: 791 - Zariadenia veľkokuchynské | J115: =J454 -> 0
D116: M - Práce a dodávky M | J116: =J469 -> 0
D117: 21-M - Elektromontáže | J117: =J470 -> 0
C120: 2) Ostatné náklady | J120: =ROUND(J121 + J122 + J123 + J124 + J125 + J126,2) -> 0 | N120: DPH
D121: GZS | J121: 0 | N121: znížená | AY121: VRN | BE121: =IF(N121="základná",J121,0) -> 0 | BF121: =IF(N121="znížená",J121,0) -> 0 | BG121: =IF(N121="zákl. prenesená",J121,0) -> 0 | BH121: =IF(N121="zníž. prenesená",J121,0) -> 0 | BI121: =IF(N121="nulová",J121,0) -> 0 | BJ121: 2
D122: Projektové práce | J122: 0 | N122: znížená | AY122: VRN | BE122: =IF(N122="základná",J122,0) -> 0 | BF122: =IF(N122="znížená",J122,0) -> 0 | BG122: =IF(N122="zákl. prenesená",J122,0) -> 0 | BH122: =IF(N122="zníž. prenesená",J122,0) -> 0 | BI122: =IF(N122="nulová",J122,0) -> 0 | BJ122: 2
D123: Sťažené podmienky | J123: 0 | N123: znížená | AY123: VRN | BE123: =IF(N123="základná",J123,0) -> 0 | BF123: =IF(N123="znížená",J123,0) -> 0 | BG123: =IF(N123="zákl. prenesená",J123,0) -> 0 | BH123: =IF(N123="zníž. prenesená",J123,0) -> 0 | BI123: =IF(N123="nulová",J123,0) -> 0 | BJ123: 2
D124: Vplyv prostredia | J124: 0 | N124: znížená | AY124: VRN | BE124: =IF(N124="základná",J124,0) -> 0 | BF124: =IF(N124="znížená",J124,0) -> 0 | BG124: =IF(N124="zákl. prenesená",J124,0) -> 0 | BH124: =IF(N124="zníž. prenesená",J124,0) -> 0 | BI124: =IF(N124="nulová",J124,0) -> 0 | BJ124: 2
D125: Iné VRN | J125: 0 | N125: znížená | AY125: VRN | BE125: =IF(N125="základná",J125,0) -> 0 | BF125: =IF(N125="znížená",J125,0) -> 0 | BG125: =IF(N125="zákl. prenesená",J125,0) -> 0 | BH125: =IF(N125="zníž. prenesená",J125,0) -> 0 | BI125: =IF(N125="nulová",J125,0) -> 0 | BJ125: 2
D126: Kompletačná činnosť | J126: =ROUND(J30*T126,2) -> 0 | N126: znížená | AY126: KOMPLETACNA | BE126: =IF(N126="základná",J126,0) -> 0 | BF126: =IF(N126="znížená",J126,0) -> 0 | BG126: =IF(N126="zákl. prenesená",J126,0) -> 0 | BH126: =IF(N126="zníž. prenesená",J126,0) -> 0 | BI126: =IF(N126="nulová",J126,0) -> 0 | BJ126: 2
C128: Celkové náklady za stavbu 1) + 2) | J128: =ROUND(J96+J120,2) -> 0
C134: ROZPOČET
C136: Stavba:
E137: =E7 -> Rekonštrukcia a vybavenie ZŠ Jašíka v Partizánskom
C138: Objekt:
E139: =E9 -> Stavebné úpravy vnútorných priestorov jedállni
C141: Miesto: | F141: =F12 | I141: Dátum: | J141: =IF(J12="","",J12) -> 27. 6. 2019
C143: Objednávateľ: | F143: =E15 -> ZŠ Rudolfa Jašíka | I143: Projektant: | J143: =E21 -> Ing. Rastislav Ivanka a Ľudmila Tomášová
C144: Zhotoviteľ: | F144: =IF(E18="","",E18) -> Vyplň údaj | I144: Spracovateľ: | J144: =E24 -> Ľudmila Tomášová
C146: PČ | D146: Typ | E146: Kód | F146: Popis | G146: MJ | H146: Množstvo | I146: J.cena [EUR] | J146: Cena celkom [EUR] | K146: Cenová sústava | N146: DPH | O146: J. Nh [h] | P146: Nh celkom [h] | Q146: J. hmotnosť [t] | R146: Hmotnosť celkom [t] | S146: J. suť [t] | T146: Suť Celkom [t]
C147: Náklady z rozpočtu | J147: =BK147 -> 0 | P147: =P148+P331+P469 -> 0 | R147: =R148+R331+R469 -> 0 | T147: =T148+T331+T469 -> 0 | AT147: D | AU147: -1 | BK147: =BK148+BK331+BK469 -> 0
D148: D | E148: HSV | F148: Práce a dodávky HSV | J148: =BK148 -> 0 | P148: =P149+P196+P210+P222+P276+P329 -> 0 | R148: =R149+R196+R210+R222+R276+R329 -> 0 | T148: =T149+T196+T210+T222+T276+T329 -> 0 | AR148: 1 | AT148: D | AU148: 0 | AY148: ROZPOCET | BK148: =BK149+BK196+BK210+BK222+BK276+BK329 -> 0
D149: D | E149: 3 | F149: Zvislé a kompletné konštrukcie | J149: =BK149 -> 0 | P149: =SUM(P150:P195) -> 0 | R149: =SUM(R150:R195) -> 0 | T149: =SUM(T150:T195) -> 0 | AR149: 1 | AT149: D | AU149: 1 | AY149: ROZPOCET | BK149: =SUM(BK150:BK195) -> 0
C150: 1 | D150: K | E150: 310278841 | F150: Zamurovanie otvoru s plochou do 1m2 v murive nadzákladného nepálenými tvárnicami hr. do 300mm | G150: m3 | H150: 0.992 | J150: =ROUND(I150*H150,3) -> 0 | N150: znížená | P150: =O150*H150 -> 0 | Q150: 0 | R150: =Q150*H150 -> 0 | S150: 0 | T150: =S150*H150 -> 0 | AR150: 4 | AT150: K | AU150: 2 | AY150: ROZPOCET | BE150: =IF(N150="základná",J150,0) -> 0 | BF150: =IF(N150="znížená",J150,0) -> 0 | BG150: =IF(N150="zákl. prenesená",J150,0) -> 0 | BH150: =IF(N150="zníž. prenesená",J150,0) -> 0 | BI150: =IF(N150="nulová",J150,0) -> 0 | BJ150: 2 | BK150: =ROUND(I150*H150,3) -> 0 | BL150: 4 | BM150: 2
D151: VV | F151: 1,45*2,0*0,15+0,90*1,65*0,375 | H151: 0.992 | AT151: VV | AU151: 2 | AV151: 2 | AW151: True | AX151: 0 | AY151: ROZPOCET
D152: VV | F152: Súčet | H152: 0.992 | AT152: VV | AU152: 2 | AV152: 4 | AW152: True | AX152: 1 | AY152: ROZPOCET
C153: 2 | D153: K | E153: 311271300 | F153: Murivo z betónových tvárnic 150 500x250x150mm s betónovou výplňou a betonárskou výstužou hr. 8mm | G153: m3 | H153: 2.109 | J153: =ROUND(I153*H153,3) -> 0 | N153: znížená | P153: =O153*H153 -> 0 | Q153: 0 | R153: =Q153*H153 -> 0 | S153: 0 | T153: =S153*H153 -> 0 | AR153: 4 | AT153: K | AU153: 2 | AY153: ROZPOCET | BE153: =IF(N153="základná",J153,0) -> 0 | BF153: =IF(N153="znížená",J153,0) -> 0 | BG153: =IF(N153="zákl. prenesená",J153,0) -> 0 | BH153: =IF(N153="zníž. prenesená",J153,0) -> 0 | BI153: =IF(N153="nulová",J153,0) -> 0 | BJ153: 2 | BK153: =ROUND(I153*H153,3) -> 0 | BL153: 4 | BM153: 4
D154: VV | F154: "lapol" | AT154: VV | AU154: 2 | AV154: 1 | AW154: True | AX154: 0 | AY154: ROZPOCET
D155: VV | F155: 2,30*1,85*0,15*2+1,50*1,85*0,15*2 | H155: 2.109 | AT155: VV | AU155: 2 | AV155: 2 | AW155: True | AX155: 0 | AY155: ROZPOCET
D156: VV | F156: Súčet | H156: 2.109 | AT156: VV | AU156: 2 | AV156: 4 | AW156: True | AX156: 1 | AY156: ROZPOCET
C157: 3 | D157: K | E157: 311321311 | F157: Betón nadzákladových múrov, železový (bez výstuže) tr.C 16/20 | G157: m3 | H157: 0.878 | J157: =ROUND(I157*H157,3) -> 0 | N157: znížená | P157: =O157*H157 -> 0 | Q157: 0 | R157: =Q157*H157 -> 0 | S157: 0 | T157: =S157*H157 -> 0 | AR157: 4 | AT157: K | AU157: 2 | AY157: ROZPOCET | BE157: =IF(N157="základná",J157,0) -> 0 | BF157: =IF(N157="znížená",J157,0) -> 0 | BG157: =IF(N157="zákl. prenesená",J157,0) -> 0 | BH157: =IF(N157="zníž. prenesená",J157,0) -> 0 | BI157: =IF(N157="nulová",J157,0) -> 0 | BJ157: 2 | BK157: =ROUND(I157*H157,3) -> 0 | BL157: 4 | BM157: 6
D158: VV | F158: "box | AT158: VV | AU158: 2 | AV158: 1 | AW158: True | AX158: 0 | AY158: ROZPOCET
D159: VV | F159: 1,60*1,50*0,15 | H159: 0.36 | AT159: VV | AU159: 2 | AV159: 2 | AW159: True | AX159: 0 | AY159: ROZPOCET
D160: VV | F160: "lapol | AT160: VV | AU160: 2 | AV160: 1 | AW160: True | AX160: 0 | AY160: ROZPOCET
D161: VV | F161: 2,30*1,50*0,15 | H161: 0.518 | AT161: VV | AU161: 2 | AV161: 2 | AW161: True | AX161: 0 | AY161: ROZPOCET
D162: VV | F162: Súčet | H162: 0.878 | AT162: VV | AU162: 2 | AV162: 4 | AW162: True | AX162: 1 | AY162: ROZPOCET
C163: 4 | D163: K | E163: 311351101 | F163: Debnenie nadzákladových múrov jednostranné, zhotovenie-dielce | G163: m2 | H163: 0.93 | J163: =ROUND(I163*H163,3) -> 0 | N163: znížená | P163: =O163*H163 -> 0 | Q163: 0 | R163: =Q163*H163 -> 0 | S163: 0 | T163: =S163*H163 -> 0 | AR163: 4 | AT163: K | AU163: 2 | AY163: ROZPOCET | BE163: =IF(N163="základná",J163,0) -> 0 | BF163: =IF(N163="znížená",J163,0) -> 0 | BG163: =IF(N163="zákl. prenesená",J163,0) -> 0 | BH163: =IF(N163="zníž. prenesená",J163,0) -> 0 | BI163: =IF(N163="nulová",J163,0) -> 0 | BJ163: 2 | BK163: =ROUND(I163*H163,3) -> 0 | BL163: 4 | BM163: 8
D164: VV | F164: "box | AT164: VV | AU164: 2 | AV164: 1 | AW164: True | AX164: 0 | AY164: ROZPOCET
D165: VV | F165: 1,60*0,15*2+1,50*0,15*2 | H165: 0.93 | AT165: VV | AU165: 2 | AV165: 2 | AW165: True | AX165: 0 | AY165: ROZPOCET
D166: VV | F166: Súčet | H166: 0.93 | AT166: VV | AU166: 2 | AV166: 4 | AW166: True | AX166: 1 | AY166: ROZPOCET
...
