Workbook

Sheet Rekapitulácia stavby
A1: Export Komplet | BA1: 2.0 | BB1: ZAMOK | BT1: False | BU1: False | BV1: {7c3e3fa6-a8ac-42fe-9393-85fa6ac4c01e}
BS2: 0,001 | BT2: 20
BS3: 0,001 | BT3: 20
D4: REKAPITULÁCIA STAVBY | AS4: v --- nižšie sa nachádzajú doplnkové a pomocné údaje k zostavám --- v | BE4: Návod na vyplnenie | BS4: 0,001
D5: Kód: | K5: CVCblokFlokalG | BE5: Meniť je možné iba bunky so žltým podfarbením!_x000D_ _x000D_ 1) na prvom liste Rekapitulácie stavby vyplňte v zostave_x000D_ _x000D_ a) Rekapitulácia stavby_x000D_ - údaje o Zhotoviteľovi_x000D_ (prenesú sa do ostatných zostáv aj v iných listoch)_x000D_ _x000D_ b) Rekapitulácia objektov stavby_x000D_ - potrebné Ostatné náklady_x000D_ _x000D_ 2) na vybraných listoch vyplňte v zostave_x000D_ _x000D_ a) Krycí list_x000D_ - údaje o Zhotoviteľovi, pokiaľ sa líšia od údajov o Zhotoviteľovi na Rekapitulácii stavby_x000D_ (údaje se prenesú do ostatných zostav v danom liste)_x000D_ _x000D_ b) Rekapitulácia rozpočtu_x000D_ - potrebné Ostatné náklady_x000D_ _x000D_ c) Celkové náklady za stavbu_x000D_ - ceny na položkách_x000D_ - množstvo, pokiaľ má žlté podfarbenie_x000D_ - a v prípade potreby poznámku (tá je v skrytom stĺpci) | BS5: 0,001
D6: Stavba: | K6: Rekonštrukcia strechy CVČ - Blok F | BS6: 0,001
D7: JKSO: | AK7: KS: | BS7: 0,001
D8: Miesto: | AK8: Dátum: | AN8: 16. 5. 2019 | BS8: 0,001
BS9: 0,001
D10: Objednávateľ: | AK10: IČO: | AN10: 00310905 | BS10: 0,001
E11: Mesto Partizánske | AK11: IČ DPH: | BS11: 0,001
BS12: 0,001
D13: Zhotoviteľ: | AK13: IČO: | AN13: Vyplň údaj | BS13: 0,001
E14: Vyplň údaj | AK14: IČ DPH: | AN14: Vyplň údaj | BS14: 0,001
BS15: False
D16: Projektant: | AK16: IČO: | BS16: False
AK17: IČ DPH: | BS17: True
BS18: 0,01
D19: Spracovateľ: | AK19: IČO: | BS19: 0,01
E20: Ing, Peter Ridzik | AK20: IČ DPH: | BS20: True
D22: Poznámka:
D26: Cena bez DPH | AK26: =ROUND(AG94,2) -> 0
L28: Sadzba dane | W28: Základ dane | AK28: Výška dane
D29: DPH | F29: základná | L29: 0.2 | W29: =ROUND(AZ94, 2) -> 0 | AK29: =ROUND(AV94, 2) -> 0
F30: znížená | L30: 0.2 | W30: =ROUND(BA94, 2) -> 0 | AK30: =ROUND(AW94, 2) -> 0
F31: zákl. prenesená | L31: 0.2 | W31: =ROUND(BB94, 2) -> 0 | AK31: 0
F32: zníž. prenesená | L32: 0.2 | W32: =ROUND(BC94, 2) -> 0 | AK32: 0
F33: nulová | L33: 0 | W33: =ROUND(BD94, 2) -> 0 | AK33: 0
D35: Cena s DPH | T35: v | X35: EUR | AK35: =SUM(AK26:AK33) -> 0
D49: Projektant | AH49: Spracovateľ
D60: Dátum a podpis: | V60: Pečiatka | AH60: Dátum a podpis: | AM60: Pečiatka
D64: Objednávateľ | AH64: Zhotoviteľ
D75: Dátum a podpis: | V75: Pečiatka | AH75: Dátum a podpis: | AM75: Pečiatka
C82: REKAPITULÁCIA OBJEKTOV STAVBY
C84: Kód: | L84: =K5 -> CVCblokFlokalG
C85: Stavba: | L85: =K6 -> Rekonštrukcia strechy CVČ - Blok F
C87: Miesto: | L87: =IF(K8="","",K8) | AI87: Dátum: | AM87: =IF(AN8= "","",AN8) -> 16. 5. 2019
C89: Objednávateľ: | L89: =IF(E11= "","",E11) -> Mesto Partizánske | AI89: Projektant: | AM89: =IF(E17="","",E17) | AS89: Informatívne údaje z listov zákaziek
C90: Zhotoviteľ: | L90: =IF(E14= "Vyplň údaj","",E14) | AI90: Spracovateľ: | AM90: =IF(E20="","",E20) -> Ing, Peter Ridzik
C92: Kód | I92: Popis | AG92: Cena bez DPH [EUR] | AN92: Cena s DPH [EUR] | AQ92: Typ | AS92: z toho Ostat._x000D_ náklady [EUR] | AT92: DPH [EUR] | AU92: Normohodiny [h] | AV92: DPH základná [EUR] | AW92: DPH znížená [EUR] | AX92: DPH základná prenesená_x000D_ [EUR] | AY92: DPH znížená prenesená_x000D_ [EUR] | AZ92: Základňa_x000D_ DPH základná | BA92: Základňa_x000D_ DPH znížená | BB92: Základňa_x000D_ DPH zákl. prenesená | BC92: Základňa_x000D_ DPH zníž. prenesená | BD92: Základňa_x000D_ DPH nulová
C94: Náklady z rozpočtov | AG94: =ROUND(AG95,2) -> 0 | AN94: =SUM(AG94,AT94) -> 0 | AS94: =ROUND(AS95,2) -> 0 | AT94: =ROUND(SUM(AV94:AW94),2) -> 0 | AU94: =ROUND(AU95,5) -> 0 | AV94: =ROUND(AZ94*L29,2) -> 0 | AW94: =ROUND(BA94*L30,2) -> 0 | AX94: =ROUND(BB94*L29,2) -> 0 | AY94: =ROUND(BC94*L30,2) -> 0 | AZ94: =ROUND(AZ95,2) -> 0 | BA94: =ROUND(BA95,2) -> 0 | BB94: =ROUND(BB95,2) -> 0 | BC94: =ROUND(BC95,2) -> 0 | BD94: =ROUND(BD95,2) -> 0 | BS94: D | BT94: 0 | BV94: IMPORT | BW94: {7c3e3fa6-a8ac-42fe-9393-85fa6ac4c01e} | BX94: {00000000-0000-0000-0000-000000000000}
A95: / | D95: CVCblokFlokalG | J95: Rekonštrukcia strechy CVČ - Blok F | AG95: ='CVCblokFlokalG - Rekonštr...'!J30 -> 0 | AN95: =SUM(AG95,AT95) -> 0 | AQ95: STA | AS95: 0 | AT95: =ROUND(SUM(AV95:AW95),2) -> 0 | AU95: ='CVCblokFlokalG - Rekonštr...'!P135 -> 0 | AV95: ='CVCblokFlokalG - Rekonštr...'!J33 -> 0 | AW95: ='CVCblokFlokalG - Rekonštr...'!J34 -> 0 | AX95: ='CVCblokFlokalG - Rekonštr...'!J35 -> 0 | AY95: ='CVCblokFlokalG - Rekonštr...'!J36 -> 0 | AZ95: ='CVCblokFlokalG - Rekonštr...'!F33 -> 0 | BA95: ='CVCblokFlokalG - Rekonštr...'!F34 -> 0 | BB95: ='CVCblokFlokalG - Rekonštr...'!F35 -> 0 | BC95: ='CVCblokFlokalG - Rekonštr...'!F36 -> 0 | BD95: ='CVCblokFlokalG - Rekonštr...'!F37 -> 0 | BT95: 1 | BU95: ###NOINSERT### | BV95: IMPORT | BW95: {7c3e3fa6-a8ac-42fe-9393-85fa6ac4c01e} | BX95: {00000000-0000-0000-0000-000000000000}

Sheet CVCblokFlokalG - Rekonštr...
AT2: {7c3e3fa6-a8ac-42fe-9393-85fa6ac4c01e}
AT3: 0
D4: KRYCÍ LIST ROZPOČTU | M4: v --- nižšie sa nachádzajú doplnkové a pomocné údaje k zostavám --- v | AT4: False
D6: Stavba:
E7: Rekonštrukcia strechy CVČ - Blok F
D9: JKSO: | I9: KS:
D10: Miesto: | I10: Dátum: | J10: ='Rekapitulácia stavby'!AN8 -> 16. 5. 2019
D12: Objednávateľ: | I12: IČO: | J12: 00310905
E13: Mesto Partizánske | I13: IČ DPH:
D15: Zhotoviteľ: | I15: IČO: | J15: ='Rekapitulácia stavby'!AN13 -> Vyplň údaj
E16: ='Rekapitulácia stavby'!E14 -> Vyplň údaj | I16: IČ DPH: | J16: ='Rekapitulácia stavby'!AN14 -> Vyplň údaj
D18: Projektant: | I18: IČO: | J18: =IF('Rekapitulácia stavby'!AN16="","",'Rekapitulácia stavby'!AN16)
E19: =IF('Rekapitulácia stavby'!E17="","",'Rekapitulácia stavby'!E17) | I19: IČ DPH: | J19: =IF('Rekapitulácia stavby'!AN17="","",'Rekapitulácia stavby'!AN17)
D21: Spracovateľ: | I21: IČO:
E22: Ing, Peter Ridzik | I22: IČ DPH:
D24: Poznámka:
D28: Náklady z rozpočtu | J28: =J94 -> 0
D29: Ostatné náklady | J29: =J110 -> 0
D30: Cena bez DPH | J30: =ROUND(J28 + J29, 2) -> 0
F32: Základ dane | I32: Sadzba dane | J32: Výška dane
D33: DPH | E33: základná | F33: =ROUND((SUM(BE110:BE117) + SUM(BE135:BE206)), 2) -> 0 | I33: 0.2 | J33: =ROUND(((SUM(BE110:BE117) + SUM(BE135:BE206))*I33), 2) -> 0
E34: znížená | F34: =ROUND((SUM(BF110:BF117) + SUM(BF135:BF206)), 2) -> 0 | I34: 0.2 | J34: =ROUND(((SUM(BF110:BF117) + SUM(BF135:BF206))*I34), 2) -> 0
E35: zákl. prenesená | F35: =ROUND((SUM(BG110:BG117) + SUM(BG135:BG206)), 2) -> 0 | I35: 0.2 | J35: =0 -> 0
E36: zníž. prenesená | F36: =ROUND((SUM(BH110:BH117) + SUM(BH135:BH206)), 2) -> 0 | I36: 0.2 | J36: =0 -> 0
E37: nulová | F37: =ROUND((SUM(BI110:BI117) + SUM(BI135:BI206)), 2) -> 0 | I37: 0 | J37: =0 -> 0
D39: Cena s DPH | G39: v | H39: EUR | J39: =SUM(J30:J37) -> 0
D50: Projektant | G50: Spracovateľ
D61: Dátum a podpis: | F61: Pečiatka | G61: Dátum a podpis: | J61: Pečiatka
D65: Objednávateľ | G65: Zhotoviteľ
D76: Dátum a podpis: | F76: Pečiatka | G76: Dátum a podpis: | J76: Pečiatka
C82: REKAPITULÁCIA ROZPOČTU
C84: Stavba:
E85: =E7 -> Rekonštrukcia strechy CVČ - Blok F
C87: Miesto: | F87: =F10 | I87: Dátum: | J87: =IF(J10="","",J10) -> 16. 5. 2019
C89: Objednávateľ: | F89: =E13 -> Mesto Partizánske | I89: Projektant: | J89: =E19
C90: Zhotoviteľ: | F90: =IF(E16="","",E16) -> Vyplň údaj | I90: Spracovateľ: | J90: =E22 -> Ing, Peter Ridzik
C92: Kód dielu - Popis | J92: Cena celkom [EUR]
C94: 1) Náklady z rozpočtu | J94: =J135 -> 0 | AU94: -1
D95: HSV - Práce a dodávky HSV | J95: =J136 -> 0
D96: 6 - Úpravy povrchov, podlahy, osadenie | J96: =J137 -> 0
D97: 9 - Ostatné konštrukcie a práce-búranie | J97: =J142 -> 0
D98: 99 - Presun hmôt HSV | J98: =J145 -> 0
D99: PSV - Práce a dodávky PSV | J99: =J147 -> 0
D100: 711 - Izolácie proti vode a vlhkosti | J100: =J148 -> 0
D101: 712 - Izolácie striech, povlakové krytiny | J101: =J154 -> 0
D102: 713 - Izolácie tepelné | J102: =J164 -> 0
D103: 762 - Konštrukcie tesárske | J103: =J171 -> 0
D104: 764 - Konštrukcie klampiarske | J104: =J186 -> 0
D105: 783 - Nátery | J105: =J199 -> 0
D106: M - Práce a dodávky M | J106: =J204 -> 0
D107: 21-M - Elektromontáže | J107: =J205 -> 0
C110: 2) Ostatné náklady | J110: =ROUND(J111 + J112 + J113 + J114 + J115 + J116,2) -> 0 | N110: DPH
D111: GZS | J111: 0 | N111: znížená | AY111: VRN | BE111: =IF(N111="základná",J111,0) -> 0 | BF111: =IF(N111="znížená",J111,0) -> 0 | BG111: =IF(N111="zákl. prenesená",J111,0) -> 0 | BH111: =IF(N111="zníž. prenesená",J111,0) -> 0 | BI111: =IF(N111="nulová",J111,0) -> 0 | BJ111: 2
D112: Projektové práce | J112: 0 | N112: znížená | AY112: VRN | BE112: =IF(N112="základná",J112,0) -> 0 | BF112: =IF(N112="znížená",J112,0) -> 0 | BG112: =IF(N112="zákl. prenesená",J112,0) -> 0 | BH112: =IF(N112="zníž. prenesená",J112,0) -> 0 | BI112: =IF(N112="nulová",J112,0) -> 0 | BJ112: 2
D113: Sťažené podmienky | J113: 0 | N113: znížená | AY113: VRN | BE113: =IF(N113="základná",J113,0) -> 0 | BF113: =IF(N113="znížená",J113,0) -> 0 | BG113: =IF(N113="zákl. prenesená",J113,0) -> 0 | BH113: =IF(N113="zníž. prenesená",J113,0) -> 0 | BI113: =IF(N113="nulová",J113,0) -> 0 | BJ113: 2
D114: Vplyv prostredia | J114: 0 | N114: znížená | AY114: VRN | BE114: =IF(N114="základná",J114,0) -> 0 | BF114: =IF(N114="znížená",J114,0) -> 0 | BG114: =IF(N114="zákl. prenesená",J114,0) -> 0 | BH114: =IF(N114="zníž. prenesená",J114,0) -> 0 | BI114: =IF(N114="nulová",J114,0) -> 0 | BJ114: 2
D115: Iné VRN | J115: 0 | N115: znížená | AY115: VRN | BE115: =IF(N115="základná",J115,0) -> 0 | BF115: =IF(N115="znížená",J115,0) -> 0 | BG115: =IF(N115="zákl. prenesená",J115,0) -> 0 | BH115: =IF(N115="zníž. prenesená",J115,0) -> 0 | BI115: =IF(N115="nulová",J115,0) -> 0 | BJ115: 2
D116: Kompletačná činnosť | J116: =ROUND(J28*T116,2) -> 0 | N116: znížená | AY116: KOMPLETACNA | BE116: =IF(N116="základná",J116,0) -> 0 | BF116: =IF(N116="znížená",J116,0) -> 0 | BG116: =IF(N116="zákl. prenesená",J116,0) -> 0 | BH116: =IF(N116="zníž. prenesená",J116,0) -> 0 | BI116: =IF(N116="nulová",J116,0) -> 0 | BJ116: 2
C118: Celkové náklady za stavbu 1) + 2) | J118: =ROUND(J94+J110,2) -> 0
C124: ROZPOČET
C126: Stavba:
E127: =E7 -> Rekonštrukcia strechy CVČ - Blok F
C129: Miesto: | F129: =F10 | I129: Dátum: | J129: =IF(J10="","",J10) -> 16. 5. 2019
C131: Objednávateľ: | F131: =E13 -> Mesto Partizánske | I131: Projektant: | J131: =E19
C132: Zhotoviteľ: | F132: =IF(E16="","",E16) -> Vyplň údaj | I132: Spracovateľ: | J132: =E22 -> Ing, Peter Ridzik
C134: PČ | D134: Typ | E134: Kód | F134: Popis | G134: MJ | H134: Množstvo | I134: J.cena [EUR] | J134: Cena celkom [EUR] | K134: Cenová sústava | N134: DPH | O134: J. Nh [h] | P134: Nh celkom [h] | Q134: J. hmotnosť [t] | R134: Hmotnosť celkom [t] | S134: J. suť [t] | T134: Suť Celkom [t]
C135: Náklady z rozpočtu | J135: =BK135 -> 0 | P135: =P136+P147+P204 -> 0 | R135: =R136+R147+R204 -> 3.3053234 | T135: =T136+T147+T204 -> 0.230202 | AT135: D | AU135: -1 | BK135: =BK136+BK147+BK204 -> 0
D136: D | E136: HSV | F136: Práce a dodávky HSV | J136: =BK136 -> 0 | P136: =P137+P142+P145 -> 0 | R136: =R137+R142+R145 -> 0.5282212 | T136: =T137+T142+T145 -> 0 | AR136: 1 | AT136: D | AU136: 0 | AY136: ROZPOCET | BK136: =BK137+BK142+BK145 -> 0
D137: D | E137: 6 | F137: Úpravy povrchov, podlahy, osadenie | J137: =BK137 -> 0 | P137: =SUM(P138:P141) -> 0 | R137: =SUM(R138:R141) -> 0.1444432 | T137: =SUM(T138:T141) -> 0 | AR137: 1 | AT137: D | AU137: 1 | AY137: ROZPOCET | BK137: =SUM(BK138:BK141) -> 0
C138: 1 | D138: K | E138: 622464112 | F138: Vonkajšia omietka stien tenkovrstvová Weber - Terranova, silikátová, weber.pas silikátová, roztieraná jemnozrnná | G138: m2 | H138: 14.15 | J138: =ROUND(I138*H138,3) -> 0 | K138: CS CENEKON 2019 01 | N138: znížená | P138: =O138*H138 -> 0 | Q138: 0.00268 | R138: =Q138*H138 -> 0.037922 | S138: 0 | T138: =S138*H138 -> 0 | AR138: 4 | AT138: K | AU138: 2 | AY138: ROZPOCET | BE138: =IF(N138="základná",J138,0) -> 0 | BF138: =IF(N138="znížená",J138,0) -> 0 | BG138: =IF(N138="zákl. prenesená",J138,0) -> 0 | BH138: =IF(N138="zníž. prenesená",J138,0) -> 0 | BI138: =IF(N138="nulová",J138,0) -> 0 | BJ138: 2 | BK138: =ROUND(I138*H138,3) -> 0 | BL138: 4 | BM138: 2002500633
D139: VV | F139: (15,20+13,10)*0,25*2"Blok F" | H139: 14.15 | AT139: VV | AU139: 2 | AV139: 2 | AW139: True | AX139: 1 | AY139: ROZPOCET
C140: 2 | D140: K | E140: 625252001 | F140: Kontaktný zatepľovací systém hr. 30 mm weber.therm terranova (biely EPS-F), skrutkovacie kotvy | G140: m2 | H140: 11.32 | J140: =ROUND(I140*H140,3) -> 0 | K140: CS CENEKON 2019 01 | N140: znížená | P140: =O140*H140 -> 0 | Q140: 0.00941 | R140: =Q140*H140 -> 0.1065212 | S140: 0 | T140: =S140*H140 -> 0 | AR140: 4 | AT140: K | AU140: 2 | AY140: ROZPOCET | BE140: =IF(N140="základná",J140,0) -> 0 | BF140: =IF(N140="znížená",J140,0) -> 0 | BG140: =IF(N140="zákl. prenesená",J140,0) -> 0 | BH140: =IF(N140="zníž. prenesená",J140,0) -> 0 | BI140: =IF(N140="nulová",J140,0) -> 0 | BJ140: 2 | BK140: =ROUND(I140*H140,3) -> 0 | BL140: 4 | BM140: -1295377972
D141: VV | F141: (15,20+13,10)*0,2*2"Blok F" | H141: 11.32 | AT141: VV | AU141: 2 | AV141: 2 | AW141: True | AX141: 1 | AY141: ROZPOCET
D142: D | E142: 9 | F142: Ostatné konštrukcie a práce-búranie | J142: =BK142 -> 0 | P142: =SUM(P143:P144) -> 0 | R142: =SUM(R143:R144) -> 0.383778 | T142: =SUM(T143:T144) -> 0 | AR142: 1 | AT142: D | AU142: 1 | AY142: ROZPOCET | BK142: =SUM(BK143:BK144) -> 0
C143: 3 | D143: K | E143: 941955003 | F143: Lešenie ľahké pracovné pomocné s výškou lešeňovej podlahy nad 1,90 do 2,50 m | G143: m2 | H143: 62.1 | J143: =ROUND(I143*H143,3) -> 0 | K143: CS CENEKON 2019 01 | N143: znížená | P143: =O143*H143 -> 0 | Q143: 0.00618 | R143: =Q143*H143 -> 0.383778 | S143: 0 | T143: =S143*H143 -> 0 | AR143: 4 | AT143: K | AU143: 2 | AY143: ROZPOCET | BE143: =IF(N143="základná",J143,0) -> 0 | BF143: =IF(N143="znížená",J143,0) -> 0 | BG143: =IF(N143="zákl. prenesená",J143,0) -> 0 | BH143: =IF(N143="zníž. prenesená",J143,0) -> 0 | BI143: =IF(N143="nulová",J143,0) -> 0 | BJ143: 2 | BK143: =ROUND(I143*H143,3) -> 0 | BL143: 4 | BM143: -806908730
D144: VV | F144: (13,10+15,20+13,10)*1,5"Blok F" | H144: 62.1 | AT144: VV | AU144: 2 | AV144: 2 | AW144: True | AX144: 1 | AY144: ROZPOCET
D145: D | E145: 99 | F145: Presun hmôt HSV | J145: =BK145 -> 0 | P145: =P146 -> 0 | R145: =R146 -> 0 | T145: =T146 -> 0 | AR145: 1 | AT145: D | AU145: 1 | AY145: ROZPOCET | BK145: =BK146 -> 0
C146: 4 | D146: K | E146: 999281111 | F146: Presun hmôt pre opravy a údržbu objektov vrátane vonkajších plášťov výšky do 25 m | G146: t | H146: 0.528 | J146: =ROUND(I146*H146,3) -> 0 | K146: CS CENEKON 2019 01 | N146: znížená | P146: =O146*H146 -> 0 | Q146: 0 | R146: =Q146*H146 -> 0 | S146: 0 | T146: =S146*H146 -> 0 | AR146: 4 | AT146: K | AU146: 2 | AY146: ROZPOCET | BE146: =IF(N146="základná",J146,0) -> 0 | BF146: =IF(N146="znížená",J146,0) -> 0 | BG146: =IF(N146="zákl. prenesená",J146,0) -> 0 | BH146: =IF(N146="zníž. prenesená",J146,0) -> 0 | BI146: =IF(N146="nulová",J146,0) -> 0 | BJ146: 2 | BK146: =ROUND(I146*H146,3) -> 0 | BL146: 4 | BM146: -864142651
D147: D | E147: PSV | F147: Práce a dodávky PSV | J147: =BK147 -> 0 | P147: =P148+P154+P164+P171+P186+P199 -> 0 | R147: =R148+R154+R164+R171+R186+R199 -> 2.7771022 | T147: =T148+T154+T164+T171+T186+T199 -> 0.230202 | AR147: 2 | AT147: D | AU147: 0 | AY147: ROZPOCET | BK147: =BK148+BK154+BK164+BK171+BK186+BK199 -> 0
D148: D | E148: 711 | F148: Izolácie proti vode a vlhkosti | J148: =BK148 -> 0 | P148: =SUM(P149:P153) -> 0 | R148: =SUM(R149:R153) -> 0.0457976 | T148: =SUM(T149:T153) -> 0 | AR148: 2 | AT148: D | AU148: 1 | AY148: ROZPOCET | BK148: =SUM(BK149:BK153) -> 0
C149: 5 | D149: K | E149: 711491171 | F149: Zhotovenie podkladnej vrstvy izolácie z textílie na ploche vodorovnej, pre izolácie proti zemnej vlhkosti, podpovrchovej a tlakovej vode | G149: m2 | H149: 199.12 | J149: =ROUND(I149*H149,3) -> 0 | K149: CS CENEKON 2019 01 | N149: znížená | P149: =O149*H149 -> 0 | Q149: 0 | R149: =Q149*H149 -> 0 | S149: 0 | T149: =S149*H149 -> 0 | AR149: 16 | AT149: K | AU149: 2 | AY149: ROZPOCET | BE149: =IF(N149="základná",J149,0) -> 0 | BF149: =IF(N149="znížená",J149,0) -> 0 | BG149: =IF(N149="zákl. prenesená",J149,0) -> 0 | BH149: =IF(N149="zníž. prenesená",J149,0) -> 0 | BI149: =IF(N149="nulová",J149,0) -> 0 | BJ149: 2 | BK149: =ROUND(I149*H149,3) -> 0 | BL149: 16 | BM149: 1182792558
D150: VV | F150: 13,10*15,20"Blok F" | H150: 199.12 | AT150: VV | AU150: 2 | AV150: 2 | AW150: True | AX150: 1 | AY150: ROZPOCET
C151: 6 | D151: M | E151: 693110001100 | F151: Geotextília polypropylénová Tatratex GTX N PP 200, šírka 0,7-1,2 m, dĺžka 20-60-120 m, hrúbka 1,68 mm, netkaná, MIVA | G151: m2 | H151: 228.988 | J151: =ROUND(I151*H151,3) -> 0 | K151: CS CENEKON 2019 01 | N151: znížená | P151: =O151*H151 -> 0 | Q151: 0.0002 | R151: =Q151*H151 -> 0.0457976 | S151: 0 | T151: =S151*H151 -> 0 | AR151: 32 | AT151: M | AU151: 2 | AY151: ROZPOCET | BE151: =IF(N151="základná",J151,0) -> 0 | BF151: =IF(N151="znížená",J151,0) -> 0 | BG151: =IF(N151="zákl. prenesená",J151,0) -> 0 | BH151: =IF(N151="zníž. prenesená",J151,0) -> 0 | BI151: =IF(N151="nulová",J151,0) -> 0 | BJ151: 2 | BK151: =ROUND(I151*H151,3) -> 0 | BL151: 16 | BM151: 228451234
D152: VV | F152: 199,12*1,15 'Přepočítané koeficientom množstva | H152: 228.988 | AT152: VV | AU152: 2 | AV152: 2 | AW152: False | AX152: 1 | AY152: ROZPOCET
C153: 7 | D153: K | E153: 998711101 | F153: Presun hmôt pre izoláciu proti vode v objektoch výšky do 6 m | G153: t | H153: 0.046 | J153: =ROUND(I153*H153,3) -> 0 | K153: CS CENEKON 2019 01 | N153: znížená | P153: =O153*H153 -> 0 | Q153: 0 | R153: =Q153*H153 -> 0 | S153: 0 | T153: =S153*H153 -> 0 | AR153: 16 | AT153: K | AU153: 2 | AY153: ROZPOCET | BE153: =IF(N153="základná",J153,0) -> 0 | BF153: =IF(N153="znížená",J153,0) -> 0 | BG153: =IF(N153="zákl. prenesená",J153,0) -> 0 | BH153: =IF(N153="zníž. prenesená",J153,0) -> 0 | BI153: =IF(N153="nulová",J153,0) -> 0 | BJ153: 2 | BK153: =ROUND(I153*H153,3) -> 0 | BL153: 16 | BM153: 618848645
D154: D | E154: 712 | F154: Izolácie striech, povlakové krytiny | J154: =BK154 -> 0 | P154: =SUM(P155:P163) -> 0 | R154: =SUM(R155:R163) -> 0.79886275 | T154: =SUM(T155:T163) -> 0 | AR154: 2 | AT154: D | AU154: 1 | AY154: ROZPOCET | BK154: =SUM(BK155:BK163) -> 0
C155: 8 | D155: K | E155: CV1 | F155: Lokálne vyspravky povlakovej krytiny | H155: 167.875 | J155: =ROUND(I155*H155,3) -> 0 | N155: znížená | P155: =O155*H155 -> 0 | Q155: 0 | R155: =Q155*H155 -> 0 | S155: 0 | T155: =S155*H155 -> 0 | AR155: 16 | AT155: K | AU155: 2 | AY155: ROZPOCET | BE155: =IF(N155="základná",J155,0) -> 0 | BF155: =IF(N155="znížená",J155,0) -> 0 | BG155: =IF(N155="zákl. prenesená",J155,0) -> 0 | BH155: =IF(N155="zníž. prenesená",J155,0) -> 0 | BI155: =IF(N155="nulová",J155,0) -> 0 | BJ155: 2 | BK155: =ROUND(I155*H155,3) -> 0 | BL155: 16 | BM155: -1676268221
D156: VV | F156: 19,75*8,5"Blok G - 25%" | H156: 167.875 | AT156: VV | AU156: 2 | AV156: 2 | AW156: True | AX156: 1 | AY156: ROZPOCET
C157: 9 | D157: M | E157: 628320000300 | F157: Pás asfaltový HYDROBIT V 60 S 42 H sivý, pre vrchné vrstvy hydroizolačných systémov, ICOPAL | G157: m2 | H157: 50 | J157: =ROUND(I157*H157,3) -> 0 | K157: CS CENEKON 2019 01 | N157: znížená | P157: =O157*H157 -> 0 | Q157: 0.0054 | R157: =Q157*H157 -> 0.27 | S157: 0 | T157: =S157*H157 -> 0 | AR157: 32 | AT157: M | AU157: 2 | AY157: ROZPOCET | BE157: =IF(N157="základná",J157,0) -> 0 | BF157: =IF(N157="znížená",J157,0) -> 0 | BG157: =IF(N157="zákl. prenesená",J157,0) -> 0 | BH157: =IF(N157="zníž. prenesená",J157,0) -> 0 | BI157: =IF(N157="nulová",J157,0) -> 0 | BJ157: 2 | BK157: =ROUND(I157*H157,3) -> 0 | BL157: 16 | BM157: 104865097
D158: VV | F158: 43,4782608695652*1,15 'Přepočítané koeficientom množstva | H158: 50 | AT158: VV | AU158: 2 | AV158: 2 | AW158: False | AX158: 1 | AY158: ROZPOCET
C159: 10 | D159: K | E159: 712370070 | F159: Zhotovenie povlakovej krytiny striech plochých do 10° PVC-P fóliou upevnenou prikotvením so zvarením spoju | G159: m2 | H159: 199.12 | J159: =ROUND(I159*H159,3) -> 0 | K159: CS CENEKON 2019 01 | N159: znížená | P159: =O159*H159 -> 0 | Q159: 0 | R159: =Q159*H159 -> 0 | S159: 0 | T159: =S159*H159 -> 0 | AR159: 16 | AT159: K | AU159: 2 | AY159: ROZPOCET | BE159: =IF(N159="základná",J159,0) -> 0 | BF159: =IF(N159="znížená",J159,0) -> 0 | BG159: =IF(N159="zákl. prenesená",J159,0) -> 0 | BH159: =IF(N159="zníž. prenesená",J159,0) -> 0 | BI159: =IF(N159="nulová",J159,0) -> 0 | BJ159: 2 | BK159: =ROUND(I159*H159,3) -> 0 | BL159: 16 | BM159: -2137000590
D160: VV | F160: 13,10*15,20"Blok F" | H160: 199.12 | AT160: VV | AU160: 2 | AV160: 2 | AW160: True | AX160: 1 | AY160: ROZPOCET
C161: 11 | D161: M | E161: 283220002000 | F161: Hydroizolačná fólia PVC-P FATRAFOL 810, hr. 1,5 mm, š. 1,3 m, izolácia plochých striech, farba sivá, FATRA IZOLFA | G161: m2 | H161: 228.988 | J161: =ROUND(I161*H161,3) -> 0 | K161: CS CENEKON 2019 01 | N161: znížená | P161: =O161*H161 -> 0 | Q161: 0.0019 | R161: =Q161*H161 -> 0.4350772 | S161: 0 | T161: =S161*H161 -> 0 | AR161: 32 | AT161: M | AU161: 2 | AY161: ROZPOCET | BE161: =IF(N161="základná",J161,0) -> 0 | BF161: =IF(N161="znížená",J161,0) -> 0 | BG161: =IF(N161="zákl. prenesená",J161,0) -> 0 | BH161: =IF(N161="zníž. prenesená",J161,0) -> 0 | BI161: =IF(N161="nulová",J161,0) -> 0 | BJ161: 2 | BK161: =ROUND(I161*H161,3) -> 0 | BL161: 16 | BM161: -1140649810
C162: 12 | D162: M | E162: 311970001600 | F162: Vrut FATRAFOL SK-RB Power do dĺžky 350 mm na upevnenie do dosiek POLSID a HERAKLID, FATRA IZOLFA | G162: ks | H162: 625.237 | J162: =ROUND(I162*H162,3) -> 0 | K162: CS CENEKON 2019 01 | N162: znížená | P162: =O162*H162 -> 0 | Q162: 0.00015 | R162: =Q162*H162 -> 0.09378555 | S162: 0 | T162: =S162*H162 -> 0 | AR162: 32 | AT162: M | AU162: 2 | AY162: ROZPOCET | BE162: =IF(N162="základná",J162,0) -> 0 | BF162: =IF(N162="znížená",J162,0) -> 0 | BG162: =IF(N162="zákl. prenesená",J162,0) -> 0 | BH162: =IF(N162="zníž. prenesená",J162,0) -> 0 | BI162: =IF(N162="nulová",J162,0) -> 0 | BJ162: 2 | BK162: =ROUND(I162*H162,3) -> 0 | BL162: 16 | BM162: -188995590
C163: 13 | D163: K | E163: 998712201 | F163: Presun hmôt pre izoláciu povlakovej krytiny v objektoch výšky do 6 m | G163: % | J163: =ROUND(I163*H163,3) -> 0 | K163: CS CENEKON 2019 01 | N163: znížená | P163: =O163*H163 -> 0 | Q163: 0 | R163: =Q163*H163 -> 0 | S163: 0 | T163: =S163*H163 -> 0 | AR163: 16 | AT163: K | AU163: 2 | AY163: ROZPOCET | BE163: =IF(N163="základná",J163,0) -> 0 | BF163: =IF(N163="znížená",J163,0) -> 0 | BG163: =IF(N163="zákl. prenesená",J163,0) -> 0 | BH163: =IF(N163="zníž. prenesená",J163,0) -> 0 | BI163: =IF(N163="nulová",J163,0) -> 0 | BJ163: 2 | BK163: =ROUND(I163*H163,3) -> 0 | BL163: 16 | BM163: -218309260
D164: D | E164: 713 | F164: Izolácie tepelné | J164: =BK164 -> 0 | P164: =SUM(P165:P170) -> 0 | R164: =SUM(R165:R170) -> 0.776568 | T164: =SUM(T165:T170) -> 0 | AR164: 2 | AT164: D | AU164: 1 | AY164: ROZPOCET | BK164: =SUM(BK165:BK170) -> 0
C165: 14 | D165: K | E165: 713142250 | F165: Montáž tepelnej izolácie striech plochých do 10° polystyrénom, dvojvrstvová kladenými voľne | G165: m2 | H165: 199.12 | J165: =ROUND(I165*H165,3) -> 0 | K165: CS CENEKON 2019 01 | N165: znížená | P165: =O165*H165 -> 0 | Q165: 0 | R165: =Q165*H165 -> 0 | S165: 0 | T165: =S165*H165 -> 0 | AR165: 16 | AT165: K | AU165: 2 | AY165: ROZPOCET | BE165: =IF(N165="základná",J165,0) -> 0 | BF165: =IF(N165="znížená",J165,0) -> 0 | BG165: =IF(N165="zákl. prenesená",J165,0) -> 0 | BH165: =IF(N165="zníž. prenesená",J165,0) -> 0 | BI165: =IF(N165="nulová",J165,0) -> 0 | BJ165: 2 | BK165: =ROUND(I165*H165,3) -> 0 | BL165: 16 | BM165: 76015440
D166: VV | F166: 13,10*15,20"Blok F" | H166: 199.12 | AT166: VV | AU166: 2 | AV166: 2 | AW166: True | AX166: 1 | AY166: ROZPOCET
C167: 15 | D167: M | E167: 283720008000 | F167: Doska EPS 100S hr. 100 mm, na zateplenie podláh a plochých striech, ISOVER | G167: m2 | H167: 398.24 | J167: =ROUND(I167*H167,3) -> 0 | K167: CS CENEKON 2019 01 | N167: znížená | P167: =O167*H167 -> 0 | Q167: 0.00195 | R167: =Q167*H167 -> 0.776568 | S167: 0 | T167: =S167*H167 -> 0 | AR167: 32 | AT167: M | AU167: 2 | AY167: ROZPOCET | BE167: =IF(N167="základná",J167,0) -> 0 | BF167: =IF(N167="znížená",J167,0) -> 0 | BG167: =IF(N167="zákl. prenesená",J167,0) -> 0 | BH167: =IF(N167="zníž. prenesená",J167,0) -> 0 | BI167: =IF(N167="nulová",J167,0) -> 0 | BJ167: 2 | BK167: =ROUND(I167*H167,3) -> 0 | BL167: 16 | BM167: 585058915
C168: 16 | D168: K | E168: 713191321 | F168: Montáž izolácie tepelnej striech, osadenie odvetrávacích komínikov | G168: ks | H168: 5 | J168: =ROUND(I168*H168,3) -> 0 | K168: CS CENEKON 2019 01 | N168: znížená | P168: =O168*H168 -> 0 | Q168: 0 | R168: =Q168*H168 -> 0 | S168: 0 | T168: =S168*H168 -> 0 | AR168: 16 | AT168: K | AU168: 2 | AY168: ROZPOCET | BE168: =IF(N168="základná",J168,0) -> 0 | BF168: =IF(N168="znížená",J168,0) -> 0 | BG168: =IF(N168="zákl. prenesená",J168,0) -> 0 | BH168: =IF(N168="zníž. prenesená",J168,0) -> 0 | BI168: =IF(N168="nulová",J168,0) -> 0 | BJ168: 2 | BK168: =ROUND(I168*H168,3) -> 0 | BL168: 16 | BM168: 936838992
...
