Workbook

Sheet Rekapitulácia stavby
A1: Export Komplet | BA1: 2.0 | BT1: False | BU1: False | BV1: {005186f8-7d15-4d27-a96b-dc819788fb28}
AR2: >> skryté stĺpce << | BS2: 0,001 | BT2: 20
BS3: 0,001 | BT3: 20
D4: REKAPITULÁCIA STAVBY | AS4: v --- nižšie sa nachádzajú doplnkové a pomocné údaje k zostavám --- v | BE4: Návod na vyplnenie | BS4: 0,001
D5: Kód: | K5: 2019-040 | BE5: Meniť je možné iba bunky so žltým podfarbením!_x000D_ _x000D_ 1) na prvom liste Rekapitulácie stavby vyplňte v zostave_x000D_ _x000D_ a) Rekapitulácia stavby_x000D_ - údaje o Zhotoviteľovi_x000D_ (prenesú sa do ostatných zostáv aj v iných listoch)_x000D_ _x000D_ b) Rekapitulácia objektov stavby_x000D_ - potrebné Ostatné náklady_x000D_ _x000D_ 2) na vybraných listoch vyplňte v zostave_x000D_ _x000D_ a) Krycí list_x000D_ - údaje o Zhotoviteľovi, pokiaľ sa líšia od údajov o Zhotoviteľovi na Rekapitulácii stavby_x000D_ (údaje se prenesú do ostatných zostav v danom liste)_x000D_ _x000D_ b) Rekapitulácia rozpočtu_x000D_ - potrebné Ostatné náklady_x000D_ _x000D_ c) Celkové náklady za stavbu_x000D_ - ceny na položkách_x000D_ - množstvo, pokiaľ má žlté podfarbenie_x000D_ - a v prípade potreby poznámku (tá je v skrytom stĺpci) | BS5: 0,001
D6: Stavba: | K6: Rekonštrukcia spevnenej plochy na Obuvníckej ul. | BS6: 0,001
D7: JKSO: | AK7: KS: | BS7: 0,001
D8: Miesto: | AK8: Dátum: | AN8: 27. 3. 2019 | BS8: 0,001
BS9: 0,001
D10: Objednávateľ: | AK10: IČO: | BS10: 0,001
E11: Mesto Partizánske | AK11: IČ DPH: | BS11: 0,001
BS12: 0,001
D13: Zhotoviteľ: | AK13: IČO: | AN13: Vyplň údaj | BS13: 0,001
E14: Vyplň údaj | AK14: IČ DPH: | AN14: Vyplň údaj | BS14: 0,001
BS15: False
D16: Projektant: | AK16: IČO: | BS16: False
AK17: IČ DPH: | BS17: True
BS18: 0,01
D19: Spracovateľ: | AK19: IČO: | BS19: 0,01
AK20: IČ DPH: | BS20: True
D22: Poznámka:
D26: Cena bez DPH | AK26: =ROUND(AG94,2) -> 0
L28: Sadzba dane | W28: Základ dane | AK28: Výška dane
D29: DPH | F29: základná | L29: 0.2 | W29: =ROUND(AZ94, 2) -> 0 | AK29: =ROUND(AV94, 2) -> 0
F30: znížená | L30: 0.2 | W30: =ROUND(BA94, 2) -> 0 | AK30: =ROUND(AW94, 2) -> 0
F31: zákl. prenesená | L31: 0.2 | W31: =ROUND(BB94, 2) -> 0 | AK31: 0
F32: zníž. prenesená | L32: 0.2 | W32: =ROUND(BC94, 2) -> 0 | AK32: 0
F33: nulová | L33: 0 | W33: =ROUND(BD94, 2) -> 0 | AK33: 0
D35: Cena s DPH | T35: v | X35: EUR | AK35: =SUM(AK26:AK33) -> 0
D49: Projektant | AH49: Spracovateľ
D60: Dátum a podpis: | V60: Pečiatka | AH60: Dátum a podpis: | AM60: Pečiatka
D64: Objednávateľ | AH64: Zhotoviteľ
D75: Dátum a podpis: | V75: Pečiatka | AH75: Dátum a podpis: | AM75: Pečiatka
C82: REKAPITULÁCIA OBJEKTOV STAVBY
C84: Kód: | L84: =K5 -> 2019-040
C85: Stavba: | L85: =K6 -> Rekonštrukcia spevnenej plochy na Obuvníckej ul.
C87: Miesto: | L87: =IF(K8="","",K8) | AI87: Dátum: | AM87: =IF(AN8= "","",AN8) -> 27. 3. 2019
C89: Objednávateľ: | L89: =IF(E11= "","",E11) -> Mesto Partizánske | AI89: Projektant: | AM89: =IF(E17="","",E17) | AS89: Informatívne údaje z listov zákaziek
C90: Zhotoviteľ: | L90: =IF(E14= "Vyplň údaj","",E14) | AI90: Spracovateľ: | AM90: =IF(E20="","",E20)
C92: Kód | I92: Popis | AG92: Cena bez DPH [EUR] | AN92: Cena s DPH [EUR] | AQ92: Typ | AS92: z toho Ostat._x000D_ náklady [EUR] | AT92: DPH [EUR] | AU92: Normohodiny [h] | AV92: DPH základná [EUR] | AW92: DPH znížená [EUR] | AX92: DPH základná prenesená_x000D_ [EUR] | AY92: DPH znížená prenesená_x000D_ [EUR] | AZ92: Základňa_x000D_ DPH základná | BA92: Základňa_x000D_ DPH znížená | BB92: Základňa_x000D_ DPH zákl. prenesená | BC92: Základňa_x000D_ DPH zníž. prenesená | BD92: Základňa_x000D_ DPH nulová
C94: Náklady z rozpočtov | AG94: =ROUND(AG95,2) -> 0 | AN94: =SUM(AG94,AT94) -> 0 | AS94: =ROUND(AS95,2) -> 0 | AT94: =ROUND(SUM(AV94:AW94),2) -> 0 | AU94: =ROUND(AU95,5) -> 0 | AV94: =ROUND(AZ94*L29,2) -> 0 | AW94: =ROUND(BA94*L30,2) -> 0 | AX94: =ROUND(BB94*L29,2) -> 0 | AY94: =ROUND(BC94*L30,2) -> 0 | AZ94: =ROUND(AZ95,2) -> 0 | BA94: =ROUND(BA95,2) -> 0 | BB94: =ROUND(BB95,2) -> 0 | BC94: =ROUND(BC95,2) -> 0 | BD94: =ROUND(BD95,2) -> 0 | BS94: D | BT94: 0 | BV94: IMPORT | BW94: {005186f8-7d15-4d27-a96b-dc819788fb28} | BX94: {00000000-0000-0000-0000-000000000000}
A95: / | D95: 2019-040 | J95: Rekonštrukcia spevnenej plochy na Obuvníckej ul. | AG95: ='2019-040 - Rekonštrukcia ...'!J28 -> 0 | AN95: =SUM(AG95,AT95) -> 0 | AQ95: STA | AS95: 0 | AT95: =ROUND(SUM(AV95:AW95),2) -> 0 | AU95: ='2019-040 - Rekonštrukcia ...'!P118 -> 0 | AV95: ='2019-040 - Rekonštrukcia ...'!J31 -> 0 | AW95: ='2019-040 - Rekonštrukcia ...'!J32 -> 0 | AX95: ='2019-040 - Rekonštrukcia ...'!J33 -> 0 | AY95: ='2019-040 - Rekonštrukcia ...'!J34 -> 0 | AZ95: ='2019-040 - Rekonštrukcia ...'!F31 -> 0 | BA95: ='2019-040 - Rekonštrukcia ...'!F32 -> 0 | BB95: ='2019-040 - Rekonštrukcia ...'!F33 -> 0 | BC95: ='2019-040 - Rekonštrukcia ...'!F34 -> 0 | BD95: ='2019-040 - Rekonštrukcia ...'!F35 -> 0 | BT95: 1 | BU95: ###NOINSERT### | BV95: IMPORT | BW95: {005186f8-7d15-4d27-a96b-dc819788fb28} | BX95: {00000000-0000-0000-0000-000000000000}

Sheet 2019-040 - Rekonštrukcia ...
L2: >> skryté stĺpce << | AT2: {005186f8-7d15-4d27-a96b-dc819788fb28}
AT3: 0
D4: KRYCÍ LIST ROZPOČTU | M4: v --- nižšie sa nachádzajú doplnkové a pomocné údaje k zostavám --- v | AT4: False
D6: Stavba:
E7: Rekonštrukcia spevnenej plochy na Obuvníckej ul.
D9: JKSO: | I9: KS:
D10: Miesto: | I10: Dátum: | J10: ='Rekapitulácia stavby'!AN8 -> 27. 3. 2019
D12: Objednávateľ: | I12: IČO:
E13: Mesto Partizánske | I13: IČ DPH:
D15: Zhotoviteľ: | I15: IČO: | J15: ='Rekapitulácia stavby'!AN13 -> Vyplň údaj
E16: ='Rekapitulácia stavby'!E14 -> Vyplň údaj | I16: IČ DPH: | J16: ='Rekapitulácia stavby'!AN14 -> Vyplň údaj
D18: Projektant: | I18: IČO: | J18: =IF('Rekapitulácia stavby'!AN16="","",'Rekapitulácia stavby'!AN16)
E19: =IF('Rekapitulácia stavby'!E17="","",'Rekapitulácia stavby'!E17) | I19: IČ DPH: | J19: =IF('Rekapitulácia stavby'!AN17="","",'Rekapitulácia stavby'!AN17)
D21: Spracovateľ: | I21: IČO: | J21: =IF('Rekapitulácia stavby'!AN19="","",'Rekapitulácia stavby'!AN19)
E22: =IF('Rekapitulácia stavby'!E20="","",'Rekapitulácia stavby'!E20) | I22: IČ DPH: | J22: =IF('Rekapitulácia stavby'!AN20="","",'Rekapitulácia stavby'!AN20)
D24: Poznámka:
D28: Cena bez DPH | J28: =ROUND(J118, 2) -> 0
F30: Základ dane | I30: Sadzba dane | J30: Výška dane
D31: DPH | E31: základná | F31: =ROUND((SUM(BE118:BE155)), 2) -> 0 | I31: 0.2 | J31: =ROUND(((SUM(BE118:BE155))*I31), 2) -> 0
E32: znížená | F32: =ROUND((SUM(BF118:BF155)), 2) -> 0 | I32: 0.2 | J32: =ROUND(((SUM(BF118:BF155))*I32), 2) -> 0
E33: zákl. prenesená | F33: =ROUND((SUM(BG118:BG155)), 2) -> 0 | I33: 0.2 | J33: =0 -> 0
E34: zníž. prenesená | F34: =ROUND((SUM(BH118:BH155)), 2) -> 0 | I34: 0.2 | J34: =0 -> 0
E35: nulová | F35: =ROUND((SUM(BI118:BI155)), 2) -> 0 | I35: 0 | J35: =0 -> 0
D37: Cena s DPH | G37: v | H37: EUR | J37: =SUM(J28:J35) -> 0
D50: Projektant | G50: Spracovateľ
D61: Dátum a podpis: | F61: Pečiatka | G61: Dátum a podpis: | J61: Pečiatka
D65: Objednávateľ | G65: Zhotoviteľ
D76: Dátum a podpis: | F76: Pečiatka | G76: Dátum a podpis: | J76: Pečiatka
C82: REKAPITULÁCIA ROZPOČTU
C84: Stavba:
E85: =E7 -> Rekonštrukcia spevnenej plochy na Obuvníckej ul.
C87: Miesto: | F87: =F10 | I87: Dátum: | J87: =IF(J10="","",J10) -> 27. 3. 2019
C89: Objednávateľ: | F89: =E13 -> Mesto Partizánske | I89: Projektant: | J89: =E19
C90: Zhotoviteľ: | F90: =IF(E16="","",E16) -> Vyplň údaj | I90: Spracovateľ: | J90: =E22
C92: Kód dielu - Popis | J92: Cena celkom [EUR]
C94: Náklady z rozpočtu | J94: =J118 -> 0 | AU94: -1
D95: HSV - Práce a dodávky HSV | J95: =J119 -> 0
D96: 1 - Zemné práce | J96: =J120 -> 0
D97: 5 - Komunikácie | J97: =J136 -> 0
D98: 9 - Ostatné konštrukcie a práce-búranie | J98: =J142 -> 0
D99: 99 - Presun hmôt HSV | J99: =J151 -> 0
D100: VRN - Vedľajšie rozpočtové náklady | J100: =J153 -> 0
C107: ROZPOČET
C109: Stavba:
E110: =E7 -> Rekonštrukcia spevnenej plochy na Obuvníckej ul.
C112: Miesto: | F112: =F10 | I112: Dátum: | J112: =IF(J10="","",J10) -> 27. 3. 2019
C114: Objednávateľ: | F114: =E13 -> Mesto Partizánske | I114: Projektant: | J114: =E19
C115: Zhotoviteľ: | F115: =IF(E16="","",E16) -> Vyplň údaj | I115: Spracovateľ: | J115: =E22
C117: PČ | D117: Typ | E117: Kód | F117: Popis | G117: MJ | H117: Množstvo | I117: J.cena [EUR] | J117: Cena celkom [EUR] | K117: Cenová sústava | N117: DPH | O117: J. Nh [h] | P117: Nh celkom [h] | Q117: J. hmotnosť [t] | R117: Hmotnosť celkom [t] | S117: J. suť [t] | T117: Suť Celkom [t]
C118: Náklady z rozpočtu | J118: =BK118 -> 0 | P118: =P119+P153 -> 0 | R118: =R119+R153 -> 290.55598 | T118: =T119+T153 -> 11.25 | AT118: D | AU118: -1 | BK118: =BK119+BK153 -> 0
D119: D | E119: HSV | F119: Práce a dodávky HSV | J119: =BK119 -> 0 | P119: =P120+P136+P142+P151 -> 0 | R119: =R120+R136+R142+R151 -> 290.55598 | T119: =T120+T136+T142+T151 -> 11.25 | AR119: 1 | AT119: D | AU119: 0 | AY119: ROZPOCET | BK119: =BK120+BK136+BK142+BK151 -> 0
D120: D | E120: 1 | F120: Zemné práce | J120: =BK120 -> 0 | P120: =SUM(P121:P135) -> 0 | R120: =SUM(R121:R135) -> 2e-05 | T120: =SUM(T121:T135) -> 11.25 | AR120: 1 | AT120: D | AU120: 1 | AY120: ROZPOCET | BK120: =SUM(BK121:BK135) -> 0
C121: 1 | D121: K | E121: 111201101 | F121: Odstránenie krovín a stromov s koreňom s priemerom kmeňa do 100 mm, do 1000 m2 | G121: m2 | H121: 40 | J121: =ROUND(I121*H121,3) -> 0 | K121: CS CENEKON 2019 01 | N121: znížená | P121: =O121*H121 -> 0 | Q121: 0 | R121: =Q121*H121 -> 0 | S121: 0 | T121: =S121*H121 -> 0 | AR121: 4 | AT121: K | AU121: 2 | AY121: ROZPOCET | BE121: =IF(N121="základná",J121,0) -> 0 | BF121: =IF(N121="znížená",J121,0) -> 0 | BG121: =IF(N121="zákl. prenesená",J121,0) -> 0 | BH121: =IF(N121="zníž. prenesená",J121,0) -> 0 | BI121: =IF(N121="nulová",J121,0) -> 0 | BJ121: 2 | BK121: =ROUND(I121*H121,3) -> 0 | BL121: 4 | BM121: 1440981581
C122: 2 | D122: K | E122: 112101102 | F122: Odstránenie listnatých stromov do priemeru 500 mm, motorovou pílou | G122: ks | H122: 2 | J122: =ROUND(I122*H122,3) -> 0 | K122: CS CENEKON 2019 01 | N122: znížená | P122: =O122*H122 -> 0 | Q122: 0 | R122: =Q122*H122 -> 0 | S122: 0 | T122: =S122*H122 -> 0 | AR122: 4 | AT122: K | AU122: 2 | AY122: ROZPOCET | BE122: =IF(N122="základná",J122,0) -> 0 | BF122: =IF(N122="znížená",J122,0) -> 0 | BG122: =IF(N122="zákl. prenesená",J122,0) -> 0 | BH122: =IF(N122="zníž. prenesená",J122,0) -> 0 | BI122: =IF(N122="nulová",J122,0) -> 0 | BJ122: 2 | BK122: =ROUND(I122*H122,3) -> 0 | BL122: 4 | BM122: 719468942
C123: 3 | D123: K | E123: 112201102 | F123: Odstránenie pňov na vzdial. 50 m priemeru nad 300 do 500 mm | G123: ks | H123: 2 | J123: =ROUND(I123*H123,3) -> 0 | K123: CS CENEKON 2019 01 | N123: znížená | P123: =O123*H123 -> 0 | Q123: 1e-05 | R123: =Q123*H123 -> 2e-05 | S123: 0 | T123: =S123*H123 -> 0 | AR123: 4 | AT123: K | AU123: 2 | AY123: ROZPOCET | BE123: =IF(N123="základná",J123,0) -> 0 | BF123: =IF(N123="znížená",J123,0) -> 0 | BG123: =IF(N123="zákl. prenesená",J123,0) -> 0 | BH123: =IF(N123="zníž. prenesená",J123,0) -> 0 | BI123: =IF(N123="nulová",J123,0) -> 0 | BJ123: 2 | BK123: =ROUND(I123*H123,3) -> 0 | BL123: 4 | BM123: -721669904
C124: 4 | D124: K | E124: 113107131 | F124: Odstránenie krytu v ploche do 200 m2 z betónu prostého, hr. vrstvy do 150 mm, -0,22500t | G124: m2 | H124: 50 | J124: =ROUND(I124*H124,3) -> 0 | K124: CS CENEKON 2019 01 | N124: znížená | P124: =O124*H124 -> 0 | Q124: 0 | R124: =Q124*H124 -> 0 | S124: 0.225 | T124: =S124*H124 -> 11.25 | AR124: 4 | AT124: K | AU124: 2 | AY124: ROZPOCET | BE124: =IF(N124="základná",J124,0) -> 0 | BF124: =IF(N124="znížená",J124,0) -> 0 | BG124: =IF(N124="zákl. prenesená",J124,0) -> 0 | BH124: =IF(N124="zníž. prenesená",J124,0) -> 0 | BI124: =IF(N124="nulová",J124,0) -> 0 | BJ124: 2 | BK124: =ROUND(I124*H124,3) -> 0 | BL124: 4 | BM124: -1160342596
C125: 5 | D125: K | E125: 122201102 | F125: Odkopávka a prekopávka nezapažená v hornine 3, nad 100 do 1000 m3 | G125: m3 | H125: 129.5 | J125: =ROUND(I125*H125,3) -> 0 | K125: CS CENEKON 2019 01 | N125: znížená | P125: =O125*H125 -> 0 | Q125: 0 | R125: =Q125*H125 -> 0 | S125: 0 | T125: =S125*H125 -> 0 | AR125: 4 | AT125: K | AU125: 2 | AY125: ROZPOCET | BE125: =IF(N125="základná",J125,0) -> 0 | BF125: =IF(N125="znížená",J125,0) -> 0 | BG125: =IF(N125="zákl. prenesená",J125,0) -> 0 | BH125: =IF(N125="zníž. prenesená",J125,0) -> 0 | BI125: =IF(N125="nulová",J125,0) -> 0 | BJ125: 2 | BK125: =ROUND(I125*H125,3) -> 0 | BL125: 4 | BM125: 511245824
C126: 6 | D126: K | E126: 122201109 | F126: Odkopávky a prekopávky nezapažené. Príplatok k cenám za lepivosť horniny 3 | G126: m3 | H126: 129.5 | J126: =ROUND(I126*H126,3) -> 0 | K126: CS CENEKON 2019 01 | N126: znížená | P126: =O126*H126 -> 0 | Q126: 0 | R126: =Q126*H126 -> 0 | S126: 0 | T126: =S126*H126 -> 0 | AR126: 4 | AT126: K | AU126: 2 | AY126: ROZPOCET | BE126: =IF(N126="základná",J126,0) -> 0 | BF126: =IF(N126="znížená",J126,0) -> 0 | BG126: =IF(N126="zákl. prenesená",J126,0) -> 0 | BH126: =IF(N126="zníž. prenesená",J126,0) -> 0 | BI126: =IF(N126="nulová",J126,0) -> 0 | BJ126: 2 | BK126: =ROUND(I126*H126,3) -> 0 | BL126: 4 | BM126: 1541843692
C127: 7 | D127: K | E127: 162301500 | F127: Vodorovné premiestnenie vyklčovaných krovín do priemeru kmeňa 100 mm na vzdialenosť 3000 m | G127: m2 | H127: 40 | J127: =ROUND(I127*H127,3) -> 0 | K127: CS CENEKON 2019 01 | N127: znížená | P127: =O127*H127 -> 0 | Q127: 0 | R127: =Q127*H127 -> 0 | S127: 0 | T127: =S127*H127 -> 0 | AR127: 4 | AT127: K | AU127: 2 | AY127: ROZPOCET | BE127: =IF(N127="základná",J127,0) -> 0 | BF127: =IF(N127="znížená",J127,0) -> 0 | BG127: =IF(N127="zákl. prenesená",J127,0) -> 0 | BH127: =IF(N127="zníž. prenesená",J127,0) -> 0 | BI127: =IF(N127="nulová",J127,0) -> 0 | BJ127: 2 | BK127: =ROUND(I127*H127,3) -> 0 | BL127: 4 | BM127: -1876221387
C128: 8 | D128: K | E128: 162401402 | F128: Vodorovné premiestnenie konárov stromov nad 300 do 500 mm do 2000 m | G128: ks | H128: 2 | J128: =ROUND(I128*H128,3) -> 0 | K128: CS CENEKON 2019 01 | N128: znížená | P128: =O128*H128 -> 0 | Q128: 0 | R128: =Q128*H128 -> 0 | S128: 0 | T128: =S128*H128 -> 0 | AR128: 4 | AT128: K | AU128: 2 | AY128: ROZPOCET | BE128: =IF(N128="základná",J128,0) -> 0 | BF128: =IF(N128="znížená",J128,0) -> 0 | BG128: =IF(N128="zákl. prenesená",J128,0) -> 0 | BH128: =IF(N128="zníž. prenesená",J128,0) -> 0 | BI128: =IF(N128="nulová",J128,0) -> 0 | BJ128: 2 | BK128: =ROUND(I128*H128,3) -> 0 | BL128: 4 | BM128: -14182076
C129: 9 | D129: K | E129: 162501102 | F129: Vodorovné premiestnenie výkopku po spevnenej ceste z horniny tr.1-4, do 100 m3 na vzdialenosť do 3000 m | G129: m3 | H129: 129.5 | J129: =ROUND(I129*H129,3) -> 0 | K129: CS CENEKON 2019 01 | N129: znížená | P129: =O129*H129 -> 0 | Q129: 0 | R129: =Q129*H129 -> 0 | S129: 0 | T129: =S129*H129 -> 0 | AR129: 4 | AT129: K | AU129: 2 | AY129: ROZPOCET | BE129: =IF(N129="základná",J129,0) -> 0 | BF129: =IF(N129="znížená",J129,0) -> 0 | BG129: =IF(N129="zákl. prenesená",J129,0) -> 0 | BH129: =IF(N129="zníž. prenesená",J129,0) -> 0 | BI129: =IF(N129="nulová",J129,0) -> 0 | BJ129: 2 | BK129: =ROUND(I129*H129,3) -> 0 | BL129: 4 | BM129: -189030699
C130: 10 | D130: K | E130: 162501105 | F130: Vodorovné premiestnenie výkopku po spevnenej ceste z horniny tr.1-4, do 100 m3, príplatok k cene za každých ďalšich a začatých 1000 m | G130: m3 | H130: 129.5 | J130: =ROUND(I130*H130,3) -> 0 | K130: CS CENEKON 2019 01 | N130: znížená | P130: =O130*H130 -> 0 | Q130: 0 | R130: =Q130*H130 -> 0 | S130: 0 | T130: =S130*H130 -> 0 | AR130: 4 | AT130: K | AU130: 2 | AY130: ROZPOCET | BE130: =IF(N130="základná",J130,0) -> 0 | BF130: =IF(N130="znížená",J130,0) -> 0 | BG130: =IF(N130="zákl. prenesená",J130,0) -> 0 | BH130: =IF(N130="zníž. prenesená",J130,0) -> 0 | BI130: =IF(N130="nulová",J130,0) -> 0 | BJ130: 2 | BK130: =ROUND(I130*H130,3) -> 0 | BL130: 4 | BM130: 1769488104
C131: 11 | D131: K | E131: 162501402 | F131: Vodorovné premiestnenie kmeňov nad 300 do 500 mm do 2000 m | G131: ks | H131: 2 | J131: =ROUND(I131*H131,3) -> 0 | K131: CS CENEKON 2019 01 | N131: znížená | P131: =O131*H131 -> 0 | Q131: 0 | R131: =Q131*H131 -> 0 | S131: 0 | T131: =S131*H131 -> 0 | AR131: 4 | AT131: K | AU131: 2 | AY131: ROZPOCET | BE131: =IF(N131="základná",J131,0) -> 0 | BF131: =IF(N131="znížená",J131,0) -> 0 | BG131: =IF(N131="zákl. prenesená",J131,0) -> 0 | BH131: =IF(N131="zníž. prenesená",J131,0) -> 0 | BI131: =IF(N131="nulová",J131,0) -> 0 | BJ131: 2 | BK131: =ROUND(I131*H131,3) -> 0 | BL131: 4 | BM131: -2075098056
C132: 12 | D132: K | E132: 162601402 | F132: Vodorovné premiestnenie pňov nad 300 do 500 mm do 2000 m | G132: ks | H132: 2 | J132: =ROUND(I132*H132,3) -> 0 | K132: CS CENEKON 2019 01 | N132: znížená | P132: =O132*H132 -> 0 | Q132: 0 | R132: =Q132*H132 -> 0 | S132: 0 | T132: =S132*H132 -> 0 | AR132: 4 | AT132: K | AU132: 2 | AY132: ROZPOCET | BE132: =IF(N132="základná",J132,0) -> 0 | BF132: =IF(N132="znížená",J132,0) -> 0 | BG132: =IF(N132="zákl. prenesená",J132,0) -> 0 | BH132: =IF(N132="zníž. prenesená",J132,0) -> 0 | BI132: =IF(N132="nulová",J132,0) -> 0 | BJ132: 2 | BK132: =ROUND(I132*H132,3) -> 0 | BL132: 4 | BM132: -907180582
... C135: 15 | D135: K | E135: 171209002 | F135: Poplatok za skladovanie - zemina a kamenivo (17 05) ostatné | G135: t | H135: 233.1 | J135: =ROUND(I135*H135,3) -> 0 | K135: CS CENEKON 2019 01 | N135: znížená | P135: =O135*H135 -> 0 | Q135: 0 | R135: =Q135*H135 -> 0 | S135: 0 | T135: =S135*H135 -> 0 | AR135: 4 | AT135: K | AU135: 2 | AY135: ROZPOCET | BE135: =IF(N135="základná",J135,0) -> 0 | BF135: =IF(N135="znížená",J135,0) -> 0 | BG135: =IF(N135="zákl. prenesená",J135,0) -> 0 | BH135: =IF(N135="zníž. prenesená",J135,0) -> 0 | BI135: =IF(N135="nulová",J135,0) -> 0 | BJ135: 2 | BK135: =ROUND(I135*H135,3) -> 0 | BL135: 4 | BM135: 644974553
D136: D | E136: 5 | F136: Komunikácie | J136: =BK136 -> 0 | P136: =SUM(P137:P141) -> 0 | R136: =SUM(R137:R141) -> 279.3722 | T136: =SUM(T137:T141) -> 0 | AR136: 1 | AT136: D | AU136: 1 | AY136: ROZPOCET | BK136: =SUM(BK137:BK141) -> 0
C137: 16 | D137: K | E137: 564751114 | F137: Podklad alebo kryt z kameniva hrubého drveného veľ. 32-63 mm s rozprestretím a zhutnením hr. 180 mm | G137: m2 | H137: 370 | J137: =ROUND(I137*H137,3) -> 0 | K137: CS CENEKON 2019 01 | N137: znížená | P137: =O137*H137 -> 0 | Q137: 0.34839 | R137: =Q137*H137 -> 128.9043 | S137: 0 | T137: =S137*H137 -> 0 | AR137: 4 | AT137: K | AU137: 2 | AY137: ROZPOCET | BE137: =IF(N137="základná",J137,0) -> 0 | BF137: =IF(N137="znížená",J137,0) -> 0 | BG137: =IF(N137="zákl. prenesená",J137,0) -> 0 | BH137: =IF(N137="zníž. prenesená",J137,0) -> 0 | BI137: =IF(N137="nulová",J137,0) -> 0 | BJ137: 2 | BK137: =ROUND(I137*H137,3) -> 0 | BL137: 4 | BM137: -587192351
C138: 17 | D138: K | E138: 564801112 | F138: Podklad zo štrkodrviny s rozprestretím a zhutnením, po zhutnení hr. 40 mm | G138: m2 | H138: 370 | J138: =ROUND(I138*H138,3) -> 0 | K138: CS CENEKON 2019 01 | N138: znížená | P138: =O138*H138 -> 0 | Q138: 0.08003 | R138: =Q138*H138 -> 29.6111 | S138: 0 | T138: =S138*H138 -> 0 | AR138: 4 | AT138: K | AU138: 2 | AY138: ROZPOCET | BE138: =IF(N138="základná",J138,0) -> 0 | BF138: =IF(N138="znížená",J138,0) -> 0 | BG138: =IF(N138="zákl. prenesená",J138,0) -> 0 | BH138: =IF(N138="zníž. prenesená",J138,0) -> 0 | BI138: =IF(N138="nulová",J138,0) -> 0 | BJ138: 2 | BK138: =ROUND(I138*H138,3) -> 0 | BL138: 4 | BM138: 2044471887
C139: 18 | D139: K | E139: 596912212 | F139: Kladenie betónovej dlažby z vegetačných tvárnic hr. 80 mm, do lôžka z kameniva ťaženého, veľkosti do 0,25 m2, plochy nad 50 do 100 m2 | G139: m2 | H139: 370 | J139: =ROUND(I139*H139,3) -> 0 | K139: CS CENEKON 2019 01 | N139: znížená | P139: =O139*H139 -> 0 | Q139: 0.112 | R139: =Q139*H139 -> 41.44 | S139: 0 | T139: =S139*H139 -> 0 | AR139: 4 | AT139: K | AU139: 2 | AY139: ROZPOCET | BE139: =IF(N139="základná",J139,0) -> 0 | BF139: =IF(N139="znížená",J139,0) -> 0 | BG139: =IF(N139="zákl. prenesená",J139,0) -> 0 | BH139: =IF(N139="zníž. prenesená",J139,0) -> 0 | BI139: =IF(N139="nulová",J139,0) -> 0 | BJ139: 2 | BK139: =ROUND(I139*H139,3) -> 0 | BL139: 4 | BM139: -815951175
C140: 19 | D140: M | E140: 592460013500 | F140: Dlažba betónová Low value PREMAC VEGA zatrávňovacia, rozmer 610x405x80 mm, sivá | G140: m2 | H140: 373.7 | J140: =ROUND(I140*H140,3) -> 0 | K140: CS CENEKON 2019 01 | N140: znížená | P140: =O140*H140 -> 0 | Q140: 0.11 | R140: =Q140*H140 -> 41.107 | S140: 0 | T140: =S140*H140 -> 0 | AR140: 8 | AT140: M | AU140: 2 | AY140: ROZPOCET | BE140: =IF(N140="základná",J140,0) -> 0 | BF140: =IF(N140="znížená",J140,0) -> 0 | BG140: =IF(N140="zákl. prenesená",J140,0) -> 0 | BH140: =IF(N140="zníž. prenesená",J140,0) -> 0 | BI140: =IF(N140="nulová",J140,0) -> 0 | BJ140: 2 | BK140: =ROUND(I140*H140,3) -> 0 | BL140: 4 | BM140: -2112165121
C141: 20 | D141: K | E141: 599432111 | F141: Vyplnenie škár dlažby kamenivom ťaženým | G141: m2 | H141: 370 | J141: =ROUND(I141*H141,3) -> 0 | K141: CS CENEKON 2019 01 | N141: znížená | P141: =O141*H141 -> 0 | Q141: 0.10354 | R141: =Q141*H141 -> 38.3098 | S141: 0 | T141: =S141*H141 -> 0 | AR141: 4 | AT141: K | AU141: 2 | AY141: ROZPOCET | BE141: =IF(N141="základná",J141,0) -> 0 | BF141: =IF(N141="znížená",J141,0) -> 0 | BG141: =IF(N141="zákl. prenesená",J141,0) -> 0 | BH141: =IF(N141="zníž. prenesená",J141,0) -> 0 | BI141: =IF(N141="nulová",J141,0) -> 0 | BJ141: 2 | BK141: =ROUND(I141*H141,3) -> 0 | BL141: 4 | BM141: 2046531610
D142: D | E142: 9 | F142: Ostatné konštrukcie a práce-búranie | J142: =BK142 -> 0 | P142: =SUM(P143:P150) -> 0 | R142: =SUM(R143:R150) -> 11.18376 | T142: =SUM(T143:T150) -> 0 | AR142: 1 | AT142: D | AU142: 1 | AY142: ROZPOCET | BK142: =SUM(BK143:BK150) -> 0
C143: 21 | D143: K | E143: 915711211 | F143: Vodorovné dopravné značenie striekané farbou deliacich čiar súvislých šírky 125 mm biela základná | G143: m | H143: 80 | J143: =ROUND(I143*H143,3) -> 0 | K143: CS CENEKON 2019 01 | N143: znížená | P143: =O143*H143 -> 0 | Q143: 7e-05 | R143: =Q143*H143 -> 0.0056 | S143: 0 | T143: =S143*H143 -> 0 | AR143: 4 | AT143: K | AU143: 2 | AY143: ROZPOCET | BE143: =IF(N143="základná",J143,0) -> 0 | BF143: =IF(N143="znížená",J143,0) -> 0 | BG143: =IF(N143="zákl. prenesená",J143,0) -> 0 | BH143: =IF(N143="zníž. prenesená",J143,0) -> 0 | BI143: =IF(N143="nulová",J143,0) -> 0 | BJ143: 2 | BK143: =ROUND(I143*H143,3) -> 0 | BL143: 4 | BM143: -472552044
C144: 22 | D144: K | E144: 915791111 | F144: Predznačenie pre značenie striekané farbou z náterových hmôt deliace čiary, vodiace prúžky | G144: m | H144: 80 | J144: =ROUND(I144*H144,3) -> 0 | K144: CS CENEKON 2019 01 | N144: znížená | P144: =O144*H144 -> 0 | Q144: 0 | R144: =Q144*H144 -> 0 | S144: 0 | T144: =S144*H144 -> 0 | AR144: 4 | AT144: K | AU144: 2 | AY144: ROZPOCET | BE144: =IF(N144="základná",J144,0) -> 0 | BF144: =IF(N144="znížená",J144,0) -> 0 | BG144: =IF(N144="zákl. prenesená",J144,0) -> 0 | BH144: =IF(N144="zníž. prenesená",J144,0) -> 0 | BI144: =IF(N144="nulová",J144,0) -> 0 | BJ144: 2 | BK144: =ROUND(I144*H144,3) -> 0 | BL144: 4 | BM144: 1687410718
C145: 23 | D145: K | E145: 916362112 | F145: Osadenie cestného obrubníka betónového stojatého do lôžka z betónu prostého tr. C 16/20 s bočnou oporou | G145: m | H145: 56 | J145: =ROUND(I145*H145,3) -> 0 | K145: CS CENEKON 2019 01 | N145: znížená | P145: =O145*H145 -> 0 | Q145: 0.15113 | R145: =Q145*H145 -> 8.46328 | S145: 0 | T145: =S145*H145 -> 0 | AR145: 4 | AT145: K | AU145: 2 | AY145: ROZPOCET | BE145: =IF(N145="základná",J145,0) -> 0 | BF145: =IF(N145="znížená",J145,0) -> 0 | BG145: =IF(N145="zákl. prenesená",J145,0) -> 0 | BH145: =IF(N145="zníž. prenesená",J145,0) -> 0 | BI145: =IF(N145="nulová",J145,0) -> 0 | BJ145: 2 | BK145: =ROUND(I145*H145,3) -> 0 | BL145: 4 | BM145: 1986246888
C146: 24 | D146: M | E146: 592170002100 | F146: Obrubník PREMAC cestný, lxšxv 1000x100x200 mm, skosenie 15/15 mm | G146: ks | H146: 56.56 | J146: =ROUND(I146*H146,3) -> 0 | K146: CS CENEKON 2019 01 | N146: znížená | P146: =O146*H146 -> 0 | Q146: 0.048 | R146: =Q146*H146 -> 2.71488 | S146: 0 | T146: =S146*H146 -> 0 | AR146: 8 | AT146: M | AU146: 2 | AY146: ROZPOCET | BE146: =IF(N146="základná",J146,0) -> 0 | BF146: =IF(N146="znížená",J146,0) -> 0 | BG146: =IF(N146="zákl. prenesená",J146,0) -> 0 | BH146: =IF(N146="zníž. prenesená",J146,0) -> 0 | BI146: =IF(N146="nulová",J146,0) -> 0 | BJ146: 2 | BK146: =ROUND(I146*H146,3) -> 0 | BL146: 4 | BM146: 987534180
C147: 25 | D147: K | E147: 979082213 | F147: Vodorovná doprava sutiny so zložením a hrubým urovnaním na vzdialenosť do 1 km | G147: t | H147: 11.25 | J147: =ROUND(I147*H147,3) -> 0 | K147: CS CENEKON 2019 01 | N147: znížená | P147: =O147*H147 -> 0 | Q147: 0 | R147: =Q147*H147 -> 0 | S147: 0 | T147: =S147*H147 -> 0 | AR147: 4 | AT147: K | AU147: 2 | AY147: ROZPOCET | BE147: =IF(N147="základná",J147,0) -> 0 | BF147: =IF(N147="znížená",J147,0) -> 0 | BG147: =IF(N147="zákl. prenesená",J147,0) -> 0 | BH147: =IF(N147="zníž. prenesená",J147,0) -> 0 | BI147: =IF(N147="nulová",J147,0) -> 0 | BJ147: 2 | BK147: =ROUND(I147*H147,3) -> 0 | BL147: 4 | BM147: -1097695587
C148: 26 | D148: K | E148: 979082219 | F148: Príplatok k cene za každý ďalší aj začatý 1 km nad 1 km pre vodorovnú dopravu sutiny | G148: t | H148: 56.25 | J148: =ROUND(I148*H148,3) -> 0 | K148: CS CENEKON 2019 01 | N148: znížená | P148: =O148*H148 -> 0 | Q148: 0 | R148: =Q148*H148 -> 0 | S148: 0 | T148: =S148*H148 -> 0 | AR148: 4 | AT148: K | AU148: 2 | AY148: ROZPOCET | BE148: =IF(N148="základná",J148,0) -> 0 | BF148: =IF(N148="znížená",J148,0) -> 0 | BG148: =IF(N148="zákl. prenesená",J148,0) -> 0 | BH148: =IF(N148="zníž. prenesená",J148,0) -> 0 | BI148: =IF(N148="nulová",J148,0) -> 0 | BJ148: 2 | BK148: =ROUND(I148*H148,3) -> 0 | BL148: 4 | BM148: 426384448
C149: 27 | D149: K | E149: 979087212 | F149: Nakladanie na dopravné prostriedky pre vodorovnú dopravu sutiny | G149: t | H149: 11.25 | J149: =ROUND(I149*H149,3) -> 0 | K149: CS CENEKON 2019 01 | N149: znížená | P149: =O149*H149 -> 0 | Q149: 0 | R149: =Q149*H149 -> 0 | S149: 0 | T149: =S149*H149 -> 0 | AR149: 4 | AT149: K | AU149: 2 | AY149: ROZPOCET | BE149: =IF(N149="základná",J149,0) -> 0 | BF149: =IF(N149="znížená",J149,0) -> 0 | BG149: =IF(N149="zákl. prenesená",J149,0) -> 0 | BH149: =IF(N149="zníž. prenesená",J149,0) -> 0 | BI149: =IF(N149="nulová",J149,0) -> 0 | BJ149: 2 | BK149: =ROUND(I149*H149,3) -> 0 | BL149: 4 | BM149: -1206837236
C150: 28 | D150: K | E150: 979089012 | F150: Poplatok za skladovanie - betón, tehly, dlaždice (17 01 ), ostatné | G150: t | H150: 11.25 | J150: =ROUND(I150*H150,3) -> 0 | K150: CS CENEKON 2019 01 | N150: znížená | P150: =O150*H150 -> 0 | Q150: 0 | R150: =Q150*H150 -> 0 | S150: 0 | T150: =S150*H150 -> 0 | AR150: 4 | AT150: K | AU150: 2 | AY150: ROZPOCET | BE150: =IF(N150="základná",J150,0) -> 0 | BF150: =IF(N150="znížená",J150,0) -> 0 | BG150: =IF(N150="zákl. prenesená",J150,0) -> 0 | BH150: =IF(N150="zníž. prenesená",J150,0) -> 0 | BI150: =IF(N150="nulová",J150,0) -> 0 | BJ150: 2 | BK150: =ROUND(I150*H150,3) -> 0 | BL150: 4 | BM150: -750081909
D151: D | E151: 99 | F151: Presun hmôt HSV | J151: =BK151 -> 0 | P151: =P152 -> 0 | R151: =R152 -> 0 | T151: =T152 -> 0 | AR151: 1 | AT151: D | AU151: 1 | AY151: ROZPOCET | BK151: =BK152 -> 0
C152: 29 | D152: K | E152: 998223011 | F152: Presun hmôt pre pozemné komunikácie s krytom dláždeným (822 2.3, 822 5.3) akejkoľvek dĺžky objektu | G152: t | H152: 290.556 | J152: =ROUND(I152*H152,3) -> 0 | K152: CS CENEKON 2019 01 | N152: znížená | P152: =O152*H152 -> 0 | Q152: 0 | R152: =Q152*H152 -> 0 | S152: 0 | T152: =S152*H152 -> 0 | AR152: 4 | AT152: K | AU152: 2 | AY152: ROZPOCET | BE152: =IF(N152="základná",J152,0) -> 0 | BF152: =IF(N152="znížená",J152,0) -> 0 | BG152: =IF(N152="zákl. prenesená",J152,0) -> 0 | BH152: =IF(N152="zníž. prenesená",J152,0) -> 0 | BI152: =IF(N152="nulová",J152,0) -> 0 | BJ152: 2 | BK152: =ROUND(I152*H152,3) -> 0 | BL152: 4 | BM152: -1495537538
D153: D | E153: VRN | F153: Vedľajšie rozpočtové náklady | J153: =BK153 -> 0 | P153: =SUM(P154:P155) -> 0 | R153: =SUM(R154:R155) -> 0 | T153: =SUM(T154:T155) -> 0 | AR153: 5 | AT153: D | AU153: 0 | AY153: ROZPOCET | BK153: =SUM(BK154:BK155) -> 0
C154: 30 | D154: K | E154: 000300013 | F154: Geodetické práce - vykonávané pred výstavbou určenie priebehu podzemného existujúceho vedenia | G154: eur | H154: 1 | J154: =ROUND(I154*H154,3) -> 0 | K154: CS CENEKON 2019 01 | N154: znížená | P154: =O154*H154 -> 0 | Q154: 0 | R154: =Q154*H154 -> 0 | S154: 0 | T154: =S154*H154 -> 0 | AR154: 1024 | AT154: K | AU154: 1 | AY154: ROZPOCET | BE154: =IF(N154="základná",J154,0) -> 0 | BF154: =IF(N154="znížená",J154,0) -> 0 | BG154: =IF(N154="zákl. prenesená",J154,0) -> 0 | BH154: =IF(N154="zníž. prenesená",J154,0) -> 0 | BI154: =IF(N154="nulová",J154,0) -> 0 | BJ154: 2 | BK154: =ROUND(I154*H154,3) -> 0 | BL154: 1024 | BM154: -1988653079
C155: 31 | D155: K | E155: 000600024 | F155: Zariadenie staveniska - prevádzkové dopravné značenie po stavenisku | G155: eur | H155: 1 | J155: =ROUND(I155*H155,3) -> 0 | K155: CS CENEKON 2019 01 | N155: znížená | P155: =O155*H155 -> 0 | Q155: 0 | R155: =Q155*H155 -> 0 | S155: 0 | T155: =S155*H155 -> 0 | AR155: 1024 | AT155: K | AU155: 1 | AY155: ROZPOCET | BE155: =IF(N155="základná",J155,0) -> 0 | BF155: =IF(N155="znížená",J155,0) -> 0 | BG155: =IF(N155="zákl. prenesená",J155,0) -> 0 | BH155: =IF(N155="zníž. prenesená",J155,0) -> 0 | BI155: =IF(N155="nulová",J155,0) -> 0 | BJ155: 2 | BK155: =ROUND(I155*H155,3) -> 0 | BL155: 1024 | BM155: 1489369825
