Workbook

Sheet Rekapitulácia stavby
A1: Export Komplet | BA1: 2.0 | BT1: False | BU1: False | BV1: {5d0a04e4-b748-45ac-91bb-ea4a16156a19}
AR2: >> skryté stĺpce << | BS2: 0,001 | BT2: 20
BS3: 0,001 | BT3: 20
D4: REKAPITULÁCIA STAVBY | AS4: v --- nižšie sa nachádzajú doplnkové a pomocné údaje k zostavám --- v | BE4: Návod na vyplnenie | BS4: 0,001
D5: Kód: | K5: 2019-047 | BE5: Meniť je možné iba bunky so žltým podfarbením!_x000D_ _x000D_ 1) na prvom liste Rekapitulácie stavby vyplňte v zostave_x000D_ _x000D_ a) Rekapitulácia stavby_x000D_ - údaje o Zhotoviteľovi_x000D_ (prenesú sa do ostatných zostáv aj v iných listoch)_x000D_ _x000D_ b) Rekapitulácia objektov stavby_x000D_ - potrebné Ostatné náklady_x000D_ _x000D_ 2) na vybraných listoch vyplňte v zostave_x000D_ _x000D_ a) Krycí list_x000D_ - údaje o Zhotoviteľovi, pokiaľ sa líšia od údajov o Zhotoviteľovi na Rekapitulácii stavby_x000D_ (údaje se prenesú do ostatných zostav v danom liste)_x000D_ _x000D_ b) Rekapitulácia rozpočtu_x000D_ - potrebné Ostatné náklady_x000D_ _x000D_ c) Celkové náklady za stavbu_x000D_ - ceny na položkách_x000D_ - množstvo, pokiaľ má žlté podfarbenie_x000D_ - a v prípade potreby poznámku (tá je v skrytom stĺpci) | BS5: 0,001
D6: Stavba: | K6: Pozdĺžne státie pri ZS R. Jašíka a rekonštrukcia vjazdu | BS6: 0,001
D7: JKSO: | AK7: KS: | BS7: 0,001
D8: Miesto: | AK8: Dátum: | AN8: 10. 4. 2019 | BS8: 0,001
BS9: 0,001
D10: Objednávateľ: | AK10: IČO: | BS10: 0,001
E11: Mesto Partizánske | AK11: IČ DPH: | BS11: 0,001
BS12: 0,001
D13: Zhotoviteľ: | AK13: IČO: | AN13: Vyplň údaj | BS13: 0,001
E14: Vyplň údaj | AK14: IČ DPH: | AN14: Vyplň údaj | BS14: 0,001
BS15: False
D16: Projektant: | AK16: IČO: | BS16: False
AK17: IČ DPH: | BS17: True
BS18: 0,01
D19: Spracovateľ: | AK19: IČO: | BS19: 0,01
AK20: IČ DPH: | BS20: True
D22: Poznámka:
D26: Cena bez DPH | AK26: =ROUND(AG94,2) -> 0
L28: Sadzba dane | W28: Základ dane | AK28: Výška dane
D29: DPH | F29: základná | L29: 0.2 | W29: =ROUND(AZ94, 2) -> 0 | AK29: =ROUND(AV94, 2) -> 0
F30: znížená | L30: 0.2 | W30: =ROUND(BA94, 2) -> 0 | AK30: =ROUND(AW94, 2) -> 0
F31: zákl. prenesená | L31: 0.2 | W31: =ROUND(BB94, 2) -> 0 | AK31: 0
F32: zníž. prenesená | L32: 0.2 | W32: =ROUND(BC94, 2) -> 0 | AK32: 0
F33: nulová | L33: 0 | W33: =ROUND(BD94, 2) -> 0 | AK33: 0
D35: Cena s DPH | T35: v | X35: EUR | AK35: =SUM(AK26:AK33) -> 0
D49: Projektant | AH49: Spracovateľ
D60: Dátum a podpis: | V60: Pečiatka | AH60: Dátum a podpis: | AM60: Pečiatka
D64: Objednávateľ | AH64: Zhotoviteľ
D75: Dátum a podpis: | V75: Pečiatka | AH75: Dátum a podpis: | AM75: Pečiatka
C82: REKAPITULÁCIA OBJEKTOV STAVBY
C84: Kód: | L84: =K5 -> 2019-047
C85: Stavba: | L85: =K6 -> Pozdĺžne státie pri ZS R. Jašíka a rekonštrukcia vjazdu
C87: Miesto: | L87: =IF(K8="","",K8) | AI87: Dátum: | AM87: =IF(AN8= "","",AN8) -> 10. 4. 2019
C89: Objednávateľ: | L89: =IF(E11= "","",E11) -> Mesto Partizánske | AI89: Projektant: | AM89: =IF(E17="","",E17) | AS89: Informatívne údaje z listov zákaziek
C90: Zhotoviteľ: | L90: =IF(E14= "Vyplň údaj","",E14) | AI90: Spracovateľ: | AM90: =IF(E20="","",E20)
C92: Kód | I92: Popis | AG92: Cena bez DPH [EUR] | AN92: Cena s DPH [EUR] | AQ92: Typ | AS92: z toho Ostat._x000D_ náklady [EUR] | AT92: DPH [EUR] | AU92: Normohodiny [h] | AV92: DPH základná [EUR] | AW92: DPH znížená [EUR] | AX92: DPH základná prenesená_x000D_ [EUR] | AY92: DPH znížená prenesená_x000D_ [EUR] | AZ92: Základňa_x000D_ DPH základná | BA92: Základňa_x000D_ DPH znížená | BB92: Základňa_x000D_ DPH zákl. prenesená | BC92: Základňa_x000D_ DPH zníž. prenesená | BD92: Základňa_x000D_ DPH nulová
C94: Náklady z rozpočtov | AG94: =ROUND(SUM(AG95:AG96),2) -> 0 | AN94: =SUM(AG94,AT94) -> 0 | AS94: =ROUND(SUM(AS95:AS96),2) -> 0 | AT94: =ROUND(SUM(AV94:AW94),2) -> 0 | AU94: =ROUND(SUM(AU95:AU96),5) -> 0 | AV94: =ROUND(AZ94*L29,2) -> 0 | AW94: =ROUND(BA94*L30,2) -> 0 | AX94: =ROUND(BB94*L29,2) -> 0 | AY94: =ROUND(BC94*L30,2) -> 0 | AZ94: =ROUND(SUM(AZ95:AZ96),2) -> 0 | BA94: =ROUND(SUM(BA95:BA96),2) -> 0 | BB94: =ROUND(SUM(BB95:BB96),2) -> 0 | BC94: =ROUND(SUM(BC95:BC96),2) -> 0 | BD94: =ROUND(SUM(BD95:BD96),2) -> 0 | BS94: D | BT94: 0 | BU94: ###NOIMPORT### | BV94: IMPORT | BW94: {5d0a04e4-b748-45ac-91bb-ea4a16156a19} | BX94: {00000000-0000-0000-0000-000000000000}
A95: / | D95: 1 | J95: 2 ks pozdĺžne státie 16 x 1 m | AG95: ='PRILOHA 2A'!J30 -> 0 | AN95: =SUM(AG95,AT95) -> 0 | AQ95: STA | AS95: 0 | AT95: =ROUND(SUM(AV95:AW95),2) -> 0 | AU95: ='PRILOHA 2A'!P123 -> 0 | AV95: ='PRILOHA 2A'!J33 -> 0 | AW95: ='PRILOHA 2A'!J34 -> 0 | AX95: ='PRILOHA 2A'!J35 -> 0 | AY95: ='PRILOHA 2A'!J36 -> 0 | AZ95: ='PRILOHA 2A'!F33 -> 0 | BA95: ='PRILOHA 2A'!F34 -> 0 | BB95: ='PRILOHA 2A'!F35 -> 0 | BC95: ='PRILOHA 2A'!F36 -> 0 | BD95: ='PRILOHA 2A'!F37 -> 0 | BT95: 1 | BV95: IMPORT | BW95: {6738ec7a-b310-4a55-a06a-aab92e2f4a58} | BX95: {5d0a04e4-b748-45ac-91bb-ea4a16156a19} | CM95: 0
A96: / | D96: 2 | J96: Rekonštrukcia vjazdu do areálu ZŠ | AG96: ='PRILOHA 2B'!J30 -> 0 | AN96: =SUM(AG96,AT96) -> 0 | AQ96: STA | AS96: 0 | AT96: =ROUND(SUM(AV96:AW96),2) -> 0 | AU96: ='PRILOHA 2B'!P121 -> 0 | AV96: ='PRILOHA 2B'!J33 -> 0 | AW96: ='PRILOHA 2B'!J34 -> 0 | AX96: ='PRILOHA 2B'!J35 -> 0 | AY96: ='PRILOHA 2B'!J36 -> 0 | AZ96: ='PRILOHA 2B'!F33 -> 0 | BA96: ='PRILOHA 2B'!F34 -> 0 | BB96: ='PRILOHA 2B'!F35 -> 0 | BC96: ='PRILOHA 2B'!F36 -> 0 | BD96: ='PRILOHA 2B'!F37 -> 0 | BT96: 1 | BV96: IMPORT | BW96: {a31970c4-5419-4de9-b8e7-6f0a8faa261a} | BX96: {5d0a04e4-b748-45ac-91bb-ea4a16156a19} | CM96: 0

Sheet PRILOHA 2A
L2: >> skryté stĺpce << | AT2: {6738ec7a-b310-4a55-a06a-aab92e2f4a58}
AT3: 0
D4: KRYCÍ LIST ROZPOČTU | M4: v --- nižšie sa nachádzajú doplnkové a pomocné údaje k zostavám --- v | AT4: False
D6: Stavba:
E7: ='Rekapitulácia stavby'!K6 -> Pozdĺžne státie pri ZS R. Jašíka a rekonštrukcia vjazdu
D8: Objekt:
E9: 1 - 2 ks pozdĺžne státie 16 x 1 m
D11: JKSO: | I11: KS:
D12: Miesto: | I12: Dátum: | J12: ='Rekapitulácia stavby'!AN8 -> 10. 4. 2019
D14: Objednávateľ: | I14: IČO: | J14: =IF('Rekapitulácia stavby'!AN10="","",'Rekapitulácia stavby'!AN10)
E15: =IF('Rekapitulácia stavby'!E11="","",'Rekapitulácia stavby'!E11) -> Mesto Partizánske | I15: IČ DPH: | J15: =IF('Rekapitulácia stavby'!AN11="","",'Rekapitulácia stavby'!AN11)
D17: Zhotoviteľ: | I17: IČO: | J17: ='Rekapitulácia stavby'!AN13 -> Vyplň údaj
E18: ='Rekapitulácia stavby'!E14 -> Vyplň údaj | I18: IČ DPH: | J18: ='Rekapitulácia stavby'!AN14 -> Vyplň údaj
D20: Projektant: | I20: IČO: | J20: =IF('Rekapitulácia stavby'!AN16="","",'Rekapitulácia stavby'!AN16)
E21: =IF('Rekapitulácia stavby'!E17="","",'Rekapitulácia stavby'!E17) | I21: IČ DPH: | J21: =IF('Rekapitulácia stavby'!AN17="","",'Rekapitulácia stavby'!AN17)
D23: Spracovateľ: | I23: IČO: | J23: =IF('Rekapitulácia stavby'!AN19="","",'Rekapitulácia stavby'!AN19)
E24: =IF('Rekapitulácia stavby'!E20="","",'Rekapitulácia stavby'!E20) | I24: IČ DPH: | J24: =IF('Rekapitulácia stavby'!AN20="","",'Rekapitulácia stavby'!AN20)
D26: Poznámka:
D30: Cena bez DPH | J30: =ROUND(J123, 2) -> 0
F32: Základ dane | I32: Sadzba dane | J32: Výška dane
D33: DPH | E33: základná | F33: =ROUND((SUM(BE123:BE159)), 2) -> 0 | I33: 0.2 | J33: =ROUND(((SUM(BE123:BE159))*I33), 2) -> 0
E34: znížená | F34: =ROUND((SUM(BF123:BF159)), 2) -> 0 | I34: 0.2 | J34: =ROUND(((SUM(BF123:BF159))*I34), 2) -> 0
E35: zákl. prenesená | F35: =ROUND((SUM(BG123:BG159)), 2) -> 0 | I35: 0.2 | J35: =0 -> 0
E36: zníž. prenesená | F36: =ROUND((SUM(BH123:BH159)), 2) -> 0 | I36: 0.2 | J36: =0 -> 0
E37: nulová | F37: =ROUND((SUM(BI123:BI159)), 2) -> 0 | I37: 0 | J37: =0 -> 0
D39: Cena s DPH | G39: v | H39: EUR | J39: =SUM(J30:J37) -> 0
D50: Projektant | G50: Spracovateľ
D61: Dátum a podpis: | F61: Pečiatka | G61: Dátum a podpis: | J61: Pečiatka
D65: Objednávateľ | G65: Zhotoviteľ
D76: Dátum a podpis: | F76: Pečiatka | G76: Dátum a podpis: | J76: Pečiatka
C82: REKAPITULÁCIA ROZPOČTU
C84: Stavba:
E85: =E7 -> Pozdĺžne státie pri ZS R. Jašíka a rekonštrukcia vjazdu
C86: Objekt:
E87: =E9 -> 1 - 2 ks pozdĺžne státie 16 x 1 m
C89: Miesto: | F89: =F12 | I89: Dátum: | J89: =IF(J12="","",J12) -> 10. 4. 2019
C91: Objednávateľ: | F91: =E15 -> Mesto Partizánske | I91: Projektant: | J91: =E21
C92: Zhotoviteľ: | F92: =IF(E18="","",E18) -> Vyplň údaj | I92: Spracovateľ: | J92: =E24
C94: Kód dielu - Popis | J94: Cena celkom [EUR]
C96: Náklady z rozpočtu | J96: =J123 -> 0 | AU96: -1
D97: HSV - Práce a dodávky HSV | J97: =J124 -> 0
D98: 1 - Zemné práce | J98: =J125 -> 0
D99: 4 - Vodorovné konštrukcie | J99: =J139 -> 0
D100: 5 - Komunikácie | J100: =J141 -> 0
D101: 9 - Ostatné konštrukcie a práce-búranie | J101: =J150 -> 0
D102: 99 - Presun hmôt HSV | J102: =J155 -> 0
D103: VRN - Vedľajšie rozpočtové náklady | J103: =J157 -> 0
C110: ROZPOČET
C112: Stavba:
E113: =E7 -> Pozdĺžne státie pri ZS R. Jašíka a rekonštrukcia vjazdu
C114: Objekt:
E115: =E9 -> 1 - 2 ks pozdĺžne státie 16 x 1 m
C117: Miesto: | F117: =F12 | I117: Dátum: | J117: =IF(J12="","",J12) -> 10. 4. 2019
C119: Objednávateľ: | F119: =E15 -> Mesto Partizánske | I119: Projektant: | J119: =E21
C120: Zhotoviteľ: | F120: =IF(E18="","",E18) -> Vyplň údaj | I120: Spracovateľ: | J120: =E24
C122: PČ | D122: Typ | E122: Kód | F122: Popis | G122: MJ | H122: Množstvo | I122: J.cena [EUR] | J122: Cena celkom [EUR] | K122: Cenová sústava | N122: DPH | O122: J. Nh [h] | P122: Nh celkom [h] | Q122: J. hmotnosť [t] | R122: Hmotnosť celkom [t] | S122: J. suť [t] | T122: Suť Celkom [t]
C123: Náklady z rozpočtu | J123: =BK123 -> 0 | P123: =P124+P157 -> 0 | R123: =R124+R157 -> 33.290165 | T123: =T124+T157 -> 0 | AT123: D | AU123: -1 | BK123: =BK124+BK157 -> 0
D124: D | E124: HSV | F124: Práce a dodávky HSV | J124: =BK124 -> 0 | P124: =P125+P139+P141+P150+P155 -> 0 | R124: =R125+R139+R141+R150+R155 -> 33.290165 | T124: =T125+T139+T141+T150+T155 -> 0 | AR124: 1 | AT124: D | AU124: 0 | AY124: ROZPOCET | BK124: =BK125+BK139+BK141+BK150+BK155 -> 0
D125: D | E125: 1 | F125: Zemné práce | J125: =BK125 -> 0 | P125: =SUM(P126:P138) -> 0 | R125: =SUM(R126:R138) -> 0.000989 | T125: =SUM(T126:T138) -> 0 | AR125: 1 | AT125: D | AU125: 1 | AY125: ROZPOCET | BK125: =SUM(BK126:BK138) -> 0
C126: 1 | D126: K | E126: 122201101 | F126: Odkopávka a prekopávka nezapažená v hornine 3, do 100 m3 | G126: m3 | H126: 11.52 | J126: =ROUND(I126*H126,3) -> 0 | K126: CS CENEKON 2019 01 | N126: znížená | P126: =O126*H126 -> 0 | Q126: 0 | R126: =Q126*H126 -> 0 | S126: 0 | T126: =S126*H126 -> 0 | AR126: 4 | AT126: K | AU126: 2 | AY126: ROZPOCET | BE126: =IF(N126="základná",J126,0) -> 0 | BF126: =IF(N126="znížená",J126,0) -> 0 | BG126: =IF(N126="zákl. prenesená",J126,0) -> 0 | BH126: =IF(N126="zníž. prenesená",J126,0) -> 0 | BI126: =IF(N126="nulová",J126,0) -> 0 | BJ126: 2 | BK126: =ROUND(I126*H126,3) -> 0 | BL126: 4 | BM126: 1625979373
C127: 2 | D127: K | E127: 122201109 | F127: Odkopávky a prekopávky nezapažené. Príplatok k cenám za lepivosť horniny 3 | G127: m3 | H127: 11.52 | J127: =ROUND(I127*H127,3) -> 0 | K127: CS CENEKON 2019 01 | N127: znížená | P127: =O127*H127 -> 0 | Q127: 0 | R127: =Q127*H127 -> 0 | S127: 0 | T127: =S127*H127 -> 0 | AR127: 4 | AT127: K | AU127: 2 | AY127: ROZPOCET | BE127: =IF(N127="základná",J127,0) -> 0 | BF127: =IF(N127="znížená",J127,0) -> 0 | BG127: =IF(N127="zákl. prenesená",J127,0) -> 0 | BH127: =IF(N127="zníž. prenesená",J127,0) -> 0 | BI127: =IF(N127="nulová",J127,0) -> 0 | BJ127: 2 | BK127: =ROUND(I127*H127,3) -> 0 | BL127: 4 | BM127: 1917817783
C128: 3 | D128: K | E128: 130201001 | F128: Výkop jamy a ryhy v obmedzenom priestore horn. tr.3 ručne | G128: m3 | H128: 0.36 | J128: =ROUND(I128*H128,3) -> 0 | K128: CS CENEKON 2019 01 | N128: znížená | P128: =O128*H128 -> 0 | Q128: 0 | R128: =Q128*H128 -> 0 | S128: 0 | T128: =S128*H128 -> 0 | AR128: 4 | AT128: K | AU128: 2 | AY128: ROZPOCET | BE128: =IF(N128="základná",J128,0) -> 0 | BF128: =IF(N128="znížená",J128,0) -> 0 | BG128: =IF(N128="zákl. prenesená",J128,0) -> 0 | BH128: =IF(N128="zníž. prenesená",J128,0) -> 0 | BI128: =IF(N128="nulová",J128,0) -> 0 | BJ128: 2 | BK128: =ROUND(I128*H128,3) -> 0 | BL128: 4 | BM128: 426033342
C129: 4 | D129: K | E129: 162501102 | F129: Vodorovné premiestnenie výkopku po spevnenej ceste z horniny tr.1-4, do 100 m3 na vzdialenosť do 3000 m | G129: m3 | H129: 11.52 | J129: =ROUND(I129*H129,3) -> 0 | K129: CS CENEKON 2019 01 | N129: znížená | P129: =O129*H129 -> 0 | Q129: 0 | R129: =Q129*H129 -> 0 | S129: 0 | T129: =S129*H129 -> 0 | AR129: 4 | AT129: K | AU129: 2 | AY129: ROZPOCET | BE129: =IF(N129="základná",J129,0) -> 0 | BF129: =IF(N129="znížená",J129,0) -> 0 | BG129: =IF(N129="zákl. prenesená",J129,0) -> 0 | BH129: =IF(N129="zníž. prenesená",J129,0) -> 0 | BI129: =IF(N129="nulová",J129,0) -> 0 | BJ129: 2 | BK129: =ROUND(I129*H129,3) -> 0 | BL129: 4 | BM129: -719949525
C130: 5 | D130: K | E130: 162501105 | F130: Vodorovné premiestnenie výkopku po spevnenej ceste z horniny tr.1-4, do 100 m3, príplatok k cene za každých ďalšich a začatých 1000 m | G130: m3 | H130: 11.52 | J130: =ROUND(I130*H130,3) -> 0 | K130: CS CENEKON 2019 01 | N130: znížená | P130: =O130*H130 -> 0 | Q130: 0 | R130: =Q130*H130 -> 0 | S130: 0 | T130: =S130*H130 -> 0 | AR130: 4 | AT130: K | AU130: 2 | AY130: ROZPOCET | BE130: =IF(N130="základná",J130,0) -> 0 | BF130: =IF(N130="znížená",J130,0) -> 0 | BG130: =IF(N130="zákl. prenesená",J130,0) -> 0 | BH130: =IF(N130="zníž. prenesená",J130,0) -> 0 | BI130: =IF(N130="nulová",J130,0) -> 0 | BJ130: 2 | BK130: =ROUND(I130*H130,3) -> 0 | BL130: 4 | BM130: -641006771
C131: 6 | D131: K | E131: 166101101 | F131: Prehodenie neuľahnutého výkopku z horniny 1 až 4 | G131: m3 | H131: 0.36 | J131: =ROUND(I131*H131,3) -> 0 | K131: CS CENEKON 2019 01 | N131: znížená | P131: =O131*H131 -> 0 | Q131: 0 | R131: =Q131*H131 -> 0 | S131: 0 | T131: =S131*H131 -> 0 | AR131: 4 | AT131: K | AU131: 2 | AY131: ROZPOCET | BE131: =IF(N131="základná",J131,0) -> 0 | BF131: =IF(N131="znížená",J131,0) -> 0 | BG131: =IF(N131="zákl. prenesená",J131,0) -> 0 | BH131: =IF(N131="zníž. prenesená",J131,0) -> 0 | BI131: =IF(N131="nulová",J131,0) -> 0 | BJ131: 2 | BK131: =ROUND(I131*H131,3) -> 0 | BL131: 4 | BM131: -1017474134
C132: 7 | D132: K | E132: 167101101 | F132: Nakladanie neuľahnutého výkopku z hornín tr.1-4 do 100 m3 | G132: m3 | H132: 11.52 | J132: =ROUND(I132*H132,3) -> 0 | K132: CS CENEKON 2019 01 | N132: znížená | P132: =O132*H132 -> 0 | Q132: 0 | R132: =Q132*H132 -> 0 | S132: 0 | T132: =S132*H132 -> 0 | AR132: 4 | AT132: K | AU132: 2 | AY132: ROZPOCET | BE132: =IF(N132="základná",J132,0) -> 0 | BF132: =IF(N132="znížená",J132,0) -> 0 | BG132: =IF(N132="zákl. prenesená",J132,0) -> 0 | BH132: =IF(N132="zníž. prenesená",J132,0) -> 0 | BI132: =IF(N132="nulová",J132,0) -> 0 | BJ132: 2 | BK132: =ROUND(I132*H132,3) -> 0 | BL132: 4 | BM132: 821100973
C133: 8 | D133: K | E133: 171201201 | F133: Uloženie sypaniny na skládky do 100 m3 | G133: m3 | H133: 11.52 | J133: =ROUND(I133*H133,3) -> 0 | K133: CS CENEKON 2019 01 | N133: znížená | P133: =O133*H133 -> 0 | Q133: 0 | R133: =Q133*H133 -> 0 | S133: 0 | T133: =S133*H133 -> 0 | AR133: 4 | AT133: K | AU133: 2 | AY133: ROZPOCET | BE133: =IF(N133="základná",J133,0) -> 0 | BF133: =IF(N133="znížená",J133,0) -> 0 | BG133: =IF(N133="zákl. prenesená",J133,0) -> 0 | BH133: =IF(N133="zníž. prenesená",J133,0) -> 0 | BI133: =IF(N133="nulová",J133,0) -> 0 | BJ133: 2 | BK133: =ROUND(I133*H133,3) -> 0 | BL133: 4 | BM133: -1008531965
C134: 9 | D134: K | E134: 171209002 | F134: Poplatok za skladovanie - zemina a kamenivo (17 05) ostatné | G134: t | H134: 20.736 | J134: =ROUND(I134*H134,3) -> 0 | K134: CS CENEKON 2019 01 | N134: znížená | P134: =O134*H134 -> 0 | Q134: 0 | R134: =Q134*H134 -> 0 | S134: 0 | T134: =S134*H134 -> 0 | AR134: 4 | AT134: K | AU134: 2 | AY134: ROZPOCET | BE134: =IF(N134="základná",J134,0) -> 0 | BF134: =IF(N134="znížená",J134,0) -> 0 | BG134: =IF(N134="zákl. prenesená",J134,0) -> 0 | BH134: =IF(N134="zníž. prenesená",J134,0) -> 0 | BI134: =IF(N134="nulová",J134,0) -> 0 | BJ134: 2 | BK134: =ROUND(I134*H134,3) -> 0 | BL134: 4 | BM134: -14962589
C135: 10 | D135: K | E135: 180401211 | F135: Založenie trávnika lúčneho výsevom v rovine alebo na svahu do 1:5 | G135: m2 | H135: 32 | J135: =ROUND(I135*H135,3) -> 0 | K135: CS CENEKON 2019 01 | N135: znížená | P135: =O135*H135 -> 0 | Q135: 0 | R135: =Q135*H135 -> 0 | S135: 0 | T135: =S135*H135 -> 0 | AR135: 4 | AT135: K | AU135: 2 | AY135: ROZPOCET | BE135: =IF(N135="základná",J135,0) -> 0 | BF135: =IF(N135="znížená",J135,0) -> 0 | BG135: =IF(N135="zákl. prenesená",J135,0) -> 0 | BH135: =IF(N135="zníž. prenesená",J135,0) -> 0 | BI135: =IF(N135="nulová",J135,0) -> 0 | BJ135: 2 | BK135: =ROUND(I135*H135,3) -> 0 | BL135: 4 | BM135: 457408256
C136: 11 | D136: M | E136: 005720001500 | F136: Osivá tráv - výber trávových semien | G136: kg | H136: 0.989 | J136: =ROUND(I136*H136,3) -> 0 | K136: CS CENEKON 2019 01 | N136: znížená | P136: =O136*H136 -> 0 | Q136: 0.001 | R136: =Q136*H136 -> 0.000989 | S136: 0 | T136: =S136*H136 -> 0 | AR136: 8 | AT136: M | AU136: 2 | AY136: ROZPOCET | BE136: =IF(N136="základná",J136,0) -> 0 | BF136: =IF(N136="znížená",J136,0) -> 0 | BG136: =IF(N136="zákl. prenesená",J136,0) -> 0 | BH136: =IF(N136="zníž. prenesená",J136,0) -> 0 | BI136: =IF(N136="nulová",J136,0) -> 0 | BJ136: 2 | BK136: =ROUND(I136*H136,3) -> 0 | BL136: 4 | BM136: 435961436
C137: 12 | D137: K | E137: 181301101 | F137: Rozprestretie ornice v rovine, plocha do 500 m2, hr.do 100 mm | G137: m2 | H137: 32 | J137: =ROUND(I137*H137,3) -> 0 | K137: CS CENEKON 2019 01 | N137: znížená | P137: =O137*H137 -> 0 | Q137: 0 | R137: =Q137*H137 -> 0 | S137: 0 | T137: =S137*H137 -> 0 | AR137: 4 | AT137: K | AU137: 2 | AY137: ROZPOCET | BE137: =IF(N137="základná",J137,0) -> 0 | BF137: =IF(N137="znížená",J137,0) -> 0 | BG137: =IF(N137="zákl. prenesená",J137,0) -> 0 | BH137: =IF(N137="zníž. prenesená",J137,0) -> 0 | BI137: =IF(N137="nulová",J137,0) -> 0 | BJ137: 2 | BK137: =ROUND(I137*H137,3) -> 0 | BL137: 4 | BM137: 1595948010
C138: 13 | D138: K | E138: 183403153 | F138: Obrobenie pôdy hrabaním v rovine alebo na svahu do 1:5 | G138: m2 | H138: 114.2 | J138: =ROUND(I138*H138,3) -> 0 | K138: CS CENEKON 2019 01 | N138: znížená | P138: =O138*H138 -> 0 | Q138: 0 | R138: =Q138*H138 -> 0 | S138: 0 | T138: =S138*H138 -> 0 | AR138: 4 | AT138: K | AU138: 2 | AY138: ROZPOCET | BE138: =IF(N138="základná",J138,0) -> 0 | BF138: =IF(N138="znížená",J138,0) -> 0 | BG138: =IF(N138="zákl. prenesená",J138,0) -> 0 | BH138: =IF(N138="zníž. prenesená",J138,0) -> 0 | BI138: =IF(N138="nulová",J138,0) -> 0 | BJ138: 2 | BK138: =ROUND(I138*H138,3) -> 0 | BL138: 4 | BM138: -472869977
D139: D | E139: 4 | F139: Vodorovné konštrukcie | J139: =BK139 -> 0 | P139: =P140 -> 0 | R139: =R140 -> 0.582912 | T139: =T140 -> 0 | AR139: 1 | AT139: D | AU139: 1 | AY139: ROZPOCET | BK139: =BK140 -> 0
C140: 14 | D140: K | E140: 451577777 | F140: Podklad pod dlažbu v ploche vodorovnej alebo v sklone do 1:5 hr. 30-100 mm z kameniva ťaženého | G140: m2 | H140: 3.6 | J140: =ROUND(I140*H140,3) -> 0 | K140: CS CENEKON 2019 01 | N140: znížená | P140: =O140*H140 -> 0 | Q140: 0.16192 | R140: =Q140*H140 -> 0.582912 | S140: 0 | T140: =S140*H140 -> 0 | AR140: 4 | AT140: K | AU140: 2 | AY140: ROZPOCET | BE140: =IF(N140="základná",J140,0) -> 0 | BF140: =IF(N140="znížená",J140,0) -> 0 | BG140: =IF(N140="zákl. prenesená",J140,0) -> 0 | BH140: =IF(N140="zníž. prenesená",J140,0) -> 0 | BI140: =IF(N140="nulová",J140,0) -> 0 | BJ140: 2 | BK140: =ROUND(I140*H140,3) -> 0 | BL140: 4 | BM140: 2038696869
D141: D | E141: 5 | F141: Komunikácie | J141: =BK141 -> 0 | P141: =SUM(P142:P149) -> 0 | R141: =SUM(R142:R149) -> 25.520304 | T141: =SUM(T142:T149) -> 0 | AR141: 1 | AT141: D | AU141: 1 | AY141: ROZPOCET | BK141: =SUM(BK142:BK149) -> 0
C142: 15 | D142: K | E142: 564751111 | F142: Podklad alebo kryt z kameniva hrubého drveného veľ. 32-63 mm s rozprestretím a zhutnením hr. 150 mm | G142: m2 | H142: 38.4 | J142: =ROUND(I142*H142,3) -> 0 | K142: CS CENEKON 2019 01 | N142: znížená | P142: =O142*H142 -> 0 | Q142: 0.2916 | R142: =Q142*H142 -> 11.19744 | S142: 0 | T142: =S142*H142 -> 0 | AR142: 4 | AT142: K | AU142: 2 | AY142: ROZPOCET | BE142: =IF(N142="základná",J142,0) -> 0 | BF142: =IF(N142="znížená",J142,0) -> 0 | BG142: =IF(N142="zákl. prenesená",J142,0) -> 0 | BH142: =IF(N142="zníž. prenesená",J142,0) -> 0 | BI142: =IF(N142="nulová",J142,0) -> 0 | BJ142: 2 | BK142: =ROUND(I142*H142,3) -> 0 | BL142: 4 | BM142: 2096543236
C143: 16 | D143: K | E143: 564811111 | F143: Podklad zo štrkodrviny s rozprestretím a zhutnením, po zhutnení hr. 50 mm | G143: m2 | H143: 32 | J143: =ROUND(I143*H143,3) -> 0 | K143: CS CENEKON 2019 01 | N143: znížená | P143: =O143*H143 -> 0 | Q143: 0.0982 | R143: =Q143*H143 -> 3.1424 | S143: 0 | T143: =S143*H143 -> 0 | AR143: 4 | AT143: K | AU143: 2 | AY143: ROZPOCET | BE143: =IF(N143="základná",J143,0) -> 0 | BF143: =IF(N143="znížená",J143,0) -> 0 | BG143: =IF(N143="zákl. prenesená",J143,0) -> 0 | BH143: =IF(N143="zníž. prenesená",J143,0) -> 0 | BI143: =IF(N143="nulová",J143,0) -> 0 | BJ143: 2 | BK143: =ROUND(I143*H143,3) -> 0 | BL143: 4 | BM143: -1943408470
C144: 17 | D144: K | E144: 596811320 | F144: Kladenie betónovej dlažby s vyplnením škár do lôžka z kameniva, veľ. do 0,25 m2 plochy do 50 m2 | G144: m2 | H144: 3.6 | J144: =ROUND(I144*H144,3) -> 0 | K144: CS CENEKON 2019 01 | N144: znížená | P144: =O144*H144 -> 0 | Q144: 0.084 | R144: =Q144*H144 -> 0.3024 | S144: 0 | T144: =S144*H144 -> 0 | AR144: 4 | AT144: K | AU144: 2 | AY144: ROZPOCET | BE144: =IF(N144="základná",J144,0) -> 0 | BF144: =IF(N144="znížená",J144,0) -> 0 | BG144: =IF(N144="zákl. prenesená",J144,0) -> 0 | BH144: =IF(N144="zníž. prenesená",J144,0) -> 0 | BI144: =IF(N144="nulová",J144,0) -> 0 | BJ144: 2 | BK144: =ROUND(I144*H144,3) -> 0 | BL144: 4 | BM144: 1567386263
C145: 18 | D145: M | E145: 592460014500 | F145: Platňa betónová PREMAC ESTER, rozmer 500x500x50 mm, sivá | G145: ks | H145: 12.12 | J145: =ROUND(I145*H145,3) -> 0 | K145: CS CENEKON 2019 01 | N145: znížená | P145: =O145*H145 -> 0 | Q145: 0.0292 | R145: =Q145*H145 -> 0.353904 | S145: 0 | T145: =S145*H145 -> 0 | AR145: 8 | AT145: M | AU145: 2 | AY145: ROZPOCET | BE145: =IF(N145="základná",J145,0) -> 0 | BF145: =IF(N145="znížená",J145,0) -> 0 | BG145: =IF(N145="zákl. prenesená",J145,0) -> 0 | BH145: =IF(N145="zníž. prenesená",J145,0) -> 0 | BI145: =IF(N145="nulová",J145,0) -> 0 | BJ145: 2 | BK145: =ROUND(I145*H145,3) -> 0 | BL145: 4 | BM145: -1097296317
C146: 19 | D146: K | E146: 596912211 | F146: Kladenie betónovej dlažby z vegetačných tvárnic hr. 80 mm, do lôžka z kameniva ťaženého, veľkosti do 0,25 m2, plochy do 50 m2 | G146: m2 | H146: 32 | J146: =ROUND(I146*H146,3) -> 0 | K146: CS CENEKON 2019 01 | N146: znížená | P146: =O146*H146 -> 0 | Q146: 0.112 | R146: =Q146*H146 -> 3.584 | S146: 0 | T146: =S146*H146 -> 0 | AR146: 4 | AT146: K | AU146: 2 | AY146: ROZPOCET | BE146: =IF(N146="základná",J146,0) -> 0 | BF146: =IF(N146="znížená",J146,0) -> 0 | BG146: =IF(N146="zákl. prenesená",J146,0) -> 0 | BH146: =IF(N146="zníž. prenesená",J146,0) -> 0 | BI146: =IF(N146="nulová",J146,0) -> 0 | BJ146: 2 | BK146: =ROUND(I146*H146,3) -> 0 | BL146: 4 | BM146: -774873937
C147: 20 | D147: M | E147: 592460013500 | F147: Dlažba betónová Low value PREMAC VEGA zatrávňovacia, rozmer 610x405x80 mm, sivá | G147: m2 | H147: 32.32 | J147: =ROUND(I147*H147,3) -> 0 | K147: CS CENEKON 2019 01 | N147: znížená | P147: =O147*H147 -> 0 | Q147: 0.11 | R147: =Q147*H147 -> 3.5552 | S147: 0 | T147: =S147*H147 -> 0 | AR147: 8 | AT147: M | AU147: 2 | AY147: ROZPOCET | BE147: =IF(N147="základná",J147,0) -> 0 | BF147: =IF(N147="znížená",J147,0) -> 0 | BG147: =IF(N147="zákl. prenesená",J147,0) -> 0 | BH147: =IF(N147="zníž. prenesená",J147,0) -> 0 | BI147: =IF(N147="nulová",J147,0) -> 0 | BJ147: 2 | BK147: =ROUND(I147*H147,3) -> 0 | BL147: 4 | BM147: -777328151
C148: 21 | D148: K | E148: 599142111 | F148: Úprava zálievky dilatačných alebo pracovných škár hĺbky do 40 mm, šírky nad 20 do 40 mm | G148: m | H148: 32 | J148: =ROUND(I148*H148,3) -> 0 | K148: CS CENEKON 2019 01 | N148: znížená | P148: =O148*H148 -> 0 | Q148: 0.00224 | R148: =Q148*H148 -> 0.07168 | S148: 0 | T148: =S148*H148 -> 0 | AR148: 4 | AT148: K | AU148: 2 | AY148: ROZPOCET | BE148: =IF(N148="základná",J148,0) -> 0 | BF148: =IF(N148="znížená",J148,0) -> 0 | BG148: =IF(N148="zákl. prenesená",J148,0) -> 0 | BH148: =IF(N148="zníž. prenesená",J148,0) -> 0 | BI148: =IF(N148="nulová",J148,0) -> 0 | BJ148: 2 | BK148: =ROUND(I148*H148,3) -> 0 | BL148: 4 | BM148: -1383101520
C149: 22 | D149: K | E149: 599432111 | F149: Vyplnenie škár dlažby kamenivom ťaženým | G149: m2 | H149: 32 | J149: =ROUND(I149*H149,3) -> 0 | K149: CS CENEKON 2019 01 | N149: znížená | P149: =O149*H149 -> 0 | Q149: 0.10354 | R149: =Q149*H149 -> 3.31328 | S149: 0 | T149: =S149*H149 -> 0 | AR149: 4 | AT149: K | AU149: 2 | AY149: ROZPOCET | BE149: =IF(N149="základná",J149,0) -> 0 | BF149: =IF(N149="znížená",J149,0) -> 0 | BG149: =IF(N149="zákl. prenesená",J149,0) -> 0 | BH149: =IF(N149="zníž. prenesená",J149,0) -> 0 | BI149: =IF(N149="nulová",J149,0) -> 0 | BJ149: 2 | BK149: =ROUND(I149*H149,3) -> 0 | BL149: 4 | BM149: 1424880172
D150: D | E150: 9 | F150: Ostatné konštrukcie a práce-búranie | J150: =BK150 -> 0 | P150: =SUM(P151:P154) -> 0 | R150: =SUM(R151:R154) -> 7.18596 | T150: =SUM(T151:T154) -> 0 | AR150: 1 | AT150: D | AU150: 1 | AY150: ROZPOCET | BK150: =SUM(BK151:BK154) -> 0
C151: 23 | D151: K | E151: 916362112 | F151: Osadenie cestného obrubníka betónového stojatého do lôžka z betónu prostého tr. C 16/20 s bočnou oporou | G151: m | H151: 36 | J151: =ROUND(I151*H151,3) -> 0 | K151: CS CENEKON 2019 01 | N151: znížená | P151: =O151*H151 -> 0 | Q151: 0.15113 | R151: =Q151*H151 -> 5.44068 | S151: 0 | T151: =S151*H151 -> 0 | AR151: 4 | AT151: K | AU151: 2 | AY151: ROZPOCET | BE151: =IF(N151="základná",J151,0) -> 0 | BF151: =IF(N151="znížená",J151,0) -> 0 | BG151: =IF(N151="zákl. prenesená",J151,0) -> 0 | BH151: =IF(N151="zníž. prenesená",J151,0) -> 0 | BI151: =IF(N151="nulová",J151,0) -> 0 | BJ151: 2 | BK151: =ROUND(I151*H151,3) -> 0 | BL151: 4 | BM151: -1289804666
C152: 24 | D152: M | E152: 592170002100 | F152: Obrubník PREMAC cestný, lxšxv 1000x100x200 mm, skosenie 15/15 mm | G152: ks | H152: 36.36 | J152: =ROUND(I152*H152,3) -> 0 | K152: CS CENEKON 2019 01 | N152: znížená | P152: =O152*H152 -> 0 | Q152: 0.048 | R152: =Q152*H152 -> 1.74528 | S152: 0 | T152: =S152*H152 -> 0 | AR152: 8 | AT152: M | AU152: 2 | AY152: ROZPOCET | BE152: =IF(N152="základná",J152,0) -> 0 | BF152: =IF(N152="znížená",J152,0) -> 0 | BG152: =IF(N152="zákl. prenesená",J152,0) -> 0 | BH152: =IF(N152="zníž. prenesená",J152,0) -> 0 | BI152: =IF(N152="nulová",J152,0) -> 0 | BJ152: 2 | BK152: =ROUND(I152*H152,3) -> 0 | BL152: 4 | BM152: -908019209
C153: 25 | D153: K | E153: 919731122 | F153: Zarovnanie styčnej plochy pozdĺž vybúranej časti komunikácie asfaltovej hr. nad 50 do 100 mm | G153: m | H153: 32 | J153: =ROUND(I153*H153,3) -> 0 | K153: CS CENEKON 2019 01 | N153: znížená | P153: =O153*H153 -> 0 | Q153: 0 | R153: =Q153*H153 -> 0 | S153: 0 | T153: =S153*H153 -> 0 | AR153: 4 | AT153: K | AU153: 2 | AY153: ROZPOCET | BE153: =IF(N153="základná",J153,0) -> 0 | BF153: =IF(N153="znížená",J153,0) -> 0 | BG153: =IF(N153="zákl. prenesená",J153,0) -> 0 | BH153: =IF(N153="zníž. prenesená",J153,0) -> 0 | BI153: =IF(N153="nulová",J153,0) -> 0 | BJ153: 2 | BK153: =ROUND(I153*H153,3) -> 0 | BL153: 4 | BM153: -1932518414
C154: 26 | D154: K | E154: 919735112 | F154: Rezanie existujúceho asfaltového krytu alebo podkladu hĺbky nad 50 do 100 mm | G154: m | H154: 32 | J154: =ROUND(I154*H154,3) -> 0 | K154: CS CENEKON 2019 01 | N154: znížená | P154: =O154*H154 -> 0 | Q154: 0 | R154: =Q154*H154 -> 0 | S154: 0 | T154: =S154*H154 -> 0 | AR154: 4 | AT154: K | AU154: 2 | AY154: ROZPOCET | BE154: =IF(N154="základná",J154,0) -> 0 | BF154: =IF(N154="znížená",J154,0) -> 0 | BG154: =IF(N154="zákl. prenesená",J154,0) -> 0 | BH154: =IF(N154="zníž. prenesená",J154,0) -> 0 | BI154: =IF(N154="nulová",J154,0) -> 0 | BJ154: 2 | BK154: =ROUND(I154*H154,3) -> 0 | BL154: 4 | BM154: 2016217990
D155: D | E155: 99 | F155: Presun hmôt HSV | J155: =BK155 -> 0 | P155: =P156 -> 0 | R155: =R156 -> 0 | T155: =T156 -> 0 | AR155: 1 | AT155: D | AU155: 1 | AY155: ROZPOCET | BK155: =BK156 -> 0
C156: 27 | D156: K | E156: 998223011 | F156: Presun hmôt pre pozemné komunikácie s krytom dláždeným (822 2.3, 822 5.3) akejkoľvek dĺžky objektu | G156: t | H156: 33.29 | J156: =ROUND(I156*H156,3) -> 0 | K156: CS CENEKON 2019 01 | N156: znížená | P156: =O156*H156 -> 0 | Q156: 0 | R156: =Q156*H156 -> 0 | S156: 0 | T156: =S156*H156 -> 0 | AR156: 4 | AT156: K | AU156: 2 | AY156: ROZPOCET | BE156: =IF(N156="základná",J156,0) -> 0 | BF156: =IF(N156="znížená",J156,0) -> 0 | BG156: =IF(N156="zákl. prenesená",J156,0) -> 0 | BH156: =IF(N156="zníž. prenesená",J156,0) -> 0 | BI156: =IF(N156="nulová",J156,0) -> 0 | BJ156: 2 | BK156: =ROUND(I156*H156,3) -> 0 | BL156: 4 | BM156: 62466927
D157: D | E157: VRN | F157: Vedľajšie rozpočtové náklady | J157: =BK157 -> 0 | P157: =SUM(P158:P159) -> 0 | R157: =SUM(R158:R159) -> 0 | T157: =SUM(T158:T159) -> 0 | AR157: 5 | AT157: D | AU157: 0 | AY157: ROZPOCET | BK157: =SUM(BK158:BK159) -> 0
C158: 28 | D158: K | E158: 000300013 | F158: Geodetické práce - vykonávané pred výstavbou určenie priebehu podzemného existujúceho vedenia | G158: eur | H158: 1 | J158: =ROUND(I158*H158,3) -> 0 | K158: CS CENEKON 2019 01 | N158: znížená | P158: =O158*H158 -> 0 | Q158: 0 | R158: =Q158*H158 -> 0 | S158: 0 | T158: =S158*H158 -> 0 | AR158: 1024 | AT158: K | AU158: 1 | AY158: ROZPOCET | BE158: =IF(N158="základná",J158,0) -> 0 | BF158: =IF(N158="znížená",J158,0) -> 0 | BG158: =IF(N158="zákl. prenesená",J158,0) -> 0 | BH158: =IF(N158="zníž. prenesená",J158,0) -> 0 | BI158: =IF(N158="nulová",J158,0) -> 0 | BJ158: 2 | BK158: =ROUND(I158*H158,3) -> 0 | BL158: 1024 | BM158: -1847778689
C159: 29 | D159: K | E159: 000600024 | F159: Zariadenie staveniska - prevádzkové dopravné značenie po stavenisku | G159: eur | H159: 1 | J159: =ROUND(I159*H159,3) -> 0 | K159: CS CENEKON 2019 01 | N159: znížená | P159: =O159*H159 -> 0 | Q159: 0 | R159: =Q159*H159 -> 0 | S159: 0 | T159: =S159*H159 -> 0 | AR159: 1024 | AT159: K | AU159: 1 | AY159: ROZPOCET | BE159: =IF(N159="základná",J159,0) -> 0 | BF159: =IF(N159="znížená",J159,0) -> 0 | BG159: =IF(N159="zákl. prenesená",J159,0) -> 0 | BH159: =IF(N159="zníž. prenesená",J159,0) -> 0 | BI159: =IF(N159="nulová",J159,0) -> 0 | BJ159: 2 | BK159: =ROUND(I159*H159,3) -> 0 | BL159: 1024 | BM159: -883130241

Sheet PRILOHA 2B
L2: >> skryté stĺpce << | AT2: {a31970c4-5419-4de9-b8e7-6f0a8faa261a}
AT3: 0
D4: KRYCÍ LIST ROZPOČTU | M4: v --- nižšie sa nachádzajú doplnkové a pomocné údaje k zostavám --- v | AT4: False
D6: Stavba:
E7: ='Rekapitulácia stavby'!K6 -> Pozdĺžne státie pri ZS R. Jašíka a rekonštrukcia vjazdu
D8: Objekt:
E9: 2 - Rekonštrukcia vjazdu do areálu ZŠ
D11: JKSO: | I11: KS:
D12: Miesto: | I12: Dátum: | J12: ='Rekapitulácia stavby'!AN8 -> 10. 4. 2019
D14: Objednávateľ: | I14: IČO: | J14: =IF('Rekapitulácia stavby'!AN10="","",'Rekapitulácia stavby'!AN10)
E15: =IF('Rekapitulácia stavby'!E11="","",'Rekapitulácia stavby'!E11) -> Mesto Partizánske | I15: IČ DPH: | J15: =IF('Rekapitulácia stavby'!AN11="","",'Rekapitulácia stavby'!AN11)
D17: Zhotoviteľ: | I17: IČO: | J17: ='Rekapitulácia stavby'!AN13 -> Vyplň údaj
E18: ='Rekapitulácia stavby'!E14 -> Vyplň údaj | I18: IČ DPH: | J18: ='Rekapitulácia stavby'!AN14 -> Vyplň údaj
D20: Projektant: | I20: IČO: | J20: =IF('Rekapitulácia stavby'!AN16="","",'Rekapitulácia stavby'!AN16)
E21: =IF('Rekapitulácia stavby'!E17="","",'Rekapitulácia stavby'!E17) | I21: IČ DPH: | J21: =IF('Rekapitulácia stavby'!AN17="","",'Rekapitulácia stavby'!AN17)
D23: Spracovateľ: | I23: IČO: | J23: =IF('Rekapitulácia stavby'!AN19="","",'Rekapitulácia stavby'!AN19)
E24: =IF('Rekapitulácia stavby'!E20="","",'Rekapitulácia stavby'!E20) | I24: IČ DPH: | J24: =IF('Rekapitulácia stavby'!AN20="","",'Rekapitulácia stavby'!AN20)
D26: Poznámka:
D30: Cena bez DPH | J30: =ROUND(J121, 2) -> 0
F32: Základ dane | I32: Sadzba dane | J32: Výška dane
D33: DPH | E33: základná | F33: =ROUND((SUM(BE121:BE146)), 2) -> 0 | I33: 0.2 | J33: =ROUND(((SUM(BE121:BE146))*I33), 2) -> 0
E34: znížená | F34: =ROUND((SUM(BF121:BF146)), 2) -> 0 | I34: 0.2 | J34: =ROUND(((SUM(BF121:BF146))*I34), 2) -> 0
E35: zákl. prenesená | F35: =ROUND((SUM(BG121:BG146)), 2) -> 0 | I35: 0.2 | J35: =0 -> 0
E36: zníž. prenesená | F36: =ROUND((SUM(BH121:BH146)), 2) -> 0 | I36: 0.2 | J36: =0 -> 0
E37: nulová | F37: =ROUND((SUM(BI121:BI146)), 2) -> 0 | I37: 0 | J37: =0 -> 0
D39: Cena s DPH | G39: v | H39: EUR | J39: =SUM(J30:J37) -> 0
D50: Projektant | G50: Spracovateľ
D61: Dátum a podpis: | F61: Pečiatka | G61: Dátum a podpis: | J61: Pečiatka
D65: Objednávateľ | G65: Zhotoviteľ
D76: Dátum a podpis: | F76: Pečiatka | G76: Dátum a podpis: | J76: Pečiatka
C82: REKAPITULÁCIA ROZPOČTU
C84: Stavba:
E85: =E7 -> Pozdĺžne státie pri ZS R. Jašíka a rekonštrukcia vjazdu
C86: Objekt:
E87: =E9 -> 2 - Rekonštrukcia vjazdu do areálu ZŠ
C89: Miesto: | F89: =F12 | I89: Dátum: | J89: =IF(J12="","",J12) -> 10. 4. 2019
C91: Objednávateľ: | F91: =E15 -> Mesto Partizánske | I91: Projektant: | J91: =E21
C92: Zhotoviteľ: | F92: =IF(E18="","",E18) -> Vyplň údaj | I92: Spracovateľ: | J92: =E24
C94: Kód dielu - Popis | J94: Cena celkom [EUR]
C96: Náklady z rozpočtu | J96: =J121 -> 0 | AU96: -1
D97: HSV - Práce a dodávky HSV | J97: =J122 -> 0
D98: 1 - Zemné práce | J98: =J123 -> 0
D99: 5 - Komunikácie | J99: =J127 -> 0
D100: 9 - Ostatné konštrukcie a práce-búranie | J100: =J133 -> 0
D101: 99 - Presun hmôt HSV | J101: =J145 -> 0
C108: ROZPOČET
C110: Stavba:
E111: =E7 -> Pozdĺžne státie pri ZS R. Jašíka a rekonštrukcia vjazdu
C112: Objekt:
E113: =E9 -> 2 - Rekonštrukcia vjazdu do areálu ZŠ
C115: Miesto: | F115: =F12 | I115: Dátum: | J115: =IF(J12="","",J12) -> 10. 4. 2019
C117: Objednávateľ: | F117: =E15 -> Mesto Partizánske | I117: Projektant: | J117: =E21
C118: Zhotoviteľ: | F118: =IF(E18="","",E18) -> Vyplň údaj | I118: Spracovateľ: | J118: =E24
C120: PČ | D120: Typ | E120: Kód | F120: Popis | G120: MJ | H120: Množstvo | I120: J.cena [EUR] | J120: Cena celkom [EUR] | K120: Cenová sústava | N120: DPH | O120: J. Nh [h] | P120: Nh celkom [h] | Q120: J. hmotnosť [t] | R120: Hmotnosť celkom [t] | S120: J. suť [t] | T120: Suť Celkom [t]
C121: Náklady z rozpočtu | J121: =BK121 -> 0 | P121: =P122 -> 0 | R121: =R122 -> 30.833772 | T121: =T122 -> 19.101 | AT121: D | AU121: -1 | BK121: =BK122 -> 0
D122: D | E122: HSV | F122: Práce a dodávky HSV | J122: =BK122 -> 0 | P122: =P123+P127+P133+P145 -> 0 | R122: =R123+R127+R133+R145 -> 30.833772 | T122: =T123+T127+T133+T145 -> 19.101 | AR122: 1 | AT122: D | AU122: 0 | AY122: ROZPOCET | BK122: =BK123+BK127+BK133+BK145 -> 0
D123: D | E123: 1 | F123: Zemné práce | J123: =BK123 -> 0 | P123: =SUM(P124:P126) -> 0 | R123: =SUM(R124:R126) -> 0 | T123: =SUM(T124:T126) -> 19.101 | AR123: 1 | AT123: D | AU123: 1 | AY123: ROZPOCET | BK123: =SUM(BK124:BK126) -> 0
C124: 1 | D124: K | E124: 113107113 | F124: Odstránenie krytu v ploche do 200 m2 z kameniva ťaženého, hr.vrstvy 200 do 300 mm, -0,50000t | G124: m2 | H124: 34.445 | J124: =ROUND(I124*H124,3) -> 0 | K124: CS CENEKON 2019 01 | N124: znížená | P124: =O124*H124 -> 0 | Q124: 0 | R124: =Q124*H124 -> 0 | S124: 0.5 | T124: =S124*H124 -> 17.2225 | AR124: 4 | AT124: K | AU124: 2 | AY124: ROZPOCET | BE124: =IF(N124="základná",J124,0) -> 0 | BF124: =IF(N124="znížená",J124,0) -> 0 | BG124: =IF(N124="zákl. prenesená",J124,0) -> 0 | BH124: =IF(N124="zníž. prenesená",J124,0) -> 0 | BI124: =IF(N124="nulová",J124,0) -> 0 | BJ124: 2 | BK124: =ROUND(I124*H124,3) -> 0 | BL124: 4 | BM124: -1355032202
C125: 2 | D125: K | E125: 113107131 | F125: Odstránenie krytu v ploche do 200 m2 z betónu prostého, hr. vrstvy do 150 mm, -0,22500t | G125: m2 | H125: 3 | J125: =ROUND(I125*H125,3) -> 0 | K125: CS CENEKON 2019 01 | N125: znížená | P125: =O125*H125 -> 0 | Q125: 0 | R125: =Q125*H125 -> 0 | S125: 0.225 | T125: =S125*H125 -> 0.675 | AR125: 4 | AT125: K | AU125: 2 | AY125: ROZPOCET | BE125: =IF(N125="základná",J125,0) -> 0 | BF125: =IF(N125="znížená",J125,0) -> 0 | BG125: =IF(N125="zákl. prenesená",J125,0) -> 0 | BH125: =IF(N125="zníž. prenesená",J125,0) -> 0 | BI125: =IF(N125="nulová",J125,0) -> 0 | BJ125: 2 | BK125: =ROUND(I125*H125,3) -> 0 | BL125: 4 | BM125: 255623073
C126: 3 | D126: K | E126: 113206111 | F126: Vytrhanie obrúb betónových, s vybúraním lôžka, z krajníkov alebo obrubníkov stojatých, -0,14500t | G126: m | H126: 8.3 | J126: =ROUND(I126*H126,3) -> 0 | K126: CS CENEKON 2019 01 | N126: znížená | P126: =O126*H126 -> 0 | Q126: 0 | R126: =Q126*H126 -> 0 | S126: 0.145 | T126: =S126*H126 -> 1.2035 | AR126: 4 | AT126: K | AU126: 2 | AY126: ROZPOCET | BE126: =IF(N126="základná",J126,0) -> 0 | BF126: =IF(N126="znížená",J126,0) -> 0 | BG126: =IF(N126="zákl. prenesená",J126,0) -> 0 | BH126: =IF(N126="zníž. prenesená",J126,0) -> 0 | BI126: =IF(N126="nulová",J126,0) -> 0 | BJ126: 2 | BK126: =ROUND(I126*H126,3) -> 0 | BL126: 4 | BM126: -2126357433
D127: D | E127: 5 | F127: Komunikácie | J127: =BK127 -> 0 | P127: =SUM(P128:P132) -> 0 | R127: =SUM(R128:R132) -> 25.052203 | T127: =SUM(T128:T132) -> 0 | AR127: 1 | AT127: D | AU127: 1 | AY127: ROZPOCET | BK127: =SUM(BK128:BK132) -> 0
C128: 4 | D128: K | E128: 564751114 | F128: Podklad alebo kryt z kameniva hrubého drveného veľ. 32-63 mm s rozprestretím a zhutnením hr. 180 mm | G128: m2 | H128: 34.445 | J128: =ROUND(I128*H128,3) -> 0 | K128: CS CENEKON 2019 01 | N128: znížená | P128: =O128*H128 -> 0 | Q128: 0.34839 | R128: =Q128*H128 -> 12.000294 | S128: 0 | T128: =S128*H128 -> 0 | AR128: 4 | AT128: K | AU128: 2 | AY128: ROZPOCET | BE128: =IF(N128="základná",J128,0) -> 0 | BF128: =IF(N128="znížená",J128,0) -> 0 | BG128: =IF(N128="zákl. prenesená",J128,0) -> 0 | BH128: =IF(N128="zníž. prenesená",J128,0) -> 0 | BI128: =IF(N128="nulová",J128,0) -> 0 | BJ128: 2 | BK128: =ROUND(I128*H128,3) -> 0 | BL128: 4 | BM128: -58966084
C129: 5 | D129: K | E129: 564811111 | F129: Podklad zo štrkodrviny s rozprestretím a zhutnením, po zhutnení hr. 50 mm | G129: m2 | H129: 34.445 | J129: =ROUND(I129*H129,3) -> 0 | K129: CS CENEKON 2019 01 | N129: znížená | P129: =O129*H129 -> 0 | Q129: 0.0982 | R129: =Q129*H129 -> 3.382499 | S129: 0 | T129: =S129*H129 -> 0 | AR129: 4 | AT129: K | AU129: 2 | AY129: ROZPOCET | BE129: =IF(N129="základná",J129,0) -> 0 | BF129: =IF(N129="znížená",J129,0) -> 0 | BG129: =IF(N129="zákl. prenesená",J129,0) -> 0 | BH129: =IF(N129="zníž. prenesená",J129,0) -> 0 | BI129: =IF(N129="nulová",J129,0) -> 0 | BJ129: 2 | BK129: =ROUND(I129*H129,3) -> 0 | BL129: 4 | BM129: -1943408470
C130: 6 | D130: K | E130: 596911161 | F130: Kladenie betónovej zámkovej dlažby komunikácií pre peších hr. 80 mm pre peších do 50 m2 so zriadením lôžka z kameniva hr. 30 mm | G130: m2 | H130: 34.445 | J130: =ROUND(I130*H130,3) -> 0 | K130: CS CENEKON 2019 01 | N130: znížená | P130: =O130*H130 -> 0 | Q130: 0.0925 | R130: =Q130*H130 -> 3.1861625 | S130: 0 | T130: =S130*H130 -> 0 | AR130: 4 | AT130: K | AU130: 2 | AY130: ROZPOCET | BE130: =IF(N130="základná",J130,0) -> 0 | BF130: =IF(N130="znížená",J130,0) -> 0 | BG130: =IF(N130="zákl. prenesená",J130,0) -> 0 | BH130: =IF(N130="zníž. prenesená",J130,0) -> 0 | BI130: =IF(N130="nulová",J130,0) -> 0 | BJ130: 2 | BK130: =ROUND(I130*H130,3) -> 0 | BL130: 4 | BM130: 1207211189
C131: 7 | D131: M | E131: 592460008500 | F131: Dlažba betónová zámková hr. 80 mm, sivá | G131: m2 | H131: 35.134 | J131: =ROUND(I131*H131,3) -> 0 | K131: CS CENEKON 2019 01 | N131: znížená | P131: =O131*H131 -> 0 | Q131: 0.184 | R131: =Q131*H131 -> 6.464656 | S131: 0 | T131: =S131*H131 -> 0 | AR131: 8 | AT131: M | AU131: 2 | AY131: ROZPOCET | BE131: =IF(N131="základná",J131,0) -> 0 | BF131: =IF(N131="znížená",J131,0) -> 0 | BG131: =IF(N131="zákl. prenesená",J131,0) -> 0 | BH131: =IF(N131="zníž. prenesená",J131,0) -> 0 | BI131: =IF(N131="nulová",J131,0) -> 0 | BJ131: 2 | BK131: =ROUND(I131*H131,3) -> 0 | BL131: 4 | BM131: -756893024
C132: 8 | D132: K | E132: 599142111 | F132: Úprava zálievky dilatačných alebo pracovných škár hĺbky do 40 mm, šírky nad 20 do 40 mm | G132: m | H132: 8.3 | J132: =ROUND(I132*H132,3) -> 0 | K132: CS CENEKON 2019 01 | N132: znížená | P132: =O132*H132 -> 0 | Q132: 0.00224 | R132: =Q132*H132 -> 0.018592 | S132: 0 | T132: =S132*H132 -> 0 | AR132: 4 | AT132: K | AU132: 2 | AY132: ROZPOCET | BE132: =IF(N132="základná",J132,0) -> 0 | BF132: =IF(N132="znížená",J132,0) -> 0 | BG132: =IF(N132="zákl. prenesená",J132,0) -> 0 | BH132: =IF(N132="zníž. prenesená",J132,0) -> 0 | BI132: =IF(N132="nulová",J132,0) -> 0 | BJ132: 2 | BK132: =ROUND(I132*H132,3) -> 0 | BL132: 4 | BM132: 744539572
D133: D | E133: 9 | F133: Ostatné konštrukcie a práce-búranie | J133: =BK133 -> 0 | P133: =SUM(P134:P144) -> 0 | R133: =SUM(R134:R144) -> 5.7815692 | T133: =SUM(T134:T144) -> 0 | AR133: 1 | AT133: D | AU133: 1 | AY133: ROZPOCET | BK133: =SUM(BK134:BK144) -> 0
C134: 9 | D134: K | E134: 916361112 | F134: Osadenie cestného obrubníka betónového ležatého do lôžka z betónu prostého tr. C 16/20 s bočnou oporou | G134: m | H134: 8.3 | J134: =ROUND(I134*H134,3) -> 0 | K134: CS CENEKON 2019 01 | N134: znížená | P134: =O134*H134 -> 0 | Q134: 0.19697 | R134: =Q134*H134 -> 1.634851 | S134: 0 | T134: =S134*H134 -> 0 | AR134: 4 | AT134: K | AU134: 2 | AY134: ROZPOCET | BE134: =IF(N134="základná",J134,0) -> 0 | BF134: =IF(N134="znížená",J134,0) -> 0 | BG134: =IF(N134="zákl. prenesená",J134,0) -> 0 | BH134: =IF(N134="zníž. prenesená",J134,0) -> 0 | BI134: =IF(N134="nulová",J134,0) -> 0 | BJ134: 2 | BK134: =ROUND(I134*H134,3) -> 0 | BL134: 4 | BM134: -1256965768
C135: 10 | D135: M | E135: 592170002100 | F135: Obrubník PREMAC cestný, lxšxv 1000x100x200 mm, skosenie 15/15 mm | G135: ks | H135: 8.383 | J135: =ROUND(I135*H135,3) -> 0 | K135: CS CENEKON 2019 01 | N135: znížená | P135: =O135*H135 -> 0 | Q135: 0.048 | R135: =Q135*H135 -> 0.402384 | S135: 0 | T135: =S135*H135 -> 0 | AR135: 8 | AT135: M | AU135: 2 | AY135: ROZPOCET | BE135: =IF(N135="základná",J135,0) -> 0 | BF135: =IF(N135="znížená",J135,0) -> 0 | BG135: =IF(N135="zákl. prenesená",J135,0) -> 0 | BH135: =IF(N135="zníž. prenesená",J135,0) -> 0 | BI135: =IF(N135="nulová",J135,0) -> 0 | BJ135: 2 | BK135: =ROUND(I135*H135,3) -> 0 | BL135: 4 | BM135: 738207638
C136: 11 | D136: K | E136: 916362112 | F136: Osadenie cestného obrubníka betónového stojatého do lôžka z betónu prostého tr. C 16/20 s bočnou oporou | G136: m | H136: 12 | J136: =ROUND(I136*H136,3) -> 0 | K136: CS CENEKON 2019 01 | N136: znížená | P136: =O136*H136 -> 0 | Q136: 0.15113 | R136: =Q136*H136 -> 1.81356 | S136: 0 | T136: =S136*H136 -> 0 | AR136: 4 | AT136: K | AU136: 2 | AY136: ROZPOCET | BE136: =IF(N136="základná",J136,0) -> 0 | BF136: =IF(N136="znížená",J136,0) -> 0 | BG136: =IF(N136="zákl. prenesená",J136,0) -> 0 | BH136: =IF(N136="zníž. prenesená",J136,0) -> 0 | BI136: =IF(N136="nulová",J136,0) -> 0 | BJ136: 2 | BK136: =ROUND(I136*H136,3) -> 0 | BL136: 4 | BM136: -1289804666
C137: 12 | D137: M | E137: 592170002100 | F137: Obrubník PREMAC cestný, lxšxv 1000x100x200 mm, skosenie 15/15 mm | G137: ks | H137: 12.12 | J137: =ROUND(I137*H137,3) -> 0 | K137: CS CENEKON 2019 01 | N137: znížená | P137: =O137*H137 -> 0 | Q137: 0.048 | R137: =Q137*H137 -> 0.58176 | S137: 0 | T137: =S137*H137 -> 0 | AR137: 8 | AT137: M | AU137: 2 | AY137: ROZPOCET | BE137: =IF(N137="základná",J137,0) -> 0 | BF137: =IF(N137="znížená",J137,0) -> 0 | BG137: =IF(N137="zákl. prenesená",J137,0) -> 0 | BH137: =IF(N137="zníž. prenesená",J137,0) -> 0 | BI137: =IF(N137="nulová",J137,0) -> 0 | BJ137: 2 | BK137: =ROUND(I137*H137,3) -> 0 | BL137: 4 | BM137: -908019209
C138: 13 | D138: K | E138: 918101112 | F138: Lôžko pod obrubníky, krajníky alebo obruby z dlažobných kociek z betónu prostého tr. C 16/20 | G138: m3 | H138: 0.609 | J138: =ROUND(I138*H138,3) -> 0 | K138: CS CENEKON 2019 01 | N138: znížená | P138: =O138*H138 -> 0 | Q138: 2.21513 | R138: =Q138*H138 -> 1.3490142 | S138: 0 | T138: =S138*H138 -> 0 | AR138: 4 | AT138: K | AU138: 2 | AY138: ROZPOCET | BE138: =IF(N138="základná",J138,0) -> 0 | BF138: =IF(N138="znížená",J138,0) -> 0 | BG138: =IF(N138="zákl. prenesená",J138,0) -> 0 | BH138: =IF(N138="zníž. prenesená",J138,0) -> 0 | BI138: =IF(N138="nulová",J138,0) -> 0 | BJ138: 2 | BK138: =ROUND(I138*H138,3) -> 0 | BL138: 4 | BM138: 1641587809
C139: 14 | D139: K | E139: 919731122 | F139: Zarovnanie styčnej plochy pozdĺž vybúranej časti komunikácie asfaltovej hr. nad 50 do 100 mm | G139: m | H139: 8.3 | J139: =ROUND(I139*H139,3) -> 0 | K139: CS CENEKON 2019 01 | N139: znížená | P139: =O139*H139 -> 0 | Q139: 0 | R139: =Q139*H139 -> 0 | S139: 0 | T139: =S139*H139 -> 0 | AR139: 4 | AT139: K | AU139: 2 | AY139: ROZPOCET | BE139: =IF(N139="základná",J139,0) -> 0 | BF139: =IF(N139="znížená",J139,0) -> 0 | BG139: =IF(N139="zákl. prenesená",J139,0) -> 0 | BH139: =IF(N139="zníž. prenesená",J139,0) -> 0 | BI139: =IF(N139="nulová",J139,0) -> 0 | BJ139: 2 | BK139: =ROUND(I139*H139,3) -> 0 | BL139: 4 | BM139: 497503996
C140: 15 | D140: K | E140: 919735112 | F140: Rezanie existujúceho asfaltového krytu alebo podkladu hĺbky nad 50 do 100 mm | G140: m | H140: 8.3 | J140: =ROUND(I140*H140,3) -> 0 | K140: CS CENEKON 2019 01 | N140: znížená | P140: =O140*H140 -> 0 | Q140: 0 | R140: =Q140*H140 -> 0 | S140: 0 | T140: =S140*H140 -> 0 | AR140: 4 | AT140: K | AU140: 2 | AY140: ROZPOCET | BE140: =IF(N140="základná",J140,0) -> 0 | BF140: =IF(N140="znížená",J140,0) -> 0 | BG140: =IF(N140="zákl. prenesená",J140,0) -> 0 | BH140: =IF(N140="zníž. prenesená",J140,0) -> 0 | BI140: =IF(N140="nulová",J140,0) -> 0 | BJ140: 2 | BK140: =ROUND(I140*H140,3) -> 0 | BL140: 4 | BM140: -1879441675
C141: 16 | D141: K | E141: 979082212 | F141: Vodorovná doprava sutiny po suchu s naložením a so zložením na vzdialenosť do 50 m | G141: t | H141: 19.101 | J141: =ROUND(I141*H141,3) -> 0 | K141: CS CENEKON 2019 01 | N141: znížená | P141: =O141*H141 -> 0 | Q141: 0 | R141: =Q141*H141 -> 0 | S141: 0 | T141: =S141*H141 -> 0 | AR141: 4 | AT141: K | AU141: 2 | AY141: ROZPOCET | BE141: =IF(N141="základná",J141,0) -> 0 | BF141: =IF(N141="znížená",J141,0) -> 0 | BG141: =IF(N141="zákl. prenesená",J141,0) -> 0 | BH141: =IF(N141="zníž. prenesená",J141,0) -> 0 | BI141: =IF(N141="nulová",J141,0) -> 0 | BJ141: 2 | BK141: =ROUND(I141*H141,3) -> 0 | BL141: 4 | BM141: -206216975
C142: 17 | D142: K | E142: 979082213 | F142: Vodorovná doprava sutiny so zložením a hrubým urovnaním na vzdialenosť do 1 km | G142: t | H142: 19.101 | J142: =ROUND(I142*H142,3) -> 0 | K142: CS CENEKON 2019 01 | N142: znížená | P142: =O142*H142 -> 0 | Q142: 0 | R142: =Q142*H142 -> 0 | S142: 0 | T142: =S142*H142 -> 0 | AR142: 4 | AT142: K | AU142: 2 | AY142: ROZPOCET | BE142: =IF(N142="základná",J142,0) -> 0 | BF142: =IF(N142="znížená",J142,0) -> 0 | BG142: =IF(N142="zákl. prenesená",J142,0) -> 0 | BH142: =IF(N142="zníž. prenesená",J142,0) -> 0 | BI142: =IF(N142="nulová",J142,0) -> 0 | BJ142: 2 | BK142: =ROUND(I142*H142,3) -> 0 | BL142: 4 | BM142: 173232149
C143: 18 | D143: K | E143: 979082219 | F143: Príplatok k cene za každý ďalší aj začatý 1 km nad 1 km pre vodorovnú dopravu sutiny | G143: t | H143: 19.101 | J143: =ROUND(I143*H143,3) -> 0 | K143: CS CENEKON 2019 01 | N143: znížená | P143: =O143*H143 -> 0 | Q143: 0 | R143: =Q143*H143 -> 0 | S143: 0 | T143: =S143*H143 -> 0 | AR143: 4 | AT143: K | AU143: 2 | AY143: ROZPOCET | BE143: =IF(N143="základná",J143,0) -> 0 | BF143: =IF(N143="znížená",J143,0) -> 0 | BG143: =IF(N143="zákl. prenesená",J143,0) -> 0 | BH143: =IF(N143="zníž. prenesená",J143,0) -> 0 | BI143: =IF(N143="nulová",J143,0) -> 0 | BJ143: 2 | BK143: =ROUND(I143*H143,3) -> 0 | BL143: 4 | BM143: 659106041
C144: 19 | D144: K | E144: 979089012 | F144: Poplatok za skladovanie - betón, tehly, dlaždice (17 01 ), ostatné | G144: t | H144: 19.101 | J144: =ROUND(I144*H144,3) -> 0 | K144: CS CENEKON 2019 01 | N144: znížená | P144: =O144*H144 -> 0 | Q144: 0 | R144: =Q144*H144 -> 0 | S144: 0 | T144: =S144*H144 -> 0 | AR144: 4 | AT144: K | AU144: 2 | AY144: ROZPOCET | BE144: =IF(N144="základná",J144,0) -> 0 | BF144: =IF(N144="znížená",J144,0) -> 0 | BG144: =IF(N144="zákl. prenesená",J144,0) -> 0 | BH144: =IF(N144="zníž. prenesená",J144,0) -> 0 | BI144: =IF(N144="nulová",J144,0) -> 0 | BJ144: 2 | BK144: =ROUND(I144*H144,3) -> 0 | BL144: 4 | BM144: 1093580770
D145: D | E145: 99 | F145: Presun hmôt HSV | J145: =BK145 -> 0 | P145: =P146 -> 0 | R145: =R146 -> 0 | T145: =T146 -> 0 | AR145: 1 | AT145: D | AU145: 1 | AY145: ROZPOCET | BK145: =BK146 -> 0
C146: 20 | D146: K | E146: 998223011 | F146: Presun hmôt pre pozemné komunikácie s krytom dláždeným (822 2.3, 822 5.3) akejkoľvek dĺžky objektu | G146: t | H146: 30.834 | J146: =ROUND(I146*H146,3) -> 0 | K146: CS CENEKON 2019 01 | N146: znížená | P146: =O146*H146 -> 0 | Q146: 0 | R146: =Q146*H146 -> 0 | S146: 0 | T146: =S146*H146 -> 0 | AR146: 4 | AT146: K | AU146: 2 | AY146: ROZPOCET | BE146: =IF(N146="základná",J146,0) -> 0 | BF146: =IF(N146="znížená",J146,0) -> 0 | BG146: =IF(N146="zákl. prenesená",J146,0) -> 0 | BH146: =IF(N146="zníž. prenesená",J146,0) -> 0 | BI146: =IF(N146="nulová",J146,0) -> 0 | BJ146: 2 | BK146: =ROUND(I146*H146,3) -> 0 | BL146: 4 | BM146: 62466927
