Workbook

Sheet Rekapitulácia stavby
A1: 2012 | D1: Hárok obsahuje: | K1: 1) Súhrnný list stavby | W1: 2) Rekapitulácia objektov | BA1: 2.0 | BT1: False | BU1: False
C2: optimalizované pre tlač zostáv vo formáte A4 - na výšku | AR2: >> skryté stĺpce << | BS2: 0,001 | BT2: 20
BS3: 0,001 | BT3: 20
C4: SÚHRNNÝ LIST STAVBY | AS4: v --- nižšie sa nachádzajú doplnkové a pomocné údaje k zostavám --- v | BE4: Návod na vyplnenie | BS4: 0,001
D5: Kód: | K5: 2019-001 | BE5: Meniť je možné iba bunky so žltým podfarbením!_x000D_ _x000D_ 1) na prvom liste Rekapitulácie stavby vyplňte v zostave_x000D_ _x000D_ a) Súhrnný list_x000D_ - údaje o Zhotoviteľovi_x000D_ (prenesú sa do ostatných zostáv aj v iných listoch)_x000D_ _x000D_ b) Rekapitulácia objektov_x000D_ - potrebné Ostatné náklady_x000D_ _x000D_ 2) na vybraných listoch vyplňte v zostave_x000D_ _x000D_ a) Krycí list_x000D_ - údaje o Zhotoviteľovi, pokiaľ sa líšia od údajov o Zhotoviteľovi na Súhrnnom liste_x000D_ (údaje se prenesú do ostatných zostav v danom liste)_x000D_ _x000D_ b) Rekapitulácia rozpočtu_x000D_ - potrebné Ostatné náklady_x000D_ _x000D_ c) Celkové náklady za stavbu_x000D_ - ceny na položkách_x000D_ - množstvo, pokiaľ má žlté podfarbenie_x000D_ - a v prípade potreby poznámku (tá je v skrytom stĺpci) | BS5: 0,001
D6: Stavba: | K6: Rekonštrukcia verejného osvetlenia na ul. Záhradnícka a Bezručova | BS6: 0,001
D7: JKSO: | AK7: KS: | BS7: 0,001
D8: Miesto: | AK8: Dátum: | AN8: 22. 1. 2019 | BS8: 0,001
BS9: 0,001
D10: Objednávateľ: | AK10: IČO: | BS10: 0,001
E11: Mesto Partizánske | AK11: IČO DPH: | BS11: 0,001
BS12: 0,001
D13: Zhotoviteľ: | AK13: IČO: | AN13: Vyplň údaj | BS13: 0,001
E14: Vyplň údaj | AK14: IČO DPH: | AN14: Vyplň údaj | BS14: 0,001
BS15: False
D16: Projektant: | AK16: IČO: | BS16: False
AK17: IČO DPH: | BS17: True
BS18: 0,01
D19: Spracovateľ: | AK19: IČO: | BS19: 0,01
AK20: IČO DPH:
D22: Poznámka:
D26: Náklady z rozpočtov | AK26: =ROUND(AG87,2) -> 0
D27: Ostatné náklady zo súhrnného listu | AK27: =ROUND(AG90,2) -> 0
D29: Cena bez DPH | AK29: =ROUND(AK26+AK27,2) -> 0
D31: DPH | F31: základná | L31: 0.2 | T31: z | W31: =ROUND(AZ87+SUM(CD91:CD95),2) -> 0 | AK31: =ROUND(AV87+SUM(BY91:BY95),2) -> 0
F32: znížená | L32: 0.2 | T32: z | W32: =ROUND(BA87+SUM(CE91:CE95),2) -> 0 | AK32: =ROUND(AW87+SUM(BZ91:BZ95),2) -> 0
F33: zákl. prenesená | L33: 0.2 | T33: z | W33: =ROUND(BB87+SUM(CF91:CF95),2) -> 0 | AK33: 0
F34: zníž. prenesená | L34: 0.2 | T34: z | W34: =ROUND(BC87+SUM(CG91:CG95),2) -> 0 | AK34: 0
F35: nulová | L35: 0 | T35: z | W35: =ROUND(BD87+SUM(CH91:CH95),2) -> 0 | AK35: 0
D37: Cena s DPH | T37: v | X37: EUR | AK37: =SUM(AK29:AK35) -> 0
D49: Projektant | AC49: Spracovateľ
D58: Dátum a podpis: | R58: Pečiatka | AC58: Dátum a podpis: | AM58: Pečiatka
D60: Objednávateľ | AC60: Zhotoviteľ
D69: Dátum a podpis: | R69: Pečiatka | AC69: Dátum a podpis: | AM69: Pečiatka
C76: REKAPITULÁCIA OBJEKTOV STAVBY
C77: Kód: | L77: =K5 -> 2019-001
C78: Stavba: | L78: =K6 -> Rekonštrukcia verejného osvetlenia na ul. Záhradnícka a Bezručova
C80: Miesto: | L80: =IF(K8="","",K8) | AI80: Dátum: | AM80: =IF(AN8= "","",AN8) -> 22. 1. 2019
C82: Objednávateľ: | L82: =IF(E11= "","",E11) -> Mesto Partizánske | AI82: Projektant: | AM82: =IF(E17="","",E17) | AS82: Informatívne údaje z listov zákaziek
C83: Zhotoviteľ: | L83: =IF(E14= "Vyplň údaj","",E14) | AI83: Spracovateľ: | AM83: =IF(E20="","",E20)
C85: Kód | I85: Objekt | AG85: Cena bez DPH [EUR] | AN85: Cena s DPH [EUR] | AS85: z toho Ostat._x000D_ náklady [EUR] | AT85: DPH [EUR] | AU85: Normohodiny [h] | AV85: DPH základná [EUR] | AW85: DPH znížená [EUR] | AX85: DPH základná prenesená_x000D_ [EUR] | AY85: DPH znížená prenesená_x000D_ [EUR] | AZ85: Základňa_x000D_ DPH základná | BA85: Základňa_x000D_ DPH znížená | BB85: Základňa_x000D_ DPH zákl. prenesená | BC85: Základňa_x000D_ DPH zníž. prenesená | BD85: Základňa_x000D_ DPH nulová
C87: 1) Náklady z rozpočtov | AG87: =ROUND(AG88,2) -> 0 | AN87: =SUM(AG87,AT87) -> 0 | AS87: =ROUND(AS88,2) -> 0 | AT87: =ROUND(SUM(AV87:AW87),2) -> 0 | AU87: =ROUND(AU88,5) -> 0 | AV87: =ROUND(AZ87*L31,2) -> 0 | AW87: =ROUND(BA87*L32,2) -> 0 | AX87: =ROUND(BB87*L31,2) -> 0 | AY87: =ROUND(BC87*L32,2) -> 0 | AZ87: =ROUND(AZ88,2) -> 0 | BA87: =ROUND(BA88,2) -> 0 | BB87: =ROUND(BB88,2) -> 0 | BC87: =ROUND(BC88,2) -> 0 | BD87: =ROUND(BD88,2) -> 0 | BS87: D | BT87: 0 | BV87: IMPORT | BW87: {5da93953-d20b-4ec1-bc43-06f2fe3d056e} | BX87: {00000000-0000-0000-0000-000000000000}
A88: / | D88: 2019-001 | J88: Rekonštrukcia verejného osvetlenia na ul. Záhradnícka a Bezručova | AG88: ='2019-001 - Rekonštrukcia ...'!M29 -> 0 | AN88: =SUM(AG88,AT88) -> 0 | AS88: ='2019-001 - Rekonštrukcia ...'!M27 -> 0 | AT88: =ROUND(SUM(AV88:AW88),2) -> 0 | AU88: ='2019-001 - Rekonštrukcia ...'!W121 -> 0 | AV88: ='2019-001 - Rekonštrukcia ...'!M31 -> 0 | AW88: ='2019-001 - Rekonštrukcia ...'!M32 -> 0 | AX88: ='2019-001 - Rekonštrukcia ...'!M33 -> 0 | AY88: ='2019-001 - Rekonštrukcia ...'!M34 -> 0 | AZ88: ='2019-001 - Rekonštrukcia ...'!H31 -> 0 | BA88: ='2019-001 - Rekonštrukcia ...'!H32 -> 0 | BB88: ='2019-001 - Rekonštrukcia ...'!H33 -> 0 | BC88: ='2019-001 - Rekonštrukcia ...'!H34 -> 0 | BD88: ='2019-001 - Rekonštrukcia ...'!H35 -> 0 | BT88: 1 | BU88: ###NOINSERT### | BV88: IMPORT | BW88: {5da93953-d20b-4ec1-bc43-06f2fe3d056e} | BX88: {00000000-0000-0000-0000-000000000000}
C90: 2) Ostatné náklady zo súhrnného listu | AG90: =ROUND(SUM(AG91:AG94),2) -> 0 | AN90: =ROUND(SUM(AN91:AN94),2) -> 0 | AS90: Percent. zadanie_x000D_ [% nákladov rozpočtu] | AT90: Zaradenie nákladov | AU90: DPH | AV90: DPH [EUR]
D91: Ostatné náklady | AG91: =ROUND(AG87*AS91,2) -> 0 | AN91: =ROUND(AG91+AV91,2) -> 0 | AS91: 0 | AT91: stavebná časť | AU91: základná | AV91: =ROUND(IF(AU91="základná",AG91*L31,IF(AU91="znížená",AG91*L32,0)),2) -> 0 | BV91: OSTATNENAKLADY | BY91: =IF(AU91="základná",AV91,0) -> 0 | BZ91: =IF(AU91="znížená",AV91,0) -> 0 | CA91: 0 | CB91: 0 | CC91: 0 | CD91: =IF(AU91="základná",AG91,0) -> 0 | CE91: =IF(AU91="znížená",AG91,0) -> 0 | CF91: =IF(AU91="zákl. prenesená",AG91,0) -> 0 | CG91: =IF(AU91="zníž. prenesená",AG91,0) -> 0 | CH91: =IF(AU91="nulová",AG91,0) -> 0 | CI91: =IF(AU91="základná",1,IF(AU91="znížená",2,IF(AU91="zákl. prenesená",4,IF(AU91="zníž. prenesená",5,3)))) -> 1 | CJ91: =IF(AT91="stavebná časť",1,IF(8891="investičná časť",2,3)) -> 1 | CK91: =IF(D91="Vyplň vlastné","","x") -> x
D92: Vyplň vlastné | AG92: =AG87*AS92 -> 0 | AN92: =AG92+AV92 -> 0 | AS92: 0 | AT92: stavebná časť | AU92: základná | AV92: =ROUND(IF(AU92="nulová",0,IF(OR(AU92="základná",AU92="zákl. prenesená"),AG92*L31,AG92*L32)),2) -> 0 | BV92: OSTATNENAKLADYVLASTNE | BY92: =IF(AU92="základná",AV92,0) -> 0 | BZ92: =IF(AU92="znížená",AV92,0) -> 0 | CA92: =IF(AU92="zákl. prenesená",AV92,0) -> 0 | CB92: =IF(AU92="zníž. prenesená",AV92,0) -> 0 | CC92: =IF(AU92="nulová",AV92,0) -> 0 | CD92: =IF(AU92="základná",AG92,0) -> 0 | CE92: =IF(AU92="znížená",AG92,0) -> 0 | CF92: =IF(AU92="zákl. prenesená",AG92,0) -> 0 | CG92: =IF(AU92="zníž. prenesená",AG92,0) -> 0 | CH92: =IF(AU92="nulová",AG92,0) -> 0 | CI92: =IF(AU92="základná",1,IF(AU92="znížená",2,IF(AU92="zákl. prenesená",4,IF(AU92="zníž. prenesená",5,3)))) -> 1 | CJ92: =IF(AT92="stavebná časť",1,IF(8892="investičná časť",2,3)) -> 1 | CK92: =IF(D92="Vyplň vlastné","","x")
D93: Vyplň vlastné | AG93: =AG87*AS93 -> 0 | AN93: =AG93+AV93 -> 0 | AS93: 0 | AT93: stavebná časť | AU93: základná | AV93: =ROUND(IF(AU93="nulová",0,IF(OR(AU93="základná",AU93="zákl. prenesená"),AG93*L31,AG93*L32)),2) -> 0 | BV93: OSTATNENAKLADYVLASTNE | BY93: =IF(AU93="základná",AV93,0) -> 0 | BZ93: =IF(AU93="znížená",AV93,0) -> 0 | CA93: =IF(AU93="zákl. prenesená",AV93,0) -> 0 | CB93: =IF(AU93="zníž. prenesená",AV93,0) -> 0 | CC93: =IF(AU93="nulová",AV93,0) -> 0 | CD93: =IF(AU93="základná",AG93,0) -> 0 | CE93: =IF(AU93="znížená",AG93,0) -> 0 | CF93: =IF(AU93="zákl. prenesená",AG93,0) -> 0 | CG93: =IF(AU93="zníž. prenesená",AG93,0) -> 0 | CH93: =IF(AU93="nulová",AG93,0) -> 0 | CI93: =IF(AU93="základná",1,IF(AU93="znížená",2,IF(AU93="zákl. prenesená",4,IF(AU93="zníž. prenesená",5,3)))) -> 1 | CJ93: =IF(AT93="stavebná časť",1,IF(8893="investičná časť",2,3)) -> 1 | CK93: =IF(D93="Vyplň vlastné","","x")
D94: Vyplň vlastné | AG94: =AG87*AS94 -> 0 | AN94: =AG94+AV94 -> 0 | AS94: 0 | AT94: stavebná časť | AU94: základná | AV94: =ROUND(IF(AU94="nulová",0,IF(OR(AU94="základná",AU94="zákl. prenesená"),AG94*L31,AG94*L32)),2) -> 0 | BV94: OSTATNENAKLADYVLASTNE | BY94: =IF(AU94="základná",AV94,0) -> 0 | BZ94: =IF(AU94="znížená",AV94,0) -> 0 | CA94: =IF(AU94="zákl. prenesená",AV94,0) -> 0 | CB94: =IF(AU94="zníž. prenesená",AV94,0) -> 0 | CC94: =IF(AU94="nulová",AV94,0) -> 0 | CD94: =IF(AU94="základná",AG94,0) -> 0 | CE94: =IF(AU94="znížená",AG94,0) -> 0 | CF94: =IF(AU94="zákl. prenesená",AG94,0) -> 0 | CG94: =IF(AU94="zníž. prenesená",AG94,0) -> 0 | CH94: =IF(AU94="nulová",AG94,0) -> 0 | CI94: =IF(AU94="základná",1,IF(AU94="znížená",2,IF(AU94="zákl. prenesená",4,IF(AU94="zníž. prenesená",5,3)))) -> 1 | CJ94: =IF(AT94="stavebná časť",1,IF(8894="investičná časť",2,3)) -> 1 | CK94: =IF(D94="Vyplň vlastné","","x")
C96: Celkové náklady za stavbu 1) + 2) | AG96: =ROUND(AG87+AG90,2) -> 0 | AN96: =AN87+AN90 -> 0

Sheet 2019-001 - Rekonštrukcia ...
D1: Hárok obsahuje: | F1: 1) Krycí list rozpočtu | H1: 2) Rekapitulácia rozpočtu | L1: 3) Rozpočet | O1: Späť na hárok: | S1: Rekapitulácia stavby
C2: optimalizované pre tlač zostáv vo formáte A4 - na výšku | S2: >> skryté stĺpce << | AT2: {5da93953-d20b-4ec1-bc43-06f2fe3d056e}
AT3: 0
C4: KRYCÍ LIST ROZPOČTU | T4: v --- nižšie sa nachádzajú doplnkové a pomocné údaje k zostavám --- v | AT4: False
D6: Stavba: | F6: Rekonštrukcia verejného osvetlenia na ul. Záhradnícka a Bezručova
D7: JKSO: | M7: KS:
D8: Miesto: | M8: Dátum: | O8: ='Rekapitulácia stavby'!AN8 -> 22. 1. 2019
D10: Objednávateľ: | M10: IČO:
E11: Mesto Partizánske | M11: IČO DPH:
D13: Zhotoviteľ: | M13: IČO: | O13: =IF('Rekapitulácia stavby'!AN13="","",'Rekapitulácia stavby'!AN13) -> Vyplň údaj
E14: =IF('Rekapitulácia stavby'!E14="","",'Rekapitulácia stavby'!E14) -> Vyplň údaj | M14: IČO DPH: | O14: =IF('Rekapitulácia stavby'!AN14="","",'Rekapitulácia stavby'!AN14) -> Vyplň údaj
D16: Projektant: | M16: IČO: | O16: =IF('Rekapitulácia stavby'!AN16="","",'Rekapitulácia stavby'!AN16)
E17: =IF('Rekapitulácia stavby'!E17="","",'Rekapitulácia stavby'!E17) | M17: IČO DPH: | O17: =IF('Rekapitulácia stavby'!AN17="","",'Rekapitulácia stavby'!AN17)
D19: Spracovateľ: | M19: IČO: | O19: =IF('Rekapitulácia stavby'!AN19="","",'Rekapitulácia stavby'!AN19)
E20: =IF('Rekapitulácia stavby'!E20="","",'Rekapitulácia stavby'!E20) | M20: IČO DPH: | O20: =IF('Rekapitulácia stavby'!AN20="","",'Rekapitulácia stavby'!AN20)
D22: Poznámka:
D26: Náklady z rozpočtu | M26: =N87 -> 0
D27: Ostatné náklady | M27: =N97 -> 0
D29: Cena bez DPH | M29: =ROUND(M26+M27,2) -> 0
D31: DPH | E31: základná | F31: 0.2 | G31: z | H31: =ROUND((((SUM(BE97:BE104)+SUM(BE121:BE185))+SUM(BE187:BE191))),2) -> 0 | M31: =ROUND(((ROUND((SUM(BE97:BE104)+SUM(BE121:BE185)), 2)*F31)+SUM(BE187:BE191)*F31),2) -> 0
E32: znížená | F32: 0.2 | G32: z | H32: =ROUND((((SUM(BF97:BF104)+SUM(BF121:BF185))+SUM(BF187:BF191))),2) -> 0 | M32: =ROUND(((ROUND((SUM(BF97:BF104)+SUM(BF121:BF185)), 2)*F32)+SUM(BF187:BF191)*F32),2) -> 0
E33: zákl. prenesená | F33: 0.2 | G33: z | H33: =ROUND((((SUM(BG97:BG104)+SUM(BG121:BG185))+SUM(BG187:BG191))),2) -> 0 | M33: 0
E34: zníž. prenesená | F34: 0.2 | G34: z | H34: =ROUND((((SUM(BH97:BH104)+SUM(BH121:BH185))+SUM(BH187:BH191))),2) -> 0 | M34: 0
E35: nulová | F35: 0 | G35: z | H35: =ROUND((((SUM(BI97:BI104)+SUM(BI121:BI185))+SUM(BI187:BI191))),2) -> 0 | M35: 0
D37: Cena s DPH | G37: v | H37: EUR | L37: =SUM(M29:M35) -> 0
D50: Projektant | J50: Spracovateľ
D59: Dátum a podpis: | G59: Pečiatka | J59: Dátum a podpis: | N59: Pečiatka
D61: Objednávateľ | J61: Zhotoviteľ
D70: Dátum a podpis: | G70: Pečiatka | J70: Dátum a podpis: | N70: Pečiatka
C76: REKAPITULÁCIA ROZPOČTU
C78: Stavba: | F78: =F6 -> Rekonštrukcia verejného osvetlenia na ul. Záhradnícka a Bezručova
C80: Miesto: | F80: =F8 | K80: Dátum: | M80: =IF(O8="","",O8) -> 22. 1. 2019
C82: Objednávateľ: | F82: =E11 -> Mesto Partizánske | K82: Projektant: | M82: =E17
C83: Zhotoviteľ: | F83: =IF(E14="","",E14) -> Vyplň údaj | K83: Spracovateľ: | M83: =E20
C85: Kód - Popis | N85: Cena celkom [EUR]
C87: 1) Náklady z rozpočtu | N87: =N121 -> 0 | AU87: -1
D88: HSV - Práce a dodávky HSV | N88: =N122 -> 0
D89: 2 - Zakladanie | N89: =N123 -> 0
D90: M - Práce a dodávky M | N90: =N126 -> 0
D91: 21-M - Elektromontáže | N91: =N127 -> 0
D92: 46-M - Zemné práce pri extr.mont.prácach | N92: =N162 -> 0
D93: HZS - Hodinové zúčtovacie sadzby | N93: =N176 -> 0
D94: OST - Ostatné | N94: =N181 -> 0
D95: VP - Práce naviac | N95: =N186 -> 0
C97: 2) Ostatné náklady | N97: =ROUND(N98+N99+N100+N101+N102+N103,2) -> 0 | U97: DPH
D98: GZS | N98: =ROUND(N87*T98,2) -> 0 | U98: znížená | AY98: VRN | BE98: =IF(U98="základná",N98,0) -> 0 | BF98: =IF(U98="znížená",N98,0) -> 0 | BG98: =IF(U98="zákl. prenesená",N98,0) -> 0 | BH98: =IF(U98="zníž. prenesená",N98,0) -> 0 | BI98: =IF(U98="nulová",N98,0) -> 0 | BJ98: 2
D99: Projektové práce | N99: =ROUND(N87*T99,2) -> 0 | U99: znížená | AY99: VRN | BE99: =IF(U99="základná",N99,0) -> 0 | BF99: =IF(U99="znížená",N99,0) -> 0 | BG99: =IF(U99="zákl. prenesená",N99,0) -> 0 | BH99: =IF(U99="zníž. prenesená",N99,0) -> 0 | BI99: =IF(U99="nulová",N99,0) -> 0 | BJ99: 2
D100: Sťažené podmienky | N100: =ROUND(N87*T100,2) -> 0 | U100: znížená | AY100: VRN | BE100: =IF(U100="základná",N100,0) -> 0 | BF100: =IF(U100="znížená",N100,0) -> 0 | BG100: =IF(U100="zákl. prenesená",N100,0) -> 0 | BH100: =IF(U100="zníž. prenesená",N100,0) -> 0 | BI100: =IF(U100="nulová",N100,0) -> 0 | BJ100: 2
D101: Vplyv prostredia | N101: =ROUND(N87*T101,2) -> 0 | U101: znížená | AY101: VRN | BE101: =IF(U101="základná",N101,0) -> 0 | BF101: =IF(U101="znížená",N101,0) -> 0 | BG101: =IF(U101="zákl. prenesená",N101,0) -> 0 | BH101: =IF(U101="zníž. prenesená",N101,0) -> 0 | BI101: =IF(U101="nulová",N101,0) -> 0 | BJ101: 2
D102: Iné VRN | N102: =ROUND(N87*T102,2) -> 0 | U102: znížená | AY102: VRN | BE102: =IF(U102="základná",N102,0) -> 0 | BF102: =IF(U102="znížená",N102,0) -> 0 | BG102: =IF(U102="zákl. prenesená",N102,0) -> 0 | BH102: =IF(U102="zníž. prenesená",N102,0) -> 0 | BI102: =IF(U102="nulová",N102,0) -> 0 | BJ102: 2
D103: Kompletačná činnosť | N103: =ROUND(N87*T103,2) -> 0 | U103: znížená | AY103: KOMPLETACNA | BE103: =IF(U103="základná",N103,0) -> 0 | BF103: =IF(U103="znížená",N103,0) -> 0 | BG103: =IF(U103="zákl. prenesená",N103,0) -> 0 | BH103: =IF(U103="zníž. prenesená",N103,0) -> 0 | BI103: =IF(U103="nulová",N103,0) -> 0 | BJ103: 2
C105: Celkové náklady za stavbu 1) + 2) | L105: =ROUND(SUM(N87+N97),2) -> 0
C111: ROZPOČET
C113: Stavba: | F113: =F6 -> Rekonštrukcia verejného osvetlenia na ul. Záhradnícka a Bezručova
C115: Miesto: | F115: =F8 | K115: Dátum: | M115: =IF(O8="","",O8) -> 22. 1. 2019
C117: Objednávateľ: | F117: =E11 -> Mesto Partizánske | K117: Projektant: | M117: =E17
C118: Zhotoviteľ: | F118: =IF(E14="","",E14) -> Vyplň údaj | K118: Spracovateľ: | M118: =E20
C120: PČ | D120: Typ | E120: Kód | F120: Popis | J120: MJ | K120: Množstvo | L120: J.cena [EUR] | N120: Cena celkom [EUR] | T120: Poznámka | U120: DPH | V120: J. Nh [h] | W120: Nh celkom [h] | X120: J. hmotnosť_x000D_ [t] | Y120: Hmotnosť_x000D_ celkom [t] | Z120: J. suť [t] | AA120: Suť Celkom [t]
C121: Náklady z rozpočtu | N121: =BK121 -> 0 | W121: =W122+W126+W176+W181+W186 -> 0 | Y121: =Y122+Y126+Y176+Y181+Y186 -> 31.16493 | AA121: =AA122+AA126+AA176+AA181+AA186 -> 0 | AT121: D | AU121: -1 | BK121: =BK122+BK126+BK176+BK181+BK186 -> 0
D122: HSV - Práce a dodávky HSV | N122: =BK122 -> 0 | W122: =W123 -> 0 | Y122: =Y123 -> 0.13024 | AA122: =AA123 -> 0 | AR122: 1 | AT122: D | AU122: 0 | AY122: ROZPOCET | BK122: =BK123 -> 0
D123: 2 - Zakladanie | N123: =BK123 -> 0 | W123: =SUM(W124:W125) -> 0 | Y123: =SUM(Y124:Y125) -> 0.13024 | AA123: =SUM(AA124:AA125) -> 0 | AR123: 1 | AT123: D | AU123: 1 | AY123: ROZPOCET | BK123: =SUM(BK124:BK125) -> 0
C124: 1 | D124: K | E124: 275351217 | F124: Debnenie základových pätiek, zhotovenie-tradičné | J124: m2 | K124: 32 | L124: 0 | N124: =ROUND(L124*K124,3) -> 0 | U124: znížená | W124: =V124*K124 -> 0 | X124: 0.00407 | Y124: =X124*K124 -> 0.13024 | Z124: 0 | AA124: =Z124*K124 -> 0 | AR124: 4 | AT124: K | AU124: 2 | AY124: ROZPOCET | BE124: =IF(U124="základná",N124,0) -> 0 | BF124: =IF(U124="znížená",N124,0) -> 0 | BG124: =IF(U124="zákl. prenesená",N124,0) -> 0 | BH124: =IF(U124="zníž. prenesená",N124,0) -> 0 | BI124: =IF(U124="nulová",N124,0) -> 0 | BJ124: 2 | BK124: =ROUND(L124*K124,3) -> 0 | BL124: 4 | BM124: -1394177574
C125: 2 | D125: K | E125: 275351218 | F125: Debnenie základových pätiek, odstránenie-tradičné | J125: m2 | K125: 32 | L125: 0 | N125: =ROUND(L125*K125,3) -> 0 | U125: znížená | W125: =V125*K125 -> 0 | X125: 0 | Y125: =X125*K125 -> 0 | Z125: 0 | AA125: =Z125*K125 -> 0 | AR125: 4 | AT125: K | AU125: 2 | AY125: ROZPOCET | BE125: =IF(U125="základná",N125,0) -> 0 | BF125: =IF(U125="znížená",N125,0) -> 0 | BG125: =IF(U125="zákl. prenesená",N125,0) -> 0 | BH125: =IF(U125="zníž. prenesená",N125,0) -> 0 | BI125: =IF(U125="nulová",N125,0) -> 0 | BJ125: 2 | BK125: =ROUND(L125*K125,3) -> 0 | BL125: 4 | BM125: 1702873726
D126: M - Práce a dodávky M | N126: =BK126 -> 0 | W126: =W127+W162 -> 0 | Y126: =Y127+Y162 -> 30.28229 | AA126: =AA127+AA162 -> 0 | AR126: 3 | AT126: D | AU126: 0 | AY126: ROZPOCET | BK126: =BK127+BK162 -> 0
D127: 21-M - Elektromontáže | N127: =BK127 -> 0 | W127: =SUM(W128:W161) -> 0 | Y127: =SUM(Y128:Y161) -> 4.62029 | AA127: =SUM(AA128:AA161) -> 0 | AR127: 3 | AT127: D | AU127: 1 | AY127: ROZPOCET | BK127: =SUM(BK128:BK161) -> 0
C128: 3 | D128: K | E128: 210040011 | F128: Rúrkový oceľový stožiar dľžky 9-12 m, vrátane rozvozu, vztýčenia, očíslovania, zloženia ,ale bez výstroja | J128: ks | K128: 20 | L128: 0 | N128: =ROUND(L128*K128,3) -> 0 | U128: znížená | W128: =V128*K128 -> 0 | X128: 0 | Y128: =X128*K128 -> 0 | Z128: 0 | AA128: =Z128*K128 -> 0 | AR128: 64 | AT128: K | AU128: 2 | AY128: ROZPOCET | BE128: =IF(U128="základná",N128,0) -> 0 | BF128: =IF(U128="znížená",N128,0) -> 0 | BG128: =IF(U128="zákl. prenesená",N128,0) -> 0 | BH128: =IF(U128="zníž. prenesená",N128,0) -> 0 | BI128: =IF(U128="nulová",N128,0) -> 0 | BJ128: 2 | BK128: =ROUND(L128*K128,3) -> 0 | BL128: 64 | BM128: 1983485285
C129: 4 | D129: M | E129: 3160103700 | F129: Stožiar ST-RSV80-100 pozinkovaný (ekvivalent) | J129: ks | K129: 20 | L129: 0 | N129: =ROUND(L129*K129,3) -> 0 | U129: znížená | W129: =V129*K129 -> 0 | X129: 0.17397 | Y129: =X129*K129 -> 3.4794 | Z129: 0 | AA129: =Z129*K129 -> 0 | AR129: 256 | AT129: M | AU129: 2 | AY129: ROZPOCET | BE129: =IF(U129="základná",N129,0) -> 0 | BF129: =IF(U129="znížená",N129,0) -> 0 | BG129: =IF(U129="zákl. prenesená",N129,0) -> 0 | BH129: =IF(U129="zníž. prenesená",N129,0) -> 0 | BI129: =IF(U129="nulová",N129,0) -> 0 | BJ129: 2 | BK129: =ROUND(L129*K129,3) -> 0 | BL129: 64 | BM129: -21627590
C130: 5 | D130: M | E130: 01 | F130: Elektrická výzbroj ROSA TB-1 | J130: ks | K130: 20 | L130: 0 | N130: =ROUND(L130*K130,3) -> 0 | U130: znížená | W130: =V130*K130 -> 0 | X130: 0 | Y130: =X130*K130 -> 0 | Z130: 0 | AA130: =Z130*K130 -> 0 | AR130: 256 | AT130: M | AU130: 2 | AY130: ROZPOCET | BE130: =IF(U130="základná",N130,0) -> 0 | BF130: =IF(U130="znížená",N130,0) -> 0 | BG130: =IF(U130="zákl. prenesená",N130,0) -> 0 | BH130: =IF(U130="zníž. prenesená",N130,0) -> 0 | BI130: =IF(U130="nulová",N130,0) -> 0 | BJ130: 2 | BK130: =ROUND(L130*K130,3) -> 0 | BL130: 64 | BM130: -1726300212
C131: 6 | D131: K | E131: 210100252 | F131: Ukončenie celoplastových káblov zmrašť. záklopkou alebo páskou do 4 x 25 mm2 | J131: ks | K131: 38 | L131: 0 | N131: =ROUND(L131*K131,3) -> 0 | U131: znížená | W131: =V131*K131 -> 0 | X131: 0 | Y131: =X131*K131 -> 0 | Z131: 0 | AA131: =Z131*K131 -> 0 | AR131: 64 | AT131: K | AU131: 2 | AY131: ROZPOCET | BE131: =IF(U131="základná",N131,0) -> 0 | BF131: =IF(U131="znížená",N131,0) -> 0 | BG131: =IF(U131="zákl. prenesená",N131,0) -> 0 | BH131: =IF(U131="zníž. prenesená",N131,0) -> 0 | BI131: =IF(U131="nulová",N131,0) -> 0 | BJ131: 2 | BK131: =ROUND(L131*K131,3) -> 0 | BL131: 64 | BM131: -829868699
C132: 7 | D132: M | E132: 2830165500 | F132: Zmršťovacia káblová koncovka 4 x 6 - 4 x 25 mm2 typ: VE3512 | J132: ks | K132: 38 | L132: 0 | N132: =ROUND(L132*K132,3) -> 0 | U132: znížená | W132: =V132*K132 -> 0 | X132: 6e-05 | Y132: =X132*K132 -> 0.00228 | Z132: 0 | AA132: =Z132*K132 -> 0 | AR132: 256 | AT132: M | AU132: 2 | AY132: ROZPOCET | BE132: =IF(U132="základná",N132,0) -> 0 | BF132: =IF(U132="znížená",N132,0) -> 0 | BG132: =IF(U132="zákl. prenesená",N132,0) -> 0 | BH132: =IF(U132="zníž. prenesená",N132,0) -> 0 | BI132: =IF(U132="nulová",N132,0) -> 0 | BJ132: 2 | BK132: =ROUND(L132*K132,3) -> 0 | BL132: 64 | BM132: -2108471153
C133: 8 | D133: K | E133: 210101444 | F133: Chránička kábla verejného osvetlenia v betonovej pätke dn 50mm | J133: m | K133: 45 | L133: 0 | N133: =ROUND(L133*K133,3) -> 0 | U133: znížená | W133: =V133*K133 -> 0 | X133: 0 | Y133: =X133*K133 -> 0 | Z133: 0 | AA133: =Z133*K133 -> 0 | AR133: 64 | AT133: K | AU133: 2 | AY133: ROZPOCET | BE133: =IF(U133="základná",N133,0) -> 0 | BF133: =IF(U133="znížená",N133,0) -> 0 | BG133: =IF(U133="zákl. prenesená",N133,0) -> 0 | BH133: =IF(U133="zníž. prenesená",N133,0) -> 0 | BI133: =IF(U133="nulová",N133,0) -> 0 | BJ133: 2 | BK133: =ROUND(L133*K133,3) -> 0 | BL133: 64 | BM133: 137238881
C134: 9 | D134: M | E134: 3451316119 | F134: Chránička KOPOFLEX 50 | J134: m | K134: 45 | L134: 0 | N134: =ROUND(L134*K134,3) -> 0 | U134: znížená | W134: =V134*K134 -> 0 | X134: 0.00227 | Y134: =X134*K134 -> 0.10215 | Z134: 0 | AA134: =Z134*K134 -> 0 | AR134: 256 | AT134: M | AU134: 2 | AY134: ROZPOCET | BE134: =IF(U134="základná",N134,0) -> 0 | BF134: =IF(U134="znížená",N134,0) -> 0 | BG134: =IF(U134="zákl. prenesená",N134,0) -> 0 | BH134: =IF(U134="zníž. prenesená",N134,0) -> 0 | BI134: =IF(U134="nulová",N134,0) -> 0 | BJ134: 2 | BK134: =ROUND(L134*K134,3) -> 0 | BL134: 64 | BM134: -788984380
C135: 10 | D135: K | E135: 210120101 | F135: Poistkový náboj vrátane montáže do 60 A vrátane styč. krúžku | J135: ks | K135: 20 | L135: 0 | N135: =ROUND(L135*K135,3) -> 0 | U135: znížená | W135: =V135*K135 -> 0 | X135: 0 | Y135: =X135*K135 -> 0 | Z135: 0 | AA135: =Z135*K135 -> 0 | AR135: 64 | AT135: K | AU135: 2 | AY135: ROZPOCET | BE135: =IF(U135="základná",N135,0) -> 0 | BF135: =IF(U135="znížená",N135,0) -> 0 | BG135: =IF(U135="zákl. prenesená",N135,0) -> 0 | BH135: =IF(U135="zníž. prenesená",N135,0) -> 0 | BI135: =IF(U135="nulová",N135,0) -> 0 | BJ135: 2 | BK135: =ROUND(L135*K135,3) -> 0 | BL135: 64 | BM135: -555020882
C136: 11 | D136: M | E136: 3450112600 | F136: Poistkový patrón 10A | J136: ks | K136: 20 | L136: 0 | N136: =ROUND(L136*K136,3) -> 0 | U136: znížená | W136: =V136*K136 -> 0 | X136: 6e-05 | Y136: =X136*K136 -> 0.0012 | Z136: 0 | AA136: =Z136*K136 -> 0 | AR136: 256 | AT136: M | AU136: 2 | AY136: ROZPOCET | BE136: =IF(U136="základná",N136,0) -> 0 | BF136: =IF(U136="znížená",N136,0) -> 0 | BG136: =IF(U136="zákl. prenesená",N136,0) -> 0 | BH136: =IF(U136="zníž. prenesená",N136,0) -> 0 | BI136: =IF(U136="nulová",N136,0) -> 0 | BJ136: 2 | BK136: =ROUND(L136*K136,3) -> 0 | BL136: 64 | BM136: -347349971
C137: 12 | D137: K | E137: 210120311 | F137: Bleskoistky NN a VN vrátane zapojenia do 10 kV, 2.5 kA | J137: ks | K137: 20 | L137: 0 | N137: =ROUND(L137*K137,3) -> 0 | U137: znížená | W137: =V137*K137 -> 0 | X137: 0 | Y137: =X137*K137 -> 0 | Z137: 0 | AA137: =Z137*K137 -> 0 | AR137: 64 | AT137: K | AU137: 2 | AY137: ROZPOCET | BE137: =IF(U137="základná",N137,0) -> 0 | BF137: =IF(U137="znížená",N137,0) -> 0 | BG137: =IF(U137="zákl. prenesená",N137,0) -> 0 | BH137: =IF(U137="zníž. prenesená",N137,0) -> 0 | BI137: =IF(U137="nulová",N137,0) -> 0 | BJ137: 2 | BK137: =ROUND(L137*K137,3) -> 0 | BL137: 64 | BM137: -1756670566
C138: 13 | D138: M | E138: 99 | F138: SPD pre LED , SP-T2+T3-320/Y-CLT-LED | J138: ks | K138: 20 | L138: 0 | N138: =ROUND(L138*K138,3) -> 0 | U138: znížená | W138: =V138*K138 -> 0 | X138: 0 | Y138: =X138*K138 -> 0 | Z138: 0 | AA138: =Z138*K138 -> 0 | AR138: 256 | AT138: M | AU138: 2 | AY138: ROZPOCET | BE138: =IF(U138="základná",N138,0) -> 0 | BF138: =IF(U138="znížená",N138,0) -> 0 | BG138: =IF(U138="zákl. prenesená",N138,0) -> 0 | BH138: =IF(U138="zníž. prenesená",N138,0) -> 0 | BI138: =IF(U138="nulová",N138,0) -> 0 | BJ138: 2 | BK138: =ROUND(L138*K138,3) -> 0 | BL138: 64 | BM138: -796179879
C139: 14 | D139: K | E139: 210120312 | F139: Bleskoistky NN a VN vrátane zapojenia do 25 kV, 2.5 kA | J139: ks | K139: 20 | L139: 0 | N139: =ROUND(L139*K139,3) -> 0 | U139: znížená | W139: =V139*K139 -> 0 | X139: 0 | Y139: =X139*K139 -> 0 | Z139: 0 | AA139: =Z139*K139 -> 0 | AR139: 64 | AT139: K | AU139: 2 | AY139: ROZPOCET | BE139: =IF(U139="základná",N139,0) -> 0 | BF139: =IF(U139="znížená",N139,0) -> 0 | BG139: =IF(U139="zákl. prenesená",N139,0) -> 0 | BH139: =IF(U139="zníž. prenesená",N139,0) -> 0 | BI139: =IF(U139="nulová",N139,0) -> 0 | BJ139: 2 | BK139: =ROUND(L139*K139,3) -> 0 | BL139: 64 | BM139: -428949178
... C161: 36 | D161: K | E161: PPV | F161: Podiel pridružených výkonov | J161: % | K161: 0 | L161: 0 | N161: =ROUND(L161*K161,3) -> 0 | U161: znížená | W161: =V161*K161 -> 0 | X161: 0 | Y161: =X161*K161 -> 0 | Z161: 0 | AA161: =Z161*K161 -> 0 | AR161: 64 | AT161: K | AU161: 2 | AY161: ROZPOCET | BE161: =IF(U161="základná",N161,0) -> 0 | BF161: =IF(U161="znížená",N161,0) -> 0 | BG161: =IF(U161="zákl. prenesená",N161,0) -> 0 | BH161: =IF(U161="zníž. prenesená",N161,0) -> 0 | BI161: =IF(U161="nulová",N161,0) -> 0 | BJ161: 2 | BK161: =ROUND(L161*K161,3) -> 0 | BL161: 64 | BM161: 1476513547
D162: 46-M - Zemné práce pri extr.mont.prácach | N162: =BK162 -> 0 | W162: =SUM(W163:W175) -> 0 | Y162: =SUM(Y163:Y175) -> 25.662 | AA162: =SUM(AA163:AA175) -> 0 | AR162: 3 | AT162: D | AU162: 1 | AY162: ROZPOCET | BK162: =SUM(BK163:BK175) -> 0
C163: 37 | D163: K | E163: 460050004 | F163: Jama pre jednoduchý stožiar nepätkovaný dĺžky 6-8 m, v rovine,zásyp a zhutnenie,zemina tr.4 | J163: ks | K163: 20 | L163: 0 | N163: =ROUND(L163*K163,3) -> 0 | U163: znížená | W163: =V163*K163 -> 0 | X163: 0 | Y163: =X163*K163 -> 0 | Z163: 0 | AA163: =Z163*K163 -> 0 | AR163: 64 | AT163: K | AU163: 2 | AY163: ROZPOCET | BE163: =IF(U163="základná",N163,0) -> 0 | BF163: =IF(U163="znížená",N163,0) -> 0 | BG163: =IF(U163="zákl. prenesená",N163,0) -> 0 | BH163: =IF(U163="zníž. prenesená",N163,0) -> 0 | BI163: =IF(U163="nulová",N163,0) -> 0 | BJ163: 2 | BK163: =ROUND(L163*K163,3) -> 0 | BL163: 64 | BM163: 160140536
C164: 38 | D164: K | E164: 460200163 | F164: Hĺbenie káblovej ryhy 35 cm širokej a 80 cm hlbokej, v zemine triedy 3 | J164: m | K164: 840 | L164: 0 | N164: =ROUND(L164*K164,3) -> 0 | U164: znížená | W164: =V164*K164 -> 0 | X164: 0 | Y164: =X164*K164 -> 0 | Z164: 0 | AA164: =Z164*K164 -> 0 | AR164: 64 | AT164: K | AU164: 2 | AY164: ROZPOCET | BE164: =IF(U164="základná",N164,0) -> 0 | BF164: =IF(U164="znížená",N164,0) -> 0 | BG164: =IF(U164="zákl. prenesená",N164,0) -> 0 | BH164: =IF(U164="zníž. prenesená",N164,0) -> 0 | BI164: =IF(U164="nulová",N164,0) -> 0 | BJ164: 2 | BK164: =ROUND(L164*K164,3) -> 0 | BL164: 64 | BM164: -1576611315
C165: 39 | D165: K | E165: 460420351 | F165: Zriadenie káblového lôžka z piesku vrstvy 5 cm so zakrytím tehlami v smere kábla na šírku 35 cm | J165: m | K165: 840 | L165: 0 | N165: =ROUND(L165*K165,3) -> 0 | U165: znížená | W165: =V165*K165 -> 0 | X165: 0 | Y165: =X165*K165 -> 0 | Z165: 0 | AA165: =Z165*K165 -> 0 | AR165: 64 | AT165: K | AU165: 2 | AY165: ROZPOCET | BE165: =IF(U165="základná",N165,0) -> 0 | BF165: =IF(U165="znížená",N165,0) -> 0 | BG165: =IF(U165="zákl. prenesená",N165,0) -> 0 | BH165: =IF(U165="zníž. prenesená",N165,0) -> 0 | BI165: =IF(U165="nulová",N165,0) -> 0 | BJ165: 2 | BK165: =ROUND(L165*K165,3) -> 0 | BL165: 64 | BM165: -833297499
C166: 40 | D166: M | E166: 5833110300 | F166: Kamenivo ťažené drobné 0-1 b | J166: t | K166: 14.7 | L166: 0 | N166: =ROUND(L166*K166,3) -> 0 | U166: znížená | W166: =V166*K166 -> 0 | X166: 1 | Y166: =X166*K166 -> 14.7 | Z166: 0 | AA166: =Z166*K166 -> 0 | AR166: 256 | AT166: M | AU166: 2 | AY166: ROZPOCET | BE166: =IF(U166="základná",N166,0) -> 0 | BF166: =IF(U166="znížená",N166,0) -> 0 | BG166: =IF(U166="zákl. prenesená",N166,0) -> 0 | BH166: =IF(U166="zníž. prenesená",N166,0) -> 0 | BI166: =IF(U166="nulová",N166,0) -> 0 | BJ166: 2 | BK166: =ROUND(L166*K166,3) -> 0 | BL166: 64 | BM166: 1589669709
C167: 41 | D167: M | E167: 5961001200 | F167: Tehla plná 29x14x6,5cm P20 1,spotreba:pri hr.6,5cm=22ks/m2,pri hr.14cm=44ks,pri hr.29cm=89ks/m2,pri hr.6,5cm=339ks/m3 | J167: ks | K167: 2520 | L167: 0 | N167: =ROUND(L167*K167,3) -> 0 | U167: znížená | W167: =V167*K167 -> 0 | X167: 0.0042 | Y167: =X167*K167 -> 10.584 | Z167: 0 | AA167: =Z167*K167 -> 0 | AR167: 256 | AT167: M | AU167: 2 | AY167: ROZPOCET | BE167: =IF(U167="základná",N167,0) -> 0 | BF167: =IF(U167="znížená",N167,0) -> 0 | BG167: =IF(U167="zákl. prenesená",N167,0) -> 0 | BH167: =IF(U167="zníž. prenesená",N167,0) -> 0 | BI167: =IF(U167="nulová",N167,0) -> 0 | BJ167: 2 | BK167: =ROUND(L167*K167,3) -> 0 | BL167: 64 | BM167: -478148157
C168: 42 | D168: K | E168: 460490012 | F168: Rozvinutie a uloženie výstražnej fólie z PVC do ryhy, šírka 33 cm | J168: m | K168: 840 | L168: 0 | N168: =ROUND(L168*K168,3) -> 0 | U168: znížená | W168: =V168*K168 -> 0 | X168: 0 | Y168: =X168*K168 -> 0 | Z168: 0 | AA168: =Z168*K168 -> 0 | AR168: 64 | AT168: K | AU168: 2 | AY168: ROZPOCET | BE168: =IF(U168="základná",N168,0) -> 0 | BF168: =IF(U168="znížená",N168,0) -> 0 | BG168: =IF(U168="zákl. prenesená",N168,0) -> 0 | BH168: =IF(U168="zníž. prenesená",N168,0) -> 0 | BI168: =IF(U168="nulová",N168,0) -> 0 | BJ168: 2 | BK168: =ROUND(L168*K168,3) -> 0 | BL168: 64 | BM168: -1972779704
C169: 43 | D169: M | E169: 2830002000 | F169: Fólia červená v m | J169: m | K169: 840 | L169: 0 | N169: =ROUND(L169*K169,3) -> 0 | U169: znížená | W169: =V169*K169 -> 0 | X169: 0.00021 | Y169: =X169*K169 -> 0.1764 | Z169: 0 | AA169: =Z169*K169 -> 0 | AR169: 256 | AT169: M | AU169: 2 | AY169: ROZPOCET | BE169: =IF(U169="základná",N169,0) -> 0 | BF169: =IF(U169="znížená",N169,0) -> 0 | BG169: =IF(U169="zákl. prenesená",N169,0) -> 0 | BH169: =IF(U169="zníž. prenesená",N169,0) -> 0 | BI169: =IF(U169="nulová",N169,0) -> 0 | BJ169: 2 | BK169: =ROUND(L169*K169,3) -> 0 | BL169: 64 | BM169: -1966607405
C170: 44 | D170: K | E170: 460510111 | F170: Káblové priestupy v pretlačovaných otvoroch rúr do D 100 mm | J170: m | K170: 180 | L170: 0 | N170: =ROUND(L170*K170,3) -> 0 | U170: znížená | W170: =V170*K170 -> 0 | X170: 0 | Y170: =X170*K170 -> 0 | Z170: 0 | AA170: =Z170*K170 -> 0 | AR170: 64 | AT170: K | AU170: 2 | AY170: ROZPOCET | BE170: =IF(U170="základná",N170,0) -> 0 | BF170: =IF(U170="znížená",N170,0) -> 0 | BG170: =IF(U170="zákl. prenesená",N170,0) -> 0 | BH170: =IF(U170="zníž. prenesená",N170,0) -> 0 | BI170: =IF(U170="nulová",N170,0) -> 0 | BJ170: 2 | BK170: =ROUND(L170*K170,3) -> 0 | BL170: 64 | BM170: 171396403
C171: 45 | D171: M | E171: 2861124500 | F171: Rúra KOPOFLEX 90 | J171: m | K171: 180 | L171: 0 | N171: =ROUND(L171*K171,3) -> 0 | U171: znížená | W171: =V171*K171 -> 0 | X171: 0.00112 | Y171: =X171*K171 -> 0.2016 | Z171: 0 | AA171: =Z171*K171 -> 0 | AR171: 256 | AT171: M | AU171: 2 | AY171: ROZPOCET | BE171: =IF(U171="základná",N171,0) -> 0 | BF171: =IF(U171="znížená",N171,0) -> 0 | BG171: =IF(U171="zákl. prenesená",N171,0) -> 0 | BH171: =IF(U171="zníž. prenesená",N171,0) -> 0 | BI171: =IF(U171="nulová",N171,0) -> 0 | BJ171: 2 | BK171: =ROUND(L171*K171,3) -> 0 | BL171: 64 | BM171: 1548854431
C172: 46 | D172: K | E172: 460560163 | F172: Ručný zásyp nezap. káblovej ryhy bez zhutn. zeminy, 35 cm širokej, 80 cm hlbokej v zemine tr. 3 | J172: m | K172: 840 | L172: 0 | N172: =ROUND(L172*K172,3) -> 0 | U172: znížená | W172: =V172*K172 -> 0 | X172: 0 | Y172: =X172*K172 -> 0 | Z172: 0 | AA172: =Z172*K172 -> 0 | AR172: 64 | AT172: K | AU172: 2 | AY172: ROZPOCET | BE172: =IF(U172="základná",N172,0) -> 0 | BF172: =IF(U172="znížená",N172,0) -> 0 | BG172: =IF(U172="zákl. prenesená",N172,0) -> 0 | BH172: =IF(U172="zníž. prenesená",N172,0) -> 0 | BI172: =IF(U172="nulová",N172,0) -> 0 | BJ172: 2 | BK172: =ROUND(L172*K172,3) -> 0 | BL172: 64 | BM172: -926733389
C173: 47 | D173: K | E173: 460600001 | F173: Naloženie zeminy, odvoz do 1 km a zloženie na skládke a jazda späť | J173: m3 | K173: 30 | L173: 0 | N173: =ROUND(L173*K173,3) -> 0 | U173: znížená | W173: =V173*K173 -> 0 | X173: 0 | Y173: =X173*K173 -> 0 | Z173: 0 | AA173: =Z173*K173 -> 0 | AR173: 64 | AT173: K | AU173: 2 | AY173: ROZPOCET | BE173: =IF(U173="základná",N173,0) -> 0 | BF173: =IF(U173="znížená",N173,0) -> 0 | BG173: =IF(U173="zákl. prenesená",N173,0) -> 0 | BH173: =IF(U173="zníž. prenesená",N173,0) -> 0 | BI173: =IF(U173="nulová",N173,0) -> 0 | BJ173: 2 | BK173: =ROUND(L173*K173,3) -> 0 | BL173: 64 | BM173: -1011952227
C174: 48 | D174: K | E174: 460620014 | F174: Proviz. úprava terénu v zemine tr. 4, aby nerovnosti terénu neboli väčšie ako 2 cm od vodor.hladiny | J174: m2 | K174: 280 | L174: 0 | N174: =ROUND(L174*K174,3) -> 0 | U174: znížená | W174: =V174*K174 -> 0 | X174: 0 | Y174: =X174*K174 -> 0 | Z174: 0 | AA174: =Z174*K174 -> 0 | AR174: 64 | AT174: K | AU174: 2 | AY174: ROZPOCET | BE174: =IF(U174="základná",N174,0) -> 0 | BF174: =IF(U174="znížená",N174,0) -> 0 | BG174: =IF(U174="zákl. prenesená",N174,0) -> 0 | BH174: =IF(U174="zníž. prenesená",N174,0) -> 0 | BI174: =IF(U174="nulová",N174,0) -> 0 | BJ174: 2 | BK174: =ROUND(L174*K174,3) -> 0 | BL174: 64 | BM174: -1643148150
C175: 49 | D175: K | E175: PPV | F175: Podiel pridružených výkonov | J175: % | K175: 0 | L175: 0 | N175: =ROUND(L175*K175,3) -> 0 | U175: znížená | W175: =V175*K175 -> 0 | X175: 0 | Y175: =X175*K175 -> 0 | Z175: 0 | AA175: =Z175*K175 -> 0 | AR175: 64 | AT175: K | AU175: 2 | AY175: ROZPOCET | BE175: =IF(U175="základná",N175,0) -> 0 | BF175: =IF(U175="znížená",N175,0) -> 0 | BG175: =IF(U175="zákl. prenesená",N175,0) -> 0 | BH175: =IF(U175="zníž. prenesená",N175,0) -> 0 | BI175: =IF(U175="nulová",N175,0) -> 0 | BJ175: 2 | BK175: =ROUND(L175*K175,3) -> 0 | BL175: 64 | BM175: 814696616
D176: HZS - Hodinové zúčtovacie sadzby | N176: =BK176 -> 0 | W176: =SUM(W177:W180) -> 0 | Y176: =SUM(Y177:Y180) -> 0 | AA176: =SUM(AA177:AA180) -> 0 | AR176: 4 | AT176: D | AU176: 0 | AY176: ROZPOCET | BK176: =SUM(BK177:BK180) -> 0
C177: 50 | D177: K | E177: HZS000111.1 | F177: Zameranie jednotlivých sieti , vedení , zameranie nového osvetlenia | J177: kpl | K177: 1 | L177: 0 | N177: =ROUND(L177*K177,3) -> 0 | U177: znížená | W177: =V177*K177 -> 0 | X177: 0 | Y177: =X177*K177 -> 0 | Z177: 0 | AA177: =Z177*K177 -> 0 | AR177: 262144 | AT177: K | AU177: 1 | AY177: ROZPOCET | BE177: =IF(U177="základná",N177,0) -> 0 | BF177: =IF(U177="znížená",N177,0) -> 0 | BG177: =IF(U177="zákl. prenesená",N177,0) -> 0 | BH177: =IF(U177="zníž. prenesená",N177,0) -> 0 | BI177: =IF(U177="nulová",N177,0) -> 0 | BJ177: 2 | BK177: =ROUND(L177*K177,3) -> 0 | BL177: 262144 | BM177: 1099358359
C178: 51 | D178: K | E178: HZS000112 | F178: Stavebno montážne práce náročnejšie, ucelené, obtiažne, rutinné (Tr.2) v rozsahu viac ako 8 hodín náročnejšie - demontáž jestvujúceho osvetlenia | J178: hod | K178: 20 | L178: 0 | N178: =ROUND(L178*K178,3) -> 0 | U178: znížená | W178: =V178*K178 -> 0 | X178: 0 | Y178: =X178*K178 -> 0 | Z178: 0 | AA178: =Z178*K178 -> 0 | AR178: 262144 | AT178: K | AU178: 1 | AY178: ROZPOCET | BE178: =IF(U178="základná",N178,0) -> 0 | BF178: =IF(U178="znížená",N178,0) -> 0 | BG178: =IF(U178="zákl. prenesená",N178,0) -> 0 | BH178: =IF(U178="zníž. prenesená",N178,0) -> 0 | BI178: =IF(U178="nulová",N178,0) -> 0 | BJ178: 2 | BK178: =ROUND(L178*K178,3) -> 0 | BL178: 262144 | BM178: 1410860842
C179: 52 | D179: K | E179: HZS000111 | F179: Stavebno montážne práce menej náročne, pomocné alebo manupulačné (Tr 1) v rozsahu viac ako 8 hodín - výkon plošiny | J179: hod | K179: 20 | L179: 0 | N179: =ROUND(L179*K179,3) -> 0 | U179: znížená | W179: =V179*K179 -> 0 | X179: 0 | Y179: =X179*K179 -> 0 | Z179: 0 | AA179: =Z179*K179 -> 0 | AR179: 262144 | AT179: K | AU179: 1 | AY179: ROZPOCET | BE179: =IF(U179="základná",N179,0) -> 0 | BF179: =IF(U179="znížená",N179,0) -> 0 | BG179: =IF(U179="zákl. prenesená",N179,0) -> 0 | BH179: =IF(U179="zníž. prenesená",N179,0) -> 0 | BI179: =IF(U179="nulová",N179,0) -> 0 | BJ179: 2 | BK179: =ROUND(L179*K179,3) -> 0 | BL179: 262144 | BM179: 1114734730
C180: 53 | D180: K | E180: HZS000114 | F180: Stavebno montážne práce najnáročnejšie na odbornosť - prehliadky pracoviska a revízie (Tr 4) v rozsahu viac ako 8 hodín | J180: hod | K180: 20 | L180: 0 | N180: =ROUND(L180*K180,3) -> 0 | U180: znížená | W180: =V180*K180 -> 0 | X180: 0 | Y180: =X180*K180 -> 0 | Z180: 0 | AA180: =Z180*K180 -> 0 | AR180: 262144 | AT180: K | AU180: 1 | AY180: ROZPOCET | BE180: =IF(U180="základná",N180,0) -> 0 | BF180: =IF(U180="znížená",N180,0) -> 0 | BG180: =IF(U180="zákl. prenesená",N180,0) -> 0 | BH180: =IF(U180="zníž. prenesená",N180,0) -> 0 | BI180: =IF(U180="nulová",N180,0) -> 0 | BJ180: 2 | BK180: =ROUND(L180*K180,3) -> 0 | BL180: 262144 | BM180: 1586458842
D181: OST - Ostatné | N181: =BK181 -> 0 | W181: =SUM(W182:W185) -> 0 | Y181: =SUM(Y182:Y185) -> 0.7524 | AA181: =SUM(AA182:AA185) -> 0 | AR181: 4 | AT181: D | AU181: 0 | AY181: ROZPOCET | BK181: =SUM(BK182:BK185) -> 0
C182: 54 | D182: K | E182: 210812059 | F182: Kábel medený silový uložený voľne CYKY 5x4 mm | J182: m | K182: 900 | L182: 0 | N182: =ROUND(L182*K182,3) -> 0 | U182: znížená | W182: =V182*K182 -> 0 | X182: 0 | Y182: =X182*K182 -> 0 | Z182: 0 | AA182: =Z182*K182 -> 0 | AR182: 64 | AT182: K | AU182: 1 | AY182: ROZPOCET | BE182: =IF(U182="základná",N182,0) -> 0 | BF182: =IF(U182="znížená",N182,0) -> 0 | BG182: =IF(U182="zákl. prenesená",N182,0) -> 0 | BH182: =IF(U182="zníž. prenesená",N182,0) -> 0 | BI182: =IF(U182="nulová",N182,0) -> 0 | BJ182: 2 | BK182: =ROUND(L182*K182,3) -> 0 | BL182: 64 | BM182: 1334362980
C183: 55 | D183: M | E183: 341110018500 | F183: Kábel medený CYKY 5x4 mm2 | J183: m | K183: 990 | L183: 0 | N183: =ROUND(L183*K183,3) -> 0 | U183: znížená | W183: =V183*K183 -> 0 | X183: 0.00049 | Y183: =X183*K183 -> 0.4851 | Z183: 0 | AA183: =Z183*K183 -> 0 | AR183: 128 | AT183: M | AU183: 1 | AY183: ROZPOCET | BE183: =IF(U183="základná",N183,0) -> 0 | BF183: =IF(U183="znížená",N183,0) -> 0 | BG183: =IF(U183="zákl. prenesená",N183,0) -> 0 | BH183: =IF(U183="zníž. prenesená",N183,0) -> 0 | BI183: =IF(U183="nulová",N183,0) -> 0 | BJ183: 2 | BK183: =ROUND(L183*K183,3) -> 0 | BL183: 128 | BM183: -435375664
...
