Workbook
Name Bielice: #REF!
Name NadpisStĺpca1: 'Luhy I.'!$B$3
Name NadpisStĺpca2: #REF!
Name PercentoPríznaku: 'Luhy I.'!#REF!
Name simo: #REF!
Name ZoznamKategórií: #REF!
Name ZoznamZamestnancov: #REF!

Sheet Luhy I.
B1: Zimná údržba prístupových chodníkov Luhy I.
B3: Ulica | C3: Obytný blok | D3: Počet vchodov | E3: šírka / m / | F3: dĺžka / m / | G3: Celková plocha / m2 / | H3: Poznámky
B5: Gen. Svobodu | C5: 720 | D5: 5 | E5: 2.2 | F5: 3 | G5: =D5*E5*F5 -> 33
B6: Gen. Svobodu | C6: 721 | D6: 8 | E6: 2.2 | F6: 5.2 | G6: =D6*E6*F6 -> 91.52
B7: Gen. Svobodu | C7: 766 | D7: 5 | E7: 2.2 | F7: 8 | G7: =D7*E7*F7 -> 88
B8: Gen. Svobodu | C8: 767 | D8: 6 | E8: 2.4 | F8: 11.2 | G8: =D8*E8*F8 -> 161.28
B9: Gen. Svobodu | C9: 768 | D9: 2 | E9: 2.2 | F9: 2.7 | G9: =D9*E9*F9 -> 11.88
B10: Gen. Svobodu | C10: 828 | D10: 9 | E10: 2.9 | F10: 5.3 | G10: =D10*E10*F10 -> 138.33
B11: Gen. Svobodu | C11: 852 | D11: 4 | E11: 3.7 | F11: 3.6 | G11: =D11*E11*F11 -> 53.28
B12: Gen. Svobodu | C12: 853 | D12: 4 | E12: 3.7 | F12: 2.8 | G12: =D12*E12*F12 -> 41.44
B13: Gen. Svobodu | C13: 978 | D13: 3 | E13: 3.8 | F13: 3 | G13: =D13*E13*F13 -> 34.2
B14: Gen. Svobodu | C14: 977 | D14: 2 | E14: 3.8 | F14: 3 | G14: =D14*E14*F14 -> 22.8
B15: Gen. Svobodu | C15: 976 | D15: 2 | E15: 3.8 | F15: 3 | G15: =D15*E15*F15 -> 22.8
B16: Gen. Svobodu | C16: 975 | D16: 2 | E16: 3.6 | F16: 6.5 | G16: =D16*E16*F16 -> 46.8
B17: Malá okružná | C17: 972 | G17: =D17*E17*F17 -> 0 | H17: mechanizmus
B18: Malá okružná | C18: 968 | G18: =D18*E18*F18 -> 0 | H18: mechanizmus
B19: Malá okružná | C19: 967 | D19: 5 | E19: 2.7 | F19: 3.5 | G19: =D19*E19*F19 -> 47.25
B20: Malá okružná | C20: 927 | D20: 2 | E20: 1.7 | F20: 50 | G20: =D20*E20*F20 -> 170
B21: Malá okružná | C21: 931 | D21: 2 | E21: 1.7 | F21: 50 | G21: =D21*E21*F21 -> 170
B22: Malá okružná | C22: 928 | D22: 3 | E22: 3.7 | F22: 3.4 | G22: =D22*E22*F22 -> 37.74
B23: Malá okružná | C23: 933 | D23: 2 | E23: 3.7 | F23: 3.4 | G23: =D23*E23*F23 -> 25.16
B24: Malá okružná | C24: 937 | D24: 2 | E24: 3.7 | F24: 3.4 | G24: =D24*E24*F24 -> 25.16
B25: Malá okružná | C25: 938 | D25: 2 | E25: 3.1 | F25: 3.6 | G25: =D25*E25*F25 -> 22.32
B26: Malá okružná | C26: 959 | D26: 6 | E26: 3.6 | F26: 7.8 | G26: =D26*E26*F26 -> 168.48
B27: Malá okružná | C27: 905 | D27: 5 | E27: 7.2 | F27: 3.7 | G27: =D27*E27*F27 -> 133.2
B28: Malá okružná | C28: 904 | D28: 2 | E28: 3.6 | F28: 10 | G28: =D28*E28*F28 -> 72
B29: Malá okružná | C29: 962 | D29: 2 | E29: 3.5 | F29: 8.3 | G29: =D29*E29*F29 -> 58.1
B30: Malá okružná | C30: 957 | D30: 2 | E30: 14.5 | F30: 3.6 | G30: =D30*E30*F30 -> 104.4
... B39: Družstevná | C39: 889 | D39: 2 | E39: 1.6 | F39: 40 | G39: =D39*E39*F39 -> 128
G40: =D40*E40*F40 -> 0
G41: =D41*E41*F41 -> 0
G42: =D42*E42*F42 -> 0
B43: SPOLU | D43: =SUM(D5:D42) -> 127 | G43: =SUM(G5:G42) -> 2592.54

Sheet Hárok2

Sheet Hárok3

Sheet Hárok1

Sheet Luhy II.
B1: Zimná údržba prístupových chodníkov Luhy II.
B3: Ulica | C3: Obytný blok | D3: Počet vchodov | E3: šírka / m / | F3: dĺžka / m / | G3: Celková plocha / m2 / | H3: Poznámky
B5: Veľká okružná | C5: 1022 | D5: 12 | E5: 2.3 | F5: 14 | G5: =D5*E5*F5 -> 386.4
B6: Veľká okružná | C6: 1015 | D6: 1 | E6: 3.3 | F6: 16 | G6: =D6*E6*F6 -> 52.8
B7: Veľká okružná | C7: 1025 | D7: 2 | E7: 2.3 | F7: 3.6 | G7: =D7*E7*F7 -> 16.56
B8: Veľká okružná | C8: 1029 | D8: 4 | E8: 2.7 | F8: 7.7 | G8: =D8*E8*F8 -> 83.16
B9: Veľká okružná | C9: 1028 | D9: 6 | E9: 2.7 | F9: 7.7 | G9: =D9*E9*F9 -> 124.74
B10: Veľká okružná | C10: 1030 | D10: 5 | E10: 2.9 | F10: 11.3 | G10: 163.85
B11: Veľká okružná | C11: 1031 | D11: 2 | E11: 3.3 | F11: 10 | G11: =D11*E11*F11 -> 66
B12: Veľká okružná | C12: 1040 | D12: 5 | E12: 2.3 | F12: 11 | G12: =D12*E12*F12 -> 126.5
B13: Veľká okružná | C13: 1128 | G13: =D13*E13*F13 -> 0 | H13: mechanizmus
B14: Veľká okružná | C14: 1129 | G14: =D14*E14*F14 -> 0 | H14: mechanizmus
B15: Veľká okružná | C15: 1080 | D15: 2 | E15: 2.5 | F15: 20 | G15: =D15*E15*F15 -> 100
B16: Veľká okružná | C16: 1096 | D16: 3 | E16: 2.5 | F16: 3.6 | G16: =D16*E16*F16 -> 27
B17: Veľká okružná | C17: 1088 | D17: 4 | E17: 2.5 | F17: 3.8 | G17: =D17*E17*F17 -> 38
B18: Veľká okružná | C18: 1085 | D18: 2 | E18: 2.5 | F18: 3.8 | G18: =D18*E18*F18 -> 19
B19: Veľká okružná | C19: 1086 | D19: 2 | E19: 2.5 | F19: 3.8 | G19: =D19*E19*F19 -> 19
B20: Veľká okružná | C20: 1103 | D20: 2 | E20: 3.6 | F20: 6 | G20: =D20*E20*F20 -> 43.2
B21: Veľká okružná | C21: 1104 | D21: 2 | E21: 3.2 | F21: 3.8 | G21: =D21*E21*F21 -> 24.32
B22: Veľká okružná | C22: 1105 | D22: 2 | E22: 3.2 | F22: 3.8 | G22: =D22*E22*F22 -> 24.32
B23: Veľká okružná | C23: 1106 | D23: 2 | E23: 3.2 | F23: 3.8 | G23: =D23*E23*F23 -> 24.32
B24: Malá okružná | C24: 987 | D24: 5 | E24: 2.3 | F24: 11.7 | G24: =D24*E24*F24 -> 134.55
B25: Malá okružná | C25: 1014 | D25: 5 | E25: 2.5 | F25: 7 | G25: =D25*E25*F25 -> 87.5
G26: =D26*E26*F26 -> 0
B27: SPOLU | D27: =SUM(D5:D26) -> 68 | G27: =SUM(G5:G26) -> 1561.22

Sheet Centrum
B1: Zimná údržba prístupových chodníkov Centrum
B3: Ulica | C3: Obytný blok | D3: Počet vchodov | E3: šírka / m / | F3: dĺžka / m / | G3: Celková plocha / m2 / | H3: Poznámky
B5: Družstevná | C5: 642 | D5: 3 | E5: 15 | F5: 2.5 | G5: =D5*E5*F5 -> 112.5
B6: Družstevná | C6: 642 | D6: 3 | E6: 2 | F6: 15 | G6: =D6*E6*F6 -> 90
B7: Družstevná | C7: 643 | D7: 2 | E7: 2.5 | F7: 14 | G7: =D7*E7*F7 -> 70
B8: Družstevná | C8: 644 | D8: 1 | E8: 2.1 | F8: 43.7 | G8: =D8*E8*F8 -> 91.77
B9: Družstevná | C9: 644 | D9: 2 | E9: 3 | F9: 2.8 | G9: =D9*E9*F9 -> 16.8
B10: Družstevná | C10: 645 | D10: 2 | E10: 3.5 | F10: 7.9 | G10: =D10*E10*F10 -> 55.3
B11: Družstevná | C11: 646 | D11: 2 | E11: 5.1 | F11: 6.5 | G11: =D11*E11*F11 -> 66.3
B12: Družstevná | C12: 608 | D12: 1 | E12: 1.9 | F12: 45.5 | G12: =D12*E12*F12 -> 86.45
B13: Družstevná | C13: 641 | D13: 2 | E13: 4.1 | F13: 9 | G13: =D13*E13*F13 -> 73.8
B14: Makarenkova | C14: DÚ | D14: 1 | E14: 3.3 | F14: 56
B15: Makarenkova | C15: 147 | D15: 3 | E15: 2.7 | F15: 2.8 | G15: =D15*E15*F15 -> 22.68
C16: 147 | D16: 1 | E16: 1.4 | F16: 59
B17: Makarenkova | C17: 148 | D17: 1 | E17: 1.4 | F17: 50.2
D18: 3 | E18: 1.5 | F18: 3 | G18: =D18*E18*F18 -> 13.5
B19: Makarenkova | C19: 146 | D19: 1 | E19: 1.1 | F19: 53.3
C20: 146 | D20: 3 | E20: 1.6 | F20: 2.8 | G20: =D20*E20*F20 -> 13.44
C21: 146 | D21: 1 | E21: 1.1 | F21: 17.4
C22: 146 | D22: 1 | E22: 1.5 | F22: 22.3
B23: Makarenkova | C23: 150 | D23: 1 | E23: 1.5 | F23: 53.7
C24: 150 | D24: 3 | E24: 2 | F24: 1 | G24: =D24*E24*F24 -> 6
B25: Makarenkova | C25: 145 | D25: 2 | E25: 3.5 | F25: 6.7 | G25: =D25*E25*F25 -> 46.9
C26: 145 | D26: 1 | E26: 3.1 | F26: 21.3 | G26: =D26*E26*F26 -> 66.03
C27: 145 | D27: 1 | E27: 1.7 | F27: 56.2
B28: Makarenkova | C28: 149 | D28: 1 | E28: 1.8 | F28: 30.6
C29: 149 | D29: 1 | E29: 3.9 | F29: 65.6
C30: 149 | D30: 3 | E30: 3.5 | F30: 3.5 | G30: =D30*E30*F30 -> 36.75
B31: Februárová | C31: 637 | D31: 1 | E31: 2.5 | F31: 65
C32: 637 | D32: 2 | E32: 5.3 | F32: 2 | G32: =D32*E32*F32 -> 21.2
B33: Februárová | C33: 638 | D33: 1 | E33: 1.6 | F33: 62
C34: 638 | D34: 2 | E34: 4.6 | F34: 3.5 | G34: =D34*E34*F34 -> 32.2
B35: Februárová | C35: 639 | D35: 1 | E35: 1.6 | F35: 57.9
C36: 639 | D36: 2 | E36: 4.9 | F36: 3 | G36: =D36*E36*F36 -> 29.4
B37: Februárová | C37: 945 | D37: 2 | E37: 4.8 | F37: 8.3 | G37: =D37*E37*F37 -> 79.68
B38: R. Jašíka | C38: 652 | D38: 1 | E38: 3 | F38: 72
B39: R. Jašíka | C39: 165 | D39: 1 | E39: 2.3 | F39: 67.8 | G39: =D39*E39*F39 -> 155.94
B40: R. Jašíka | C40: 164 | D40: 1 | E40: 2.3 | F40: 67.8
B41: R. Jašíka | C41: 163 | D41: 1 | E41: 2.3 | F41: 67.8
B42: R. Jašíka | C42: 162 | D42: 1 | E42: 2.3 | F42: 67.8
...

Sheet Štrkovec
B1: Zimná údržba prístupových chodníkov Štrkovec
B3: Ulica | C3: Obytný blok | D3: Počet vchodov | E3: šírka / m / | F3: dĺžka / m / | G3: Celková plocha / m2 / | H3: Poznámky
B5: Obuvnícka | C5: 419 | D5: 3 | E5: 2.5 | F5: 2.5 | G5: =D5*E5*F5 -> 18.75
B6: Kukučínová | D6: 1 | E6: 1.2 | F6: 55 | G6: 66
B7: Obuvnícka | C7: 420 | D7: 1 | E7: 1.8 | F7: 65
C8: 420 | D8: 1 | E8: 1.8 | F8: 65
B9: Obuvnícka | C9: 421 | D9: 1 | E9: 2 | F9: 65
C10: 421 | D10: 1 | E10: 2 | F10: 65
B11: Obuvnícka | C11: 422 | D11: 1 | E11: 2.3 | F11: 65
C12: 422 | D12: 1 | E12: 2.1 | F12: 65
B13: Obuvnícka | C13: 423 | D13: 1 | E13: 2.6 | F13: 65
B14: Októbrová | C14: 682 | D14: 6 | E14: 3 | F14: 3 | G14: =D14*E14*F14 -> 54
B15: Októbrová | C15: 675 | D15: 2 | E15: 6 | F15: 10 | G15: =D15*E15*F15 -> 120
C16: 675 | D16: 4 | E16: 5 | F16: 3.1 | G16: =D16*E16*F16 -> 62
B17: Lesná | C17: 662 | D17: 3 | E17: 2.3 | F17: 30 | G17: =D17*E17*F17 -> 207
B18: Lomonosova | C18: 661 | D18: 2 | E18: 3 | F18: 18 | G18: =D18*E18*F18 -> 108
B19: Moyzesova | E19: 1.1 | F19: 580 | G19: 638
B20: SPOLU | D20: =SUM(D5:D19) -> 28 | G20: =SUM(G5:G19) -> 1273.75

Sheet Šípok
B1: Zimná údržba prístupových chodníkov Šípok
B3: Ulica | C3: Obytný blok | D3: Počet vchodov | E3: šírka / m / | F3: dĺžka / m / | G3: Celková plocha / m2 / | H3: Poznámky
B5: Malinovského | C5: 1151 | D5: 1 | E5: 1.6 | F5: 28 | G5: =D5*E5*F5 -> 44.8
B6: Malinovského | C6: 1152 | D6: 1 | E6: 1.6 | F6: 29 | G6: =D6*E6*F6 -> 46.4
B7: Malinovského | C7: 1153 | D7: 1 | E7: 4.3 | F7: 22 | G7: =D7*E7*F7 -> 94.6
B8: Malinovského | C8: 1154 | D8: 3 | E8: 3 | F8: 9.3 | G8: =D8*E8*F8 -> 83.7
B9: Malinovského | C9: 1155 | D9: 1 | E9: 1.6 | F9: 56 | G9: =D9*E9*F9 -> 89.6
B10: Malinovského | C10: 1156 | D10: 3 | E10: 1.6 | F10: 3.5 | G10: =D10*E10*F10 -> 16.8
B11: Malinovského | C11: 1157 | D11: 2 | E11: 2.1 | F11: 3.5 | G11: =D11*E11*F11 -> 14.7
B12: Malinovského | C12: 1158 | D12: 3 | E12: 2.1 | F12: 3.5 | G12: =D12*E12*F12 -> 22.05
B13: Malinovského | C13: 1150 | D13: 3 | E13: 2.4 | F13: 1.3 | G13: =D13*E13*F13 -> 9.36
B14: J. Kráľa | C14: 1192 | D14: 2 | E14: 2.8 | F14: 2.9 | G14: =D14*E14*F14 -> 16.24
B15: J. Kráľa | C15: 1193 | D15: 2 | E15: 2.8 | F15: 2.9 | G15: =D15*E15*F15 -> 16.24
B16: J. Kráľa | C16: 1173 | D16: 2 | E16: 2.2 | F16: 3.5 | G16: =D16*E16*F16 -> 15.4
... B29: Horská | C29: 1296 | D29: 3 | E29: 3.5 | F29: 1.7 | G29: =D29*E29*F29 -> 17.85
C30: 1296 | D30: 1 | E30: 1.8 | F30: 32 | G30: =D30*E30*F30 -> 57.6
B31: Horská | C31: 1297 | D31: 2 | E31: 3.6 | F31: 1.7 | G31: =D31*E31*F31 -> 12.24
C32: 1297 | D32: 1 | E32: 1.8 | F32: 37 | G32: =D32*E32*F32 -> 66.6
B33: Horská | C33: 1298 | D33: 3 | E33: 2.5 | F33: 7.5 | G33: =D33*E33*F33 -> 56.25
C34: 1298 | D34: 1 | E34: 1.6 | F34: 45 | G34: =D34*E34*F34 -> 72
B35: Horská | C35: 1295 | D35: 2 | E35: 2.5 | F35: 3.5 | G35: =D35*E35*F35 -> 17.5
B36: Horská | C36: 1305 | D36: 2 | E36: 4.3 | F36: 3.5 | G36: =D36*E36*F36 -> 30.1
B37: Horská | C37: 1306 | G37: =D37*E37*F37 -> 0 | H37: schody
B38: Horská | C38: 1307 | G38: =D38*E38*F38 -> 0 | H38: schody
B39: Horská | C39: 1311 | G39: =D39*E39*F39 -> 0 | H39: malotraktor
B40: Horská | C40: 1312 | G40: =D40*E40*F40 -> 0 | H40: mechanizmus
B41: Horská | C41: 1309 | D41: 2 | E41: 3.8 | F41: 11.7 | G41: =D41*E41*F41 -> 88.92
B42: Horská | C42: 1308 | G42: =D42*E42*F42 -> 0 | H42: mostíky
B43: Horská | C43: 1314 | D43: 12 | E43: 3.6 | F43: 2.5 | G43: =D43*E43*F43 -> 108 | H43: mostíky
B47: SPOLU | D47: =SUM(D5:D46) -> 79 | G47: =SUM(G5:G46) -> 1351.06

Sheet V. Bielice
B1: Zimná údržba chodníkov Veľké Bielice
B3: Ulica | C3: 1 = 1 stranný chodník 2 = obojstranný | D3: šírka / m / | E3: dĺžka / m / | F3: Celková plocha / m2 / | G3: Poznámky
B5: Hlavná od Hoffera po koniec obce | C5: 1 | D5: 1 | E5: 430 | F5: =C5*D5*E5 -> 430
B6: Víťazná zábradlie pri moste | C6: 1 | D6: 1.5 | E6: 40 | F6: =C6*D6*E6 -> 60
B7: Víťazná za želez. priecestím | C7: 1 | D7: 1.5 | E7: 260 | F7: =C7*D7*E7 -> 390
B8: Budovateľská | C8: 2 | D8: 1 | E8: 540 | F8: =C8*D8*E8 -> 1080
B9: Bielická od Belánky po koniec obce | C9: 1 | D9: 1.5 | E9: 250 | F9: =C9*D9*E9 -> 375
F10: =C10*D10*E10 -> 0
F11: =C11*D11*E11 -> 0
F12: =C12*D12*E12 -> 0
F13: =C13*D13*E13 -> 0
F14: =C14*D14*E14 -> 0
B15: SPOLU | F15: =SUM(F5:F14) -> 2335

Sheet Šimonovany
B1: Zimná údržba chodníkov Šimonovany a Stráne
B3: Ulica | C3: 1 = 1 stranný chodník 2 = obojstranný | D3: šírka / m / | E3: dĺžka / m / | F3: Celková plocha / m2 / | G3: Poznámky
B5: Jilemníckeho | C5: 1 | D5: 1.5 | E5: 570 | F5: =C5*D5*E5 -> 855
B6: Záhumnie | C6: 2 | D6: 1 | E6: 125 | F6: =C6*D6*E6 -> 250
B7: Podjavorinskej | C7: 2 | D7: 1 | E7: 125 | F7: =C7*D7*E7 -> 250
B8: Bezručova | C8: 2 | D8: 1 | E8: 135 | F8: =C8*D8*E8 -> 270
B9: Puškinova | C9: 2 | D9: 1 | E9: 125 | F9: =C9*D9*E9 -> 250
B10: Jána Bottu | C10: 1 | D10: 1.5 | E10: 78 | F10: =C10*D10*E10 -> 117
B11: Slnečná | C11: 2 | D11: 1 | E11: 50 | F11: =C11*D11*E11 -> 100
B12: Stredná | C12: 2 | D12: 1 | E12: 60 | F12: =C12*D12*E12 -> 120
B13: Južná | C13: 2 | D13: 1 | E13: 65 | F13: =C13*D13*E13 -> 130
B14: Dolná | C14: 2 | D14: 1 | E14: 260 | F14: =C14*D14*E14 -> 520
B15: Horná | C15: 2 | D15: 1 | E15: 200 | F15: =C15*D15*E15 -> 400
B18: SPOLU | F18: =SUM(F5:F17) -> 3262

Sheet Rekapitulácia
B1: REKAPITULÁCIA
B3: Mestská časť | C3: Počet vchodov | D3: Celková plocha / m2 / | E3: Poznámky
B5: Luhy I. | C5: ='Luhy I.'!D43 -> 127 | D5: ='Luhy I.'!G43 -> 2592.54
B6: Luhy II. | C6: ='Luhy II.'!D27 -> 68 | D6: ='Luhy II.'!G27 -> 1561.22
B7: Centrum | C7: =Centrum!D76 -> 127 | D7: =Centrum!G76 -> 2436.72
B8: Štrkovec | C8: =Štrkovec!D20 -> 28 | D8: =Štrkovec!G20 -> 1273.75
B9: Šípok | C9: =Šípok!D47 -> 79 | D9: =Šípok!G47 -> 1351.06
B10: V. Bielice | D10: ='V. Bielice'!F15 -> 2335
B11: Šimonovany | D11: =Šimonovany!F18 -> 3262
B12: SPOLU | C12: =SUM(C5:C9) -> 429 | D12: =SUM(D5:D9) -> 9215.29
