Workbook

Sheet Rekapitulácia stavby
A1: 2012 | D1: Hárok obsahuje: | K1: 1) Súhrnný list stavby | W1: 2) Rekapitulácia objektov | BA1: 2.0 | BT1: False | BU1: False
C2: optimalizované pre tlač zostáv vo formáte A4 - na výšku | AR2: >> skryté stĺpce << | BS2: 0,001 | BT2: 20
BS3: 0,001 | BT3: 20
C4: SÚHRNNÝ LIST STAVBY | AS4: v --- nižšie sa nachádzajú doplnkové a pomocné údaje k zostavám --- v | BE4: Návod na vyplnenie | BS4: 0,001
D5: Kód: | K5: 2018-010 | BE5: Meniť je možné iba bunky so žltým podfarbením!_x000D_ _x000D_ 1) na prvom liste Rekapitulácie stavby vyplňte v zostave_x000D_ _x000D_ a) Súhrnný list_x000D_ - údaje o Zhotoviteľovi_x000D_ (prenesú sa do ostatných zostáv aj v iných listoch)_x000D_ _x000D_ b) Rekapitulácia objektov_x000D_ - potrebné Ostatné náklady_x000D_ _x000D_ 2) na vybraných listoch vyplňte v zostave_x000D_ _x000D_ a) Krycí list_x000D_ - údaje o Zhotoviteľovi, pokiaľ sa líšia od údajov o Zhotoviteľovi na Súhrnnom liste_x000D_ (údaje se prenesú do ostatných zostav v danom liste)_x000D_ _x000D_ b) Rekapitulácia rozpočtu_x000D_ - potrebné Ostatné náklady_x000D_ _x000D_ c) Celkové náklady za stavbu_x000D_ - ceny na položkách_x000D_ - množstvo, pokiaľ má žlté podfarbenie_x000D_ - a v prípade potreby poznámku (tá je v skrytom stĺpci) | BS5: 0,001
D6: Stavba: | K6: Spevnené plochy pre zberné nádoby | BS6: 0,001
D7: JKSO: | AK7: KS: | BS7: 0,001
D8: Miesto: | AK8: Dátum: | AN8: 30. 1. 2018 | BS8: 0,001
BS9: 0,001
D10: Objednávateľ: | AK10: IČO: | BS10: 0,001
E11: Mesto Partizánske | AK11: IČO DPH: | BS11: 0,001
BS12: 0,001
D13: Zhotoviteľ: | AK13: IČO: | AN13: Vyplň údaj | BS13: 0,001
E14: Vyplň údaj | AK14: IČO DPH: | AN14: Vyplň údaj | BS14: 0,001
BS15: False
D16: Projektant: | AK16: IČO: | BS16: False
AK17: IČO DPH: | BS17: True
BS18: 0,01
D19: Spracovateľ: | AK19: IČO: | BS19: 0,01
AK20: IČO DPH:
D22: Poznámka:
D26: Náklady z rozpočtov | AK26: =ROUND(AG87,2) -> 0
D27: Ostatné náklady zo súhrnného listu | AK27: =ROUND(AG93,2) -> 0
D29: Cena bez DPH | AK29: =ROUND(AK26+AK27,2) -> 0
D31: DPH | F31: základná | L31: 0.2 | T31: z | W31: =ROUND(AZ87+SUM(CD94:CD98),2) -> 0 | AK31: =ROUND(AV87+SUM(BY94:BY98),2) -> 0
F32: znížená | L32: 0.2 | T32: z | W32: =ROUND(BA87+SUM(CE94:CE98),2) -> 0 | AK32: =ROUND(AW87+SUM(BZ94:BZ98),2) -> 0
F33: zákl. prenesená | L33: 0.2 | T33: z | W33: =ROUND(BB87+SUM(CF94:CF98),2) -> 0 | AK33: 0
F34: zníž. prenesená | L34: 0.2 | T34: z | W34: =ROUND(BC87+SUM(CG94:CG98),2) -> 0 | AK34: 0
F35: nulová | L35: 0 | T35: z | W35: =ROUND(BD87+SUM(CH94:CH98),2) -> 0 | AK35: 0
D37: Cena s DPH | T37: v | X37: EUR | AK37: =SUM(AK29:AK35) -> 0
D49: Projektant | AC49: Spracovateľ
D58: Dátum a podpis: | R58: Pečiatka | AC58: Dátum a podpis: | AM58: Pečiatka
D60: Objednávateľ | AC60: Zhotoviteľ
D69: Dátum a podpis: | R69: Pečiatka | AC69: Dátum a podpis: | AM69: Pečiatka
C76: REKAPITULÁCIA OBJEKTOV STAVBY
C77: Kód: | L77: =K5 -> 2018-010
C78: Stavba: | L78: =K6 -> Spevnené plochy pre zberné nádoby
C80: Miesto: | L80: =IF(K8="","",K8) | AI80: Dátum: | AM80: =IF(AN8= "","",AN8) -> 30. 1. 2018
C82: Objednávateľ: | L82: =IF(E11= "","",E11) -> Mesto Partizánske | AI82: Projektant: | AM82: =IF(E17="","",E17) | AS82: Informatívne údaje z listov zákaziek
C83: Zhotoviteľ: | L83: =IF(E14= "Vyplň údaj","",E14) | AI83: Spracovateľ: | AM83: =IF(E20="","",E20)
C85: Kód | I85: Objekt | AG85: Cena bez DPH [EUR] | AN85: Cena s DPH [EUR] | AS85: z toho Ostat._x000D_ náklady [EUR] | AT85: DPH [EUR] | AU85: Normohodiny [h] | AV85: DPH základná [EUR] | AW85: DPH znížená [EUR] | AX85: DPH základná prenesená_x000D_ [EUR] | AY85: DPH znížená prenesená_x000D_ [EUR] | AZ85: Základňa_x000D_ DPH základná | BA85: Základňa_x000D_ DPH znížená | BB85: Základňa_x000D_ DPH zákl. prenesená | BC85: Základňa_x000D_ DPH zníž. prenesená | BD85: Základňa_x000D_ DPH nulová
C87: 1) Náklady z rozpočtov | AG87: =ROUND(SUM(AG88:AG91),2) -> 0 | AN87: =SUM(AG87,AT87) -> 0 | AS87: =ROUND(SUM(AS88:AS91),2) -> 0 | AT87: =ROUND(SUM(AV87:AW87),2) -> 0 | AU87: =ROUND(SUM(AU88:AU91),5) -> 0 | AV87: =ROUND(AZ87*L31,2) -> 0 | AW87: =ROUND(BA87*L32,2) -> 0 | AX87: =ROUND(BB87*L31,2) -> 0 | AY87: =ROUND(BC87*L32,2) -> 0 | AZ87: =ROUND(SUM(AZ88:AZ91),2) -> 0 | BA87: =ROUND(SUM(BA88:BA91),2) -> 0 | BB87: =ROUND(SUM(BB88:BB91),2) -> 0 | BC87: =ROUND(SUM(BC88:BC91),2) -> 0 | BD87: =ROUND(SUM(BD88:BD91),2) -> 0 | BS87: D | BT87: 0 | BU87: ###NOIMPORT### | BV87: IMPORT | BW87: {7141570a-7469-4200-91ad-a8f4bb422135} | BX87: {00000000-0000-0000-0000-000000000000}
A88: / | D88: 1 | J88: Hrnčírikova ul. mestské trhovisko / 6 x 6,5 m / | AG88: ='1 - Hrnčírikova ul. mests...'!M30 -> 0 | AN88: =SUM(AG88,AT88) -> 0 | AS88: ='1 - Hrnčírikova ul. mests...'!M28 -> 0 | AT88: =ROUND(SUM(AV88:AW88),2) -> 0 | AU88: ='1 - Hrnčírikova ul. mests...'!W124 -> 0 | AV88: ='1 - Hrnčírikova ul. mests...'!M32 -> 0 | AW88: ='1 - Hrnčírikova ul. mests...'!M33 -> 0 | AX88: ='1 - Hrnčírikova ul. mests...'!M34 -> 0 | AY88: ='1 - Hrnčírikova ul. mests...'!M35 -> 0 | AZ88: ='1 - Hrnčírikova ul. mests...'!H32 -> 0 | BA88: ='1 - Hrnčírikova ul. mests...'!H33 -> 0 | BB88: ='1 - Hrnčírikova ul. mests...'!H34 -> 0 | BC88: ='1 - Hrnčírikova ul. mests...'!H35 -> 0 | BD88: ='1 - Hrnčírikova ul. mests...'!H36 -> 0 | BT88: 1 | BV88: IMPORT | BW88: {d200122d-3f7f-450d-938a-6a8d6d1a2e32} | BX88: {7141570a-7469-4200-91ad-a8f4bb422135}
A89: / | D89: 2 | J89: Obuvnícka 423 / 6 x 4 m / | AG89: ='2 - Obuvnícka 423 - 6 x 4...'!M30 -> 0 | AN89: =SUM(AG89,AT89) -> 0 | AS89: ='2 - Obuvnícka 423 - 6 x 4...'!M28 -> 0 | AT89: =ROUND(SUM(AV89:AW89),2) -> 0 | AU89: ='2 - Obuvnícka 423 - 6 x 4...'!W121 -> 0 | AV89: ='2 - Obuvnícka 423 - 6 x 4...'!M32 -> 0 | AW89: ='2 - Obuvnícka 423 - 6 x 4...'!M33 -> 0 | AX89: ='2 - Obuvnícka 423 - 6 x 4...'!M34 -> 0 | AY89: ='2 - Obuvnícka 423 - 6 x 4...'!M35 -> 0 | AZ89: ='2 - Obuvnícka 423 - 6 x 4...'!H32 -> 0 | BA89: ='2 - Obuvnícka 423 - 6 x 4...'!H33 -> 0 | BB89: ='2 - Obuvnícka 423 - 6 x 4...'!H34 -> 0 | BC89: ='2 - Obuvnícka 423 - 6 x 4...'!H35 -> 0 | BD89: ='2 - Obuvnícka 423 - 6 x 4...'!H36 -> 0 | BT89: 1 | BV89: IMPORT | BW89: {ca765887-98b2-4813-983e-fe8a70cd1f84} | BX89: {7141570a-7469-4200-91ad-a8f4bb422135}
A90: / | D90: 3 | J90: Družstevná 892 / 7,2 x 4 m / | AG90: ='3 - Družstevná 892 - 7,2 ...'!M30 -> 0 | AN90: =SUM(AG90,AT90) -> 0 | AS90: ='3 - Družstevná 892 - 7,2 ...'!M28 -> 0 | AT90: =ROUND(SUM(AV90:AW90),2) -> 0 | AU90: ='3 - Družstevná 892 - 7,2 ...'!W121 -> 0 | AV90: ='3 - Družstevná 892 - 7,2 ...'!M32 -> 0 | AW90: ='3 - Družstevná 892 - 7,2 ...'!M33 -> 0 | AX90: ='3 - Družstevná 892 - 7,2 ...'!M34 -> 0 | AY90: ='3 - Družstevná 892 - 7,2 ...'!M35 -> 0 | AZ90: ='3 - Družstevná 892 - 7,2 ...'!H32 -> 0 | BA90: ='3 - Družstevná 892 - 7,2 ...'!H33 -> 0 | BB90: ='3 - Družstevná 892 - 7,2 ...'!H34 -> 0 | BC90: ='3 - Družstevná 892 - 7,2 ...'!H35 -> 0 | BD90: ='3 - Družstevná 892 - 7,2 ...'!H36 -> 0 | BT90: 1 | BV90: IMPORT | BW90: {351153dc-8cf0-4c72-8a6b-d2157000ff56} | BX90: {7141570a-7469-4200-91ad-a8f4bb422135}
A91: / | D91: 4 | J91: Strojárenská 187 / 2 x 1,5 m / | AG91: ='4 - Strojárenská 187 - 2 ...'!M30 -> 0 | AN91: =SUM(AG91,AT91) -> 0 | AS91: ='4 - Strojárenská 187 - 2 ...'!M28 -> 0 | AT91: =ROUND(SUM(AV91:AW91),2) -> 0 | AU91: ='4 - Strojárenská 187 - 2 ...'!W121 -> 0 | AV91: ='4 - Strojárenská 187 - 2 ...'!M32 -> 0 | AW91: ='4 - Strojárenská 187 - 2 ...'!M33 -> 0 | AX91: ='4 - Strojárenská 187 - 2 ...'!M34 -> 0 | AY91: ='4 - Strojárenská 187 - 2 ...'!M35 -> 0 | AZ91: ='4 - Strojárenská 187 - 2 ...'!H32 -> 0 | BA91: ='4 - Strojárenská 187 - 2 ...'!H33 -> 0 | BB91: ='4 - Strojárenská 187 - 2 ...'!H34 -> 0 | BC91: ='4 - Strojárenská 187 - 2 ...'!H35 -> 0 | BD91: ='4 - Strojárenská 187 - 2 ...'!H36 -> 0 | BT91: 1 | BV91: IMPORT | BW91: {7f2a3a20-2298-4330-822d-b700d7ca280d} | BX91: {7141570a-7469-4200-91ad-a8f4bb422135}
C93: 2) Ostatné náklady zo súhrnného listu | AG93: =ROUND(SUM(AG94:AG97),2) -> 0 | AN93: =ROUND(SUM(AN94:AN97),2) -> 0 | AS93: Percent. zadanie_x000D_ [% nákladov rozpočtu] | AT93: Zaradenie nákladov | AU93: DPH | AV93: DPH [EUR]
D94: Ostatné náklady | AG94: =ROUND(AG87*AS94,2) -> 0 | AN94: =ROUND(AG94+AV94,2) -> 0 | AS94: 0 | AT94: stavebná časť | AU94: základná | AV94: =ROUND(IF(AU94="základná",AG94*L31,IF(AU94="znížená",AG94*L32,0)),2) -> 0 | BV94: OSTATNENAKLADY | BY94: =IF(AU94="základná",AV94,0) -> 0 | BZ94: =IF(AU94="znížená",AV94,0) -> 0 | CA94: 0 | CB94: 0 | CC94: 0 | CD94: =IF(AU94="základná",AG94,0) -> 0 | CE94: =IF(AU94="znížená",AG94,0) -> 0 | CF94: =IF(AU94="zákl. prenesená",AG94,0) -> 0 | CG94: =IF(AU94="zníž. prenesená",AG94,0) -> 0 | CH94: =IF(AU94="nulová",AG94,0) -> 0 | CI94: =IF(AU94="základná",1,IF(AU94="znížená",2,IF(AU94="zákl. prenesená",4,IF(AU94="zníž. prenesená",5,3)))) -> 1 | CJ94: =IF(AT94="stavebná časť",1,IF(8894="investičná časť",2,3)) -> 1 | CK94: =IF(D94="Vyplň vlastné","","x") -> x
D95: Vyplň vlastné | AG95: =AG87*AS95 -> 0 | AN95: =AG95+AV95 -> 0 | AS95: 0 | AT95: stavebná časť | AU95: základná | AV95: =ROUND(IF(AU95="nulová",0,IF(OR(AU95="základná",AU95="zákl. prenesená"),AG95*L31,AG95*L32)),2) -> 0 | BV95: OSTATNENAKLADYVLASTNE | BY95: =IF(AU95="základná",AV95,0) -> 0 | BZ95: =IF(AU95="znížená",AV95,0) -> 0 | CA95: =IF(AU95="zákl. prenesená",AV95,0) -> 0 | CB95: =IF(AU95="zníž. prenesená",AV95,0) -> 0 | CC95: =IF(AU95="nulová",AV95,0) -> 0 | CD95: =IF(AU95="základná",AG95,0) -> 0 | CE95: =IF(AU95="znížená",AG95,0) -> 0 | CF95: =IF(AU95="zákl. prenesená",AG95,0) -> 0 | CG95: =IF(AU95="zníž. prenesená",AG95,0) -> 0 | CH95: =IF(AU95="nulová",AG95,0) -> 0 | CI95: =IF(AU95="základná",1,IF(AU95="znížená",2,IF(AU95="zákl. prenesená",4,IF(AU95="zníž. prenesená",5,3)))) -> 1 | CJ95: =IF(AT95="stavebná časť",1,IF(8895="investičná časť",2,3)) -> 1 | CK95: =IF(D95="Vyplň vlastné","","x")
D96: Vyplň vlastné | AG96: =AG87*AS96 -> 0 | AN96: =AG96+AV96 -> 0 | AS96: 0 | AT96: stavebná časť | AU96: základná | AV96: =ROUND(IF(AU96="nulová",0,IF(OR(AU96="základná",AU96="zákl. prenesená"),AG96*L31,AG96*L32)),2) -> 0 | BV96: OSTATNENAKLADYVLASTNE | BY96: =IF(AU96="základná",AV96,0) -> 0 | BZ96: =IF(AU96="znížená",AV96,0) -> 0 | CA96: =IF(AU96="zákl. prenesená",AV96,0) -> 0 | CB96: =IF(AU96="zníž. prenesená",AV96,0) -> 0 | CC96: =IF(AU96="nulová",AV96,0) -> 0 | CD96: =IF(AU96="základná",AG96,0) -> 0 | CE96: =IF(AU96="znížená",AG96,0) -> 0 | CF96: =IF(AU96="zákl. prenesená",AG96,0) -> 0 | CG96: =IF(AU96="zníž. prenesená",AG96,0) -> 0 | CH96: =IF(AU96="nulová",AG96,0) -> 0 | CI96: =IF(AU96="základná",1,IF(AU96="znížená",2,IF(AU96="zákl. prenesená",4,IF(AU96="zníž. prenesená",5,3)))) -> 1 | CJ96: =IF(AT96="stavebná časť",1,IF(8896="investičná časť",2,3)) -> 1 | CK96: =IF(D96="Vyplň vlastné","","x")
D97: Vyplň vlastné | AG97: =AG87*AS97 -> 0 | AN97: =AG97+AV97 -> 0 | AS97: 0 | AT97: stavebná časť | AU97: základná | AV97: =ROUND(IF(AU97="nulová",0,IF(OR(AU97="základná",AU97="zákl. prenesená"),AG97*L31,AG97*L32)),2) -> 0 | BV97: OSTATNENAKLADYVLASTNE | BY97: =IF(AU97="základná",AV97,0) -> 0 | BZ97: =IF(AU97="znížená",AV97,0) -> 0 | CA97: =IF(AU97="zákl. prenesená",AV97,0) -> 0 | CB97: =IF(AU97="zníž. prenesená",AV97,0) -> 0 | CC97: =IF(AU97="nulová",AV97,0) -> 0 | CD97: =IF(AU97="základná",AG97,0) -> 0 | CE97: =IF(AU97="znížená",AG97,0) -> 0 | CF97: =IF(AU97="zákl. prenesená",AG97,0) -> 0 | CG97: =IF(AU97="zníž. prenesená",AG97,0) -> 0 | CH97: =IF(AU97="nulová",AG97,0) -> 0 | CI97: =IF(AU97="základná",1,IF(AU97="znížená",2,IF(AU97="zákl. prenesená",4,IF(AU97="zníž. prenesená",5,3)))) -> 1 | CJ97: =IF(AT97="stavebná časť",1,IF(8897="investičná časť",2,3)) -> 1 | CK97: =IF(D97="Vyplň vlastné","","x")
C99: Celkové náklady za stavbu 1) + 2) | AG99: =ROUND(AG87+AG93,2) -> 0 | AN99: =AN87+AN93 -> 0

Sheet 1 - Hrnčírikova ul. mests...
D1: Hárok obsahuje: | F1: 1) Krycí list rozpočtu | H1: 2) Rekapitulácia rozpočtu | L1: 3) Rozpočet | O1: Späť na hárok: | S1: Rekapitulácia stavby
C2: optimalizované pre tlač zostáv vo formáte A4 - na výšku | S2: >> skryté stĺpce << | AT2: {d200122d-3f7f-450d-938a-6a8d6d1a2e32}
AT3: 0
C4: KRYCÍ LIST ROZPOČTU | T4: v --- nižšie sa nachádzajú doplnkové a pomocné údaje k zostavám --- v | AT4: False
D6: Stavba: | F6: ='Rekapitulácia stavby'!K6 -> Spevnené plochy pre zberné nádoby
D7: Objekt: | F7: 1 - Hrnčírikova ul. mestské trhovisko / 6 x 6,5 m /
D8: JKSO: | M8: KS:
D9: Miesto: | M9: Dátum: | O9: ='Rekapitulácia stavby'!AN8 -> 30. 1. 2018
D11: Objednávateľ: | M11: IČO:
E12: Mesto Partizánske | M12: IČO DPH:
D14: Zhotoviteľ: | M14: IČO: | O14: =IF('Rekapitulácia stavby'!AN13="","",'Rekapitulácia stavby'!AN13) -> Vyplň údaj
E15: =IF('Rekapitulácia stavby'!E14="","",'Rekapitulácia stavby'!E14) -> Vyplň údaj | M15: IČO DPH: | O15: =IF('Rekapitulácia stavby'!AN14="","",'Rekapitulácia stavby'!AN14) -> Vyplň údaj
D17: Projektant: | M17: IČO: | O17: =IF('Rekapitulácia stavby'!AN16="","",'Rekapitulácia stavby'!AN16)
E18: =IF('Rekapitulácia stavby'!E17="","",'Rekapitulácia stavby'!E17) | M18: IČO DPH: | O18: =IF('Rekapitulácia stavby'!AN17="","",'Rekapitulácia stavby'!AN17)
D20: Spracovateľ: | M20: IČO: | O20: =IF('Rekapitulácia stavby'!AN19="","",'Rekapitulácia stavby'!AN19)
E21: =IF('Rekapitulácia stavby'!E20="","",'Rekapitulácia stavby'!E20) | M21: IČO DPH: | O21: =IF('Rekapitulácia stavby'!AN20="","",'Rekapitulácia stavby'!AN20)
D23: Poznámka:
D27: Náklady z rozpočtu | M27: =N88 -> 0
D28: Ostatné náklady | M28: =N99 -> 0
D30: Cena bez DPH | M30: =ROUND(M27+M28,2) -> 0
D32: DPH | E32: základná | F32: 0.2 | G32: z | H32: =ROUND((((SUM(BE99:BE106)+SUM(BE124:BE152))+SUM(BE154:BE158))),2) -> 0 | M32: =ROUND(((ROUND((SUM(BE99:BE106)+SUM(BE124:BE152)), 2)*F32)+SUM(BE154:BE158)*F32),2) -> 0
E33: znížená | F33: 0.2 | G33: z | H33: =ROUND((((SUM(BF99:BF106)+SUM(BF124:BF152))+SUM(BF154:BF158))),2) -> 0 | M33: =ROUND(((ROUND((SUM(BF99:BF106)+SUM(BF124:BF152)), 2)*F33)+SUM(BF154:BF158)*F33),2) -> 0
E34: zákl. prenesená | F34: 0.2 | G34: z | H34: =ROUND((((SUM(BG99:BG106)+SUM(BG124:BG152))+SUM(BG154:BG158))),2) -> 0 | M34: 0
E35: zníž. prenesená | F35: 0.2 | G35: z | H35: =ROUND((((SUM(BH99:BH106)+SUM(BH124:BH152))+SUM(BH154:BH158))),2) -> 0 | M35: 0
E36: nulová | F36: 0 | G36: z | H36: =ROUND((((SUM(BI99:BI106)+SUM(BI124:BI152))+SUM(BI154:BI158))),2) -> 0 | M36: 0
D38: Cena s DPH | G38: v | H38: EUR | L38: =SUM(M30:M36) -> 0
D50: Projektant | J50: Spracovateľ
D59: Dátum a podpis: | G59: Pečiatka | J59: Dátum a podpis: | N59: Pečiatka
D61: Objednávateľ | J61: Zhotoviteľ
D70: Dátum a podpis: | G70: Pečiatka | J70: Dátum a podpis: | N70: Pečiatka
C76: REKAPITULÁCIA ROZPOČTU
C78: Stavba: | F78: =F6 -> Spevnené plochy pre zberné nádoby
C79: Objekt: | F79: =F7 -> 1 - Hrnčírikova ul. mestské trhovisko / 6 x 6,5 m /
C81: Miesto: | F81: =F9 | K81: Dátum: | M81: =IF(O9="","",O9) -> 30. 1. 2018
C83: Objednávateľ: | F83: =E12 -> Mesto Partizánske | K83: Projektant: | M83: =E18
C84: Zhotoviteľ: | F84: =IF(E15="","",E15) -> Vyplň údaj | K84: Spracovateľ: | M84: =E21
C86: Kód - Popis | N86: Cena celkom [EUR]
C88: 1) Náklady z rozpočtu | N88: =N124 -> 0 | AU88: -1
D89: HSV - Práce a dodávky HSV | N89: =N125 -> 0
D90: 1 - Zemné práce | N90: =N126 -> 0
D91: 3 - Zvislé a kompletné konštrukcie | N91: =N134 -> 0
D92: 5 - Komunikácie | N92: =N137 -> 0
D93: 9 - Ostatné konštrukcie a práce-búranie | N93: =N142 -> 0
D94: 99 - Presun hmôt HSV | N94: =N145 -> 0
D95: PSV - Práce a dodávky PSV | N95: =N147 -> 0
D96: 767 - Konštrukcie doplnkové kovové | N96: =N148 -> 0
D97: VP - Práce naviac | N97: =N153 -> 0
C99: 2) Ostatné náklady | N99: =ROUND(N100+N101+N102+N103+N104+N105,2) -> 0 | U99: DPH
D100: GZS | N100: =ROUND(N88*T100,2) -> 0 | U100: znížená | AY100: VRN | BE100: =IF(U100="základná",N100,0) -> 0 | BF100: =IF(U100="znížená",N100,0) -> 0 | BG100: =IF(U100="zákl. prenesená",N100,0) -> 0 | BH100: =IF(U100="zníž. prenesená",N100,0) -> 0 | BI100: =IF(U100="nulová",N100,0) -> 0 | BJ100: 2
D101: Projektové práce | N101: =ROUND(N88*T101,2) -> 0 | U101: znížená | AY101: VRN | BE101: =IF(U101="základná",N101,0) -> 0 | BF101: =IF(U101="znížená",N101,0) -> 0 | BG101: =IF(U101="zákl. prenesená",N101,0) -> 0 | BH101: =IF(U101="zníž. prenesená",N101,0) -> 0 | BI101: =IF(U101="nulová",N101,0) -> 0 | BJ101: 2
D102: Sťažené podmienky | N102: =ROUND(N88*T102,2) -> 0 | U102: znížená | AY102: VRN | BE102: =IF(U102="základná",N102,0) -> 0 | BF102: =IF(U102="znížená",N102,0) -> 0 | BG102: =IF(U102="zákl. prenesená",N102,0) -> 0 | BH102: =IF(U102="zníž. prenesená",N102,0) -> 0 | BI102: =IF(U102="nulová",N102,0) -> 0 | BJ102: 2
D103: Vplyv prostredia | N103: =ROUND(N88*T103,2) -> 0 | U103: znížená | AY103: VRN | BE103: =IF(U103="základná",N103,0) -> 0 | BF103: =IF(U103="znížená",N103,0) -> 0 | BG103: =IF(U103="zákl. prenesená",N103,0) -> 0 | BH103: =IF(U103="zníž. prenesená",N103,0) -> 0 | BI103: =IF(U103="nulová",N103,0) -> 0 | BJ103: 2
D104: Iné VRN | N104: =ROUND(N88*T104,2) -> 0 | U104: znížená | AY104: VRN | BE104: =IF(U104="základná",N104,0) -> 0 | BF104: =IF(U104="znížená",N104,0) -> 0 | BG104: =IF(U104="zákl. prenesená",N104,0) -> 0 | BH104: =IF(U104="zníž. prenesená",N104,0) -> 0 | BI104: =IF(U104="nulová",N104,0) -> 0 | BJ104: 2
D105: Kompletačná činnosť | N105: =ROUND(N88*T105,2) -> 0 | U105: znížená | AY105: KOMPLETACNA | BE105: =IF(U105="základná",N105,0) -> 0 | BF105: =IF(U105="znížená",N105,0) -> 0 | BG105: =IF(U105="zákl. prenesená",N105,0) -> 0 | BH105: =IF(U105="zníž. prenesená",N105,0) -> 0 | BI105: =IF(U105="nulová",N105,0) -> 0 | BJ105: 2
C107: Celkové náklady za stavbu 1) + 2) | L107: =ROUND(SUM(N88+N99),2) -> 0
C113: ROZPOČET
C115: Stavba: | F115: =F6 -> Spevnené plochy pre zberné nádoby
C116: Objekt: | F116: =F7 -> 1 - Hrnčírikova ul. mestské trhovisko / 6 x 6,5 m /
C118: Miesto: | F118: =F9 | K118: Dátum: | M118: =IF(O9="","",O9) -> 30. 1. 2018
C120: Objednávateľ: | F120: =E12 -> Mesto Partizánske | K120: Projektant: | M120: =E18
C121: Zhotoviteľ: | F121: =IF(E15="","",E15) -> Vyplň údaj | K121: Spracovateľ: | M121: =E21
C123: PČ | D123: Typ | E123: Kód | F123: Popis | J123: MJ | K123: Množstvo | L123: J.cena [EUR] | N123: Cena celkom [EUR] | T123: Poznámka | U123: DPH | V123: J. Nh [h] | W123: Nh celkom [h] | X123: J. hmotnosť_x000D_ [t] | Y123: Hmotnosť_x000D_ celkom [t] | Z123: J. suť [t] | AA123: Suť Celkom [t]
C124: Náklady z rozpočtu | N124: =BK124 -> 0 | W124: =W125+W147+W153 -> 0 | Y124: =Y125+Y147+Y153 -> 23.01547 | AA124: =AA125+AA147+AA153 -> 0.362 | AT124: D | AU124: -1 | BK124: =BK125+BK147+BK153 -> 0
D125: HSV - Práce a dodávky HSV | N125: =BK125 -> 0 | W125: =W126+W134+W137+W142+W145 -> 0 | Y125: =Y126+Y134+Y137+Y142+Y145 -> 22.77307 | AA125: =AA126+AA134+AA137+AA142+AA145 -> 0.29 | AR125: 1 | AT125: D | AU125: 0 | AY125: ROZPOCET | BK125: =BK126+BK134+BK137+BK142+BK145 -> 0
D126: 1 - Zemné práce | N126: =BK126 -> 0 | W126: =SUM(W127:W133) -> 0 | Y126: =SUM(Y127:Y133) -> 0 | AA126: =SUM(AA127:AA133) -> 0.29 | AR126: 1 | AT126: D | AU126: 1 | AY126: ROZPOCET | BK126: =SUM(BK127:BK133) -> 0
C127: 1 | D127: K | E127: 113206111 | F127: Vytrhanie obrúb betónových, s vybúraním lôžka, z krajníkov alebo obrubníkov stojatých, -0,14500t | J127: m | K127: 2 | L127: 0 | N127: =ROUND(L127*K127,3) -> 0 | U127: znížená | W127: =V127*K127 -> 0 | X127: 0 | Y127: =X127*K127 -> 0 | Z127: 0.145 | AA127: =Z127*K127 -> 0.29 | AR127: 4 | AT127: K | AU127: 2 | AY127: ROZPOCET | BE127: =IF(U127="základná",N127,0) -> 0 | BF127: =IF(U127="znížená",N127,0) -> 0 | BG127: =IF(U127="zákl. prenesená",N127,0) -> 0 | BH127: =IF(U127="zníž. prenesená",N127,0) -> 0 | BI127: =IF(U127="nulová",N127,0) -> 0 | BJ127: 2 | BK127: =ROUND(L127*K127,3) -> 0 | BL127: 4 | BM127: -1535963543
C128: 2 | D128: K | E128: 122201101 | F128: Odkopávka a prekopávka nezapažená v hornine 3, do 100 m3 | J128: m3 | K128: 12.8 | L128: 0 | N128: =ROUND(L128*K128,3) -> 0 | U128: znížená | W128: =V128*K128 -> 0 | X128: 0 | Y128: =X128*K128 -> 0 | Z128: 0 | AA128: =Z128*K128 -> 0 | AR128: 4 | AT128: K | AU128: 2 | AY128: ROZPOCET | BE128: =IF(U128="základná",N128,0) -> 0 | BF128: =IF(U128="znížená",N128,0) -> 0 | BG128: =IF(U128="zákl. prenesená",N128,0) -> 0 | BH128: =IF(U128="zníž. prenesená",N128,0) -> 0 | BI128: =IF(U128="nulová",N128,0) -> 0 | BJ128: 2 | BK128: =ROUND(L128*K128,3) -> 0 | BL128: 4 | BM128: 1048614087
C129: 3 | D129: K | E129: 122201109 | F129: Odkopávky a prekopávky nezapažené. Príplatok k cenám za lepivosť horniny 3 | J129: m3 | K129: 12.8 | L129: 0 | N129: =ROUND(L129*K129,3) -> 0 | U129: znížená | W129: =V129*K129 -> 0 | X129: 0 | Y129: =X129*K129 -> 0 | Z129: 0 | AA129: =Z129*K129 -> 0 | AR129: 4 | AT129: K | AU129: 2 | AY129: ROZPOCET | BE129: =IF(U129="základná",N129,0) -> 0 | BF129: =IF(U129="znížená",N129,0) -> 0 | BG129: =IF(U129="zákl. prenesená",N129,0) -> 0 | BH129: =IF(U129="zníž. prenesená",N129,0) -> 0 | BI129: =IF(U129="nulová",N129,0) -> 0 | BJ129: 2 | BK129: =ROUND(L129*K129,3) -> 0 | BL129: 4 | BM129: 1345122764
C130: 4 | D130: K | E130: 162501102 | F130: Vodorovné premiestnenie výkopku po spevnenej ceste z horniny tr.1-4, do 100 m3 na vzdialenosť do 3000 m | J130: m3 | K130: 12.8 | L130: 0 | N130: =ROUND(L130*K130,3) -> 0 | U130: znížená | W130: =V130*K130 -> 0 | X130: 0 | Y130: =X130*K130 -> 0 | Z130: 0 | AA130: =Z130*K130 -> 0 | AR130: 4 | AT130: K | AU130: 2 | AY130: ROZPOCET | BE130: =IF(U130="základná",N130,0) -> 0 | BF130: =IF(U130="znížená",N130,0) -> 0 | BG130: =IF(U130="zákl. prenesená",N130,0) -> 0 | BH130: =IF(U130="zníž. prenesená",N130,0) -> 0 | BI130: =IF(U130="nulová",N130,0) -> 0 | BJ130: 2 | BK130: =ROUND(L130*K130,3) -> 0 | BL130: 4 | BM130: -1451600334
C131: 5 | D131: K | E131: 171201201 | F131: Uloženie sypaniny na skládky do 100 m3 | J131: m3 | K131: 12.8 | L131: 0 | N131: =ROUND(L131*K131,3) -> 0 | U131: znížená | W131: =V131*K131 -> 0 | X131: 0 | Y131: =X131*K131 -> 0 | Z131: 0 | AA131: =Z131*K131 -> 0 | AR131: 4 | AT131: K | AU131: 2 | AY131: ROZPOCET | BE131: =IF(U131="základná",N131,0) -> 0 | BF131: =IF(U131="znížená",N131,0) -> 0 | BG131: =IF(U131="zákl. prenesená",N131,0) -> 0 | BH131: =IF(U131="zníž. prenesená",N131,0) -> 0 | BI131: =IF(U131="nulová",N131,0) -> 0 | BJ131: 2 | BK131: =ROUND(L131*K131,3) -> 0 | BL131: 4 | BM131: 424440351
C132: 6 | D132: K | E132: 171209002 | F132: Poplatok za skladovanie - zemina a kamenivo (17 05) ostatné | J132: t | K132: 23.04 | L132: 0 | N132: =ROUND(L132*K132,3) -> 0 | U132: znížená | W132: =V132*K132 -> 0 | X132: 0 | Y132: =X132*K132 -> 0 | Z132: 0 | AA132: =Z132*K132 -> 0 | AR132: 4 | AT132: K | AU132: 2 | AY132: ROZPOCET | BE132: =IF(U132="základná",N132,0) -> 0 | BF132: =IF(U132="znížená",N132,0) -> 0 | BG132: =IF(U132="zákl. prenesená",N132,0) -> 0 | BH132: =IF(U132="zníž. prenesená",N132,0) -> 0 | BI132: =IF(U132="nulová",N132,0) -> 0 | BJ132: 2 | BK132: =ROUND(L132*K132,3) -> 0 | BL132: 4 | BM132: 382629093
C133: 7 | D133: K | E133: 181301101 | F133: Rozprestretie ornice v rovine, plocha do 500 m2, hr.do 100 mm | J133: m2 | K133: 12 | L133: 0 | N133: =ROUND(L133*K133,3) -> 0 | U133: znížená | W133: =V133*K133 -> 0 | X133: 0 | Y133: =X133*K133 -> 0 | Z133: 0 | AA133: =Z133*K133 -> 0 | AR133: 4 | AT133: K | AU133: 2 | AY133: ROZPOCET | BE133: =IF(U133="základná",N133,0) -> 0 | BF133: =IF(U133="znížená",N133,0) -> 0 | BG133: =IF(U133="zákl. prenesená",N133,0) -> 0 | BH133: =IF(U133="zníž. prenesená",N133,0) -> 0 | BI133: =IF(U133="nulová",N133,0) -> 0 | BJ133: 2 | BK133: =ROUND(L133*K133,3) -> 0 | BL133: 4 | BM133: -574868868
D134: 3 - Zvislé a kompletné konštrukcie | N134: =BK134 -> 0 | W134: =SUM(W135:W136) -> 0 | Y134: =SUM(Y135:Y136) -> 0.62111 | AA134: =SUM(AA135:AA136) -> 0 | AR134: 1 | AT134: D | AU134: 1 | AY134: ROZPOCET | BK134: =SUM(BK135:BK136) -> 0
C135: 8 | D135: K | E135: 338171112 | F135: Osadenie stĺpika oceľového plotového do výšky 2.00m so zabetónovaním | J135: ks | K135: 7 | L135: 0 | N135: =ROUND(L135*K135,3) -> 0 | U135: znížená | W135: =V135*K135 -> 0 | X135: 0.08873 | Y135: =X135*K135 -> 0.62111 | Z135: 0 | AA135: =Z135*K135 -> 0 | AR135: 4 | AT135: K | AU135: 2 | AY135: ROZPOCET | BE135: =IF(U135="základná",N135,0) -> 0 | BF135: =IF(U135="znížená",N135,0) -> 0 | BG135: =IF(U135="zákl. prenesená",N135,0) -> 0 | BH135: =IF(U135="zníž. prenesená",N135,0) -> 0 | BI135: =IF(U135="nulová",N135,0) -> 0 | BJ135: 2 | BK135: =ROUND(L135*K135,3) -> 0 | BL135: 4 | BM135: -244855473
C136: 9 | D136: M | E136: 5535850018 | F136: Stĺpik 60x40 mm pozink. poplast, výška:2,0 m, pre osadenie do betónových pätiek | J136: ks | K136: 7 | L136: 0 | N136: =ROUND(L136*K136,3) -> 0 | U136: znížená | W136: =V136*K136 -> 0 | X136: 0 | Y136: =X136*K136 -> 0 | Z136: 0 | AA136: =Z136*K136 -> 0 | AR136: 8 | AT136: M | AU136: 2 | AY136: ROZPOCET | BE136: =IF(U136="základná",N136,0) -> 0 | BF136: =IF(U136="znížená",N136,0) -> 0 | BG136: =IF(U136="zákl. prenesená",N136,0) -> 0 | BH136: =IF(U136="zníž. prenesená",N136,0) -> 0 | BI136: =IF(U136="nulová",N136,0) -> 0 | BJ136: 2 | BK136: =ROUND(L136*K136,3) -> 0 | BL136: 4 | BM136: -2119363987
D137: 5 - Komunikácie | N137: =BK137 -> 0 | W137: =SUM(W138:W141) -> 0 | Y137: =SUM(Y138:Y141) -> 19.6508 | AA137: =SUM(AA138:AA141) -> 0 | AR137: 1 | AT137: D | AU137: 1 | AY137: ROZPOCET | BK137: =SUM(BK138:BK141) -> 0
C138: 10 | D138: K | E138: 564801112 | F138: Podklad zo štrkodrviny fr. 4 - mm s rozprestretím a zhutnením, po zhutnení hr. 40 mm | J138: m2 | K138: 40 | L138: 0 | N138: =ROUND(L138*K138,3) -> 0 | U138: znížená | W138: =V138*K138 -> 0 | X138: 0.08003 | Y138: =X138*K138 -> 3.2012 | Z138: 0 | AA138: =Z138*K138 -> 0 | AR138: 4 | AT138: K | AU138: 2 | AY138: ROZPOCET | BE138: =IF(U138="základná",N138,0) -> 0 | BF138: =IF(U138="znížená",N138,0) -> 0 | BG138: =IF(U138="zákl. prenesená",N138,0) -> 0 | BH138: =IF(U138="zníž. prenesená",N138,0) -> 0 | BI138: =IF(U138="nulová",N138,0) -> 0 | BJ138: 2 | BK138: =ROUND(L138*K138,3) -> 0 | BL138: 4 | BM138: -1476067984
C139: 11 | D139: K | E139: 564851111 | F139: Podklad zo štrkodrviny fr. 16 - 32 mm s rozprestretím a zhutnením, po zhutnení hr. 150 mm | J139: m2 | K139: 40 | L139: 0 | N139: =ROUND(L139*K139,3) -> 0 | U139: znížená | W139: =V139*K139 -> 0 | X139: 0.27994 | Y139: =X139*K139 -> 11.1976 | Z139: 0 | AA139: =Z139*K139 -> 0 | AR139: 4 | AT139: K | AU139: 2 | AY139: ROZPOCET | BE139: =IF(U139="základná",N139,0) -> 0 | BF139: =IF(U139="znížená",N139,0) -> 0 | BG139: =IF(U139="zákl. prenesená",N139,0) -> 0 | BH139: =IF(U139="zníž. prenesená",N139,0) -> 0 | BI139: =IF(U139="nulová",N139,0) -> 0 | BJ139: 2 | BK139: =ROUND(L139*K139,3) -> 0 | BL139: 4 | BM139: -1335466871
C140: 12 | D140: K | E140: 596911112 | F140: Kladenie zámkovej dlažby hr. 6 cm pre peších nad 20 m2 so zriadením lôžka z kameniva hr. 4 cm | J140: m2 | K140: 40 | L140: 0 | N140: =ROUND(L140*K140,3) -> 0 | U140: znížená | W140: =V140*K140 -> 0 | X140: 0 | Y140: =X140*K140 -> 0 | Z140: 0 | AA140: =Z140*K140 -> 0 | AR140: 4 | AT140: K | AU140: 2 | AY140: ROZPOCET | BE140: =IF(U140="základná",N140,0) -> 0 | BF140: =IF(U140="znížená",N140,0) -> 0 | BG140: =IF(U140="zákl. prenesená",N140,0) -> 0 | BH140: =IF(U140="zníž. prenesená",N140,0) -> 0 | BI140: =IF(U140="nulová",N140,0) -> 0 | BJ140: 2 | BK140: =ROUND(L140*K140,3) -> 0 | BL140: 4 | BM140: -1704173834
C141: 13 | D141: M | E141: 5921952840 | F141: Dlažba Low value Premac KLASIKO 20x10x6 cm, sivá | J141: m2 | K141: 40.4 | L141: 0 | N141: =ROUND(L141*K141,3) -> 0 | U141: znížená | W141: =V141*K141 -> 0 | X141: 0.13 | Y141: =X141*K141 -> 5.252 | Z141: 0 | AA141: =Z141*K141 -> 0 | AR141: 8 | AT141: M | AU141: 2 | AY141: ROZPOCET | BE141: =IF(U141="základná",N141,0) -> 0 | BF141: =IF(U141="znížená",N141,0) -> 0 | BG141: =IF(U141="zákl. prenesená",N141,0) -> 0 | BH141: =IF(U141="zníž. prenesená",N141,0) -> 0 | BI141: =IF(U141="nulová",N141,0) -> 0 | BJ141: 2 | BK141: =ROUND(L141*K141,3) -> 0 | BL141: 4 | BM141: -342041119
D142: 9 - Ostatné konštrukcie a práce-búranie | N142: =BK142 -> 0 | W142: =SUM(W143:W144) -> 0 | Y142: =SUM(Y143:Y144) -> 2.50116 | AA142: =SUM(AA143:AA144) -> 0 | AR142: 1 | AT142: D | AU142: 1 | AY142: ROZPOCET | BK142: =SUM(BK143:BK144) -> 0
C143: 14 | D143: K | E143: 917862112 | F143: Osadenie chodník. obrubníka betónového stojatého do lôžka z betónu prosteho tr. C 16/20 s bočnou oporou | J143: m | K143: 12 | L143: 0 | N143: =ROUND(L143*K143,3) -> 0 | U143: znížená | W143: =V143*K143 -> 0 | X143: 0.12662 | Y143: =X143*K143 -> 1.51944 | Z143: 0 | AA143: =Z143*K143 -> 0 | AR143: 4 | AT143: K | AU143: 2 | AY143: ROZPOCET | BE143: =IF(U143="základná",N143,0) -> 0 | BF143: =IF(U143="znížená",N143,0) -> 0 | BG143: =IF(U143="zákl. prenesená",N143,0) -> 0 | BH143: =IF(U143="zníž. prenesená",N143,0) -> 0 | BI143: =IF(U143="nulová",N143,0) -> 0 | BJ143: 2 | BK143: =ROUND(L143*K143,3) -> 0 | BL143: 4 | BM143: -1056276625
C144: 15 | D144: M | E144: 5922903060 | F144: Obrubník betónový cestný 100/25/15 cm, sivá | J144: ks | K144: 12.12 | L144: 0 | N144: =ROUND(L144*K144,3) -> 0 | U144: znížená | W144: =V144*K144 -> 0 | X144: 0.081 | Y144: =X144*K144 -> 0.98172 | Z144: 0 | AA144: =Z144*K144 -> 0 | AR144: 8 | AT144: M | AU144: 2 | AY144: ROZPOCET | BE144: =IF(U144="základná",N144,0) -> 0 | BF144: =IF(U144="znížená",N144,0) -> 0 | BG144: =IF(U144="zákl. prenesená",N144,0) -> 0 | BH144: =IF(U144="zníž. prenesená",N144,0) -> 0 | BI144: =IF(U144="nulová",N144,0) -> 0 | BJ144: 2 | BK144: =ROUND(L144*K144,3) -> 0 | BL144: 4 | BM144: 1488318523
D145: 99 - Presun hmôt HSV | N145: =BK145 -> 0 | W145: =W146 -> 0 | Y145: =Y146 -> 0 | AA145: =AA146 -> 0 | AR145: 1 | AT145: D | AU145: 1 | AY145: ROZPOCET | BK145: =BK146 -> 0
C146: 16 | D146: K | E146: 998223011 | F146: Presun hmôt pre pozemné komunikácie s krytom dláždeným (822 2.3, 822 5.3) akejkoľvek dĺžky objektu | J146: t | K146: 22.773 | L146: 0 | N146: =ROUND(L146*K146,3) -> 0 | U146: znížená | W146: =V146*K146 -> 0 | X146: 0 | Y146: =X146*K146 -> 0 | Z146: 0 | AA146: =Z146*K146 -> 0 | AR146: 4 | AT146: K | AU146: 2 | AY146: ROZPOCET | BE146: =IF(U146="základná",N146,0) -> 0 | BF146: =IF(U146="znížená",N146,0) -> 0 | BG146: =IF(U146="zákl. prenesená",N146,0) -> 0 | BH146: =IF(U146="zníž. prenesená",N146,0) -> 0 | BI146: =IF(U146="nulová",N146,0) -> 0 | BJ146: 2 | BK146: =ROUND(L146*K146,3) -> 0 | BL146: 4 | BM146: -1845106513
D147: PSV - Práce a dodávky PSV | N147: =BK147 -> 0 | W147: =W148 -> 0 | Y147: =Y148 -> 0.2424 | AA147: =AA148 -> 0.072 | AR147: 2 | AT147: D | AU147: 0 | AY147: ROZPOCET | BK147: =BK148 -> 0
D148: 767 - Konštrukcie doplnkové kovové | N148: =BK148 -> 0 | W148: =SUM(W149:W152) -> 0 | Y148: =SUM(Y149:Y152) -> 0.2424 | AA148: =SUM(AA149:AA152) -> 0.072 | AR148: 2 | AT148: D | AU148: 1 | AY148: ROZPOCET | BK148: =SUM(BK149:BK152) -> 0
C149: 17 | D149: K | E149: 767914830 | F149: Demontáž oplotenia, výšky nad 1 do 2 m, -0,00900t | J149: m | K149: 8 | L149: 0 | N149: =ROUND(L149*K149,3) -> 0 | U149: znížená | W149: =V149*K149 -> 0 | X149: 0 | Y149: =X149*K149 -> 0 | Z149: 0.009 | AA149: =Z149*K149 -> 0.072 | AR149: 16 | AT149: K | AU149: 2 | AY149: ROZPOCET | BE149: =IF(U149="základná",N149,0) -> 0 | BF149: =IF(U149="znížená",N149,0) -> 0 | BG149: =IF(U149="zákl. prenesená",N149,0) -> 0 | BH149: =IF(U149="zníž. prenesená",N149,0) -> 0 | BI149: =IF(U149="nulová",N149,0) -> 0 | BJ149: 2 | BK149: =ROUND(L149*K149,3) -> 0 | BL149: 16 | BM149: -634277150
C150: 18 | D150: K | E150: 767916330 | F150: Montáž oplotenia panelového, poplastovaného na pozinkovanej oceli na stĺpiky, výšky do 1,5 m | J150: m | K150: 12 | L150: 0 | N150: =ROUND(L150*K150,3) -> 0 | U150: znížená | W150: =V150*K150 -> 0 | X150: 0 | Y150: =X150*K150 -> 0 | Z150: 0 | AA150: =Z150*K150 -> 0 | AR150: 16 | AT150: K | AU150: 2 | AY150: ROZPOCET | BE150: =IF(U150="základná",N150,0) -> 0 | BF150: =IF(U150="znížená",N150,0) -> 0 | BG150: =IF(U150="zákl. prenesená",N150,0) -> 0 | BH150: =IF(U150="zníž. prenesená",N150,0) -> 0 | BI150: =IF(U150="nulová",N150,0) -> 0 | BJ150: 2 | BK150: =ROUND(L150*K150,3) -> 0 | BL150: 16 | BM150: -329033320
C151: 19 | D151: M | E151: 5535850002 | F151: Panel pozink. poplast, výška:1,50 m, dĺžka 2,50 m panelové oplotenie štandardne s vyčnievajúcimu hornými a dolnými tyčami s príslušenstvom | J151: ks | K151: 6 | L151: 0 | N151: =ROUND(L151*K151,3) -> 0 | U151: znížená | W151: =V151*K151 -> 0 | X151: 0.0404 | Y151: =X151*K151 -> 0.2424 | Z151: 0 | AA151: =Z151*K151 -> 0 | AR151: 32 | AT151: M | AU151: 2 | AY151: ROZPOCET | BE151: =IF(U151="základná",N151,0) -> 0 | BF151: =IF(U151="znížená",N151,0) -> 0 | BG151: =IF(U151="zákl. prenesená",N151,0) -> 0 | BH151: =IF(U151="zníž. prenesená",N151,0) -> 0 | BI151: =IF(U151="nulová",N151,0) -> 0 | BJ151: 2 | BK151: =ROUND(L151*K151,3) -> 0 | BL151: 16 | BM151: -1661126956
C152: 20 | D152: K | E152: 998767201 | F152: Presun hmôt pre kovové stavebné doplnkové konštrukcie v objektoch výšky do 6 m | J152: % | K152: 0 | L152: 0 | N152: =ROUND(L152*K152,3) -> 0 | U152: znížená | W152: =V152*K152 -> 0 | X152: 0 | Y152: =X152*K152 -> 0 | Z152: 0 | AA152: =Z152*K152 -> 0 | AR152: 16 | AT152: K | AU152: 2 | AY152: ROZPOCET | BE152: =IF(U152="základná",N152,0) -> 0 | BF152: =IF(U152="znížená",N152,0) -> 0 | BG152: =IF(U152="zákl. prenesená",N152,0) -> 0 | BH152: =IF(U152="zníž. prenesená",N152,0) -> 0 | BI152: =IF(U152="nulová",N152,0) -> 0 | BJ152: 2 | BK152: =ROUND(L152*K152,3) -> 0 | BL152: 16 | BM152: -306376829
D153: VP - Práce naviac | N153: =BK153 -> 0 | AT153: D | AU153: 0 | AY153: PN | BK153: =SUM(BK154:BK158) -> 0
D154: K | N154: =BK154 -> 0 | U154: znížená | AT154: PN | AU154: 1 | AY154: PN | BE154: =IF(U154="základná",N154,0) -> 0 | BF154: =IF(U154="znížená",N154,0) -> 0 | BG154: =IF(U154="zákl. prenesená",N154,0) -> 0 | BH154: =IF(U154="zníž. prenesená",N154,0) -> 0 | BI154: =IF(U154="nulová",N154,0) -> 0 | BJ154: 2 | BK154: =L154*K154 -> 0
D155: K | N155: =BK155 -> 0 | U155: znížená | AT155: PN | AU155: 1 | AY155: PN | BE155: =IF(U155="základná",N155,0) -> 0 | BF155: =IF(U155="znížená",N155,0) -> 0 | BG155: =IF(U155="zákl. prenesená",N155,0) -> 0 | BH155: =IF(U155="zníž. prenesená",N155,0) -> 0 | BI155: =IF(U155="nulová",N155,0) -> 0 | BJ155: 2 | BK155: =L155*K155 -> 0
D156: K | N156: =BK156 -> 0 | U156: znížená | AT156: PN | AU156: 1 | AY156: PN | BE156: =IF(U156="základná",N156,0) -> 0 | BF156: =IF(U156="znížená",N156,0) -> 0 | BG156: =IF(U156="zákl. prenesená",N156,0) -> 0 | BH156: =IF(U156="zníž. prenesená",N156,0) -> 0 | BI156: =IF(U156="nulová",N156,0) -> 0 | BJ156: 2 | BK156: =L156*K156 -> 0
D157: K | N157: =BK157 -> 0 | U157: znížená | AT157: PN | AU157: 1 | AY157: PN | BE157: =IF(U157="základná",N157,0) -> 0 | BF157: =IF(U157="znížená",N157,0) -> 0 | BG157: =IF(U157="zákl. prenesená",N157,0) -> 0 | BH157: =IF(U157="zníž. prenesená",N157,0) -> 0 | BI157: =IF(U157="nulová",N157,0) -> 0 | BJ157: 2 | BK157: =L157*K157 -> 0
D158: K | N158: =BK158 -> 0 | U158: znížená | AT158: PN | AU158: 1 | AY158: PN | BE158: =IF(U158="základná",N158,0) -> 0 | BF158: =IF(U158="znížená",N158,0) -> 0 | BG158: =IF(U158="zákl. prenesená",N158,0) -> 0 | BH158: =IF(U158="zníž. prenesená",N158,0) -> 0 | BI158: =IF(U158="nulová",N158,0) -> 0 | BJ158: 2 | BK158: =L158*K158 -> 0

Sheet 2 - Obuvnícka 423 - 6 x 4...
D1: Hárok obsahuje: | F1: 1) Krycí list rozpočtu | H1: 2) Rekapitulácia rozpočtu | L1: 3) Rozpočet | O1: Späť na hárok: | S1: Rekapitulácia stavby
C2: optimalizované pre tlač zostáv vo formáte A4 - na výšku | S2: >> skryté stĺpce << | AT2: {ca765887-98b2-4813-983e-fe8a70cd1f84}
AT3: 0
C4: KRYCÍ LIST ROZPOČTU | T4: v --- nižšie sa nachádzajú doplnkové a pomocné údaje k zostavám --- v | AT4: False
D6: Stavba: | F6: ='Rekapitulácia stavby'!K6 -> Spevnené plochy pre zberné nádoby
D7: Objekt: | F7: 2 - Obuvnícka 423 / 6 x 4 m /
D8: JKSO: | M8: KS:
D9: Miesto: | M9: Dátum: | O9: ='Rekapitulácia stavby'!AN8 -> 30. 1. 2018
D11: Objednávateľ: | M11: IČO:
E12: Mesto Partizánske | M12: IČO DPH:
D14: Zhotoviteľ: | M14: IČO: | O14: =IF('Rekapitulácia stavby'!AN13="","",'Rekapitulácia stavby'!AN13) -> Vyplň údaj
E15: =IF('Rekapitulácia stavby'!E14="","",'Rekapitulácia stavby'!E14) -> Vyplň údaj | M15: IČO DPH: | O15: =IF('Rekapitulácia stavby'!AN14="","",'Rekapitulácia stavby'!AN14) -> Vyplň údaj
D17: Projektant: | M17: IČO: | O17: =IF('Rekapitulácia stavby'!AN16="","",'Rekapitulácia stavby'!AN16)
E18: =IF('Rekapitulácia stavby'!E17="","",'Rekapitulácia stavby'!E17) | M18: IČO DPH: | O18: =IF('Rekapitulácia stavby'!AN17="","",'Rekapitulácia stavby'!AN17)
D20: Spracovateľ: | M20: IČO: | O20: =IF('Rekapitulácia stavby'!AN19="","",'Rekapitulácia stavby'!AN19)
E21: =IF('Rekapitulácia stavby'!E20="","",'Rekapitulácia stavby'!E20) | M21: IČO DPH: | O21: =IF('Rekapitulácia stavby'!AN20="","",'Rekapitulácia stavby'!AN20)
D23: Poznámka:
D27: Náklady z rozpočtu | M27: =N88 -> 0
D28: Ostatné náklady | M28: =N96 -> 0
D30: Cena bez DPH | M30: =ROUND(M27+M28,2) -> 0
D32: DPH | E32: základná | F32: 0.2 | G32: z | H32: =ROUND((((SUM(BE96:BE103)+SUM(BE121:BE143))+SUM(BE145:BE149))),2) -> 0 | M32: =ROUND(((ROUND((SUM(BE96:BE103)+SUM(BE121:BE143)), 2)*F32)+SUM(BE145:BE149)*F32),2) -> 0
E33: znížená | F33: 0.2 | G33: z | H33: =ROUND((((SUM(BF96:BF103)+SUM(BF121:BF143))+SUM(BF145:BF149))),2) -> 0 | M33: =ROUND(((ROUND((SUM(BF96:BF103)+SUM(BF121:BF143)), 2)*F33)+SUM(BF145:BF149)*F33),2) -> 0
E34: zákl. prenesená | F34: 0.2 | G34: z | H34: =ROUND((((SUM(BG96:BG103)+SUM(BG121:BG143))+SUM(BG145:BG149))),2) -> 0 | M34: 0
E35: zníž. prenesená | F35: 0.2 | G35: z | H35: =ROUND((((SUM(BH96:BH103)+SUM(BH121:BH143))+SUM(BH145:BH149))),2) -> 0 | M35: 0
E36: nulová | F36: 0 | G36: z | H36: =ROUND((((SUM(BI96:BI103)+SUM(BI121:BI143))+SUM(BI145:BI149))),2) -> 0 | M36: 0
D38: Cena s DPH | G38: v | H38: EUR | L38: =SUM(M30:M36) -> 0
D50: Projektant | J50: Spracovateľ
D59: Dátum a podpis: | G59: Pečiatka | J59: Dátum a podpis: | N59: Pečiatka
D61: Objednávateľ | J61: Zhotoviteľ
D70: Dátum a podpis: | G70: Pečiatka | J70: Dátum a podpis: | N70: Pečiatka
C76: REKAPITULÁCIA ROZPOČTU
C78: Stavba: | F78: =F6 -> Spevnené plochy pre zberné nádoby
C79: Objekt: | F79: =F7 -> 2 - Obuvnícka 423 / 6 x 4 m /
C81: Miesto: | F81: =F9 | K81: Dátum: | M81: =IF(O9="","",O9) -> 30. 1. 2018
C83: Objednávateľ: | F83: =E12 -> Mesto Partizánske | K83: Projektant: | M83: =E18
C84: Zhotoviteľ: | F84: =IF(E15="","",E15) -> Vyplň údaj | K84: Spracovateľ: | M84: =E21
C86: Kód - Popis | N86: Cena celkom [EUR]
C88: 1) Náklady z rozpočtu | N88: =N121 -> 0 | AU88: -1
D89: HSV - Práce a dodávky HSV | N89: =N122 -> 0
D90: 1 - Zemné práce | N90: =N123 -> 0
D91: 5 - Komunikácie | N91: =N131 -> 0
D92: 9 - Ostatné konštrukcie a práce-búranie | N92: =N136 -> 0
D93: 99 - Presun hmôt HSV | N93: =N142 -> 0
D94: VP - Práce naviac | N94: =N144 -> 0
C96: 2) Ostatné náklady | N96: =ROUND(N97+N98+N99+N100+N101+N102,2) -> 0 | U96: DPH
D97: GZS | N97: =ROUND(N88*T97,2) -> 0 | U97: znížená | AY97: VRN | BE97: =IF(U97="základná",N97,0) -> 0 | BF97: =IF(U97="znížená",N97,0) -> 0 | BG97: =IF(U97="zákl. prenesená",N97,0) -> 0 | BH97: =IF(U97="zníž. prenesená",N97,0) -> 0 | BI97: =IF(U97="nulová",N97,0) -> 0 | BJ97: 2
D98: Projektové práce | N98: =ROUND(N88*T98,2) -> 0 | U98: znížená | AY98: VRN | BE98: =IF(U98="základná",N98,0) -> 0 | BF98: =IF(U98="znížená",N98,0) -> 0 | BG98: =IF(U98="zákl. prenesená",N98,0) -> 0 | BH98: =IF(U98="zníž. prenesená",N98,0) -> 0 | BI98: =IF(U98="nulová",N98,0) -> 0 | BJ98: 2
D99: Sťažené podmienky | N99: =ROUND(N88*T99,2) -> 0 | U99: znížená | AY99: VRN | BE99: =IF(U99="základná",N99,0) -> 0 | BF99: =IF(U99="znížená",N99,0) -> 0 | BG99: =IF(U99="zákl. prenesená",N99,0) -> 0 | BH99: =IF(U99="zníž. prenesená",N99,0) -> 0 | BI99: =IF(U99="nulová",N99,0) -> 0 | BJ99: 2
D100: Vplyv prostredia | N100: =ROUND(N88*T100,2) -> 0 | U100: znížená | AY100: VRN | BE100: =IF(U100="základná",N100,0) -> 0 | BF100: =IF(U100="znížená",N100,0) -> 0 | BG100: =IF(U100="zákl. prenesená",N100,0) -> 0 | BH100: =IF(U100="zníž. prenesená",N100,0) -> 0 | BI100: =IF(U100="nulová",N100,0) -> 0 | BJ100: 2
D101: Iné VRN | N101: =ROUND(N88*T101,2) -> 0 | U101: znížená | AY101: VRN | BE101: =IF(U101="základná",N101,0) -> 0 | BF101: =IF(U101="znížená",N101,0) -> 0 | BG101: =IF(U101="zákl. prenesená",N101,0) -> 0 | BH101: =IF(U101="zníž. prenesená",N101,0) -> 0 | BI101: =IF(U101="nulová",N101,0) -> 0 | BJ101: 2
D102: Kompletačná činnosť | N102: =ROUND(N88*T102,2) -> 0 | U102: znížená | AY102: KOMPLETACNA | BE102: =IF(U102="základná",N102,0) -> 0 | BF102: =IF(U102="znížená",N102,0) -> 0 | BG102: =IF(U102="zákl. prenesená",N102,0) -> 0 | BH102: =IF(U102="zníž. prenesená",N102,0) -> 0 | BI102: =IF(U102="nulová",N102,0) -> 0 | BJ102: 2
C104: Celkové náklady za stavbu 1) + 2) | L104: =ROUND(SUM(N88+N96),2) -> 0
C110: ROZPOČET
C112: Stavba: | F112: =F6 -> Spevnené plochy pre zberné nádoby
C113: Objekt: | F113: =F7 -> 2 - Obuvnícka 423 / 6 x 4 m /
C115: Miesto: | F115: =F9 | K115: Dátum: | M115: =IF(O9="","",O9) -> 30. 1. 2018
C117: Objednávateľ: | F117: =E12 -> Mesto Partizánske | K117: Projektant: | M117: =E18
C118: Zhotoviteľ: | F118: =IF(E15="","",E15) -> Vyplň údaj | K118: Spracovateľ: | M118: =E21
C120: PČ | D120: Typ | E120: Kód | F120: Popis | J120: MJ | K120: Množstvo | L120: J.cena [EUR] | N120: Cena celkom [EUR] | T120: Poznámka | U120: DPH | V120: J. Nh [h] | W120: Nh celkom [h] | X120: J. hmotnosť_x000D_ [t] | Y120: Hmotnosť_x000D_ celkom [t] | Z120: J. suť [t] | AA120: Suť Celkom [t]
C121: Náklady z rozpočtu | N121: =BK121 -> 0 | W121: =W122+W144 -> 0 | Y121: =Y122+Y144 -> 15.34669 | AA121: =AA122+AA144 -> 1.108 | AT121: D | AU121: -1 | BK121: =BK122+BK144 -> 0
D122: HSV - Práce a dodávky HSV | N122: =BK122 -> 0 | W122: =W123+W131+W136+W142 -> 0 | Y122: =Y123+Y131+Y136+Y142 -> 15.34669 | AA122: =AA123+AA131+AA136+AA142 -> 1.108 | AR122: 1 | AT122: D | AU122: 0 | AY122: ROZPOCET | BK122: =BK123+BK131+BK136+BK142 -> 0
D123: 1 - Zemné práce | N123: =BK123 -> 0 | W123: =SUM(W124:W130) -> 0 | Y123: =SUM(Y124:Y130) -> 0 | AA123: =SUM(AA124:AA130) -> 0.45 | AR123: 1 | AT123: D | AU123: 1 | AY123: ROZPOCET | BK123: =SUM(BK124:BK130) -> 0
C124: 1 | D124: K | E124: 113307131 | F124: Odstránenie podkladu v ploche do 200 m2 z betónu prostého, hr. vrstvy do 150 mm, -0,22500t | J124: m2 | K124: 2 | L124: 0 | N124: =ROUND(L124*K124,3) -> 0 | U124: znížená | W124: =V124*K124 -> 0 | X124: 0 | Y124: =X124*K124 -> 0 | Z124: 0.225 | AA124: =Z124*K124 -> 0.45 | AR124: 4 | AT124: K | AU124: 2 | AY124: ROZPOCET | BE124: =IF(U124="základná",N124,0) -> 0 | BF124: =IF(U124="znížená",N124,0) -> 0 | BG124: =IF(U124="zákl. prenesená",N124,0) -> 0 | BH124: =IF(U124="zníž. prenesená",N124,0) -> 0 | BI124: =IF(U124="nulová",N124,0) -> 0 | BJ124: 2 | BK124: =ROUND(L124*K124,3) -> 0 | BL124: 4 | BM124: 484503597
C125: 2 | D125: K | E125: 122201101 | F125: Odkopávka a prekopávka nezapažená v hornine 3, do 100 m3 | J125: m3 | K125: 8 | L125: 0 | N125: =ROUND(L125*K125,3) -> 0 | U125: znížená | W125: =V125*K125 -> 0 | X125: 0 | Y125: =X125*K125 -> 0 | Z125: 0 | AA125: =Z125*K125 -> 0 | AR125: 4 | AT125: K | AU125: 2 | AY125: ROZPOCET | BE125: =IF(U125="základná",N125,0) -> 0 | BF125: =IF(U125="znížená",N125,0) -> 0 | BG125: =IF(U125="zákl. prenesená",N125,0) -> 0 | BH125: =IF(U125="zníž. prenesená",N125,0) -> 0 | BI125: =IF(U125="nulová",N125,0) -> 0 | BJ125: 2 | BK125: =ROUND(L125*K125,3) -> 0 | BL125: 4 | BM125: 1048614087
C126: 3 | D126: K | E126: 122201109 | F126: Odkopávky a prekopávky nezapažené. Príplatok k cenám za lepivosť horniny 3 | J126: m3 | K126: 8 | L126: 0 | N126: =ROUND(L126*K126,3) -> 0 | U126: znížená | W126: =V126*K126 -> 0 | X126: 0 | Y126: =X126*K126 -> 0 | Z126: 0 | AA126: =Z126*K126 -> 0 | AR126: 4 | AT126: K | AU126: 2 | AY126: ROZPOCET | BE126: =IF(U126="základná",N126,0) -> 0 | BF126: =IF(U126="znížená",N126,0) -> 0 | BG126: =IF(U126="zákl. prenesená",N126,0) -> 0 | BH126: =IF(U126="zníž. prenesená",N126,0) -> 0 | BI126: =IF(U126="nulová",N126,0) -> 0 | BJ126: 2 | BK126: =ROUND(L126*K126,3) -> 0 | BL126: 4 | BM126: 1345122764
C127: 4 | D127: K | E127: 162501102 | F127: Vodorovné premiestnenie výkopku po spevnenej ceste z horniny tr.1-4, do 100 m3 na vzdialenosť do 3000 m | J127: m3 | K127: 8 | L127: 0 | N127: =ROUND(L127*K127,3) -> 0 | U127: znížená | W127: =V127*K127 -> 0 | X127: 0 | Y127: =X127*K127 -> 0 | Z127: 0 | AA127: =Z127*K127 -> 0 | AR127: 4 | AT127: K | AU127: 2 | AY127: ROZPOCET | BE127: =IF(U127="základná",N127,0) -> 0 | BF127: =IF(U127="znížená",N127,0) -> 0 | BG127: =IF(U127="zákl. prenesená",N127,0) -> 0 | BH127: =IF(U127="zníž. prenesená",N127,0) -> 0 | BI127: =IF(U127="nulová",N127,0) -> 0 | BJ127: 2 | BK127: =ROUND(L127*K127,3) -> 0 | BL127: 4 | BM127: -1451600334
C128: 5 | D128: K | E128: 171201201 | F128: Uloženie sypaniny na skládky do 100 m3 | J128: m3 | K128: 8 | L128: 0 | N128: =ROUND(L128*K128,3) -> 0 | U128: znížená | W128: =V128*K128 -> 0 | X128: 0 | Y128: =X128*K128 -> 0 | Z128: 0 | AA128: =Z128*K128 -> 0 | AR128: 4 | AT128: K | AU128: 2 | AY128: ROZPOCET | BE128: =IF(U128="základná",N128,0) -> 0 | BF128: =IF(U128="znížená",N128,0) -> 0 | BG128: =IF(U128="zákl. prenesená",N128,0) -> 0 | BH128: =IF(U128="zníž. prenesená",N128,0) -> 0 | BI128: =IF(U128="nulová",N128,0) -> 0 | BJ128: 2 | BK128: =ROUND(L128*K128,3) -> 0 | BL128: 4 | BM128: 424440351
C129: 6 | D129: K | E129: 171209002 | F129: Poplatok za skladovanie - zemina a kamenivo (17 05) ostatné | J129: t | K129: 14.4 | L129: 0 | N129: =ROUND(L129*K129,3) -> 0 | U129: znížená | W129: =V129*K129 -> 0 | X129: 0 | Y129: =X129*K129 -> 0 | Z129: 0 | AA129: =Z129*K129 -> 0 | AR129: 4 | AT129: K | AU129: 2 | AY129: ROZPOCET | BE129: =IF(U129="základná",N129,0) -> 0 | BF129: =IF(U129="znížená",N129,0) -> 0 | BG129: =IF(U129="zákl. prenesená",N129,0) -> 0 | BH129: =IF(U129="zníž. prenesená",N129,0) -> 0 | BI129: =IF(U129="nulová",N129,0) -> 0 | BJ129: 2 | BK129: =ROUND(L129*K129,3) -> 0 | BL129: 4 | BM129: 382629093
C130: 7 | D130: K | E130: 181301101 | F130: Rozprestretie ornice v rovine, plocha do 500 m2, hr.do 100 mm | J130: m2 | K130: 4 | L130: 0 | N130: =ROUND(L130*K130,3) -> 0 | U130: znížená | W130: =V130*K130 -> 0 | X130: 0 | Y130: =X130*K130 -> 0 | Z130: 0 | AA130: =Z130*K130 -> 0 | AR130: 4 | AT130: K | AU130: 2 | AY130: ROZPOCET | BE130: =IF(U130="základná",N130,0) -> 0 | BF130: =IF(U130="znížená",N130,0) -> 0 | BG130: =IF(U130="zákl. prenesená",N130,0) -> 0 | BH130: =IF(U130="zníž. prenesená",N130,0) -> 0 | BI130: =IF(U130="nulová",N130,0) -> 0 | BJ130: 2 | BK130: =ROUND(L130*K130,3) -> 0 | BL130: 4 | BM130: -574868868
D131: 5 - Komunikácie | N131: =BK131 -> 0 | W131: =SUM(W132:W135) -> 0 | Y131: =SUM(Y132:Y135) -> 11.79048 | AA131: =SUM(AA132:AA135) -> 0 | AR131: 1 | AT131: D | AU131: 1 | AY131: ROZPOCET | BK131: =SUM(BK132:BK135) -> 0
C132: 8 | D132: K | E132: 564801112 | F132: Podklad zo štrkodrviny fr. 4 - mm s rozprestretím a zhutnením, po zhutnení hr. 40 mm | J132: m2 | K132: 24 | L132: 0 | N132: =ROUND(L132*K132,3) -> 0 | U132: znížená | W132: =V132*K132 -> 0 | X132: 0.08003 | Y132: =X132*K132 -> 1.92072 | Z132: 0 | AA132: =Z132*K132 -> 0 | AR132: 4 | AT132: K | AU132: 2 | AY132: ROZPOCET | BE132: =IF(U132="základná",N132,0) -> 0 | BF132: =IF(U132="znížená",N132,0) -> 0 | BG132: =IF(U132="zákl. prenesená",N132,0) -> 0 | BH132: =IF(U132="zníž. prenesená",N132,0) -> 0 | BI132: =IF(U132="nulová",N132,0) -> 0 | BJ132: 2 | BK132: =ROUND(L132*K132,3) -> 0 | BL132: 4 | BM132: -1476067984
C133: 9 | D133: K | E133: 564851111 | F133: Podklad zo štrkodrviny fr. 16 - 32 mm s rozprestretím a zhutnením, po zhutnení hr. 150 mm | J133: m2 | K133: 24 | L133: 0 | N133: =ROUND(L133*K133,3) -> 0 | U133: znížená | W133: =V133*K133 -> 0 | X133: 0.27994 | Y133: =X133*K133 -> 6.71856 | Z133: 0 | AA133: =Z133*K133 -> 0 | AR133: 4 | AT133: K | AU133: 2 | AY133: ROZPOCET | BE133: =IF(U133="základná",N133,0) -> 0 | BF133: =IF(U133="znížená",N133,0) -> 0 | BG133: =IF(U133="zákl. prenesená",N133,0) -> 0 | BH133: =IF(U133="zníž. prenesená",N133,0) -> 0 | BI133: =IF(U133="nulová",N133,0) -> 0 | BJ133: 2 | BK133: =ROUND(L133*K133,3) -> 0 | BL133: 4 | BM133: -1335466871
C134: 10 | D134: K | E134: 596911112 | F134: Kladenie zámkovej dlažby hr. 6 cm pre peších nad 20 m2 so zriadením lôžka z kameniva hr. 4 cm | J134: m2 | K134: 24 | L134: 0 | N134: =ROUND(L134*K134,3) -> 0 | U134: znížená | W134: =V134*K134 -> 0 | X134: 0 | Y134: =X134*K134 -> 0 | Z134: 0 | AA134: =Z134*K134 -> 0 | AR134: 4 | AT134: K | AU134: 2 | AY134: ROZPOCET | BE134: =IF(U134="základná",N134,0) -> 0 | BF134: =IF(U134="znížená",N134,0) -> 0 | BG134: =IF(U134="zákl. prenesená",N134,0) -> 0 | BH134: =IF(U134="zníž. prenesená",N134,0) -> 0 | BI134: =IF(U134="nulová",N134,0) -> 0 | BJ134: 2 | BK134: =ROUND(L134*K134,3) -> 0 | BL134: 4 | BM134: -1704173834
C135: 11 | D135: M | E135: 5921952840 | F135: Dlažba Low value Premac KLASIKO 20x10x6 cm, sivá | J135: m2 | K135: 24.24 | L135: 0 | N135: =ROUND(L135*K135,3) -> 0 | U135: znížená | W135: =V135*K135 -> 0 | X135: 0.13 | Y135: =X135*K135 -> 3.1512 | Z135: 0 | AA135: =Z135*K135 -> 0 | AR135: 8 | AT135: M | AU135: 2 | AY135: ROZPOCET | BE135: =IF(U135="základná",N135,0) -> 0 | BF135: =IF(U135="znížená",N135,0) -> 0 | BG135: =IF(U135="zákl. prenesená",N135,0) -> 0 | BH135: =IF(U135="zníž. prenesená",N135,0) -> 0 | BI135: =IF(U135="nulová",N135,0) -> 0 | BJ135: 2 | BK135: =ROUND(L135*K135,3) -> 0 | BL135: 4 | BM135: -342041119
D136: 9 - Ostatné konštrukcie a práce-búranie | N136: =BK136 -> 0 | W136: =SUM(W137:W141) -> 0 | Y136: =SUM(Y137:Y141) -> 3.55621 | AA136: =SUM(AA137:AA141) -> 0.658 | AR136: 1 | AT136: D | AU136: 1 | AY136: ROZPOCET | BK136: =SUM(BK137:BK141) -> 0
C137: 12 | D137: K | E137: 914001111 | F137: Osadenie a montáž cestnej zvislej dopravnej značky na stľpik, stľp, konzolu alebo objekt | J137: ks | K137: 1 | L137: 0 | N137: =ROUND(L137*K137,3) -> 0 | U137: znížená | W137: =V137*K137 -> 0 | X137: 0.22133 | Y137: =X137*K137 -> 0.22133 | Z137: 0 | AA137: =Z137*K137 -> 0 | AR137: 4 | AT137: K | AU137: 2 | AY137: ROZPOCET | BE137: =IF(U137="základná",N137,0) -> 0 | BF137: =IF(U137="znížená",N137,0) -> 0 | BG137: =IF(U137="zákl. prenesená",N137,0) -> 0 | BH137: =IF(U137="zníž. prenesená",N137,0) -> 0 | BI137: =IF(U137="nulová",N137,0) -> 0 | BJ137: 2 | BK137: =ROUND(L137*K137,3) -> 0 | BL137: 4 | BM137: -737825997
C138: 13 | D138: K | E138: 917862112 | F138: Osadenie chodník. obrubníka betónového stojatého do lôžka z betónu prosteho tr. C 16/20 s bočnou oporou | J138: m | K138: 16 | L138: 0 | N138: =ROUND(L138*K138,3) -> 0 | U138: znížená | W138: =V138*K138 -> 0 | X138: 0.12662 | Y138: =X138*K138 -> 2.02592 | Z138: 0 | AA138: =Z138*K138 -> 0 | AR138: 4 | AT138: K | AU138: 2 | AY138: ROZPOCET | BE138: =IF(U138="základná",N138,0) -> 0 | BF138: =IF(U138="znížená",N138,0) -> 0 | BG138: =IF(U138="zákl. prenesená",N138,0) -> 0 | BH138: =IF(U138="zníž. prenesená",N138,0) -> 0 | BI138: =IF(U138="nulová",N138,0) -> 0 | BJ138: 2 | BK138: =ROUND(L138*K138,3) -> 0 | BL138: 4 | BM138: -1056276625
C139: 14 | D139: M | E139: 5922903060 | F139: Obrubník betónový cestný 100/25/15 cm, sivá | J139: ks | K139: 16.16 | L139: 0 | N139: =ROUND(L139*K139,3) -> 0 | U139: znížená | W139: =V139*K139 -> 0 | X139: 0.081 | Y139: =X139*K139 -> 1.30896 | Z139: 0 | AA139: =Z139*K139 -> 0 | AR139: 8 | AT139: M | AU139: 2 | AY139: ROZPOCET | BE139: =IF(U139="základná",N139,0) -> 0 | BF139: =IF(U139="znížená",N139,0) -> 0 | BG139: =IF(U139="zákl. prenesená",N139,0) -> 0 | BH139: =IF(U139="zníž. prenesená",N139,0) -> 0 | BI139: =IF(U139="nulová",N139,0) -> 0 | BJ139: 2 | BK139: =ROUND(L139*K139,3) -> 0 | BL139: 4 | BM139: 1488318523
C140: 15 | D140: K | E140: 966006132 | F140: Odstránenie značky, pre staničenie a ohraničenie so stľpikmi s bet. pätkami, -0,08200t | J140: ks | K140: 1 | L140: 0 | N140: =ROUND(L140*K140,3) -> 0 | U140: znížená | W140: =V140*K140 -> 0 | X140: 0 | Y140: =X140*K140 -> 0 | Z140: 0.082 | AA140: =Z140*K140 -> 0.082 | AR140: 4 | AT140: K | AU140: 2 | AY140: ROZPOCET | BE140: =IF(U140="základná",N140,0) -> 0 | BF140: =IF(U140="znížená",N140,0) -> 0 | BG140: =IF(U140="zákl. prenesená",N140,0) -> 0 | BH140: =IF(U140="zníž. prenesená",N140,0) -> 0 | BI140: =IF(U140="nulová",N140,0) -> 0 | BJ140: 2 | BK140: =ROUND(L140*K140,3) -> 0 | BL140: 4 | BM140: 510533069
C141: 16 | D141: K | E141: 767920810 | F141: Demontáž kovových doplnkových konštrukcií prašiakov, zábradlí | J141: ks | K141: 3 | L141: 0 | N141: =ROUND(L141*K141,3) -> 0 | U141: znížená | W141: =V141*K141 -> 0 | X141: 0 | Y141: =X141*K141 -> 0 | Z141: 0.192 | AA141: =Z141*K141 -> 0.576 | AR141: 16 | AT141: K | AU141: 2 | AY141: ROZPOCET | BE141: =IF(U141="základná",N141,0) -> 0 | BF141: =IF(U141="znížená",N141,0) -> 0 | BG141: =IF(U141="zákl. prenesená",N141,0) -> 0 | BH141: =IF(U141="zníž. prenesená",N141,0) -> 0 | BI141: =IF(U141="nulová",N141,0) -> 0 | BJ141: 2 | BK141: =ROUND(L141*K141,3) -> 0 | BL141: 16 | BM141: -739601902
D142: 99 - Presun hmôt HSV | N142: =BK142 -> 0 | W142: =W143 -> 0 | Y142: =Y143 -> 0 | AA142: =AA143 -> 0 | AR142: 1 | AT142: D | AU142: 1 | AY142: ROZPOCET | BK142: =BK143 -> 0
C143: 17 | D143: K | E143: 998223011 | F143: Presun hmôt pre pozemné komunikácie s krytom dláždeným (822 2.3, 822 5.3) akejkoľvek dĺžky objektu | J143: t | K143: 15.347 | L143: 0 | N143: =ROUND(L143*K143,3) -> 0 | U143: znížená | W143: =V143*K143 -> 0 | X143: 0 | Y143: =X143*K143 -> 0 | Z143: 0 | AA143: =Z143*K143 -> 0 | AR143: 4 | AT143: K | AU143: 2 | AY143: ROZPOCET | BE143: =IF(U143="základná",N143,0) -> 0 | BF143: =IF(U143="znížená",N143,0) -> 0 | BG143: =IF(U143="zákl. prenesená",N143,0) -> 0 | BH143: =IF(U143="zníž. prenesená",N143,0) -> 0 | BI143: =IF(U143="nulová",N143,0) -> 0 | BJ143: 2 | BK143: =ROUND(L143*K143,3) -> 0 | BL143: 4 | BM143: -1845106513
D144: VP - Práce naviac | N144: =BK144 -> 0 | AT144: D | AU144: 0 | AY144: PN | BK144: =SUM(BK145:BK149) -> 0
D145: K | N145: =BK145 -> 0 | U145: znížená | AT145: PN | AU145: 1 | AY145: PN | BE145: =IF(U145="základná",N145,0) -> 0 | BF145: =IF(U145="znížená",N145,0) -> 0 | BG145: =IF(U145="zákl. prenesená",N145,0) -> 0 | BH145: =IF(U145="zníž. prenesená",N145,0) -> 0 | BI145: =IF(U145="nulová",N145,0) -> 0 | BJ145: 2 | BK145: =L145*K145 -> 0
D146: K | N146: =BK146 -> 0 | U146: znížená | AT146: PN | AU146: 1 | AY146: PN | BE146: =IF(U146="základná",N146,0) -> 0 | BF146: =IF(U146="znížená",N146,0) -> 0 | BG146: =IF(U146="zákl. prenesená",N146,0) -> 0 | BH146: =IF(U146="zníž. prenesená",N146,0) -> 0 | BI146: =IF(U146="nulová",N146,0) -> 0 | BJ146: 2 | BK146: =L146*K146 -> 0
D147: K | N147: =BK147 -> 0 | U147: znížená | AT147: PN | AU147: 1 | AY147: PN | BE147: =IF(U147="základná",N147,0) -> 0 | BF147: =IF(U147="znížená",N147,0) -> 0 | BG147: =IF(U147="zákl. prenesená",N147,0) -> 0 | BH147: =IF(U147="zníž. prenesená",N147,0) -> 0 | BI147: =IF(U147="nulová",N147,0) -> 0 | BJ147: 2 | BK147: =L147*K147 -> 0
D148: K | N148: =BK148 -> 0 | U148: znížená | AT148: PN | AU148: 1 | AY148: PN | BE148: =IF(U148="základná",N148,0) -> 0 | BF148: =IF(U148="znížená",N148,0) -> 0 | BG148: =IF(U148="zákl. prenesená",N148,0) -> 0 | BH148: =IF(U148="zníž. prenesená",N148,0) -> 0 | BI148: =IF(U148="nulová",N148,0) -> 0 | BJ148: 2 | BK148: =L148*K148 -> 0
D149: K | N149: =BK149 -> 0 | U149: znížená | AT149: PN | AU149: 1 | AY149: PN | BE149: =IF(U149="základná",N149,0) -> 0 | BF149: =IF(U149="znížená",N149,0) -> 0 | BG149: =IF(U149="zákl. prenesená",N149,0) -> 0 | BH149: =IF(U149="zníž. prenesená",N149,0) -> 0 | BI149: =IF(U149="nulová",N149,0) -> 0 | BJ149: 2 | BK149: =L149*K149 -> 0

Sheet 3 - Družstevná 892 - 7,2 ...
D1: Hárok obsahuje: | F1: 1) Krycí list rozpočtu | H1: 2) Rekapitulácia rozpočtu | L1: 3) Rozpočet | O1: Späť na hárok: | S1: Rekapitulácia stavby
C2: optimalizované pre tlač zostáv vo formáte A4 - na výšku | S2: >> skryté stĺpce << | AT2: {351153dc-8cf0-4c72-8a6b-d2157000ff56}
AT3: 0
C4: KRYCÍ LIST ROZPOČTU | T4: v --- nižšie sa nachádzajú doplnkové a pomocné údaje k zostavám --- v | AT4: False
D6: Stavba: | F6: ='Rekapitulácia stavby'!K6 -> Spevnené plochy pre zberné nádoby
D7: Objekt: | F7: 3 - Družstevná 892 / 7,2 x 4 m /
D8: JKSO: | M8: KS:
D9: Miesto: | M9: Dátum: | O9: ='Rekapitulácia stavby'!AN8 -> 30. 1. 2018
D11: Objednávateľ: | M11: IČO:
E12: Mesto Partizánske | M12: IČO DPH:
D14: Zhotoviteľ: | M14: IČO: | O14: =IF('Rekapitulácia stavby'!AN13="","",'Rekapitulácia stavby'!AN13) -> Vyplň údaj
E15: =IF('Rekapitulácia stavby'!E14="","",'Rekapitulácia stavby'!E14) -> Vyplň údaj | M15: IČO DPH: | O15: =IF('Rekapitulácia stavby'!AN14="","",'Rekapitulácia stavby'!AN14) -> Vyplň údaj
D17: Projektant: | M17: IČO: | O17: =IF('Rekapitulácia stavby'!AN16="","",'Rekapitulácia stavby'!AN16)
E18: =IF('Rekapitulácia stavby'!E17="","",'Rekapitulácia stavby'!E17) | M18: IČO DPH: | O18: =IF('Rekapitulácia stavby'!AN17="","",'Rekapitulácia stavby'!AN17)
D20: Spracovateľ: | M20: IČO: | O20: =IF('Rekapitulácia stavby'!AN19="","",'Rekapitulácia stavby'!AN19)
E21: =IF('Rekapitulácia stavby'!E20="","",'Rekapitulácia stavby'!E20) | M21: IČO DPH: | O21: =IF('Rekapitulácia stavby'!AN20="","",'Rekapitulácia stavby'!AN20)
D23: Poznámka:
D27: Náklady z rozpočtu | M27: =N88 -> 0
D28: Ostatné náklady | M28: =N96 -> 0
D30: Cena bez DPH | M30: =ROUND(M27+M28,2) -> 0
D32: DPH | E32: základná | F32: 0.2 | G32: z | H32: =ROUND((((SUM(BE96:BE103)+SUM(BE121:BE147))+SUM(BE149:BE153))),2) -> 0 | M32: =ROUND(((ROUND((SUM(BE96:BE103)+SUM(BE121:BE147)), 2)*F32)+SUM(BE149:BE153)*F32),2) -> 0
E33: znížená | F33: 0.2 | G33: z | H33: =ROUND((((SUM(BF96:BF103)+SUM(BF121:BF147))+SUM(BF149:BF153))),2) -> 0 | M33: =ROUND(((ROUND((SUM(BF96:BF103)+SUM(BF121:BF147)), 2)*F33)+SUM(BF149:BF153)*F33),2) -> 0
E34: zákl. prenesená | F34: 0.2 | G34: z | H34: =ROUND((((SUM(BG96:BG103)+SUM(BG121:BG147))+SUM(BG149:BG153))),2) -> 0 | M34: 0
E35: zníž. prenesená | F35: 0.2 | G35: z | H35: =ROUND((((SUM(BH96:BH103)+SUM(BH121:BH147))+SUM(BH149:BH153))),2) -> 0 | M35: 0
E36: nulová | F36: 0 | G36: z | H36: =ROUND((((SUM(BI96:BI103)+SUM(BI121:BI147))+SUM(BI149:BI153))),2) -> 0 | M36: 0
D38: Cena s DPH | G38: v | H38: EUR | L38: =SUM(M30:M36) -> 0
D50: Projektant | J50: Spracovateľ
D59: Dátum a podpis: | G59: Pečiatka | J59: Dátum a podpis: | N59: Pečiatka
D61: Objednávateľ | J61: Zhotoviteľ
D70: Dátum a podpis: | G70: Pečiatka | J70: Dátum a podpis: | N70: Pečiatka
C76: REKAPITULÁCIA ROZPOČTU
C78: Stavba: | F78: =F6 -> Spevnené plochy pre zberné nádoby
C79: Objekt: | F79: =F7 -> 3 - Družstevná 892 / 7,2 x 4 m /
C81: Miesto: | F81: =F9 | K81: Dátum: | M81: =IF(O9="","",O9) -> 30. 1. 2018
C83: Objednávateľ: | F83: =E12 -> Mesto Partizánske | K83: Projektant: | M83: =E18
C84: Zhotoviteľ: | F84: =IF(E15="","",E15) -> Vyplň údaj | K84: Spracovateľ: | M84: =E21
C86: Kód - Popis | N86: Cena celkom [EUR]
C88: 1) Náklady z rozpočtu | N88: =N121 -> 0 | AU88: -1
D89: HSV - Práce a dodávky HSV | N89: =N122 -> 0
D90: 1 - Zemné práce | N90: =N123 -> 0
D91: 5 - Komunikácie | N91: =N136 -> 0
D92: 9 - Ostatné konštrukcie a práce-búranie | N92: =N141 -> 0
D93: 99 - Presun hmôt HSV | N93: =N146 -> 0
D94: VP - Práce naviac | N94: =N148 -> 0
C96: 2) Ostatné náklady | N96: =ROUND(N97+N98+N99+N100+N101+N102,2) -> 0 | U96: DPH
D97: GZS | N97: =ROUND(N88*T97,2) -> 0 | U97: znížená | AY97: VRN | BE97: =IF(U97="základná",N97,0) -> 0 | BF97: =IF(U97="znížená",N97,0) -> 0 | BG97: =IF(U97="zákl. prenesená",N97,0) -> 0 | BH97: =IF(U97="zníž. prenesená",N97,0) -> 0 | BI97: =IF(U97="nulová",N97,0) -> 0 | BJ97: 2
D98: Projektové práce | N98: =ROUND(N88*T98,2) -> 0 | U98: znížená | AY98: VRN | BE98: =IF(U98="základná",N98,0) -> 0 | BF98: =IF(U98="znížená",N98,0) -> 0 | BG98: =IF(U98="zákl. prenesená",N98,0) -> 0 | BH98: =IF(U98="zníž. prenesená",N98,0) -> 0 | BI98: =IF(U98="nulová",N98,0) -> 0 | BJ98: 2
D99: Sťažené podmienky | N99: =ROUND(N88*T99,2) -> 0 | U99: znížená | AY99: VRN | BE99: =IF(U99="základná",N99,0) -> 0 | BF99: =IF(U99="znížená",N99,0) -> 0 | BG99: =IF(U99="zákl. prenesená",N99,0) -> 0 | BH99: =IF(U99="zníž. prenesená",N99,0) -> 0 | BI99: =IF(U99="nulová",N99,0) -> 0 | BJ99: 2
D100: Vplyv prostredia | N100: =ROUND(N88*T100,2) -> 0 | U100: znížená | AY100: VRN | BE100: =IF(U100="základná",N100,0) -> 0 | BF100: =IF(U100="znížená",N100,0) -> 0 | BG100: =IF(U100="zákl. prenesená",N100,0) -> 0 | BH100: =IF(U100="zníž. prenesená",N100,0) -> 0 | BI100: =IF(U100="nulová",N100,0) -> 0 | BJ100: 2
D101: Iné VRN | N101: =ROUND(N88*T101,2) -> 0 | U101: znížená | AY101: VRN | BE101: =IF(U101="základná",N101,0) -> 0 | BF101: =IF(U101="znížená",N101,0) -> 0 | BG101: =IF(U101="zákl. prenesená",N101,0) -> 0 | BH101: =IF(U101="zníž. prenesená",N101,0) -> 0 | BI101: =IF(U101="nulová",N101,0) -> 0 | BJ101: 2
D102: Kompletačná činnosť | N102: =ROUND(N88*T102,2) -> 0 | U102: znížená | AY102: KOMPLETACNA | BE102: =IF(U102="základná",N102,0) -> 0 | BF102: =IF(U102="znížená",N102,0) -> 0 | BG102: =IF(U102="zákl. prenesená",N102,0) -> 0 | BH102: =IF(U102="zníž. prenesená",N102,0) -> 0 | BI102: =IF(U102="nulová",N102,0) -> 0 | BJ102: 2
C104: Celkové náklady za stavbu 1) + 2) | L104: =ROUND(SUM(N88+N96),2) -> 0
C110: ROZPOČET
C112: Stavba: | F112: =F6 -> Spevnené plochy pre zberné nádoby
C113: Objekt: | F113: =F7 -> 3 - Družstevná 892 / 7,2 x 4 m /
C115: Miesto: | F115: =F9 | K115: Dátum: | M115: =IF(O9="","",O9) -> 30. 1. 2018
C117: Objednávateľ: | F117: =E12 -> Mesto Partizánske | K117: Projektant: | M117: =E18
C118: Zhotoviteľ: | F118: =IF(E15="","",E15) -> Vyplň údaj | K118: Spracovateľ: | M118: =E21
C120: PČ | D120: Typ | E120: Kód | F120: Popis | J120: MJ | K120: Množstvo | L120: J.cena [EUR] | N120: Cena celkom [EUR] | T120: Poznámka | U120: DPH | V120: J. Nh [h] | W120: Nh celkom [h] | X120: J. hmotnosť_x000D_ [t] | Y120: Hmotnosť_x000D_ celkom [t] | Z120: J. suť [t] | AA120: Suť Celkom [t]
C121: Náklady z rozpočtu | N121: =BK121 -> 0 | W121: =W122+W148 -> 0 | Y121: =Y122+Y148 -> 17.983698 | AA121: =AA122+AA148 -> 1.74 | AT121: D | AU121: -1 | BK121: =BK122+BK148 -> 0
D122: HSV - Práce a dodávky HSV | N122: =BK122 -> 0 | W122: =W123+W136+W141+W146 -> 0 | Y122: =Y123+Y136+Y141+Y146 -> 17.983698 | AA122: =AA123+AA136+AA141+AA146 -> 1.74 | AR122: 1 | AT122: D | AU122: 0 | AY122: ROZPOCET | BK122: =BK123+BK136+BK141+BK146 -> 0
D123: 1 - Zemné práce | N123: =BK123 -> 0 | W123: =SUM(W124:W135) -> 0 | Y123: =SUM(Y124:Y135) -> 1e-05 | AA123: =SUM(AA124:AA135) -> 1.74 | AR123: 1 | AT123: D | AU123: 1 | AY123: ROZPOCET | BK123: =SUM(BK124:BK135) -> 0
C124: 20 | D124: K | E124: 112101121 | F124: Odstránenie ihličnatých stromov do priemeru 300 mm, motorovou pílou | J124: ks | K124: 1 | L124: 0 | N124: =ROUND(L124*K124,3) -> 0 | U124: znížená | W124: =V124*K124 -> 0 | X124: 0 | Y124: =X124*K124 -> 0 | Z124: 0 | AA124: =Z124*K124 -> 0 | AR124: 4 | AT124: K | AU124: 2 | AY124: ROZPOCET | BE124: =IF(U124="základná",N124,0) -> 0 | BF124: =IF(U124="znížená",N124,0) -> 0 | BG124: =IF(U124="zákl. prenesená",N124,0) -> 0 | BH124: =IF(U124="zníž. prenesená",N124,0) -> 0 | BI124: =IF(U124="nulová",N124,0) -> 0 | BJ124: 2 | BK124: =ROUND(L124*K124,3) -> 0 | BL124: 4 | BM124: 1918777804
C125: 21 | D125: K | E125: 112201101 | F125: Odstránenie pňov na vzdial. 50 m priemeru nad 100 do 300 mm | J125: ks | K125: 1 | L125: 0 | N125: =ROUND(L125*K125,3) -> 0 | U125: znížená | W125: =V125*K125 -> 0 | X125: 1e-05 | Y125: =X125*K125 -> 1e-05 | Z125: 0 | AA125: =Z125*K125 -> 0 | AR125: 4 | AT125: K | AU125: 2 | AY125: ROZPOCET | BE125: =IF(U125="základná",N125,0) -> 0 | BF125: =IF(U125="znížená",N125,0) -> 0 | BG125: =IF(U125="zákl. prenesená",N125,0) -> 0 | BH125: =IF(U125="zníž. prenesená",N125,0) -> 0 | BI125: =IF(U125="nulová",N125,0) -> 0 | BJ125: 2 | BK125: =ROUND(L125*K125,3) -> 0 | BL125: 4 | BM125: -1046388454
C126: 17 | D126: K | E126: 113206111 | F126: Vytrhanie obrúb betónových, s vybúraním lôžka, z krajníkov alebo obrubníkov stojatých, -0,14500t | J126: m | K126: 12 | L126: 0 | N126: =ROUND(L126*K126,3) -> 0 | U126: znížená | W126: =V126*K126 -> 0 | X126: 0 | Y126: =X126*K126 -> 0 | Z126: 0.145 | AA126: =Z126*K126 -> 1.74 | AR126: 4 | AT126: K | AU126: 2 | AY126: ROZPOCET | BE126: =IF(U126="základná",N126,0) -> 0 | BF126: =IF(U126="znížená",N126,0) -> 0 | BG126: =IF(U126="zákl. prenesená",N126,0) -> 0 | BH126: =IF(U126="zníž. prenesená",N126,0) -> 0 | BI126: =IF(U126="nulová",N126,0) -> 0 | BJ126: 2 | BK126: =ROUND(L126*K126,3) -> 0 | BL126: 4 | BM126: -876998487
C127: 1 | D127: K | E127: 122201101 | F127: Odkopávka a prekopávka nezapažená v hornine 3, do 100 m3 | J127: m3 | K127: 10 | L127: 0 | N127: =ROUND(L127*K127,3) -> 0 | U127: znížená | W127: =V127*K127 -> 0 | X127: 0 | Y127: =X127*K127 -> 0 | Z127: 0 | AA127: =Z127*K127 -> 0 | AR127: 4 | AT127: K | AU127: 2 | AY127: ROZPOCET | BE127: =IF(U127="základná",N127,0) -> 0 | BF127: =IF(U127="znížená",N127,0) -> 0 | BG127: =IF(U127="zákl. prenesená",N127,0) -> 0 | BH127: =IF(U127="zníž. prenesená",N127,0) -> 0 | BI127: =IF(U127="nulová",N127,0) -> 0 | BJ127: 2 | BK127: =ROUND(L127*K127,3) -> 0 | BL127: 4 | BM127: 1048614087
C128: 2 | D128: K | E128: 122201109 | F128: Odkopávky a prekopávky nezapažené. Príplatok k cenám za lepivosť horniny 3 | J128: m3 | K128: 10 | L128: 0 | N128: =ROUND(L128*K128,3) -> 0 | U128: znížená | W128: =V128*K128 -> 0 | X128: 0 | Y128: =X128*K128 -> 0 | Z128: 0 | AA128: =Z128*K128 -> 0 | AR128: 4 | AT128: K | AU128: 2 | AY128: ROZPOCET | BE128: =IF(U128="základná",N128,0) -> 0 | BF128: =IF(U128="znížená",N128,0) -> 0 | BG128: =IF(U128="zákl. prenesená",N128,0) -> 0 | BH128: =IF(U128="zníž. prenesená",N128,0) -> 0 | BI128: =IF(U128="nulová",N128,0) -> 0 | BJ128: 2 | BK128: =ROUND(L128*K128,3) -> 0 | BL128: 4 | BM128: 1345122764
C129: 22 | D129: K | E129: 162401401 | F129: Vodorovné premiestnenie konárov stromov nad 100 do 300 mm do 2000 m | J129: ks | K129: 1 | L129: 0 | N129: =ROUND(L129*K129,3) -> 0 | U129: znížená | W129: =V129*K129 -> 0 | X129: 0 | Y129: =X129*K129 -> 0 | Z129: 0 | AA129: =Z129*K129 -> 0 | AR129: 4 | AT129: K | AU129: 2 | AY129: ROZPOCET | BE129: =IF(U129="základná",N129,0) -> 0 | BF129: =IF(U129="znížená",N129,0) -> 0 | BG129: =IF(U129="zákl. prenesená",N129,0) -> 0 | BH129: =IF(U129="zníž. prenesená",N129,0) -> 0 | BI129: =IF(U129="nulová",N129,0) -> 0 | BJ129: 2 | BK129: =ROUND(L129*K129,3) -> 0 | BL129: 4 | BM129: -1523985291
C130: 3 | D130: K | E130: 162501102 | F130: Vodorovné premiestnenie výkopku po spevnenej ceste z horniny tr.1-4, do 100 m3 na vzdialenosť do 3000 m | J130: m3 | K130: 10 | L130: 0 | N130: =ROUND(L130*K130,3) -> 0 | U130: znížená | W130: =V130*K130 -> 0 | X130: 0 | Y130: =X130*K130 -> 0 | Z130: 0 | AA130: =Z130*K130 -> 0 | AR130: 4 | AT130: K | AU130: 2 | AY130: ROZPOCET | BE130: =IF(U130="základná",N130,0) -> 0 | BF130: =IF(U130="znížená",N130,0) -> 0 | BG130: =IF(U130="zákl. prenesená",N130,0) -> 0 | BH130: =IF(U130="zníž. prenesená",N130,0) -> 0 | BI130: =IF(U130="nulová",N130,0) -> 0 | BJ130: 2 | BK130: =ROUND(L130*K130,3) -> 0 | BL130: 4 | BM130: -1451600334
C131: 23 | D131: K | E131: 162501401 | F131: Vodorovné premiestnenie kmeňov nad 100 do 300 mm do 2000 m | J131: ks | K131: 1 | L131: 0 | N131: =ROUND(L131*K131,3) -> 0 | U131: znížená | W131: =V131*K131 -> 0 | X131: 0 | Y131: =X131*K131 -> 0 | Z131: 0 | AA131: =Z131*K131 -> 0 | AR131: 4 | AT131: K | AU131: 2 | AY131: ROZPOCET | BE131: =IF(U131="základná",N131,0) -> 0 | BF131: =IF(U131="znížená",N131,0) -> 0 | BG131: =IF(U131="zákl. prenesená",N131,0) -> 0 | BH131: =IF(U131="zníž. prenesená",N131,0) -> 0 | BI131: =IF(U131="nulová",N131,0) -> 0 | BJ131: 2 | BK131: =ROUND(L131*K131,3) -> 0 | BL131: 4 | BM131: 1358182998
C132: 24 | D132: K | E132: 162601401 | F132: Vodorovné premiestnenie pňov nad 100 do 300 mm do 2000 m | J132: ks | K132: 1 | L132: 0 | N132: =ROUND(L132*K132,3) -> 0 | U132: znížená | W132: =V132*K132 -> 0 | X132: 0 | Y132: =X132*K132 -> 0 | Z132: 0 | AA132: =Z132*K132 -> 0 | AR132: 4 | AT132: K | AU132: 2 | AY132: ROZPOCET | BE132: =IF(U132="základná",N132,0) -> 0 | BF132: =IF(U132="znížená",N132,0) -> 0 | BG132: =IF(U132="zákl. prenesená",N132,0) -> 0 | BH132: =IF(U132="zníž. prenesená",N132,0) -> 0 | BI132: =IF(U132="nulová",N132,0) -> 0 | BJ132: 2 | BK132: =ROUND(L132*K132,3) -> 0 | BL132: 4 | BM132: 1303442503
C133: 4 | D133: K | E133: 171201201 | F133: Uloženie sypaniny na skládky do 100 m3 | J133: m3 | K133: 10 | L133: 0 | N133: =ROUND(L133*K133,3) -> 0 | U133: znížená | W133: =V133*K133 -> 0 | X133: 0 | Y133: =X133*K133 -> 0 | Z133: 0 | AA133: =Z133*K133 -> 0 | AR133: 4 | AT133: K | AU133: 2 | AY133: ROZPOCET | BE133: =IF(U133="základná",N133,0) -> 0 | BF133: =IF(U133="znížená",N133,0) -> 0 | BG133: =IF(U133="zákl. prenesená",N133,0) -> 0 | BH133: =IF(U133="zníž. prenesená",N133,0) -> 0 | BI133: =IF(U133="nulová",N133,0) -> 0 | BJ133: 2 | BK133: =ROUND(L133*K133,3) -> 0 | BL133: 4 | BM133: 424440351
C134: 5 | D134: K | E134: 171209002 | F134: Poplatok za skladovanie - zemina a kamenivo (17 05) ostatné | J134: t | K134: 18 | L134: 0 | N134: =ROUND(L134*K134,3) -> 0 | U134: znížená | W134: =V134*K134 -> 0 | X134: 0 | Y134: =X134*K134 -> 0 | Z134: 0 | AA134: =Z134*K134 -> 0 | AR134: 4 | AT134: K | AU134: 2 | AY134: ROZPOCET | BE134: =IF(U134="základná",N134,0) -> 0 | BF134: =IF(U134="znížená",N134,0) -> 0 | BG134: =IF(U134="zákl. prenesená",N134,0) -> 0 | BH134: =IF(U134="zníž. prenesená",N134,0) -> 0 | BI134: =IF(U134="nulová",N134,0) -> 0 | BJ134: 2 | BK134: =ROUND(L134*K134,3) -> 0 | BL134: 4 | BM134: 382629093
C135: 6 | D135: K | E135: 181301101 | F135: Rozprestretie ornice v rovine, plocha do 500 m2, hr.do 100 mm | J135: m2 | K135: 12 | L135: 0 | N135: =ROUND(L135*K135,3) -> 0 | U135: znížená | W135: =V135*K135 -> 0 | X135: 0 | Y135: =X135*K135 -> 0 | Z135: 0 | AA135: =Z135*K135 -> 0 | AR135: 4 | AT135: K | AU135: 2 | AY135: ROZPOCET | BE135: =IF(U135="základná",N135,0) -> 0 | BF135: =IF(U135="znížená",N135,0) -> 0 | BG135: =IF(U135="zákl. prenesená",N135,0) -> 0 | BH135: =IF(U135="zníž. prenesená",N135,0) -> 0 | BI135: =IF(U135="nulová",N135,0) -> 0 | BJ135: 2 | BK135: =ROUND(L135*K135,3) -> 0 | BL135: 4 | BM135: -574868868
D136: 5 - Komunikácie | N136: =BK136 -> 0 | W136: =SUM(W137:W140) -> 0 | Y136: =SUM(Y137:Y140) -> 14.148576 | AA136: =SUM(AA137:AA140) -> 0 | AR136: 1 | AT136: D | AU136: 1 | AY136: ROZPOCET | BK136: =SUM(BK137:BK140) -> 0
C137: 7 | D137: K | E137: 564801112 | F137: Podklad zo štrkodrviny fr. 4 - mm s rozprestretím a zhutnením, po zhutnení hr. 40 mm | J137: m2 | K137: 28.8 | L137: 0 | N137: =ROUND(L137*K137,3) -> 0 | U137: znížená | W137: =V137*K137 -> 0 | X137: 0.08003 | Y137: =X137*K137 -> 2.304864 | Z137: 0 | AA137: =Z137*K137 -> 0 | AR137: 4 | AT137: K | AU137: 2 | AY137: ROZPOCET | BE137: =IF(U137="základná",N137,0) -> 0 | BF137: =IF(U137="znížená",N137,0) -> 0 | BG137: =IF(U137="zákl. prenesená",N137,0) -> 0 | BH137: =IF(U137="zníž. prenesená",N137,0) -> 0 | BI137: =IF(U137="nulová",N137,0) -> 0 | BJ137: 2 | BK137: =ROUND(L137*K137,3) -> 0 | BL137: 4 | BM137: -1476067984
C138: 8 | D138: K | E138: 564851111 | F138: Podklad zo štrkodrviny fr. 16 - 32 mm s rozprestretím a zhutnením, po zhutnení hr. 150 mm | J138: m2 | K138: 28.8 | L138: 0 | N138: =ROUND(L138*K138,3) -> 0 | U138: znížená | W138: =V138*K138 -> 0 | X138: 0.27994 | Y138: =X138*K138 -> 8.062272 | Z138: 0 | AA138: =Z138*K138 -> 0 | AR138: 4 | AT138: K | AU138: 2 | AY138: ROZPOCET | BE138: =IF(U138="základná",N138,0) -> 0 | BF138: =IF(U138="znížená",N138,0) -> 0 | BG138: =IF(U138="zákl. prenesená",N138,0) -> 0 | BH138: =IF(U138="zníž. prenesená",N138,0) -> 0 | BI138: =IF(U138="nulová",N138,0) -> 0 | BJ138: 2 | BK138: =ROUND(L138*K138,3) -> 0 | BL138: 4 | BM138: -1335466871
C139: 9 | D139: K | E139: 596911112 | F139: Kladenie zámkovej dlažby hr. 6 cm pre peších nad 20 m2 so zriadením lôžka z kameniva hr. 4 cm | J139: m2 | K139: 28.8 | L139: 0 | N139: =ROUND(L139*K139,3) -> 0 | U139: znížená | W139: =V139*K139 -> 0 | X139: 0 | Y139: =X139*K139 -> 0 | Z139: 0 | AA139: =Z139*K139 -> 0 | AR139: 4 | AT139: K | AU139: 2 | AY139: ROZPOCET | BE139: =IF(U139="základná",N139,0) -> 0 | BF139: =IF(U139="znížená",N139,0) -> 0 | BG139: =IF(U139="zákl. prenesená",N139,0) -> 0 | BH139: =IF(U139="zníž. prenesená",N139,0) -> 0 | BI139: =IF(U139="nulová",N139,0) -> 0 | BJ139: 2 | BK139: =ROUND(L139*K139,3) -> 0 | BL139: 4 | BM139: -1704173834
C140: 10 | D140: M | E140: 5921952840 | F140: Dlažba Low value Premac KLASIKO 20x10x6 cm, sivá | J140: m2 | K140: 29.088 | L140: 0 | N140: =ROUND(L140*K140,3) -> 0 | U140: znížená | W140: =V140*K140 -> 0 | X140: 0.13 | Y140: =X140*K140 -> 3.78144 | Z140: 0 | AA140: =Z140*K140 -> 0 | AR140: 8 | AT140: M | AU140: 2 | AY140: ROZPOCET | BE140: =IF(U140="základná",N140,0) -> 0 | BF140: =IF(U140="znížená",N140,0) -> 0 | BG140: =IF(U140="zákl. prenesená",N140,0) -> 0 | BH140: =IF(U140="zníž. prenesená",N140,0) -> 0 | BI140: =IF(U140="nulová",N140,0) -> 0 | BJ140: 2 | BK140: =ROUND(L140*K140,3) -> 0 | BL140: 4 | BM140: -342041119
D141: 9 - Ostatné konštrukcie a práce-búranie | N141: =BK141 -> 0 | W141: =SUM(W142:W145) -> 0 | Y141: =SUM(Y142:Y145) -> 3.835112 | AA141: =SUM(AA142:AA145) -> 0 | AR141: 1 | AT141: D | AU141: 1 | AY141: ROZPOCET | BK141: =SUM(BK142:BK145) -> 0
C142: 12 | D142: K | E142: 917862112 | F142: Osadenie chodník. obrubníka betónového stojatého do lôžka z betónu prosteho tr. C 16/20 s bočnou oporou | J142: m | K142: 18.4 | L142: 0 | N142: =ROUND(L142*K142,3) -> 0 | U142: znížená | W142: =V142*K142 -> 0 | X142: 0.12662 | Y142: =X142*K142 -> 2.329808 | Z142: 0 | AA142: =Z142*K142 -> 0 | AR142: 4 | AT142: K | AU142: 2 | AY142: ROZPOCET | BE142: =IF(U142="základná",N142,0) -> 0 | BF142: =IF(U142="znížená",N142,0) -> 0 | BG142: =IF(U142="zákl. prenesená",N142,0) -> 0 | BH142: =IF(U142="zníž. prenesená",N142,0) -> 0 | BI142: =IF(U142="nulová",N142,0) -> 0 | BJ142: 2 | BK142: =ROUND(L142*K142,3) -> 0 | BL142: 4 | BM142: -1056276625
C143: 13 | D143: M | E143: 5922903060 | F143: Obrubník betónový cestný 100/25/15 cm, sivá | J143: ks | K143: 18.584 | L143: 0 | N143: =ROUND(L143*K143,3) -> 0 | U143: znížená | W143: =V143*K143 -> 0 | X143: 0.081 | Y143: =X143*K143 -> 1.505304 | Z143: 0 | AA143: =Z143*K143 -> 0 | AR143: 8 | AT143: M | AU143: 2 | AY143: ROZPOCET | BE143: =IF(U143="základná",N143,0) -> 0 | BF143: =IF(U143="znížená",N143,0) -> 0 | BG143: =IF(U143="zákl. prenesená",N143,0) -> 0 | BH143: =IF(U143="zníž. prenesená",N143,0) -> 0 | BI143: =IF(U143="nulová",N143,0) -> 0 | BJ143: 2 | BK143: =ROUND(L143*K143,3) -> 0 | BL143: 4 | BM143: 1488318523
C144: 19 | D144: K | E144: 919731122 | F144: Zarovnanie styčnej plochy pozdĺž vybúranej časti komunikácie asfaltovej hr. nad 50 do 100 mm | J144: m | K144: 4.5 | L144: 0 | N144: =ROUND(L144*K144,3) -> 0 | U144: znížená | W144: =V144*K144 -> 0 | X144: 0 | Y144: =X144*K144 -> 0 | Z144: 0 | AA144: =Z144*K144 -> 0 | AR144: 4 | AT144: K | AU144: 2 | AY144: ROZPOCET | BE144: =IF(U144="základná",N144,0) -> 0 | BF144: =IF(U144="znížená",N144,0) -> 0 | BG144: =IF(U144="zákl. prenesená",N144,0) -> 0 | BH144: =IF(U144="zníž. prenesená",N144,0) -> 0 | BI144: =IF(U144="nulová",N144,0) -> 0 | BJ144: 2 | BK144: =ROUND(L144*K144,3) -> 0 | BL144: 4 | BM144: 1787289079
C145: 18 | D145: K | E145: 919735111 | F145: Rezanie existujúceho asfaltového krytu alebo podkladu hĺbky do 50 mm | J145: m | K145: 4.5 | L145: 0 | N145: =ROUND(L145*K145,3) -> 0 | U145: znížená | W145: =V145*K145 -> 0 | X145: 0 | Y145: =X145*K145 -> 0 | Z145: 0 | AA145: =Z145*K145 -> 0 | AR145: 4 | AT145: K | AU145: 2 | AY145: ROZPOCET | BE145: =IF(U145="základná",N145,0) -> 0 | BF145: =IF(U145="znížená",N145,0) -> 0 | BG145: =IF(U145="zákl. prenesená",N145,0) -> 0 | BH145: =IF(U145="zníž. prenesená",N145,0) -> 0 | BI145: =IF(U145="nulová",N145,0) -> 0 | BJ145: 2 | BK145: =ROUND(L145*K145,3) -> 0 | BL145: 4 | BM145: -723257532
D146: 99 - Presun hmôt HSV | N146: =BK146 -> 0 | W146: =W147 -> 0 | Y146: =Y147 -> 0 | AA146: =AA147 -> 0 | AR146: 1 | AT146: D | AU146: 1 | AY146: ROZPOCET | BK146: =BK147 -> 0
C147: 15 | D147: K | E147: 998223011 | F147: Presun hmôt pre pozemné komunikácie s krytom dláždeným (822 2.3, 822 5.3) akejkoľvek dĺžky objektu | J147: t | K147: 17.984 | L147: 0 | N147: =ROUND(L147*K147,3) -> 0 | U147: znížená | W147: =V147*K147 -> 0 | X147: 0 | Y147: =X147*K147 -> 0 | Z147: 0 | AA147: =Z147*K147 -> 0 | AR147: 4 | AT147: K | AU147: 2 | AY147: ROZPOCET | BE147: =IF(U147="základná",N147,0) -> 0 | BF147: =IF(U147="znížená",N147,0) -> 0 | BG147: =IF(U147="zákl. prenesená",N147,0) -> 0 | BH147: =IF(U147="zníž. prenesená",N147,0) -> 0 | BI147: =IF(U147="nulová",N147,0) -> 0 | BJ147: 2 | BK147: =ROUND(L147*K147,3) -> 0 | BL147: 4 | BM147: -1845106513
D148: VP - Práce naviac | N148: =BK148 -> 0 | AT148: D | AU148: 0 | AY148: PN | BK148: =SUM(BK149:BK153) -> 0
D149: K | N149: =BK149 -> 0 | U149: znížená | AT149: PN | AU149: 1 | AY149: PN | BE149: =IF(U149="základná",N149,0) -> 0 | BF149: =IF(U149="znížená",N149,0) -> 0 | BG149: =IF(U149="zákl. prenesená",N149,0) -> 0 | BH149: =IF(U149="zníž. prenesená",N149,0) -> 0 | BI149: =IF(U149="nulová",N149,0) -> 0 | BJ149: 2 | BK149: =L149*K149 -> 0
D150: K | N150: =BK150 -> 0 | U150: znížená | AT150: PN | AU150: 1 | AY150: PN | BE150: =IF(U150="základná",N150,0) -> 0 | BF150: =IF(U150="znížená",N150,0) -> 0 | BG150: =IF(U150="zákl. prenesená",N150,0) -> 0 | BH150: =IF(U150="zníž. prenesená",N150,0) -> 0 | BI150: =IF(U150="nulová",N150,0) -> 0 | BJ150: 2 | BK150: =L150*K150 -> 0
D151: K | N151: =BK151 -> 0 | U151: znížená | AT151: PN | AU151: 1 | AY151: PN | BE151: =IF(U151="základná",N151,0) -> 0 | BF151: =IF(U151="znížená",N151,0) -> 0 | BG151: =IF(U151="zákl. prenesená",N151,0) -> 0 | BH151: =IF(U151="zníž. prenesená",N151,0) -> 0 | BI151: =IF(U151="nulová",N151,0) -> 0 | BJ151: 2 | BK151: =L151*K151 -> 0
D152: K | N152: =BK152 -> 0 | U152: znížená | AT152: PN | AU152: 1 | AY152: PN | BE152: =IF(U152="základná",N152,0) -> 0 | BF152: =IF(U152="znížená",N152,0) -> 0 | BG152: =IF(U152="zákl. prenesená",N152,0) -> 0 | BH152: =IF(U152="zníž. prenesená",N152,0) -> 0 | BI152: =IF(U152="nulová",N152,0) -> 0 | BJ152: 2 | BK152: =L152*K152 -> 0
D153: K | N153: =BK153 -> 0 | U153: znížená | AT153: PN | AU153: 1 | AY153: PN | BE153: =IF(U153="základná",N153,0) -> 0 | BF153: =IF(U153="znížená",N153,0) -> 0 | BG153: =IF(U153="zákl. prenesená",N153,0) -> 0 | BH153: =IF(U153="zníž. prenesená",N153,0) -> 0 | BI153: =IF(U153="nulová",N153,0) -> 0 | BJ153: 2 | BK153: =L153*K153 -> 0

Sheet 4 - Strojárenská 187 - 2 ...
D1: Hárok obsahuje: | F1: 1) Krycí list rozpočtu | H1: 2) Rekapitulácia rozpočtu | L1: 3) Rozpočet | O1: Späť na hárok: | S1: Rekapitulácia stavby
C2: optimalizované pre tlač zostáv vo formáte A4 - na výšku | S2: >> skryté stĺpce << | AT2: {7f2a3a20-2298-4330-822d-b700d7ca280d}
AT3: 0
C4: KRYCÍ LIST ROZPOČTU | T4: v --- nižšie sa nachádzajú doplnkové a pomocné údaje k zostavám --- v | AT4: False
D6: Stavba: | F6: ='Rekapitulácia stavby'!K6 -> Spevnené plochy pre zberné nádoby
D7: Objekt: | F7: 4 - Strojárenská 187 / 2 x 1,5 m /
D8: JKSO: | M8: KS:
D9: Miesto: | M9: Dátum: | O9: ='Rekapitulácia stavby'!AN8 -> 30. 1. 2018
D11: Objednávateľ: | M11: IČO:
E12: Mesto Partizánske | M12: IČO DPH:
D14: Zhotoviteľ: | M14: IČO: | O14: =IF('Rekapitulácia stavby'!AN13="","",'Rekapitulácia stavby'!AN13) -> Vyplň údaj
E15: =IF('Rekapitulácia stavby'!E14="","",'Rekapitulácia stavby'!E14) -> Vyplň údaj | M15: IČO DPH: | O15: =IF('Rekapitulácia stavby'!AN14="","",'Rekapitulácia stavby'!AN14) -> Vyplň údaj
D17: Projektant: | M17: IČO: | O17: =IF('Rekapitulácia stavby'!AN16="","",'Rekapitulácia stavby'!AN16)
E18: =IF('Rekapitulácia stavby'!E17="","",'Rekapitulácia stavby'!E17) | M18: IČO DPH: | O18: =IF('Rekapitulácia stavby'!AN17="","",'Rekapitulácia stavby'!AN17)
D20: Spracovateľ: | M20: IČO: | O20: =IF('Rekapitulácia stavby'!AN19="","",'Rekapitulácia stavby'!AN19)
E21: =IF('Rekapitulácia stavby'!E20="","",'Rekapitulácia stavby'!E20) | M21: IČO DPH: | O21: =IF('Rekapitulácia stavby'!AN20="","",'Rekapitulácia stavby'!AN20)
D23: Poznámka:
D27: Náklady z rozpočtu | M27: =N88 -> 0
D28: Ostatné náklady | M28: =N96 -> 0
D30: Cena bez DPH | M30: =ROUND(M27+M28,2) -> 0
D32: DPH | E32: základná | F32: 0.2 | G32: z | H32: =ROUND((((SUM(BE96:BE103)+SUM(BE121:BE138))+SUM(BE140:BE144))),2) -> 0 | M32: =ROUND(((ROUND((SUM(BE96:BE103)+SUM(BE121:BE138)), 2)*F32)+SUM(BE140:BE144)*F32),2) -> 0
E33: znížená | F33: 0.2 | G33: z | H33: =ROUND((((SUM(BF96:BF103)+SUM(BF121:BF138))+SUM(BF140:BF144))),2) -> 0 | M33: =ROUND(((ROUND((SUM(BF96:BF103)+SUM(BF121:BF138)), 2)*F33)+SUM(BF140:BF144)*F33),2) -> 0
E34: zákl. prenesená | F34: 0.2 | G34: z | H34: =ROUND((((SUM(BG96:BG103)+SUM(BG121:BG138))+SUM(BG140:BG144))),2) -> 0 | M34: 0
E35: zníž. prenesená | F35: 0.2 | G35: z | H35: =ROUND((((SUM(BH96:BH103)+SUM(BH121:BH138))+SUM(BH140:BH144))),2) -> 0 | M35: 0
E36: nulová | F36: 0 | G36: z | H36: =ROUND((((SUM(BI96:BI103)+SUM(BI121:BI138))+SUM(BI140:BI144))),2) -> 0 | M36: 0
D38: Cena s DPH | G38: v | H38: EUR | L38: =SUM(M30:M36) -> 0
D50: Projektant | J50: Spracovateľ
D59: Dátum a podpis: | G59: Pečiatka | J59: Dátum a podpis: | N59: Pečiatka
D61: Objednávateľ | J61: Zhotoviteľ
D70: Dátum a podpis: | G70: Pečiatka | J70: Dátum a podpis: | N70: Pečiatka
C76: REKAPITULÁCIA ROZPOČTU
C78: Stavba: | F78: =F6 -> Spevnené plochy pre zberné nádoby
C79: Objekt: | F79: =F7 -> 4 - Strojárenská 187 / 2 x 1,5 m /
C81: Miesto: | F81: =F9 | K81: Dátum: | M81: =IF(O9="","",O9) -> 30. 1. 2018
C83: Objednávateľ: | F83: =E12 -> Mesto Partizánske | K83: Projektant: | M83: =E18
C84: Zhotoviteľ: | F84: =IF(E15="","",E15) -> Vyplň údaj | K84: Spracovateľ: | M84: =E21
C86: Kód - Popis | N86: Cena celkom [EUR]
C88: 1) Náklady z rozpočtu | N88: =N121 -> 0 | AU88: -1
D89: HSV - Práce a dodávky HSV | N89: =N122 -> 0
D90: 1 - Zemné práce | N90: =N123 -> 0
D91: 5 - Komunikácie | N91: =N130 -> 0
D92: 9 - Ostatné konštrukcie a práce-búranie | N92: =N133 -> 0
D93: 99 - Presun hmôt HSV | N93: =N137 -> 0
D94: VP - Práce naviac | N94: =N139 -> 0
C96: 2) Ostatné náklady | N96: =ROUND(N97+N98+N99+N100+N101+N102,2) -> 0 | U96: DPH
D97: GZS | N97: =ROUND(N88*T97,2) -> 0 | U97: znížená | AY97: VRN | BE97: =IF(U97="základná",N97,0) -> 0 | BF97: =IF(U97="znížená",N97,0) -> 0 | BG97: =IF(U97="zákl. prenesená",N97,0) -> 0 | BH97: =IF(U97="zníž. prenesená",N97,0) -> 0 | BI97: =IF(U97="nulová",N97,0) -> 0 | BJ97: 2
D98: Projektové práce | N98: =ROUND(N88*T98,2) -> 0 | U98: znížená | AY98: VRN | BE98: =IF(U98="základná",N98,0) -> 0 | BF98: =IF(U98="znížená",N98,0) -> 0 | BG98: =IF(U98="zákl. prenesená",N98,0) -> 0 | BH98: =IF(U98="zníž. prenesená",N98,0) -> 0 | BI98: =IF(U98="nulová",N98,0) -> 0 | BJ98: 2
D99: Sťažené podmienky | N99: =ROUND(N88*T99,2) -> 0 | U99: znížená | AY99: VRN | BE99: =IF(U99="základná",N99,0) -> 0 | BF99: =IF(U99="znížená",N99,0) -> 0 | BG99: =IF(U99="zákl. prenesená",N99,0) -> 0 | BH99: =IF(U99="zníž. prenesená",N99,0) -> 0 | BI99: =IF(U99="nulová",N99,0) -> 0 | BJ99: 2
D100: Vplyv prostredia | N100: =ROUND(N88*T100,2) -> 0 | U100: znížená | AY100: VRN | BE100: =IF(U100="základná",N100,0) -> 0 | BF100: =IF(U100="znížená",N100,0) -> 0 | BG100: =IF(U100="zákl. prenesená",N100,0) -> 0 | BH100: =IF(U100="zníž. prenesená",N100,0) -> 0 | BI100: =IF(U100="nulová",N100,0) -> 0 | BJ100: 2
D101: Iné VRN | N101: =ROUND(N88*T101,2) -> 0 | U101: znížená | AY101: VRN | BE101: =IF(U101="základná",N101,0) -> 0 | BF101: =IF(U101="znížená",N101,0) -> 0 | BG101: =IF(U101="zákl. prenesená",N101,0) -> 0 | BH101: =IF(U101="zníž. prenesená",N101,0) -> 0 | BI101: =IF(U101="nulová",N101,0) -> 0 | BJ101: 2
D102: Kompletačná činnosť | N102: =ROUND(N88*T102,2) -> 0 | U102: znížená | AY102: KOMPLETACNA | BE102: =IF(U102="základná",N102,0) -> 0 | BF102: =IF(U102="znížená",N102,0) -> 0 | BG102: =IF(U102="zákl. prenesená",N102,0) -> 0 | BH102: =IF(U102="zníž. prenesená",N102,0) -> 0 | BI102: =IF(U102="nulová",N102,0) -> 0 | BJ102: 2
C104: Celkové náklady za stavbu 1) + 2) | L104: =ROUND(SUM(N88+N96),2) -> 0
C110: ROZPOČET
C112: Stavba: | F112: =F6 -> Spevnené plochy pre zberné nádoby
C113: Objekt: | F113: =F7 -> 4 - Strojárenská 187 / 2 x 1,5 m /
C115: Miesto: | F115: =F9 | K115: Dátum: | M115: =IF(O9="","",O9) -> 30. 1. 2018
C117: Objednávateľ: | F117: =E12 -> Mesto Partizánske | K117: Projektant: | M117: =E18
C118: Zhotoviteľ: | F118: =IF(E15="","",E15) -> Vyplň údaj | K118: Spracovateľ: | M118: =E21
C120: PČ | D120: Typ | E120: Kód | F120: Popis | J120: MJ | K120: Množstvo | L120: J.cena [EUR] | N120: Cena celkom [EUR] | T120: Poznámka | U120: DPH | V120: J. Nh [h] | W120: Nh celkom [h] | X120: J. hmotnosť_x000D_ [t] | Y120: Hmotnosť_x000D_ celkom [t] | Z120: J. suť [t] | AA120: Suť Celkom [t]
C121: Náklady z rozpočtu | N121: =BK121 -> 0 | W121: =W122+W139 -> 0 | Y121: =Y122+Y139 -> 2.04116 | AA121: =AA122+AA139 -> 0 | AT121: D | AU121: -1 | BK121: =BK122+BK139 -> 0
D122: HSV - Práce a dodávky HSV | N122: =BK122 -> 0 | W122: =W123+W130+W133+W137 -> 0 | Y122: =Y123+Y130+Y133+Y137 -> 2.04116 | AA122: =AA123+AA130+AA133+AA137 -> 0 | AR122: 1 | AT122: D | AU122: 0 | AY122: ROZPOCET | BK122: =BK123+BK130+BK133+BK137 -> 0
D123: 1 - Zemné práce | N123: =BK123 -> 0 | W123: =SUM(W124:W129) -> 0 | Y123: =SUM(Y124:Y129) -> 0 | AA123: =SUM(AA124:AA129) -> 0 | AR123: 1 | AT123: D | AU123: 1 | AY123: ROZPOCET | BK123: =SUM(BK124:BK129) -> 0
C124: 1 | D124: K | E124: 122201101 | F124: Odkopávka a prekopávka nezapažená v hornine 3, do 100 m3 | J124: m3 | K124: 0.6 | L124: 0 | N124: =ROUND(L124*K124,3) -> 0 | U124: znížená | W124: =V124*K124 -> 0 | X124: 0 | Y124: =X124*K124 -> 0 | Z124: 0 | AA124: =Z124*K124 -> 0 | AR124: 4 | AT124: K | AU124: 2 | AY124: ROZPOCET | BE124: =IF(U124="základná",N124,0) -> 0 | BF124: =IF(U124="znížená",N124,0) -> 0 | BG124: =IF(U124="zákl. prenesená",N124,0) -> 0 | BH124: =IF(U124="zníž. prenesená",N124,0) -> 0 | BI124: =IF(U124="nulová",N124,0) -> 0 | BJ124: 2 | BK124: =ROUND(L124*K124,3) -> 0 | BL124: 4 | BM124: 1048614087
C125: 2 | D125: K | E125: 122201109 | F125: Odkopávky a prekopávky nezapažené. Príplatok k cenám za lepivosť horniny 3 | J125: m3 | K125: 0.6 | L125: 0 | N125: =ROUND(L125*K125,3) -> 0 | U125: znížená | W125: =V125*K125 -> 0 | X125: 0 | Y125: =X125*K125 -> 0 | Z125: 0 | AA125: =Z125*K125 -> 0 | AR125: 4 | AT125: K | AU125: 2 | AY125: ROZPOCET | BE125: =IF(U125="základná",N125,0) -> 0 | BF125: =IF(U125="znížená",N125,0) -> 0 | BG125: =IF(U125="zákl. prenesená",N125,0) -> 0 | BH125: =IF(U125="zníž. prenesená",N125,0) -> 0 | BI125: =IF(U125="nulová",N125,0) -> 0 | BJ125: 2 | BK125: =ROUND(L125*K125,3) -> 0 | BL125: 4 | BM125: 1345122764
C126: 3 | D126: K | E126: 162501102 | F126: Vodorovné premiestnenie výkopku po spevnenej ceste z horniny tr.1-4, do 100 m3 na vzdialenosť do 3000 m | J126: m3 | K126: 0.6 | L126: 0 | N126: =ROUND(L126*K126,3) -> 0 | U126: znížená | W126: =V126*K126 -> 0 | X126: 0 | Y126: =X126*K126 -> 0 | Z126: 0 | AA126: =Z126*K126 -> 0 | AR126: 4 | AT126: K | AU126: 2 | AY126: ROZPOCET | BE126: =IF(U126="základná",N126,0) -> 0 | BF126: =IF(U126="znížená",N126,0) -> 0 | BG126: =IF(U126="zákl. prenesená",N126,0) -> 0 | BH126: =IF(U126="zníž. prenesená",N126,0) -> 0 | BI126: =IF(U126="nulová",N126,0) -> 0 | BJ126: 2 | BK126: =ROUND(L126*K126,3) -> 0 | BL126: 4 | BM126: -1451600334
C127: 4 | D127: K | E127: 171201201 | F127: Uloženie sypaniny na skládky do 100 m3 | J127: m3 | K127: 0.6 | L127: 0 | N127: =ROUND(L127*K127,3) -> 0 | U127: znížená | W127: =V127*K127 -> 0 | X127: 0 | Y127: =X127*K127 -> 0 | Z127: 0 | AA127: =Z127*K127 -> 0 | AR127: 4 | AT127: K | AU127: 2 | AY127: ROZPOCET | BE127: =IF(U127="základná",N127,0) -> 0 | BF127: =IF(U127="znížená",N127,0) -> 0 | BG127: =IF(U127="zákl. prenesená",N127,0) -> 0 | BH127: =IF(U127="zníž. prenesená",N127,0) -> 0 | BI127: =IF(U127="nulová",N127,0) -> 0 | BJ127: 2 | BK127: =ROUND(L127*K127,3) -> 0 | BL127: 4 | BM127: 424440351
C128: 5 | D128: K | E128: 171209002 | F128: Poplatok za skladovanie - zemina a kamenivo (17 05) ostatné | J128: t | K128: 1 | L128: 0 | N128: =ROUND(L128*K128,3) -> 0 | U128: znížená | W128: =V128*K128 -> 0 | X128: 0 | Y128: =X128*K128 -> 0 | Z128: 0 | AA128: =Z128*K128 -> 0 | AR128: 4 | AT128: K | AU128: 2 | AY128: ROZPOCET | BE128: =IF(U128="základná",N128,0) -> 0 | BF128: =IF(U128="znížená",N128,0) -> 0 | BG128: =IF(U128="zákl. prenesená",N128,0) -> 0 | BH128: =IF(U128="zníž. prenesená",N128,0) -> 0 | BI128: =IF(U128="nulová",N128,0) -> 0 | BJ128: 2 | BK128: =ROUND(L128*K128,3) -> 0 | BL128: 4 | BM128: 382629093
C129: 6 | D129: K | E129: 181301101 | F129: Rozprestretie ornice v rovine, plocha do 500 m2, hr.do 100 mm | J129: m2 | K129: 2 | L129: 0 | N129: =ROUND(L129*K129,3) -> 0 | U129: znížená | W129: =V129*K129 -> 0 | X129: 0 | Y129: =X129*K129 -> 0 | Z129: 0 | AA129: =Z129*K129 -> 0 | AR129: 4 | AT129: K | AU129: 2 | AY129: ROZPOCET | BE129: =IF(U129="základná",N129,0) -> 0 | BF129: =IF(U129="znížená",N129,0) -> 0 | BG129: =IF(U129="zákl. prenesená",N129,0) -> 0 | BH129: =IF(U129="zníž. prenesená",N129,0) -> 0 | BI129: =IF(U129="nulová",N129,0) -> 0 | BJ129: 2 | BK129: =ROUND(L129*K129,3) -> 0 | BL129: 4 | BM129: -574868868
D130: 5 - Komunikácie | N130: =BK130 -> 0 | W130: =SUM(W131:W132) -> 0 | Y130: =SUM(Y131:Y132) -> 1.51749 | AA130: =SUM(AA131:AA132) -> 0 | AR130: 1 | AT130: D | AU130: 1 | AY130: ROZPOCET | BK130: =SUM(BK131:BK132) -> 0
C131: 7 | D131: K | E131: 564851111 | F131: Podklad zo štrkodrviny fr. 16 - 32 mm s rozprestretím a zhutnením, po zhutnení hr. 150 mm | J131: m2 | K131: 3 | L131: 0 | N131: =ROUND(L131*K131,3) -> 0 | U131: znížená | W131: =V131*K131 -> 0 | X131: 0.27994 | Y131: =X131*K131 -> 0.83982 | Z131: 0 | AA131: =Z131*K131 -> 0 | AR131: 4 | AT131: K | AU131: 2 | AY131: ROZPOCET | BE131: =IF(U131="základná",N131,0) -> 0 | BF131: =IF(U131="znížená",N131,0) -> 0 | BG131: =IF(U131="zákl. prenesená",N131,0) -> 0 | BH131: =IF(U131="zníž. prenesená",N131,0) -> 0 | BI131: =IF(U131="nulová",N131,0) -> 0 | BJ131: 2 | BK131: =ROUND(L131*K131,3) -> 0 | BL131: 4 | BM131: -1335466871
C132: 8 | D132: K | E132: 581114113 | F132: Kryt z betónu prostého C 25/30 komunikácií pre peších hr. 100 mm | J132: m2 | K132: 3 | L132: 0 | N132: =ROUND(L132*K132,3) -> 0 | U132: znížená | W132: =V132*K132 -> 0 | X132: 0.22589 | Y132: =X132*K132 -> 0.67767 | Z132: 0 | AA132: =Z132*K132 -> 0 | AR132: 4 | AT132: K | AU132: 2 | AY132: ROZPOCET | BE132: =IF(U132="základná",N132,0) -> 0 | BF132: =IF(U132="znížená",N132,0) -> 0 | BG132: =IF(U132="zákl. prenesená",N132,0) -> 0 | BH132: =IF(U132="zníž. prenesená",N132,0) -> 0 | BI132: =IF(U132="nulová",N132,0) -> 0 | BJ132: 2 | BK132: =ROUND(L132*K132,3) -> 0 | BL132: 4 | BM132: 397933047
D133: 9 - Ostatné konštrukcie a práce-búranie | N133: =BK133 -> 0 | W133: =SUM(W134:W136) -> 0 | Y133: =SUM(Y134:Y136) -> 0.52367 | AA133: =SUM(AA134:AA136) -> 0 | AR133: 1 | AT133: D | AU133: 1 | AY133: ROZPOCET | BK133: =SUM(BK134:BK136) -> 0
C134: 9 | D134: K | E134: 917862112 | F134: Osadenie chodník. obrubníka betónového stojatého do lôžka z betónu prosteho tr. C 16/20 s bočnou oporou | J134: m | K134: 3.5 | L134: 0 | N134: =ROUND(L134*K134,3) -> 0 | U134: znížená | W134: =V134*K134 -> 0 | X134: 0.12662 | Y134: =X134*K134 -> 0.44317 | Z134: 0 | AA134: =Z134*K134 -> 0 | AR134: 4 | AT134: K | AU134: 2 | AY134: ROZPOCET | BE134: =IF(U134="základná",N134,0) -> 0 | BF134: =IF(U134="znížená",N134,0) -> 0 | BG134: =IF(U134="zákl. prenesená",N134,0) -> 0 | BH134: =IF(U134="zníž. prenesená",N134,0) -> 0 | BI134: =IF(U134="nulová",N134,0) -> 0 | BJ134: 2 | BK134: =ROUND(L134*K134,3) -> 0 | BL134: 4 | BM134: -1056276625
C135: 10 | D135: M | E135: 5921954660 | F135: Premac obrubník parkový 100x20x5 cm, sivý | J135: ks | K135: 3 | L135: 0 | N135: =ROUND(L135*K135,3) -> 0 | U135: znížená | W135: =V135*K135 -> 0 | X135: 0.023 | Y135: =X135*K135 -> 0.069 | Z135: 0 | AA135: =Z135*K135 -> 0 | AR135: 8 | AT135: M | AU135: 2 | AY135: ROZPOCET | BE135: =IF(U135="základná",N135,0) -> 0 | BF135: =IF(U135="znížená",N135,0) -> 0 | BG135: =IF(U135="zákl. prenesená",N135,0) -> 0 | BH135: =IF(U135="zníž. prenesená",N135,0) -> 0 | BI135: =IF(U135="nulová",N135,0) -> 0 | BJ135: 2 | BK135: =ROUND(L135*K135,3) -> 0 | BL135: 4 | BM135: -882956506
C136: 11 | D136: M | E136: 5921954590 | F136: Premac obrubník parkový 50x20x5 cm, sivý | J136: ks | K136: 1 | L136: 0 | N136: =ROUND(L136*K136,3) -> 0 | U136: znížená | W136: =V136*K136 -> 0 | X136: 0.0115 | Y136: =X136*K136 -> 0.0115 | Z136: 0 | AA136: =Z136*K136 -> 0 | AR136: 8 | AT136: M | AU136: 2 | AY136: ROZPOCET | BE136: =IF(U136="základná",N136,0) -> 0 | BF136: =IF(U136="znížená",N136,0) -> 0 | BG136: =IF(U136="zákl. prenesená",N136,0) -> 0 | BH136: =IF(U136="zníž. prenesená",N136,0) -> 0 | BI136: =IF(U136="nulová",N136,0) -> 0 | BJ136: 2 | BK136: =ROUND(L136*K136,3) -> 0 | BL136: 4 | BM136: 162176303
D137: 99 - Presun hmôt HSV | N137: =BK137 -> 0 | W137: =W138 -> 0 | Y137: =Y138 -> 0 | AA137: =AA138 -> 0 | AR137: 1 | AT137: D | AU137: 1 | AY137: ROZPOCET | BK137: =BK138 -> 0
C138: 12 | D138: K | E138: 998224111 | F138: Presun hmôt pre pozemné komunikácie s krytom monolitickým betónovým akejkoľvek dĺžky objektu | J138: t | K138: 2.041 | L138: 0 | N138: =ROUND(L138*K138,3) -> 0 | U138: znížená | W138: =V138*K138 -> 0 | X138: 0 | Y138: =X138*K138 -> 0 | Z138: 0 | AA138: =Z138*K138 -> 0 | AR138: 4 | AT138: K | AU138: 2 | AY138: ROZPOCET | BE138: =IF(U138="základná",N138,0) -> 0 | BF138: =IF(U138="znížená",N138,0) -> 0 | BG138: =IF(U138="zákl. prenesená",N138,0) -> 0 | BH138: =IF(U138="zníž. prenesená",N138,0) -> 0 | BI138: =IF(U138="nulová",N138,0) -> 0 | BJ138: 2 | BK138: =ROUND(L138*K138,3) -> 0 | BL138: 4 | BM138: 777336659
D139: VP - Práce naviac | N139: =BK139 -> 0 | AT139: D | AU139: 0 | AY139: PN | BK139: =SUM(BK140:BK144) -> 0
D140: K | N140: =BK140 -> 0 | U140: znížená | AT140: PN | AU140: 1 | AY140: PN | BE140: =IF(U140="základná",N140,0) -> 0 | BF140: =IF(U140="znížená",N140,0) -> 0 | BG140: =IF(U140="zákl. prenesená",N140,0) -> 0 | BH140: =IF(U140="zníž. prenesená",N140,0) -> 0 | BI140: =IF(U140="nulová",N140,0) -> 0 | BJ140: 2 | BK140: =L140*K140 -> 0
D141: K | N141: =BK141 -> 0 | U141: znížená | AT141: PN | AU141: 1 | AY141: PN | BE141: =IF(U141="základná",N141,0) -> 0 | BF141: =IF(U141="znížená",N141,0) -> 0 | BG141: =IF(U141="zákl. prenesená",N141,0) -> 0 | BH141: =IF(U141="zníž. prenesená",N141,0) -> 0 | BI141: =IF(U141="nulová",N141,0) -> 0 | BJ141: 2 | BK141: =L141*K141 -> 0
D142: K | N142: =BK142 -> 0 | U142: znížená | AT142: PN | AU142: 1 | AY142: PN | BE142: =IF(U142="základná",N142,0) -> 0 | BF142: =IF(U142="znížená",N142,0) -> 0 | BG142: =IF(U142="zákl. prenesená",N142,0) -> 0 | BH142: =IF(U142="zníž. prenesená",N142,0) -> 0 | BI142: =IF(U142="nulová",N142,0) -> 0 | BJ142: 2 | BK142: =L142*K142 -> 0
D143: K | N143: =BK143 -> 0 | U143: znížená | AT143: PN | AU143: 1 | AY143: PN | BE143: =IF(U143="základná",N143,0) -> 0 | BF143: =IF(U143="znížená",N143,0) -> 0 | BG143: =IF(U143="zákl. prenesená",N143,0) -> 0 | BH143: =IF(U143="zníž. prenesená",N143,0) -> 0 | BI143: =IF(U143="nulová",N143,0) -> 0 | BJ143: 2 | BK143: =L143*K143 -> 0
D144: K | N144: =BK144 -> 0 | U144: znížená | AT144: PN | AU144: 1 | AY144: PN | BE144: =IF(U144="základná",N144,0) -> 0 | BF144: =IF(U144="znížená",N144,0) -> 0 | BG144: =IF(U144="zákl. prenesená",N144,0) -> 0 | BH144: =IF(U144="zníž. prenesená",N144,0) -> 0 | BI144: =IF(U144="nulová",N144,0) -> 0 | BJ144: 2 | BK144: =L144*K144 -> 0
