Workbook

Sheet Rekapitulácia stavby
A1: 2012 | D1: Hárok obsahuje: | K1: 1) Súhrnný list stavby | W1: 2) Rekapitulácia objektov | BA1: 2.0 | BT1: False | BU1: False
C2: optimalizované pre tlač zostáv vo formáte A4 - na výšku | AR2: >> skryté stĺpce << | BS2: 0,001 | BT2: 20
BS3: 0,001 | BT3: 20
C4: SÚHRNNÝ LIST STAVBY | AS4: v --- nižšie sa nachádzajú doplnkové a pomocné údaje k zostavám --- v | BE4: Návod na vyplnenie | BS4: 0,001
D5: Kód: | K5: 2018-010 | BE5: Meniť je možné iba bunky so žltým podfarbením!_x000D_ _x000D_ 1) na prvom liste Rekapitulácie stavby vyplňte v zostave_x000D_ _x000D_ a) Súhrnný list_x000D_ - údaje o Zhotoviteľovi_x000D_ (prenesú sa do ostatných zostáv aj v iných listoch)_x000D_ _x000D_ b) Rekapitulácia objektov_x000D_ - potrebné Ostatné náklady_x000D_ _x000D_ 2) na vybraných listoch vyplňte v zostave_x000D_ _x000D_ a) Krycí list_x000D_ - údaje o Zhotoviteľovi, pokiaľ sa líšia od údajov o Zhotoviteľovi na Súhrnnom liste_x000D_ (údaje se prenesú do ostatných zostav v danom liste)_x000D_ _x000D_ b) Rekapitulácia rozpočtu_x000D_ - potrebné Ostatné náklady_x000D_ _x000D_ c) Celkové náklady za stavbu_x000D_ - ceny na položkách_x000D_ - množstvo, pokiaľ má žlté podfarbenie_x000D_ - a v prípade potreby poznámku (tá je v skrytom stĺpci) | BS5: 0,001
D6: Stavba: | K6: Spevnené plochy pre zberné nádoby | BS6: 0,001
D7: JKSO: | AK7: KS: | BS7: 0,001
D8: Miesto: | AK8: Dátum: | AN8: 30. 1. 2018 | BS8: 0,001
BS9: 0,001
D10: Objednávateľ: | AK10: IČO: | BS10: 0,001
E11: Mesto Partizánske | AK11: IČO DPH: | BS11: 0,001
BS12: 0,001
D13: Zhotoviteľ: | AK13: IČO: | AN13: Vyplň údaj | BS13: 0,001
E14: Vyplň údaj | AK14: IČO DPH: | AN14: Vyplň údaj | BS14: 0,001
BS15: False
D16: Projektant: | AK16: IČO: | BS16: False
AK17: IČO DPH: | BS17: True
BS18: 0,01
D19: Spracovateľ: | AK19: IČO: | BS19: 0,01
AK20: IČO DPH:
D22: Poznámka:
D26: Náklady z rozpočtov | AK26: =ROUND(AG87,2) -> 0
D27: Ostatné náklady zo súhrnného listu | AK27: =ROUND(AG93,2) -> 0
D29: Cena bez DPH | AK29: =ROUND(AK26+AK27,2) -> 0
D31: DPH | F31: základná | L31: 0.2 | T31: z | W31: =ROUND(AZ87+SUM(CD94:CD98),2) -> 0 | AK31: =ROUND(AV87+SUM(BY94:BY98),2) -> 0
F32: znížená | L32: 0.2 | T32: z | W32: =ROUND(BA87+SUM(CE94:CE98),2) -> 0 | AK32: =ROUND(AW87+SUM(BZ94:BZ98),2) -> 0
F33: zákl. prenesená | L33: 0.2 | T33: z | W33: =ROUND(BB87+SUM(CF94:CF98),2) -> 0 | AK33: 0
F34: zníž. prenesená | L34: 0.2 | T34: z | W34: =ROUND(BC87+SUM(CG94:CG98),2) -> 0 | AK34: 0
F35: nulová | L35: 0 | T35: z | W35: =ROUND(BD87+SUM(CH94:CH98),2) -> 0 | AK35: 0
D37: Cena s DPH | T37: v | X37: EUR | AK37: =SUM(AK29:AK35) -> 0
D49: Projektant | AC49: Spracovateľ
D58: Dátum a podpis: | R58: Pečiatka | AC58: Dátum a podpis: | AM58: Pečiatka
D60: Objednávateľ | AC60: Zhotoviteľ
D69: Dátum a podpis: | R69: Pečiatka | AC69: Dátum a podpis: | AM69: Pečiatka
C76: REKAPITULÁCIA OBJEKTOV STAVBY
C77: Kód: | L77: =K5 -> 2018-010
C78: Stavba: | L78: =K6 -> Spevnené plochy pre zberné nádoby
C80: Miesto: | L80: =IF(K8="","",K8) | AI80: Dátum: | AM80: =IF(AN8= "","",AN8) -> 30. 1. 2018
C82: Objednávateľ: | L82: =IF(E11= "","",E11) -> Mesto Partizánske | AI82: Projektant: | AM82: =IF(E17="","",E17) | AS82: Informatívne údaje z listov zákaziek
C83: Zhotoviteľ: | L83: =IF(E14= "Vyplň údaj","",E14) | AI83: Spracovateľ: | AM83: =IF(E20="","",E20)
...

Sheet 1 - Hrnčírikova ul. mests...
D1: Hárok obsahuje: | F1: 1) Krycí list rozpočtu | H1: 2) Rekapitulácia rozpočtu | L1: 3) Rozpočet | O1: Späť na hárok: | S1: Rekapitulácia stavby
C2: optimalizované pre tlač zostáv vo formáte A4 - na výšku | S2: >> skryté stĺpce << | AT2: {d200122d-3f7f-450d-938a-6a8d6d1a2e32}
AT3: 0
C4: KRYCÍ LIST ROZPOČTU | T4: v --- nižšie sa nachádzajú doplnkové a pomocné údaje k zostavám --- v | AT4: False
D6: Stavba: | F6: ='Rekapitulácia stavby'!K6 -> Spevnené plochy pre zberné nádoby
D7: Objekt: | F7: 1 - Hrnčírikova ul. mestské trhovisko / 6 x 6,5 m /
D8: JKSO: | M8: KS:
D9: Miesto: | M9: Dátum: | O9: ='Rekapitulácia stavby'!AN8 -> 30. 1. 2018
D11: Objednávateľ: | M11: IČO:
E12: Mesto Partizánske | M12: IČO DPH:
D14: Zhotoviteľ: | M14: IČO: | O14: =IF('Rekapitulácia stavby'!AN13="","",'Rekapitulácia stavby'!AN13) -> Vyplň údaj
E15: =IF('Rekapitulácia stavby'!E14="","",'Rekapitulácia stavby'!E14) -> Vyplň údaj | M15: IČO DPH: | O15: =IF('Rekapitulácia stavby'!AN14="","",'Rekapitulácia stavby'!AN14) -> Vyplň údaj
D17: Projektant: | M17: IČO: | O17: =IF('Rekapitulácia stavby'!AN16="","",'Rekapitulácia stavby'!AN16)
E18: =IF('Rekapitulácia stavby'!E17="","",'Rekapitulácia stavby'!E17) | M18: IČO DPH: | O18: =IF('Rekapitulácia stavby'!AN17="","",'Rekapitulácia stavby'!AN17)
D20: Spracovateľ: | M20: IČO: | O20: =IF('Rekapitulácia stavby'!AN19="","",'Rekapitulácia stavby'!AN19)
E21: =IF('Rekapitulácia stavby'!E20="","",'Rekapitulácia stavby'!E20) | M21: IČO DPH: | O21: =IF('Rekapitulácia stavby'!AN20="","",'Rekapitulácia stavby'!AN20)
D23: Poznámka:
D27: Náklady z rozpočtu | M27: =N88 -> 0
D28: Ostatné náklady | M28: =N99 -> 0
D30: Cena bez DPH | M30: =ROUND(M27+M28,2) -> 0
D32: DPH | E32: základná | F32: 0.2 | G32: z | H32: =ROUND((((SUM(BE99:BE106)+SUM(BE124:BE152))+SUM(BE154:BE158))),2) -> 0 | M32: =ROUND(((ROUND((SUM(BE99:BE106)+SUM(BE124:BE152)), 2)*F32)+SUM(BE154:BE158)*F32),2) -> 0
E33: znížená | F33: 0.2 | G33: z | H33: =ROUND((((SUM(BF99:BF106)+SUM(BF124:BF152))+SUM(BF154:BF158))),2) -> 0 | M33: =ROUND(((ROUND((SUM(BF99:BF106)+SUM(BF124:BF152)), 2)*F33)+SUM(BF154:BF158)*F33),2) -> 0
E34: zákl. prenesená | F34: 0.2 | G34: z | H34: =ROUND((((SUM(BG99:BG106)+SUM(BG124:BG152))+SUM(BG154:BG158))),2) -> 0 | M34: 0
E35: zníž. prenesená | F35: 0.2 | G35: z | H35: =ROUND((((SUM(BH99:BH106)+SUM(BH124:BH152))+SUM(BH154:BH158))),2) -> 0 | M35: 0
E36: nulová | F36: 0 | G36: z | H36: =ROUND((((SUM(BI99:BI106)+SUM(BI124:BI152))+SUM(BI154:BI158))),2) -> 0 | M36: 0
D38: Cena s DPH | G38: v | H38: EUR | L38: =SUM(M30:M36) -> 0
D50: Projektant | J50: Spracovateľ
D59: Dátum a podpis: | G59: Pečiatka | J59: Dátum a podpis: | N59: Pečiatka
D61: Objednávateľ | J61: Zhotoviteľ
D70: Dátum a podpis: | G70: Pečiatka | J70: Dátum a podpis: | N70: Pečiatka
C76: REKAPITULÁCIA ROZPOČTU
C78: Stavba: | F78: =F6 -> Spevnené plochy pre zberné nádoby
C79: Objekt: | F79: =F7 -> 1 - Hrnčírikova ul. mestské trhovisko / 6 x 6,5 m /
C81: Miesto: | F81: =F9 | K81: Dátum: | M81: =IF(O9="","",O9) -> 30. 1. 2018
C83: Objednávateľ: | F83: =E12 -> Mesto Partizánske | K83: Projektant: | M83: =E18
C84: Zhotoviteľ: | F84: =IF(E15="","",E15) -> Vyplň údaj | K84: Spracovateľ: | M84: =E21
C86: Kód - Popis | N86: Cena celkom [EUR]
C88: 1) Náklady z rozpočtu | N88: =N124 -> 0 | AU88: -1
D89: HSV - Práce a dodávky HSV | N89: =N125 -> 0
D90: 1 - Zemné práce | N90: =N126 -> 0
...

Sheet 2 - Obuvnícka 423 - 6 x 4...
D1: Hárok obsahuje: | F1: 1) Krycí list rozpočtu | H1: 2) Rekapitulácia rozpočtu | L1: 3) Rozpočet | O1: Späť na hárok: | S1: Rekapitulácia stavby
C2: optimalizované pre tlač zostáv vo formáte A4 - na výšku | S2: >> skryté stĺpce << | AT2: {ca765887-98b2-4813-983e-fe8a70cd1f84}
AT3: 0
C4: KRYCÍ LIST ROZPOČTU | T4: v --- nižšie sa nachádzajú doplnkové a pomocné údaje k zostavám --- v | AT4: False
D6: Stavba: | F6: ='Rekapitulácia stavby'!K6 -> Spevnené plochy pre zberné nádoby
D7: Objekt: | F7: 2 - Obuvnícka 423 / 6 x 4 m /
D8: JKSO: | M8: KS:
D9: Miesto: | M9: Dátum: | O9: ='Rekapitulácia stavby'!AN8 -> 30. 1. 2018
D11: Objednávateľ: | M11: IČO:
E12: Mesto Partizánske | M12: IČO DPH:
D14: Zhotoviteľ: | M14: IČO: | O14: =IF('Rekapitulácia stavby'!AN13="","",'Rekapitulácia stavby'!AN13) -> Vyplň údaj
E15: =IF('Rekapitulácia stavby'!E14="","",'Rekapitulácia stavby'!E14) -> Vyplň údaj | M15: IČO DPH: | O15: =IF('Rekapitulácia stavby'!AN14="","",'Rekapitulácia stavby'!AN14) -> Vyplň údaj
D17: Projektant: | M17: IČO: | O17: =IF('Rekapitulácia stavby'!AN16="","",'Rekapitulácia stavby'!AN16)
E18: =IF('Rekapitulácia stavby'!E17="","",'Rekapitulácia stavby'!E17) | M18: IČO DPH: | O18: =IF('Rekapitulácia stavby'!AN17="","",'Rekapitulácia stavby'!AN17)
D20: Spracovateľ: | M20: IČO: | O20: =IF('Rekapitulácia stavby'!AN19="","",'Rekapitulácia stavby'!AN19)
E21: =IF('Rekapitulácia stavby'!E20="","",'Rekapitulácia stavby'!E20) | M21: IČO DPH: | O21: =IF('Rekapitulácia stavby'!AN20="","",'Rekapitulácia stavby'!AN20)
D23: Poznámka:
D27: Náklady z rozpočtu | M27: =N88 -> 0
D28: Ostatné náklady | M28: =N96 -> 0
D30: Cena bez DPH | M30: =ROUND(M27+M28,2) -> 0
D32: DPH | E32: základná | F32: 0.2 | G32: z | H32: =ROUND((((SUM(BE96:BE103)+SUM(BE121:BE143))+SUM(BE145:BE149))),2) -> 0 | M32: =ROUND(((ROUND((SUM(BE96:BE103)+SUM(BE121:BE143)), 2)*F32)+SUM(BE145:BE149)*F32),2) -> 0
E33: znížená | F33: 0.2 | G33: z | H33: =ROUND((((SUM(BF96:BF103)+SUM(BF121:BF143))+SUM(BF145:BF149))),2) -> 0 | M33: =ROUND(((ROUND((SUM(BF96:BF103)+SUM(BF121:BF143)), 2)*F33)+SUM(BF145:BF149)*F33),2) -> 0
E34: zákl. prenesená | F34: 0.2 | G34: z | H34: =ROUND((((SUM(BG96:BG103)+SUM(BG121:BG143))+SUM(BG145:BG149))),2) -> 0 | M34: 0
E35: zníž. prenesená | F35: 0.2 | G35: z | H35: =ROUND((((SUM(BH96:BH103)+SUM(BH121:BH143))+SUM(BH145:BH149))),2) -> 0 | M35: 0
E36: nulová | F36: 0 | G36: z | H36: =ROUND((((SUM(BI96:BI103)+SUM(BI121:BI143))+SUM(BI145:BI149))),2) -> 0 | M36: 0
D38: Cena s DPH | G38: v | H38: EUR | L38: =SUM(M30:M36) -> 0
D50: Projektant | J50: Spracovateľ
D59: Dátum a podpis: | G59: Pečiatka | J59: Dátum a podpis: | N59: Pečiatka
D61: Objednávateľ | J61: Zhotoviteľ
D70: Dátum a podpis: | G70: Pečiatka | J70: Dátum a podpis: | N70: Pečiatka
C76: REKAPITULÁCIA ROZPOČTU
C78: Stavba: | F78: =F6 -> Spevnené plochy pre zberné nádoby
C79: Objekt: | F79: =F7 -> 2 - Obuvnícka 423 / 6 x 4 m /
C81: Miesto: | F81: =F9 | K81: Dátum: | M81: =IF(O9="","",O9) -> 30. 1. 2018
C83: Objednávateľ: | F83: =E12 -> Mesto Partizánske | K83: Projektant: | M83: =E18
C84: Zhotoviteľ: | F84: =IF(E15="","",E15) -> Vyplň údaj | K84: Spracovateľ: | M84: =E21
C86: Kód - Popis | N86: Cena celkom [EUR]
C88: 1) Náklady z rozpočtu | N88: =N121 -> 0 | AU88: -1
D89: HSV - Práce a dodávky HSV | N89: =N122 -> 0
D90: 1 - Zemné práce | N90: =N123 -> 0
...

Sheet 3 - Družstevná 892 - 7,2 ...
D1: Hárok obsahuje: | F1: 1) Krycí list rozpočtu | H1: 2) Rekapitulácia rozpočtu | L1: 3) Rozpočet | O1: Späť na hárok: | S1: Rekapitulácia stavby
C2: optimalizované pre tlač zostáv vo formáte A4 - na výšku | S2: >> skryté stĺpce << | AT2: {351153dc-8cf0-4c72-8a6b-d2157000ff56}
AT3: 0
C4: KRYCÍ LIST ROZPOČTU | T4: v --- nižšie sa nachádzajú doplnkové a pomocné údaje k zostavám --- v | AT4: False
D6: Stavba: | F6: ='Rekapitulácia stavby'!K6 -> Spevnené plochy pre zberné nádoby
D7: Objekt: | F7: 3 - Družstevná 892 / 7,2 x 4 m /
D8: JKSO: | M8: KS:
D9: Miesto: | M9: Dátum: | O9: ='Rekapitulácia stavby'!AN8 -> 30. 1. 2018
D11: Objednávateľ: | M11: IČO:
E12: Mesto Partizánske | M12: IČO DPH:
D14: Zhotoviteľ: | M14: IČO: | O14: =IF('Rekapitulácia stavby'!AN13="","",'Rekapitulácia stavby'!AN13) -> Vyplň údaj
E15: =IF('Rekapitulácia stavby'!E14="","",'Rekapitulácia stavby'!E14) -> Vyplň údaj | M15: IČO DPH: | O15: =IF('Rekapitulácia stavby'!AN14="","",'Rekapitulácia stavby'!AN14) -> Vyplň údaj
D17: Projektant: | M17: IČO: | O17: =IF('Rekapitulácia stavby'!AN16="","",'Rekapitulácia stavby'!AN16)
E18: =IF('Rekapitulácia stavby'!E17="","",'Rekapitulácia stavby'!E17) | M18: IČO DPH: | O18: =IF('Rekapitulácia stavby'!AN17="","",'Rekapitulácia stavby'!AN17)
D20: Spracovateľ: | M20: IČO: | O20: =IF('Rekapitulácia stavby'!AN19="","",'Rekapitulácia stavby'!AN19)
E21: =IF('Rekapitulácia stavby'!E20="","",'Rekapitulácia stavby'!E20) | M21: IČO DPH: | O21: =IF('Rekapitulácia stavby'!AN20="","",'Rekapitulácia stavby'!AN20)
D23: Poznámka:
D27: Náklady z rozpočtu | M27: =N88 -> 0
D28: Ostatné náklady | M28: =N96 -> 0
D30: Cena bez DPH | M30: =ROUND(M27+M28,2) -> 0
D32: DPH | E32: základná | F32: 0.2 | G32: z | H32: =ROUND((((SUM(BE96:BE103)+SUM(BE121:BE147))+SUM(BE149:BE153))),2) -> 0 | M32: =ROUND(((ROUND((SUM(BE96:BE103)+SUM(BE121:BE147)), 2)*F32)+SUM(BE149:BE153)*F32),2) -> 0
E33: znížená | F33: 0.2 | G33: z | H33: =ROUND((((SUM(BF96:BF103)+SUM(BF121:BF147))+SUM(BF149:BF153))),2) -> 0 | M33: =ROUND(((ROUND((SUM(BF96:BF103)+SUM(BF121:BF147)), 2)*F33)+SUM(BF149:BF153)*F33),2) -> 0
E34: zákl. prenesená | F34: 0.2 | G34: z | H34: =ROUND((((SUM(BG96:BG103)+SUM(BG121:BG147))+SUM(BG149:BG153))),2) -> 0 | M34: 0
E35: zníž. prenesená | F35: 0.2 | G35: z | H35: =ROUND((((SUM(BH96:BH103)+SUM(BH121:BH147))+SUM(BH149:BH153))),2) -> 0 | M35: 0
E36: nulová | F36: 0 | G36: z | H36: =ROUND((((SUM(BI96:BI103)+SUM(BI121:BI147))+SUM(BI149:BI153))),2) -> 0 | M36: 0
D38: Cena s DPH | G38: v | H38: EUR | L38: =SUM(M30:M36) -> 0
D50: Projektant | J50: Spracovateľ
D59: Dátum a podpis: | G59: Pečiatka | J59: Dátum a podpis: | N59: Pečiatka
D61: Objednávateľ | J61: Zhotoviteľ
D70: Dátum a podpis: | G70: Pečiatka | J70: Dátum a podpis: | N70: Pečiatka
C76: REKAPITULÁCIA ROZPOČTU
C78: Stavba: | F78: =F6 -> Spevnené plochy pre zberné nádoby
C79: Objekt: | F79: =F7 -> 3 - Družstevná 892 / 7,2 x 4 m /
C81: Miesto: | F81: =F9 | K81: Dátum: | M81: =IF(O9="","",O9) -> 30. 1. 2018
C83: Objednávateľ: | F83: =E12 -> Mesto Partizánske | K83: Projektant: | M83: =E18
C84: Zhotoviteľ: | F84: =IF(E15="","",E15) -> Vyplň údaj | K84: Spracovateľ: | M84: =E21
C86: Kód - Popis | N86: Cena celkom [EUR]
C88: 1) Náklady z rozpočtu | N88: =N121 -> 0 | AU88: -1
D89: HSV - Práce a dodávky HSV | N89: =N122 -> 0
D90: 1 - Zemné práce | N90: =N123 -> 0
...

Sheet 4 - Strojárenská 187 - 2 ...
D1: Hárok obsahuje: | F1: 1) Krycí list rozpočtu | H1: 2) Rekapitulácia rozpočtu | L1: 3) Rozpočet | O1: Späť na hárok: | S1: Rekapitulácia stavby
C2: optimalizované pre tlač zostáv vo formáte A4 - na výšku | S2: >> skryté stĺpce << | AT2: {7f2a3a20-2298-4330-822d-b700d7ca280d}
AT3: 0
C4: KRYCÍ LIST ROZPOČTU | T4: v --- nižšie sa nachádzajú doplnkové a pomocné údaje k zostavám --- v | AT4: False
D6: Stavba: | F6: ='Rekapitulácia stavby'!K6 -> Spevnené plochy pre zberné nádoby
D7: Objekt: | F7: 4 - Strojárenská 187 / 2 x 1,5 m /
D8: JKSO: | M8: KS:
D9: Miesto: | M9: Dátum: | O9: ='Rekapitulácia stavby'!AN8 -> 30. 1. 2018
D11: Objednávateľ: | M11: IČO:
E12: Mesto Partizánske | M12: IČO DPH:
D14: Zhotoviteľ: | M14: IČO: | O14: =IF('Rekapitulácia stavby'!AN13="","",'Rekapitulácia stavby'!AN13) -> Vyplň údaj
E15: =IF('Rekapitulácia stavby'!E14="","",'Rekapitulácia stavby'!E14) -> Vyplň údaj | M15: IČO DPH: | O15: =IF('Rekapitulácia stavby'!AN14="","",'Rekapitulácia stavby'!AN14) -> Vyplň údaj
D17: Projektant: | M17: IČO: | O17: =IF('Rekapitulácia stavby'!AN16="","",'Rekapitulácia stavby'!AN16)
E18: =IF('Rekapitulácia stavby'!E17="","",'Rekapitulácia stavby'!E17) | M18: IČO DPH: | O18: =IF('Rekapitulácia stavby'!AN17="","",'Rekapitulácia stavby'!AN17)
D20: Spracovateľ: | M20: IČO: | O20: =IF('Rekapitulácia stavby'!AN19="","",'Rekapitulácia stavby'!AN19)
E21: =IF('Rekapitulácia stavby'!E20="","",'Rekapitulácia stavby'!E20) | M21: IČO DPH: | O21: =IF('Rekapitulácia stavby'!AN20="","",'Rekapitulácia stavby'!AN20)
D23: Poznámka:
D27: Náklady z rozpočtu | M27: =N88 -> 0
D28: Ostatné náklady | M28: =N96 -> 0
D30: Cena bez DPH | M30: =ROUND(M27+M28,2) -> 0
D32: DPH | E32: základná | F32: 0.2 | G32: z | H32: =ROUND((((SUM(BE96:BE103)+SUM(BE121:BE138))+SUM(BE140:BE144))),2) -> 0 | M32: =ROUND(((ROUND((SUM(BE96:BE103)+SUM(BE121:BE138)), 2)*F32)+SUM(BE140:BE144)*F32),2) -> 0
E33: znížená | F33: 0.2 | G33: z | H33: =ROUND((((SUM(BF96:BF103)+SUM(BF121:BF138))+SUM(BF140:BF144))),2) -> 0 | M33: =ROUND(((ROUND((SUM(BF96:BF103)+SUM(BF121:BF138)), 2)*F33)+SUM(BF140:BF144)*F33),2) -> 0
E34: zákl. prenesená | F34: 0.2 | G34: z | H34: =ROUND((((SUM(BG96:BG103)+SUM(BG121:BG138))+SUM(BG140:BG144))),2) -> 0 | M34: 0
E35: zníž. prenesená | F35: 0.2 | G35: z | H35: =ROUND((((SUM(BH96:BH103)+SUM(BH121:BH138))+SUM(BH140:BH144))),2) -> 0 | M35: 0
E36: nulová | F36: 0 | G36: z | H36: =ROUND((((SUM(BI96:BI103)+SUM(BI121:BI138))+SUM(BI140:BI144))),2) -> 0 | M36: 0
D38: Cena s DPH | G38: v | H38: EUR | L38: =SUM(M30:M36) -> 0
D50: Projektant | J50: Spracovateľ
D59: Dátum a podpis: | G59: Pečiatka | J59: Dátum a podpis: | N59: Pečiatka
D61: Objednávateľ | J61: Zhotoviteľ
D70: Dátum a podpis: | G70: Pečiatka | J70: Dátum a podpis: | N70: Pečiatka
C76: REKAPITULÁCIA ROZPOČTU
C78: Stavba: | F78: =F6 -> Spevnené plochy pre zberné nádoby
C79: Objekt: | F79: =F7 -> 4 - Strojárenská 187 / 2 x 1,5 m /
C81: Miesto: | F81: =F9 | K81: Dátum: | M81: =IF(O9="","",O9) -> 30. 1. 2018
C83: Objednávateľ: | F83: =E12 -> Mesto Partizánske | K83: Projektant: | M83: =E18
C84: Zhotoviteľ: | F84: =IF(E15="","",E15) -> Vyplň údaj | K84: Spracovateľ: | M84: =E21
C86: Kód - Popis | N86: Cena celkom [EUR]
C88: 1) Náklady z rozpočtu | N88: =N121 -> 0 | AU88: -1
D89: HSV - Práce a dodávky HSV | N89: =N122 -> 0
D90: 1 - Zemné práce | N90: =N123 -> 0
...
