Workbook

Sheet Rekapitulácia stavby
A1: 2012 | D1: Hárok obsahuje: | K1: 1) Súhrnný list stavby | W1: 2) Rekapitulácia objektov | BA1: 2.0 | BB1: ZAMOK | BT1: False | BU1: False
C2: optimalizované pre tlač zostáv vo formáte A4 - na výšku | AR2: >> skryté stĺpce << | BS2: 0,001 | BT2: 20
BS3: 0,001 | BT3: 20
C4: SÚHRNNÝ LIST STAVBY | AS4: v --- nižšie sa nachádzajú doplnkové a pomocné údaje k zostavám --- v | BE4: Návod na vyplnenie | BS4: 0,001
D5: Kód: | K5: ZOS | BE5: Meniť je možné iba bunky so žltým podfarbením!_x000D_ _x000D_ 1) na prvom liste Rekapitulácie stavby vyplňte v zostave_x000D_ _x000D_ a) Súhrnný list_x000D_ - údaje o Zhotoviteľovi_x000D_ (prenesú sa do ostatných zostáv aj v iných listoch)_x000D_ _x000D_ b) Rekapitulácia objektov_x000D_ - potrebné Ostatné náklady_x000D_ _x000D_ 2) na vybraných listoch vyplňte v zostave_x000D_ _x000D_ a) Krycí list_x000D_ - údaje o Zhotoviteľovi, pokiaľ sa líšia od údajov o Zhotoviteľovi na Súhrnnom liste_x000D_ (údaje se prenesú do ostatných zostav v danom liste)_x000D_ _x000D_ b) Rekapitulácia rozpočtu_x000D_ - potrebné Ostatné náklady_x000D_ _x000D_ c) Celkové náklady za stavbu_x000D_ - ceny na položkách_x000D_ - množstvo, pokiaľ má žlté podfarbenie_x000D_ - a v prípade potreby poznámku (tá je v skrytom stĺpci) | BS5: 0,001
D6: Stavba: | K6: „Rekonštrukcia ZOS“ | BS6: 0,001
D7: JKSO: | AK7: KS: | BS7: 0,001
D8: Miesto: | K8: Partizánske | AK8: Dátum: | AN8: 5. 2. 2018 | BS8: 0,001
BS9: 0,001
D10: Objednávateľ: | AK10: IČO: | AN10: 00310905 | BS10: 0,001
E11: Mesto Partizánske | AK11: IČO DPH: | BS11: 0,001
BS12: 0,001
D13: Zhotoviteľ: | AK13: IČO: | AN13: Vyplň údaj | BS13: 0,001
E14: Vyplň údaj | AK14: IČO DPH: | AN14: Vyplň údaj | BS14: 0,001
BS15: False
D16: Projektant: | AK16: IČO: | AN16: 46549943 | BS16: False
E17: AM STUDIO s.r.o. | AK17: IČO DPH: | AN17: SK2023440364 | BS17: True
BS18: 0,01
D19: Spracovateľ: | AK19: IČO: | AN19: 46 549 943 | BS19: 0,01
E20: AM STUDIO s.r.o. | AK20: IČO DPH: | AN20: SK2023440364
D22: Poznámka:
D26: Náklady z rozpočtov | AK26: =ROUND(AG87,2) -> 0
D27: Ostatné náklady zo súhrnného listu | AK27: =ROUND(AG92,2) -> 0
D29: Cena bez DPH | AK29: =ROUND(AK26+AK27,2) -> 0
D31: DPH | F31: základná | L31: 0.2 | T31: z | W31: =ROUND(AZ87+SUM(CD93:CD97),2) -> 0 | AK31: =ROUND(AV87+SUM(BY93:BY97),2) -> 0
F32: znížená | L32: 0.2 | T32: z | W32: =ROUND(BA87+SUM(CE93:CE97),2) -> 0 | AK32: =ROUND(AW87+SUM(BZ93:BZ97),2) -> 0
F33: zákl. prenesená | L33: 0.2 | T33: z | W33: =ROUND(BB87+SUM(CF93:CF97),2) -> 0 | AK33: 0
F34: zníž. prenesená | L34: 0.2 | T34: z | W34: =ROUND(BC87+SUM(CG93:CG97),2) -> 0 | AK34: 0
F35: nulová | L35: 0 | T35: z | W35: =ROUND(BD87+SUM(CH93:CH97),2) -> 0 | AK35: 0
D37: Cena s DPH | T37: v | X37: EUR | AK37: =SUM(AK29:AK35) -> 0
D49: Projektant | AC49: Spracovateľ
D58: Dátum a podpis: | R58: Pečiatka | AC58: Dátum a podpis: | AM58: Pečiatka
D60: Objednávateľ | AC60: Zhotoviteľ
D69: Dátum a podpis: | R69: Pečiatka | AC69: Dátum a podpis: | AM69: Pečiatka
C76: REKAPITULÁCIA OBJEKTOV STAVBY
C77: Kód: | L77: =K5 -> ZOS
C78: Stavba: | L78: =K6 -> „Rekonštrukcia ZOS“
C80: Miesto: | L80: =IF(K8="","",K8) -> Partizánske | AI80: Dátum: | AM80: =IF(AN8= "","",AN8) -> 5. 2. 2018
C82: Objednávateľ: | L82: =IF(E11= "","",E11) -> Mesto Partizánske | AI82: Projektant: | AM82: =IF(E17="","",E17) -> AM STUDIO s.r.o. | AS82: Informatívne údaje z listov zákaziek
C83: Zhotoviteľ: | L83: =IF(E14= "Vyplň údaj","",E14) | AI83: Spracovateľ: | AM83: =IF(E20="","",E20) -> AM STUDIO s.r.o.
C85: Kód | I85: Objekt | AG85: Cena bez DPH [EUR] | AN85: Cena s DPH [EUR] | AS85: z toho Ostat._x000D_ náklady [EUR] | AT85: DPH [EUR] | AU85: Normohodiny [h] | AV85: DPH základná [EUR] | AW85: DPH znížená [EUR] | AX85: DPH základná prenesená_x000D_ [EUR] | AY85: DPH znížená prenesená_x000D_ [EUR] | AZ85: Základňa_x000D_ DPH základná | BA85: Základňa_x000D_ DPH znížená | BB85: Základňa_x000D_ DPH zákl. prenesená | BC85: Základňa_x000D_ DPH zníž. prenesená | BD85: Základňa_x000D_ DPH nulová
C87: 1) Náklady z rozpočtov | AG87: =ROUND(SUM(AG88:AG90),2) -> 0 | AN87: =SUM(AG87,AT87) -> 0 | AS87: =ROUND(SUM(AS88:AS90),2) -> 0 | AT87: =ROUND(SUM(AV87:AW87),2) -> 0 | AU87: =ROUND(SUM(AU88:AU90),5) -> 0 | AV87: =ROUND(AZ87*L31,2) -> 0 | AW87: =ROUND(BA87*L32,2) -> 0 | AX87: =ROUND(BB87*L31,2) -> 0 | AY87: =ROUND(BC87*L32,2) -> 0 | AZ87: =ROUND(SUM(AZ88:AZ90),2) -> 0 | BA87: =ROUND(SUM(BA88:BA90),2) -> 0 | BB87: =ROUND(SUM(BB88:BB90),2) -> 0 | BC87: =ROUND(SUM(BC88:BC90),2) -> 0 | BD87: =ROUND(SUM(BD88:BD90),2) -> 0 | BS87: D | BT87: 0 | BU87: ###NOIMPORT### | BV87: IMPORT | BW87: {b138e598-3837-4b15-aaec-ff444af53284} | BX87: {00000000-0000-0000-0000-000000000000}
A88: / | D88: 1 | J88: SO 01 - Stavebné úpravy | AG88: ='1 - SO 01 - Stavebné úpravy'!M30 -> 0 | AN88: =SUM(AG88,AT88) -> 0 | AS88: ='1 - SO 01 - Stavebné úpravy'!M28 -> 0 | AT88: =ROUND(SUM(AV88:AW88),2) -> 0 | AU88: ='1 - SO 01 - Stavebné úpravy'!W130 -> 0 | AV88: ='1 - SO 01 - Stavebné úpravy'!M32 -> 0 | AW88: ='1 - SO 01 - Stavebné úpravy'!M33 -> 0 | AX88: ='1 - SO 01 - Stavebné úpravy'!M34 -> 0 | AY88: ='1 - SO 01 - Stavebné úpravy'!M35 -> 0 | AZ88: ='1 - SO 01 - Stavebné úpravy'!H32 -> 0 | BA88: ='1 - SO 01 - Stavebné úpravy'!H33 -> 0 | BB88: ='1 - SO 01 - Stavebné úpravy'!H34 -> 0 | BC88: ='1 - SO 01 - Stavebné úpravy'!H35 -> 0 | BD88: ='1 - SO 01 - Stavebné úpravy'!H36 -> 0 | BT88: 1 | BV88: IMPORT | BW88: {7263c134-0381-4b53-9096-9b18cd835759} | BX88: {b138e598-3837-4b15-aaec-ff444af53284}
A89: / | D89: 2 | J89: SO 02 - Zdravotechnika | AG89: ='2 - SO 02 - Zdravotechnika'!M30 -> 0 | AN89: =SUM(AG89,AT89) -> 0 | AS89: ='2 - SO 02 - Zdravotechnika'!M28 -> 0 | AT89: =ROUND(SUM(AV89:AW89),2) -> 0 | AU89: ='2 - SO 02 - Zdravotechnika'!W121 -> 0 | AV89: ='2 - SO 02 - Zdravotechnika'!M32 -> 0 | AW89: ='2 - SO 02 - Zdravotechnika'!M33 -> 0 | AX89: ='2 - SO 02 - Zdravotechnika'!M34 -> 0 | AY89: ='2 - SO 02 - Zdravotechnika'!M35 -> 0 | AZ89: ='2 - SO 02 - Zdravotechnika'!H32 -> 0 | BA89: ='2 - SO 02 - Zdravotechnika'!H33 -> 0 | BB89: ='2 - SO 02 - Zdravotechnika'!H34 -> 0 | BC89: ='2 - SO 02 - Zdravotechnika'!H35 -> 0 | BD89: ='2 - SO 02 - Zdravotechnika'!H36 -> 0 | BT89: 1 | BV89: IMPORT | BW89: {bd2049ea-4e77-45c6-8bed-71f544fd8dd2} | BX89: {b138e598-3837-4b15-aaec-ff444af53284}
A90: / | D90: 3 | J90: SO 03 - Elektromontážne práce | AG90: ='3 - SO 03 - Elektromontáž...'!M30 -> 0 | AN90: =SUM(AG90,AT90) -> 0 | AS90: ='3 - SO 03 - Elektromontáž...'!M28 -> 0 | AT90: =ROUND(SUM(AV90:AW90),2) -> 0 | AU90: ='3 - SO 03 - Elektromontáž...'!W121 -> 0 | AV90: ='3 - SO 03 - Elektromontáž...'!M32 -> 0 | AW90: ='3 - SO 03 - Elektromontáž...'!M33 -> 0 | AX90: ='3 - SO 03 - Elektromontáž...'!M34 -> 0 | AY90: ='3 - SO 03 - Elektromontáž...'!M35 -> 0 | AZ90: ='3 - SO 03 - Elektromontáž...'!H32 -> 0 | BA90: ='3 - SO 03 - Elektromontáž...'!H33 -> 0 | BB90: ='3 - SO 03 - Elektromontáž...'!H34 -> 0 | BC90: ='3 - SO 03 - Elektromontáž...'!H35 -> 0 | BD90: ='3 - SO 03 - Elektromontáž...'!H36 -> 0 | BT90: 1 | BV90: IMPORT | BW90: {05bf1c7d-80a1-4b56-ae3b-7b1c118336f4} | BX90: {b138e598-3837-4b15-aaec-ff444af53284}
C92: 2) Ostatné náklady zo súhrnného listu | AG92: =ROUND(SUM(AG93:AG96),2) -> 0 | AN92: =ROUND(SUM(AN93:AN96),2) -> 0 | AS92: Percent. zadanie_x000D_ [% nákladov rozpočtu] | AT92: Zaradenie nákladov | AU92: DPH | AV92: DPH [EUR]
D93: Ostatné náklady | AG93: =ROUND(AG87*AS93,2) -> 0 | AN93: =ROUND(AG93+AV93,2) -> 0 | AS93: 0 | AT93: stavebná časť | AU93: základná | AV93: =ROUND(IF(AU93="základná",AG93*L31,IF(AU93="znížená",AG93*L32,0)),2) -> 0 | BV93: OSTATNENAKLADY | BY93: =IF(AU93="základná",AV93,0) -> 0 | BZ93: =IF(AU93="znížená",AV93,0) -> 0 | CA93: 0 | CB93: 0 | CC93: 0 | CD93: =IF(AU93="základná",AG93,0) -> 0 | CE93: =IF(AU93="znížená",AG93,0) -> 0 | CF93: =IF(AU93="zákl. prenesená",AG93,0) -> 0 | CG93: =IF(AU93="zníž. prenesená",AG93,0) -> 0 | CH93: =IF(AU93="nulová",AG93,0) -> 0 | CI93: =IF(AU93="základná",1,IF(AU93="znížená",2,IF(AU93="zákl. prenesená",4,IF(AU93="zníž. prenesená",5,3)))) -> 1 | CJ93: =IF(AT93="stavebná časť",1,IF(8893="investičná časť",2,3)) -> 1 | CK93: =IF(D93="Vyplň vlastné","","x") -> x
D94: Vyplň vlastné | AG94: =AG87*AS94 -> 0 | AN94: =AG94+AV94 -> 0 | AS94: 0 | AT94: stavebná časť | AU94: základná | AV94: =ROUND(IF(AU94="nulová",0,IF(OR(AU94="základná",AU94="zákl. prenesená"),AG94*L31,AG94*L32)),2) -> 0 | BV94: OSTATNENAKLADYVLASTNE | BY94: =IF(AU94="základná",AV94,0) -> 0 | BZ94: =IF(AU94="znížená",AV94,0) -> 0 | CA94: =IF(AU94="zákl. prenesená",AV94,0) -> 0 | CB94: =IF(AU94="zníž. prenesená",AV94,0) -> 0 | CC94: =IF(AU94="nulová",AV94,0) -> 0 | CD94: =IF(AU94="základná",AG94,0) -> 0 | CE94: =IF(AU94="znížená",AG94,0) -> 0 | CF94: =IF(AU94="zákl. prenesená",AG94,0) -> 0 | CG94: =IF(AU94="zníž. prenesená",AG94,0) -> 0 | CH94: =IF(AU94="nulová",AG94,0) -> 0 | CI94: =IF(AU94="základná",1,IF(AU94="znížená",2,IF(AU94="zákl. prenesená",4,IF(AU94="zníž. prenesená",5,3)))) -> 1 | CJ94: =IF(AT94="stavebná časť",1,IF(8894="investičná časť",2,3)) -> 1 | CK94: =IF(D94="Vyplň vlastné","","x")
D95: Vyplň vlastné | AG95: =AG87*AS95 -> 0 | AN95: =AG95+AV95 -> 0 | AS95: 0 | AT95: stavebná časť | AU95: základná | AV95: =ROUND(IF(AU95="nulová",0,IF(OR(AU95="základná",AU95="zákl. prenesená"),AG95*L31,AG95*L32)),2) -> 0 | BV95: OSTATNENAKLADYVLASTNE | BY95: =IF(AU95="základná",AV95,0) -> 0 | BZ95: =IF(AU95="znížená",AV95,0) -> 0 | CA95: =IF(AU95="zákl. prenesená",AV95,0) -> 0 | CB95: =IF(AU95="zníž. prenesená",AV95,0) -> 0 | CC95: =IF(AU95="nulová",AV95,0) -> 0 | CD95: =IF(AU95="základná",AG95,0) -> 0 | CE95: =IF(AU95="znížená",AG95,0) -> 0 | CF95: =IF(AU95="zákl. prenesená",AG95,0) -> 0 | CG95: =IF(AU95="zníž. prenesená",AG95,0) -> 0 | CH95: =IF(AU95="nulová",AG95,0) -> 0 | CI95: =IF(AU95="základná",1,IF(AU95="znížená",2,IF(AU95="zákl. prenesená",4,IF(AU95="zníž. prenesená",5,3)))) -> 1 | CJ95: =IF(AT95="stavebná časť",1,IF(8895="investičná časť",2,3)) -> 1 | CK95: =IF(D95="Vyplň vlastné","","x")
D96: Vyplň vlastné | AG96: =AG87*AS96 -> 0 | AN96: =AG96+AV96 -> 0 | AS96: 0 | AT96: stavebná časť | AU96: základná | AV96: =ROUND(IF(AU96="nulová",0,IF(OR(AU96="základná",AU96="zákl. prenesená"),AG96*L31,AG96*L32)),2) -> 0 | BV96: OSTATNENAKLADYVLASTNE | BY96: =IF(AU96="základná",AV96,0) -> 0 | BZ96: =IF(AU96="znížená",AV96,0) -> 0 | CA96: =IF(AU96="zákl. prenesená",AV96,0) -> 0 | CB96: =IF(AU96="zníž. prenesená",AV96,0) -> 0 | CC96: =IF(AU96="nulová",AV96,0) -> 0 | CD96: =IF(AU96="základná",AG96,0) -> 0 | CE96: =IF(AU96="znížená",AG96,0) -> 0 | CF96: =IF(AU96="zákl. prenesená",AG96,0) -> 0 | CG96: =IF(AU96="zníž. prenesená",AG96,0) -> 0 | CH96: =IF(AU96="nulová",AG96,0) -> 0 | CI96: =IF(AU96="základná",1,IF(AU96="znížená",2,IF(AU96="zákl. prenesená",4,IF(AU96="zníž. prenesená",5,3)))) -> 1 | CJ96: =IF(AT96="stavebná časť",1,IF(8896="investičná časť",2,3)) -> 1 | CK96: =IF(D96="Vyplň vlastné","","x")
C98: Celkové náklady za stavbu 1) + 2) | AG98: =ROUND(AG87+AG92,2) -> 0 | AN98: =AN87+AN92 -> 0

Sheet 1 - SO 01 - Stavebné úpravy
D1: Hárok obsahuje: | F1: 1) Krycí list rozpočtu | H1: 2) Rekapitulácia rozpočtu | L1: 3) Rozpočet | O1: Späť na hárok: | S1: Rekapitulácia stavby
C2: optimalizované pre tlač zostáv vo formáte A4 - na výšku | S2: >> skryté stĺpce << | AT2: {7263c134-0381-4b53-9096-9b18cd835759}
AT3: 0
C4: KRYCÍ LIST ROZPOČTU | T4: v --- nižšie sa nachádzajú doplnkové a pomocné údaje k zostavám --- v | AT4: False
D6: Stavba: | F6: ='Rekapitulácia stavby'!K6 -> „Rekonštrukcia ZOS“
D7: Objekt: | F7: 1 - SO 01 - Stavebné úpravy
D8: JKSO: | M8: KS:
D9: Miesto: | F9: Partizánske | M9: Dátum: | O9: ='Rekapitulácia stavby'!AN8 -> 5. 2. 2018
D11: Objednávateľ: | M11: IČO: | O11: 00310905
E12: Mesto Partizánske | M12: IČO DPH:
D14: Zhotoviteľ: | M14: IČO: | O14: =IF('Rekapitulácia stavby'!AN13="","",'Rekapitulácia stavby'!AN13) -> Vyplň údaj
E15: =IF('Rekapitulácia stavby'!E14="","",'Rekapitulácia stavby'!E14) -> Vyplň údaj | M15: IČO DPH: | O15: =IF('Rekapitulácia stavby'!AN14="","",'Rekapitulácia stavby'!AN14) -> Vyplň údaj
D17: Projektant: | M17: IČO: | O17: 46549943
E18: AM STUDIO s.r.o. | M18: IČO DPH: | O18: SK2023440364
D20: Spracovateľ: | M20: IČO: | O20: 46 549 943
E21: AM STUDIO s.r.o. | M21: IČO DPH: | O21: SK2023440364
D23: Poznámka:
D27: Náklady z rozpočtu | M27: =N88 -> 0
D28: Ostatné náklady | M28: =N105 -> 0
D30: Cena bez DPH | M30: =ROUND(M27+M28,2) -> 0
D32: DPH | E32: základná | F32: 0.2 | G32: z | H32: =(SUM(BE105:BE112)+SUM(BE130:BE238)) -> 0 | M32: =ROUND((SUM(BE105:BE112)+SUM(BE130:BE238)), 2)*F32 -> 0
E33: znížená | F33: 0.2 | G33: z | H33: =(SUM(BF105:BF112)+SUM(BF130:BF238)) -> 0 | M33: =ROUND((SUM(BF105:BF112)+SUM(BF130:BF238)), 2)*F33 -> 0
E34: zákl. prenesená | F34: 0.2 | G34: z | H34: =(SUM(BG105:BG112)+SUM(BG130:BG238)) -> 0 | M34: 0
E35: zníž. prenesená | F35: 0.2 | G35: z | H35: =(SUM(BH105:BH112)+SUM(BH130:BH238)) -> 0 | M35: 0
E36: nulová | F36: 0 | G36: z | H36: =(SUM(BI105:BI112)+SUM(BI130:BI238)) -> 0 | M36: 0
D38: Cena s DPH | G38: v | H38: EUR | L38: =SUM(M30:M36) -> 0
D50: Projektant | J50: Spracovateľ
D59: Dátum a podpis: | G59: Pečiatka | J59: Dátum a podpis: | N59: Pečiatka
D61: Objednávateľ | J61: Zhotoviteľ
D70: Dátum a podpis: | G70: Pečiatka | J70: Dátum a podpis: | N70: Pečiatka
C76: REKAPITULÁCIA ROZPOČTU
C78: Stavba: | F78: =F6 -> „Rekonštrukcia ZOS“
C79: Objekt: | F79: =F7 -> 1 - SO 01 - Stavebné úpravy
C81: Miesto: | F81: =F9 -> Partizánske | K81: Dátum: | M81: =IF(O9="","",O9) -> 5. 2. 2018
C83: Objednávateľ: | F83: =E12 -> Mesto Partizánske | K83: Projektant: | M83: =E18 -> AM STUDIO s.r.o.
C84: Zhotoviteľ: | F84: =IF(E15="","",E15) -> Vyplň údaj | K84: Spracovateľ: | M84: =E21 -> AM STUDIO s.r.o.
C86: Kód - Popis | N86: Cena celkom [EUR]
C88: 1) Náklady z rozpočtu | N88: =N130 -> 0 | AU88: -1
D89: HSV - Práce a dodávky HSV | N89: =N131 -> 0
D90: 3 - Zvislé a kompletné konštrukcie | N90: =N132 -> 0
D91: 6 - Úpravy povrchov, podlahy, osadenie | N91: =N135 -> 0
D92: 9 - Ostatné konštrukcie a práce-búranie | N92: =N145 -> 0
D93: 99 - Presun hmôt HSV | N93: =N165 -> 0
D94: PSV - Práce a dodávky PSV | N94: =N167 -> 0
D95: 711 - Izolácie proti vode a vlhkosti | N95: =N168 -> 0
D96: 763 - Konštrukcie - drevostavby | N96: =N172 -> 0
D97: 766 - Konštrukcie stolárske | N97: =N179 -> 0
D98: 771 - Podlahy z dlaždíc | N98: =N201 -> 0
D99: 775 - Podlahy vlysové a parketové | N99: =N210 -> 0
D100: 776 - Podlahy povlakové | N100: =N212 -> 0
D101: 781 - Dokončovacie práce a obklady | N101: =N221 -> 0
D102: 784 - Dokončovacie práce - maľby | N102: =N228 -> 0
D103: VP - Práce naviac | N103: =N238 -> 0
C105: 2) Ostatné náklady | N105: =ROUND(N106+N107+N108+N109+N110+N111,2) -> 0 | U105: DPH
D106: GZS | N106: =ROUND(N88*T106,2) -> 0 | U106: znížená | AY106: VRN | BE106: =IF(U106="základná",N106,0) -> 0 | BF106: =IF(U106="znížená",N106,0) -> 0 | BG106: =IF(U106="zákl. prenesená",N106,0) -> 0 | BH106: =IF(U106="zníž. prenesená",N106,0) -> 0 | BI106: =IF(U106="nulová",N106,0) -> 0 | BJ106: 2
D107: Projektové práce | N107: =ROUND(N88*T107,2) -> 0 | U107: znížená | AY107: VRN | BE107: =IF(U107="základná",N107,0) -> 0 | BF107: =IF(U107="znížená",N107,0) -> 0 | BG107: =IF(U107="zákl. prenesená",N107,0) -> 0 | BH107: =IF(U107="zníž. prenesená",N107,0) -> 0 | BI107: =IF(U107="nulová",N107,0) -> 0 | BJ107: 2
D108: Sťažené podmienky | N108: =ROUND(N88*T108,2) -> 0 | U108: znížená | AY108: VRN | BE108: =IF(U108="základná",N108,0) -> 0 | BF108: =IF(U108="znížená",N108,0) -> 0 | BG108: =IF(U108="zákl. prenesená",N108,0) -> 0 | BH108: =IF(U108="zníž. prenesená",N108,0) -> 0 | BI108: =IF(U108="nulová",N108,0) -> 0 | BJ108: 2
D109: Vplyv prostredia | N109: =ROUND(N88*T109,2) -> 0 | U109: znížená | AY109: VRN | BE109: =IF(U109="základná",N109,0) -> 0 | BF109: =IF(U109="znížená",N109,0) -> 0 | BG109: =IF(U109="zákl. prenesená",N109,0) -> 0 | BH109: =IF(U109="zníž. prenesená",N109,0) -> 0 | BI109: =IF(U109="nulová",N109,0) -> 0 | BJ109: 2
D110: Iné VRN | N110: =ROUND(N88*T110,2) -> 0 | U110: znížená | AY110: VRN | BE110: =IF(U110="základná",N110,0) -> 0 | BF110: =IF(U110="znížená",N110,0) -> 0 | BG110: =IF(U110="zákl. prenesená",N110,0) -> 0 | BH110: =IF(U110="zníž. prenesená",N110,0) -> 0 | BI110: =IF(U110="nulová",N110,0) -> 0 | BJ110: 2
D111: Kompletačná činnosť | N111: =ROUND(N88*T111,2) -> 0 | U111: znížená | AY111: KOMPLETACNA | BE111: =IF(U111="základná",N111,0) -> 0 | BF111: =IF(U111="znížená",N111,0) -> 0 | BG111: =IF(U111="zákl. prenesená",N111,0) -> 0 | BH111: =IF(U111="zníž. prenesená",N111,0) -> 0 | BI111: =IF(U111="nulová",N111,0) -> 0 | BJ111: 2
C113: Celkové náklady za stavbu 1) + 2) | L113: =ROUND(SUM(N88+N105),2) -> 0
C119: ROZPOČET
C121: Stavba: | F121: =F6 -> „Rekonštrukcia ZOS“
C122: Objekt: | F122: =F7 -> 1 - SO 01 - Stavebné úpravy
C124: Miesto: | F124: =F9 -> Partizánske | K124: Dátum: | M124: =IF(O9="","",O9) -> 5. 2. 2018
C126: Objednávateľ: | F126: =E12 -> Mesto Partizánske | K126: Projektant: | M126: =E18 -> AM STUDIO s.r.o.
C127: Zhotoviteľ: | F127: =IF(E15="","",E15) -> Vyplň údaj | K127: Spracovateľ: | M127: =E21 -> AM STUDIO s.r.o.
C129: PČ | D129: Typ | E129: Kód | F129: Popis | J129: MJ | K129: Množstvo | L129: J.cena [EUR] | N129: Cena celkom [EUR] | T129: Poznámka | U129: DPH | V129: J. Nh [h] | W129: Nh celkom [h] | X129: J. hmotnosť_x000D_ [t] | Y129: Hmotnosť_x000D_ celkom [t] | Z129: J. suť [t] | AA129: Suť Celkom [t]
C130: Náklady z rozpočtu | N130: =BK130 -> 0 | W130: =W131+W167+W238+W239 -> 0 | Y130: =Y131+Y167+Y238+Y239 -> 0 | AA130: =AA131+AA167+AA238+AA239 -> 0 | AT130: D | AU130: -1 | BK130: =BK131+BK167+BK238+BK239 -> 0
D131: HSV - Práce a dodávky HSV | N131: =BK131 -> 0 | W131: =W132+W135+W145+W165 -> 0 | Y131: =Y132+Y135+Y145+Y165 -> 0 | AA131: =AA132+AA135+AA145+AA165 -> 0 | AR131: 1 | AT131: D | AU131: 0 | AY131: ROZPOCET | BK131: =BK132+BK135+BK145+BK165 -> 0
D132: 3 - Zvislé a kompletné konštrukcie | N132: =BK132 -> 0 | W132: =SUM(W133:W134) -> 0 | Y132: =SUM(Y133:Y134) -> 0 | AA132: =SUM(AA133:AA134) -> 0 | AR132: 1 | AT132: D | AU132: 1 | AY132: ROZPOCET | BK132: =SUM(BK133:BK134) -> 0
C133: 1 | D133: K | E133: 310279841 | F133: Zamurovanie otvoru s plochou do 4m2 v murive nadzákladného nepálenými tvárnicami hr. do 300mm | J133: m3 | K133: 0.477 | L133: 0 | N133: =ROUND(L133*K133,3) -> 0 | U133: znížená | W133: =V133*K133 -> 0 | X133: 0 | Y133: =X133*K133 -> 0 | Z133: 0 | AA133: =Z133*K133 -> 0 | AR133: 4 | AT133: K | AU133: 2 | AY133: ROZPOCET | BE133: =IF(U133="základná",N133,0) -> 0 | BF133: =IF(U133="znížená",N133,0) -> 0 | BG133: =IF(U133="zákl. prenesená",N133,0) -> 0 | BH133: =IF(U133="zníž. prenesená",N133,0) -> 0 | BI133: =IF(U133="nulová",N133,0) -> 0 | BJ133: 2 | BK133: =ROUND(L133*K133,3) -> 0 | BL133: 4 | BM133: 2
C134: 2 | D134: K | E134: 317162101 | F134: Keramický predpätý preklad POROTHERM KPP, šírky 120 mm, výšky 65 mm, dĺžky 1000 mm | J134: ks | K134: 1 | L134: 0 | N134: =ROUND(L134*K134,3) -> 0 | U134: znížená | W134: =V134*K134 -> 0 | X134: 0 | Y134: =X134*K134 -> 0 | Z134: 0 | AA134: =Z134*K134 -> 0 | AR134: 4 | AT134: K | AU134: 2 | AY134: ROZPOCET | BE134: =IF(U134="základná",N134,0) -> 0 | BF134: =IF(U134="znížená",N134,0) -> 0 | BG134: =IF(U134="zákl. prenesená",N134,0) -> 0 | BH134: =IF(U134="zníž. prenesená",N134,0) -> 0 | BI134: =IF(U134="nulová",N134,0) -> 0 | BJ134: 2 | BK134: =ROUND(L134*K134,3) -> 0 | BL134: 4 | BM134: 4
D135: 6 - Úpravy povrchov, podlahy, osadenie | N135: =BK135 -> 0 | W135: =SUM(W136:W144) -> 0 | Y135: =SUM(Y136:Y144) -> 0 | AA135: =SUM(AA136:AA144) -> 0 | AR135: 1 | AT135: D | AU135: 1 | AY135: ROZPOCET | BK135: =SUM(BK136:BK144) -> 0
C136: 3 | D136: K | E136: 612403399 | F136: Hrubá výplň rýh na stenách akoukoľvek maltou, akejkoľvek šírky ryhy | J136: m2 | K136: 3.12 | L136: 0 | N136: =ROUND(L136*K136,3) -> 0 | U136: znížená | W136: =V136*K136 -> 0 | X136: 0 | Y136: =X136*K136 -> 0 | Z136: 0 | AA136: =Z136*K136 -> 0 | AR136: 4 | AT136: K | AU136: 2 | AY136: ROZPOCET | BE136: =IF(U136="základná",N136,0) -> 0 | BF136: =IF(U136="znížená",N136,0) -> 0 | BG136: =IF(U136="zákl. prenesená",N136,0) -> 0 | BH136: =IF(U136="zníž. prenesená",N136,0) -> 0 | BI136: =IF(U136="nulová",N136,0) -> 0 | BJ136: 2 | BK136: =ROUND(L136*K136,3) -> 0 | BL136: 4 | BM136: 6
C137: 4 | D137: K | E137: 612409991 | F137: Začistenie omietok (s dodaním hmoty) okolo okien, dverí,podláh, obkladov atď. | J137: m | K137: 69.6 | L137: 0 | N137: =ROUND(L137*K137,3) -> 0 | U137: znížená | W137: =V137*K137 -> 0 | X137: 0 | Y137: =X137*K137 -> 0 | Z137: 0 | AA137: =Z137*K137 -> 0 | AR137: 4 | AT137: K | AU137: 2 | AY137: ROZPOCET | BE137: =IF(U137="základná",N137,0) -> 0 | BF137: =IF(U137="znížená",N137,0) -> 0 | BG137: =IF(U137="zákl. prenesená",N137,0) -> 0 | BH137: =IF(U137="zníž. prenesená",N137,0) -> 0 | BI137: =IF(U137="nulová",N137,0) -> 0 | BJ137: 2 | BK137: =ROUND(L137*K137,3) -> 0 | BL137: 4 | BM137: 8
C138: 5 | D138: K | E138: 612423521 | F138: Omietka rýh v stenách maltou vápennou šírky ryhy do 150 mm omietkou hladkou | J138: m2 | K138: 10.785 | L138: 0 | N138: =ROUND(L138*K138,3) -> 0 | U138: znížená | W138: =V138*K138 -> 0 | X138: 0 | Y138: =X138*K138 -> 0 | Z138: 0 | AA138: =Z138*K138 -> 0 | AR138: 4 | AT138: K | AU138: 2 | AY138: ROZPOCET | BE138: =IF(U138="základná",N138,0) -> 0 | BF138: =IF(U138="znížená",N138,0) -> 0 | BG138: =IF(U138="zákl. prenesená",N138,0) -> 0 | BH138: =IF(U138="zníž. prenesená",N138,0) -> 0 | BI138: =IF(U138="nulová",N138,0) -> 0 | BJ138: 2 | BK138: =ROUND(L138*K138,3) -> 0 | BL138: 4 | BM138: 10
C139: 6 | D139: K | E139: 612423621 | F139: Omietka rýh v stenách maltou vápennou šírky ryhy nad 150 do 300 mm omietkou hladkou | J139: m2 | K139: 5.2 | L139: 0 | N139: =ROUND(L139*K139,3) -> 0 | U139: znížená | W139: =V139*K139 -> 0 | X139: 0 | Y139: =X139*K139 -> 0 | Z139: 0 | AA139: =Z139*K139 -> 0 | AR139: 4 | AT139: K | AU139: 2 | AY139: ROZPOCET | BE139: =IF(U139="základná",N139,0) -> 0 | BF139: =IF(U139="znížená",N139,0) -> 0 | BG139: =IF(U139="zákl. prenesená",N139,0) -> 0 | BH139: =IF(U139="zníž. prenesená",N139,0) -> 0 | BI139: =IF(U139="nulová",N139,0) -> 0 | BJ139: 2 | BK139: =ROUND(L139*K139,3) -> 0 | BL139: 4 | BM139: 12
C140: 7 | D140: K | E140: 612425921 | F140: Omietka vápenná vnútorného ostenia okenného alebo dverného hladká | J140: m2 | K140: 2.1 | L140: 0 | N140: =ROUND(L140*K140,3) -> 0 | U140: znížená | W140: =V140*K140 -> 0 | X140: 0 | Y140: =X140*K140 -> 0 | Z140: 0 | AA140: =Z140*K140 -> 0 | AR140: 4 | AT140: K | AU140: 2 | AY140: ROZPOCET | BE140: =IF(U140="základná",N140,0) -> 0 | BF140: =IF(U140="znížená",N140,0) -> 0 | BG140: =IF(U140="zákl. prenesená",N140,0) -> 0 | BH140: =IF(U140="zníž. prenesená",N140,0) -> 0 | BI140: =IF(U140="nulová",N140,0) -> 0 | BJ140: 2 | BK140: =ROUND(L140*K140,3) -> 0 | BL140: 4 | BM140: 14
C141: 8 | D141: K | E141: 612464301 | F141: Vnútorná omietka stien jemná BAUMIT, ručné miešanie a nanášanie, Baumit Univerzálna omietka jemná (Baumit FineTop) | J141: m2 | K141: 35.558 | L141: 0 | N141: =ROUND(L141*K141,3) -> 0 | U141: znížená | W141: =V141*K141 -> 0 | X141: 0 | Y141: =X141*K141 -> 0 | Z141: 0 | AA141: =Z141*K141 -> 0 | AR141: 4 | AT141: K | AU141: 2 | AY141: ROZPOCET | BE141: =IF(U141="základná",N141,0) -> 0 | BF141: =IF(U141="znížená",N141,0) -> 0 | BG141: =IF(U141="zákl. prenesená",N141,0) -> 0 | BH141: =IF(U141="zníž. prenesená",N141,0) -> 0 | BI141: =IF(U141="nulová",N141,0) -> 0 | BJ141: 2 | BK141: =ROUND(L141*K141,3) -> 0 | BL141: 4 | BM141: 16
C142: 9 | D142: K | E142: 612465136 | F142: Vnútorná omietka stien BAUMIT, vápennocementová, strojné miešanie, ručné nanášanie, Baumit MVR Uni (Baumit MVR Uni) hr. 10 mm | J142: m2 | K142: 35.953 | L142: 0 | N142: =ROUND(L142*K142,3) -> 0 | U142: znížená | W142: =V142*K142 -> 0 | X142: 0 | Y142: =X142*K142 -> 0 | Z142: 0 | AA142: =Z142*K142 -> 0 | AR142: 4 | AT142: K | AU142: 2 | AY142: ROZPOCET | BE142: =IF(U142="základná",N142,0) -> 0 | BF142: =IF(U142="znížená",N142,0) -> 0 | BG142: =IF(U142="zákl. prenesená",N142,0) -> 0 | BH142: =IF(U142="zníž. prenesená",N142,0) -> 0 | BI142: =IF(U142="nulová",N142,0) -> 0 | BJ142: 2 | BK142: =ROUND(L142*K142,3) -> 0 | BL142: 4 | BM142: 18
C143: 10 | D143: K | E143: 612481119 | F143: Potiahnutie vnútorných stien, sklotextílnou mriežkou | J143: m2 | K143: 97.663 | L143: 0 | N143: =ROUND(L143*K143,3) -> 0 | U143: znížená | W143: =V143*K143 -> 0 | X143: 0 | Y143: =X143*K143 -> 0 | Z143: 0 | AA143: =Z143*K143 -> 0 | AR143: 4 | AT143: K | AU143: 2 | AY143: ROZPOCET | BE143: =IF(U143="základná",N143,0) -> 0 | BF143: =IF(U143="znížená",N143,0) -> 0 | BG143: =IF(U143="zákl. prenesená",N143,0) -> 0 | BH143: =IF(U143="zníž. prenesená",N143,0) -> 0 | BI143: =IF(U143="nulová",N143,0) -> 0 | BJ143: 2 | BK143: =ROUND(L143*K143,3) -> 0 | BL143: 4 | BM143: 20
C144: 11 | D144: K | E144: 632477403 | F144: Samonivelizačná podl. hmota CEMIX, Stierka 20 MPa, na vnútorné použitie, ozn. 060, hr. 5 mm | J144: m2 | K144: 115.53 | L144: 0 | N144: =ROUND(L144*K144,3) -> 0 | U144: znížená | W144: =V144*K144 -> 0 | X144: 0 | Y144: =X144*K144 -> 0 | Z144: 0 | AA144: =Z144*K144 -> 0 | AR144: 4 | AT144: K | AU144: 2 | AY144: ROZPOCET | BE144: =IF(U144="základná",N144,0) -> 0 | BF144: =IF(U144="znížená",N144,0) -> 0 | BG144: =IF(U144="zákl. prenesená",N144,0) -> 0 | BH144: =IF(U144="zníž. prenesená",N144,0) -> 0 | BI144: =IF(U144="nulová",N144,0) -> 0 | BJ144: 2 | BK144: =ROUND(L144*K144,3) -> 0 | BL144: 4 | BM144: 22
D145: 9 - Ostatné konštrukcie a práce-búranie | N145: =BK145 -> 0 | W145: =SUM(W146:W164) -> 0 | Y145: =SUM(Y146:Y164) -> 0 | AA145: =SUM(AA146:AA164) -> 0 | AR145: 1 | AT145: D | AU145: 1 | AY145: ROZPOCET | BK145: =SUM(BK146:BK164) -> 0
C146: 12 | D146: K | E146: 952901111 | F146: Vyčistenie budov pri výške podlaží do 4m | J146: m2 | K146: 245.65 | L146: 0 | N146: =ROUND(L146*K146,3) -> 0 | U146: znížená | W146: =V146*K146 -> 0 | X146: 0 | Y146: =X146*K146 -> 0 | Z146: 0 | AA146: =Z146*K146 -> 0 | AR146: 4 | AT146: K | AU146: 2 | AY146: ROZPOCET | BE146: =IF(U146="základná",N146,0) -> 0 | BF146: =IF(U146="znížená",N146,0) -> 0 | BG146: =IF(U146="zákl. prenesená",N146,0) -> 0 | BH146: =IF(U146="zníž. prenesená",N146,0) -> 0 | BI146: =IF(U146="nulová",N146,0) -> 0 | BJ146: 2 | BK146: =ROUND(L146*K146,3) -> 0 | BL146: 4 | BM146: 24
C147: 13 | D147: K | E147: 962031132 | F147: Búranie priečok z tehál pálených, plných alebo dutých hr. do 150 mm, -0,19600t | J147: m2 | K147: 41.595 | L147: 0 | N147: =ROUND(L147*K147,3) -> 0 | U147: znížená | W147: =V147*K147 -> 0 | X147: 0 | Y147: =X147*K147 -> 0 | Z147: 0 | AA147: =Z147*K147 -> 0 | AR147: 4 | AT147: K | AU147: 2 | AY147: ROZPOCET | BE147: =IF(U147="základná",N147,0) -> 0 | BF147: =IF(U147="znížená",N147,0) -> 0 | BG147: =IF(U147="zákl. prenesená",N147,0) -> 0 | BH147: =IF(U147="zníž. prenesená",N147,0) -> 0 | BI147: =IF(U147="nulová",N147,0) -> 0 | BJ147: 2 | BK147: =ROUND(L147*K147,3) -> 0 | BL147: 4 | BM147: 26
C148: 14 | D148: K | E148: 965081712 | F148: Búranie dlažieb, bez podklad. lôžka z xylolit., alebo keramických dlaždíc hr. do 10 mm, -0,02000t | J148: m2 | K148: 115.53 | L148: 0 | N148: =ROUND(L148*K148,3) -> 0 | U148: znížená | W148: =V148*K148 -> 0 | X148: 0 | Y148: =X148*K148 -> 0 | Z148: 0 | AA148: =Z148*K148 -> 0 | AR148: 4 | AT148: K | AU148: 2 | AY148: ROZPOCET | BE148: =IF(U148="základná",N148,0) -> 0 | BF148: =IF(U148="znížená",N148,0) -> 0 | BG148: =IF(U148="zákl. prenesená",N148,0) -> 0 | BH148: =IF(U148="zníž. prenesená",N148,0) -> 0 | BI148: =IF(U148="nulová",N148,0) -> 0 | BJ148: 2 | BK148: =ROUND(L148*K148,3) -> 0 | BL148: 4 | BM148: 28
C149: 15 | D149: K | E149: 968061125 | F149: Vyvesenie dreveného dverného krídla do suti plochy do 2 m2, -0,02400t | J149: ks | K149: 11 | L149: 0 | N149: =ROUND(L149*K149,3) -> 0 | U149: znížená | W149: =V149*K149 -> 0 | X149: 0 | Y149: =X149*K149 -> 0 | Z149: 0 | AA149: =Z149*K149 -> 0 | AR149: 4 | AT149: K | AU149: 2 | AY149: ROZPOCET | BE149: =IF(U149="základná",N149,0) -> 0 | BF149: =IF(U149="znížená",N149,0) -> 0 | BG149: =IF(U149="zákl. prenesená",N149,0) -> 0 | BH149: =IF(U149="zníž. prenesená",N149,0) -> 0 | BI149: =IF(U149="nulová",N149,0) -> 0 | BJ149: 2 | BK149: =ROUND(L149*K149,3) -> 0 | BL149: 4 | BM149: 30
C150: 16 | D150: K | E150: 968062455 | F150: Vybúranie drevených dverových zárubní plochy do 2 m2, -0,08800t | J150: m2 | K150: 18.16 | L150: 0 | N150: =ROUND(L150*K150,3) -> 0 | U150: znížená | W150: =V150*K150 -> 0 | X150: 0 | Y150: =X150*K150 -> 0 | Z150: 0 | AA150: =Z150*K150 -> 0 | AR150: 4 | AT150: K | AU150: 2 | AY150: ROZPOCET | BE150: =IF(U150="základná",N150,0) -> 0 | BF150: =IF(U150="znížená",N150,0) -> 0 | BG150: =IF(U150="zákl. prenesená",N150,0) -> 0 | BH150: =IF(U150="zníž. prenesená",N150,0) -> 0 | BI150: =IF(U150="nulová",N150,0) -> 0 | BJ150: 2 | BK150: =ROUND(L150*K150,3) -> 0 | BL150: 4 | BM150: 32
C151: 17 | D151: K | E151: 968072455 | F151: Vybúranie kovových dverových zárubní plochy do 2 m2, -0,07600t | J151: m2 | K151: 6.4 | L151: 0 | N151: =ROUND(L151*K151,3) -> 0 | U151: znížená | W151: =V151*K151 -> 0 | X151: 0 | Y151: =X151*K151 -> 0 | Z151: 0 | AA151: =Z151*K151 -> 0 | AR151: 4 | AT151: K | AU151: 2 | AY151: ROZPOCET | BE151: =IF(U151="základná",N151,0) -> 0 | BF151: =IF(U151="znížená",N151,0) -> 0 | BG151: =IF(U151="zákl. prenesená",N151,0) -> 0 | BH151: =IF(U151="zníž. prenesená",N151,0) -> 0 | BI151: =IF(U151="nulová",N151,0) -> 0 | BJ151: 2 | BK151: =ROUND(L151*K151,3) -> 0 | BL151: 4 | BM151: 34
C152: 18 | D152: K | E152: 968081125 | F152: Vyvesenie plastového dverného krídla do suti plochy do 2 m2, -0,02600t | J152: ks | K152: 2 | L152: 0 | N152: =ROUND(L152*K152,3) -> 0 | U152: znížená | W152: =V152*K152 -> 0 | X152: 0 | Y152: =X152*K152 -> 0 | Z152: 0 | AA152: =Z152*K152 -> 0 | AR152: 4 | AT152: K | AU152: 2 | AY152: ROZPOCET | BE152: =IF(U152="základná",N152,0) -> 0 | BF152: =IF(U152="znížená",N152,0) -> 0 | BG152: =IF(U152="zákl. prenesená",N152,0) -> 0 | BH152: =IF(U152="zníž. prenesená",N152,0) -> 0 | BI152: =IF(U152="nulová",N152,0) -> 0 | BJ152: 2 | BK152: =ROUND(L152*K152,3) -> 0 | BL152: 4 | BM152: 36
C153: 19 | D153: K | E153: 968082456 | F153: Vybúranie plastových dverových zárubní plochy nad 2 m2, -0,06200t | J153: m2 | K153: 4.311 | L153: 0 | N153: =ROUND(L153*K153,3) -> 0 | U153: znížená | W153: =V153*K153 -> 0 | X153: 0 | Y153: =X153*K153 -> 0 | Z153: 0 | AA153: =Z153*K153 -> 0 | AR153: 4 | AT153: K | AU153: 2 | AY153: ROZPOCET | BE153: =IF(U153="základná",N153,0) -> 0 | BF153: =IF(U153="znížená",N153,0) -> 0 | BG153: =IF(U153="zákl. prenesená",N153,0) -> 0 | BH153: =IF(U153="zníž. prenesená",N153,0) -> 0 | BI153: =IF(U153="nulová",N153,0) -> 0 | BJ153: 2 | BK153: =ROUND(L153*K153,3) -> 0 | BL153: 4 | BM153: 38
C154: 20 | D154: K | E154: 971033521 | F154: Vybúranie otvorov v murive tehl. plochy do 1 m2 hr.do 100 mm, -0,19100t | J154: m2 | K154: 4 | L154: 0 | N154: =ROUND(L154*K154,3) -> 0 | U154: znížená | W154: =V154*K154 -> 0 | X154: 0 | Y154: =X154*K154 -> 0 | Z154: 0 | AA154: =Z154*K154 -> 0 | AR154: 4 | AT154: K | AU154: 2 | AY154: ROZPOCET | BE154: =IF(U154="základná",N154,0) -> 0 | BF154: =IF(U154="znížená",N154,0) -> 0 | BG154: =IF(U154="zákl. prenesená",N154,0) -> 0 | BH154: =IF(U154="zníž. prenesená",N154,0) -> 0 | BI154: =IF(U154="nulová",N154,0) -> 0 | BJ154: 2 | BK154: =ROUND(L154*K154,3) -> 0 | BL154: 4 | BM154: 40
C155: 21 | D155: K | E155: 971033631 | F155: Vybúranie otvorov v murive tehl. plochy do 4 m2 hr.do 150 mm, -0,27000t | J155: m2 | K155: 1.7 | L155: 0 | N155: =ROUND(L155*K155,3) -> 0 | U155: znížená | W155: =V155*K155 -> 0 | X155: 0 | Y155: =X155*K155 -> 0 | Z155: 0 | AA155: =Z155*K155 -> 0 | AR155: 4 | AT155: K | AU155: 2 | AY155: ROZPOCET | BE155: =IF(U155="základná",N155,0) -> 0 | BF155: =IF(U155="znížená",N155,0) -> 0 | BG155: =IF(U155="zákl. prenesená",N155,0) -> 0 | BH155: =IF(U155="zníž. prenesená",N155,0) -> 0 | BI155: =IF(U155="nulová",N155,0) -> 0 | BJ155: 2 | BK155: =ROUND(L155*K155,3) -> 0 | BL155: 4 | BM155: 42
C156: 22 | D156: K | E156: 973031812 | F156: Vysekanie káps pre zaviazanie v murive z tehál hr. do 100 mm, -0,00700t | J156: m | K156: 8 | L156: 0 | N156: =ROUND(L156*K156,3) -> 0 | U156: znížená | W156: =V156*K156 -> 0 | X156: 0 | Y156: =X156*K156 -> 0 | Z156: 0 | AA156: =Z156*K156 -> 0 | AR156: 4 | AT156: K | AU156: 2 | AY156: ROZPOCET | BE156: =IF(U156="základná",N156,0) -> 0 | BF156: =IF(U156="znížená",N156,0) -> 0 | BG156: =IF(U156="zákl. prenesená",N156,0) -> 0 | BH156: =IF(U156="zníž. prenesená",N156,0) -> 0 | BI156: =IF(U156="nulová",N156,0) -> 0 | BJ156: 2 | BK156: =ROUND(L156*K156,3) -> 0 | BL156: 4 | BM156: 44
C157: 23 | D157: K | E157: 978059511 | F157: Odsekanie a odobratie stien z obkladačiek vnútorných do 2 m2, -0,06800t | J157: m2 | K157: 10.785 | L157: 0 | N157: =ROUND(L157*K157,3) -> 0 | U157: znížená | W157: =V157*K157 -> 0 | X157: 0 | Y157: =X157*K157 -> 0 | Z157: 0 | AA157: =Z157*K157 -> 0 | AR157: 4 | AT157: K | AU157: 2 | AY157: ROZPOCET | BE157: =IF(U157="základná",N157,0) -> 0 | BF157: =IF(U157="znížená",N157,0) -> 0 | BG157: =IF(U157="zákl. prenesená",N157,0) -> 0 | BH157: =IF(U157="zníž. prenesená",N157,0) -> 0 | BI157: =IF(U157="nulová",N157,0) -> 0 | BJ157: 2 | BK157: =ROUND(L157*K157,3) -> 0 | BL157: 4 | BM157: 46
... C164: 30 | D164: K | E164: 979089713 | F164: Prenájom kontajneru 7 m3 /1 mesiac/ | J164: ks | K164: 85 | L164: 0 | N164: =ROUND(L164*K164,3) -> 0 | U164: znížená | W164: =V164*K164 -> 0 | X164: 0 | Y164: =X164*K164 -> 0 | Z164: 0 | AA164: =Z164*K164 -> 0 | AR164: 4 | AT164: K | AU164: 2 | AY164: ROZPOCET | BE164: =IF(U164="základná",N164,0) -> 0 | BF164: =IF(U164="znížená",N164,0) -> 0 | BG164: =IF(U164="zákl. prenesená",N164,0) -> 0 | BH164: =IF(U164="zníž. prenesená",N164,0) -> 0 | BI164: =IF(U164="nulová",N164,0) -> 0 | BJ164: 2 | BK164: =ROUND(L164*K164,3) -> 0 | BL164: 4 | BM164: 60
D165: 99 - Presun hmôt HSV | N165: =BK165 -> 0 | W165: =W166 -> 0 | Y165: =Y166 -> 0 | AA165: =AA166 -> 0 | AR165: 1 | AT165: D | AU165: 1 | AY165: ROZPOCET | BK165: =BK166 -> 0
C166: 31 | D166: K | E166: 998011001 | F166: Presun hmôt pre budovy JKSO 801, 803,812,zvislá konštr.z tehál,tvárnic,z kovu výšky do 6 m | J166: t | K166: 3.859 | L166: 0 | N166: =ROUND(L166*K166,3) -> 0 | U166: znížená | W166: =V166*K166 -> 0 | X166: 0 | Y166: =X166*K166 -> 0 | Z166: 0 | AA166: =Z166*K166 -> 0 | AR166: 4 | AT166: K | AU166: 2 | AY166: ROZPOCET | BE166: =IF(U166="základná",N166,0) -> 0 | BF166: =IF(U166="znížená",N166,0) -> 0 | BG166: =IF(U166="zákl. prenesená",N166,0) -> 0 | BH166: =IF(U166="zníž. prenesená",N166,0) -> 0 | BI166: =IF(U166="nulová",N166,0) -> 0 | BJ166: 2 | BK166: =ROUND(L166*K166,3) -> 0 | BL166: 4 | BM166: 62
D167: PSV - Práce a dodávky PSV | N167: =BK167 -> 0 | W167: =W168+W172+W179+W201+W210+W212+W221+W228 -> 0 | Y167: =Y168+Y172+Y179+Y201+Y210+Y212+Y221+Y228 -> 0 | AA167: =AA168+AA172+AA179+AA201+AA210+AA212+AA221+AA228 -> 0 | AR167: 1 | AT167: D | AU167: 0 | AY167: ROZPOCET | BK167: =BK168+BK172+BK179+BK201+BK210+BK212+BK221+BK228 -> 0
...

Sheet 2 - SO 02 - Zdravotechnika
D1: Hárok obsahuje: | F1: 1) Krycí list rozpočtu | H1: 2) Rekapitulácia rozpočtu | L1: 3) Rozpočet | O1: Späť na hárok: | S1: Rekapitulácia stavby
C2: optimalizované pre tlač zostáv vo formáte A4 - na výšku | S2: >> skryté stĺpce << | AT2: {bd2049ea-4e77-45c6-8bed-71f544fd8dd2}
AT3: 0
C4: KRYCÍ LIST ROZPOČTU | T4: v --- nižšie sa nachádzajú doplnkové a pomocné údaje k zostavám --- v | AT4: False
D6: Stavba: | F6: ='Rekapitulácia stavby'!K6 -> „Rekonštrukcia ZOS“
D7: Objekt: | F7: 2 - SO 02 - Zdravotechnika
D8: JKSO: | M8: KS:
D9: Miesto: | F9: Partizánske | M9: Dátum: | O9: ='Rekapitulácia stavby'!AN8 -> 5. 2. 2018
D11: Objednávateľ: | M11: IČO: | O11: 00310905
E12: Mesto Partizánske | M12: IČO DPH:
D14: Zhotoviteľ: | M14: IČO: | O14: =IF('Rekapitulácia stavby'!AN13="","",'Rekapitulácia stavby'!AN13) -> Vyplň údaj
E15: =IF('Rekapitulácia stavby'!E14="","",'Rekapitulácia stavby'!E14) -> Vyplň údaj | M15: IČO DPH: | O15: =IF('Rekapitulácia stavby'!AN14="","",'Rekapitulácia stavby'!AN14) -> Vyplň údaj
D17: Projektant: | M17: IČO: | O17: 46549943
E18: AM STUDIO s.r.o. | M18: IČO DPH: | O18: SK2023440364
D20: Spracovateľ: | M20: IČO: | O20: 46 549 943
E21: AM STUDIO s.r.o. | M21: IČO DPH: | O21: SK2023440364
D23: Poznámka:
D27: Náklady z rozpočtu | M27: =N88 -> 0
D28: Ostatné náklady | M28: =N96 -> 0
D30: Cena bez DPH | M30: =ROUND(M27+M28,2) -> 0
D32: DPH | E32: základná | F32: 0.2 | G32: z | H32: =(SUM(BE96:BE103)+SUM(BE121:BE200)) -> 0 | M32: =ROUND((SUM(BE96:BE103)+SUM(BE121:BE200)), 2)*F32 -> 0
E33: znížená | F33: 0.2 | G33: z | H33: =(SUM(BF96:BF103)+SUM(BF121:BF200)) -> 0 | M33: =ROUND((SUM(BF96:BF103)+SUM(BF121:BF200)), 2)*F33 -> 0
E34: zákl. prenesená | F34: 0.2 | G34: z | H34: =(SUM(BG96:BG103)+SUM(BG121:BG200)) -> 0 | M34: 0
E35: zníž. prenesená | F35: 0.2 | G35: z | H35: =(SUM(BH96:BH103)+SUM(BH121:BH200)) -> 0 | M35: 0
E36: nulová | F36: 0 | G36: z | H36: =(SUM(BI96:BI103)+SUM(BI121:BI200)) -> 0 | M36: 0
D38: Cena s DPH | G38: v | H38: EUR | L38: =SUM(M30:M36) -> 0
D50: Projektant | J50: Spracovateľ
D59: Dátum a podpis: | G59: Pečiatka | J59: Dátum a podpis: | N59: Pečiatka
D61: Objednávateľ | J61: Zhotoviteľ
D70: Dátum a podpis: | G70: Pečiatka | J70: Dátum a podpis: | N70: Pečiatka
C76: REKAPITULÁCIA ROZPOČTU
C78: Stavba: | F78: =F6 -> „Rekonštrukcia ZOS“
C79: Objekt: | F79: =F7 -> 2 - SO 02 - Zdravotechnika
C81: Miesto: | F81: =F9 -> Partizánske | K81: Dátum: | M81: =IF(O9="","",O9) -> 5. 2. 2018
C83: Objednávateľ: | F83: =E12 -> Mesto Partizánske | K83: Projektant: | M83: =E18 -> AM STUDIO s.r.o.
C84: Zhotoviteľ: | F84: =IF(E15="","",E15) -> Vyplň údaj | K84: Spracovateľ: | M84: =E21 -> AM STUDIO s.r.o.
C86: Kód - Popis | N86: Cena celkom [EUR]
C88: 1) Náklady z rozpočtu | N88: =N121 -> 0 | AU88: -1
D89: 97 - Prerazenie otvorov a ostatné búracie práce | N89: =N122 -> 0
D90: 713 - Izolácie tepelné | N90: =N136 -> 0
D91: 721 - Zdravotechnika | N91: =N144 -> 0
D92: 721 - Zdravotechnika | N92: =N159 -> 0
D93: 721 - Zdravotechnika | N93: =N168 -> 0
D94: VP - Práce naviac | N94: =N200 -> 0
C96: 2) Ostatné náklady | N96: =ROUND(N97+N98+N99+N100+N101+N102,2) -> 0 | U96: DPH
D97: GZS | N97: =ROUND(N88*T97,2) -> 0 | U97: znížená | AY97: VRN | BE97: =IF(U97="základná",N97,0) -> 0 | BF97: =IF(U97="znížená",N97,0) -> 0 | BG97: =IF(U97="zákl. prenesená",N97,0) -> 0 | BH97: =IF(U97="zníž. prenesená",N97,0) -> 0 | BI97: =IF(U97="nulová",N97,0) -> 0 | BJ97: 2
D98: Projektové práce | N98: =ROUND(N88*T98,2) -> 0 | U98: znížená | AY98: VRN | BE98: =IF(U98="základná",N98,0) -> 0 | BF98: =IF(U98="znížená",N98,0) -> 0 | BG98: =IF(U98="zákl. prenesená",N98,0) -> 0 | BH98: =IF(U98="zníž. prenesená",N98,0) -> 0 | BI98: =IF(U98="nulová",N98,0) -> 0 | BJ98: 2
D99: Sťažené podmienky | N99: =ROUND(N88*T99,2) -> 0 | U99: znížená | AY99: VRN | BE99: =IF(U99="základná",N99,0) -> 0 | BF99: =IF(U99="znížená",N99,0) -> 0 | BG99: =IF(U99="zákl. prenesená",N99,0) -> 0 | BH99: =IF(U99="zníž. prenesená",N99,0) -> 0 | BI99: =IF(U99="nulová",N99,0) -> 0 | BJ99: 2
D100: Vplyv prostredia | N100: =ROUND(N88*T100,2) -> 0 | U100: znížená | AY100: VRN | BE100: =IF(U100="základná",N100,0) -> 0 | BF100: =IF(U100="znížená",N100,0) -> 0 | BG100: =IF(U100="zákl. prenesená",N100,0) -> 0 | BH100: =IF(U100="zníž. prenesená",N100,0) -> 0 | BI100: =IF(U100="nulová",N100,0) -> 0 | BJ100: 2
D101: Iné VRN | N101: =ROUND(N88*T101,2) -> 0 | U101: znížená | AY101: VRN | BE101: =IF(U101="základná",N101,0) -> 0 | BF101: =IF(U101="znížená",N101,0) -> 0 | BG101: =IF(U101="zákl. prenesená",N101,0) -> 0 | BH101: =IF(U101="zníž. prenesená",N101,0) -> 0 | BI101: =IF(U101="nulová",N101,0) -> 0 | BJ101: 2
D102: Kompletačná činnosť | N102: =ROUND(N88*T102,2) -> 0 | U102: znížená | AY102: KOMPLETACNA | BE102: =IF(U102="základná",N102,0) -> 0 | BF102: =IF(U102="znížená",N102,0) -> 0 | BG102: =IF(U102="zákl. prenesená",N102,0) -> 0 | BH102: =IF(U102="zníž. prenesená",N102,0) -> 0 | BI102: =IF(U102="nulová",N102,0) -> 0 | BJ102: 2
C104: Celkové náklady za stavbu 1) + 2) | L104: =ROUND(SUM(N88+N96),2) -> 0
C110: ROZPOČET
C112: Stavba: | F112: =F6 -> „Rekonštrukcia ZOS“
C113: Objekt: | F113: =F7 -> 2 - SO 02 - Zdravotechnika
C115: Miesto: | F115: =F9 -> Partizánske | K115: Dátum: | M115: =IF(O9="","",O9) -> 5. 2. 2018
C117: Objednávateľ: | F117: =E12 -> Mesto Partizánske | K117: Projektant: | M117: =E18 -> AM STUDIO s.r.o.
C118: Zhotoviteľ: | F118: =IF(E15="","",E15) -> Vyplň údaj | K118: Spracovateľ: | M118: =E21 -> AM STUDIO s.r.o.
C120: PČ | D120: Typ | E120: Kód | F120: Popis | J120: MJ | K120: Množstvo | L120: J.cena [EUR] | N120: Cena celkom [EUR] | T120: Poznámka | U120: DPH | V120: J. Nh [h] | W120: Nh celkom [h] | X120: J. hmotnosť_x000D_ [t] | Y120: Hmotnosť_x000D_ celkom [t] | Z120: J. suť [t] | AA120: Suť Celkom [t]
C121: Náklady z rozpočtu | N121: =BK121 -> 0 | W121: =W122+W136+W144+W159+W168+W200+W201 -> 0 | Y121: =Y122+Y136+Y144+Y159+Y168+Y200+Y201 -> 0 | AA121: =AA122+AA136+AA144+AA159+AA168+AA200+AA201 -> 0 | AT121: D | AU121: -1 | BK121: =BK122+BK136+BK144+BK159+BK168+BK200+BK201 -> 0
D122: 97 - Prerazenie otvorov a ostatné búracie práce | N122: =BK122 -> 0 | W122: =SUM(W123:W135) -> 0 | Y122: =SUM(Y123:Y135) -> 0 | AA122: =SUM(AA123:AA135) -> 0 | AR122: 1 | AT122: D | AU122: 0 | AY122: ROZPOCET | BK122: =SUM(BK123:BK135) -> 0
C123: 1 | D123: K | E123: 971036002 | F123: Jadrové vrty diamantovými korunkami do D 30 mm do stien - murivo tehlové -0,00001t | J123: cm | K123: 30 | L123: 0 | N123: =ROUND(L123*K123,3) -> 0 | U123: znížená | W123: =V123*K123 -> 0 | X123: 0 | Y123: =X123*K123 -> 0 | Z123: 0 | AA123: =Z123*K123 -> 0 | AR123: 4 | AT123: K | AU123: 1 | AY123: ROZPOCET | BE123: =IF(U123="základná",N123,0) -> 0 | BF123: =IF(U123="znížená",N123,0) -> 0 | BG123: =IF(U123="zákl. prenesená",N123,0) -> 0 | BH123: =IF(U123="zníž. prenesená",N123,0) -> 0 | BI123: =IF(U123="nulová",N123,0) -> 0 | BJ123: 2 | BK123: =ROUND(L123*K123,3) -> 0 | BL123: 4 | BM123: 2
C124: 2 | D124: K | E124: 971036010 | F124: Jadrové vrty diamantovými korunkami do D 110 mm do stien - murivo tehlové -0,00015t | J124: cm | K124: 15 | L124: 0 | N124: =ROUND(L124*K124,3) -> 0 | U124: znížená | W124: =V124*K124 -> 0 | X124: 0 | Y124: =X124*K124 -> 0 | Z124: 0 | AA124: =Z124*K124 -> 0 | AR124: 4 | AT124: K | AU124: 1 | AY124: ROZPOCET | BE124: =IF(U124="základná",N124,0) -> 0 | BF124: =IF(U124="znížená",N124,0) -> 0 | BG124: =IF(U124="zákl. prenesená",N124,0) -> 0 | BH124: =IF(U124="zníž. prenesená",N124,0) -> 0 | BI124: =IF(U124="nulová",N124,0) -> 0 | BJ124: 2 | BK124: =ROUND(L124*K124,3) -> 0 | BL124: 4 | BM124: 4
C125: 3 | D125: K | E125: 972056005 | F125: Jadrové vrty diamantovými korunkami do D 60 mm do stropov - železobetónových -0,00007t | J125: cm | K125: 50 | L125: 0 | N125: =ROUND(L125*K125,3) -> 0 | U125: znížená | W125: =V125*K125 -> 0 | X125: 0 | Y125: =X125*K125 -> 0 | Z125: 0 | AA125: =Z125*K125 -> 0 | AR125: 4 | AT125: K | AU125: 1 | AY125: ROZPOCET | BE125: =IF(U125="základná",N125,0) -> 0 | BF125: =IF(U125="znížená",N125,0) -> 0 | BG125: =IF(U125="zákl. prenesená",N125,0) -> 0 | BH125: =IF(U125="zníž. prenesená",N125,0) -> 0 | BI125: =IF(U125="nulová",N125,0) -> 0 | BJ125: 2 | BK125: =ROUND(L125*K125,3) -> 0 | BL125: 4 | BM125: 6
C126: 4 | D126: K | E126: 972056007 | F126: Jadrové vrty diamantovými korunkami do D 80 mm do stropov - železobetónových -0,00012t | J126: cm | K126: 25 | L126: 0 | N126: =ROUND(L126*K126,3) -> 0 | U126: znížená | W126: =V126*K126 -> 0 | X126: 0 | Y126: =X126*K126 -> 0 | Z126: 0 | AA126: =Z126*K126 -> 0 | AR126: 4 | AT126: K | AU126: 1 | AY126: ROZPOCET | BE126: =IF(U126="základná",N126,0) -> 0 | BF126: =IF(U126="znížená",N126,0) -> 0 | BG126: =IF(U126="zákl. prenesená",N126,0) -> 0 | BH126: =IF(U126="zníž. prenesená",N126,0) -> 0 | BI126: =IF(U126="nulová",N126,0) -> 0 | BJ126: 2 | BK126: =ROUND(L126*K126,3) -> 0 | BL126: 4 | BM126: 8
C127: 5 | D127: K | E127: 972056010 | F127: Jadrové vrty diamantovými korunkami do D 110 mm do stropov - železobetónových -0,00023t | J127: cm | K127: 25 | L127: 0 | N127: =ROUND(L127*K127,3) -> 0 | U127: znížená | W127: =V127*K127 -> 0 | X127: 0 | Y127: =X127*K127 -> 0 | Z127: 0 | AA127: =Z127*K127 -> 0 | AR127: 4 | AT127: K | AU127: 1 | AY127: ROZPOCET | BE127: =IF(U127="základná",N127,0) -> 0 | BF127: =IF(U127="znížená",N127,0) -> 0 | BG127: =IF(U127="zákl. prenesená",N127,0) -> 0 | BH127: =IF(U127="zníž. prenesená",N127,0) -> 0 | BI127: =IF(U127="nulová",N127,0) -> 0 | BJ127: 2 | BK127: =ROUND(L127*K127,3) -> 0 | BL127: 4 | BM127: 10
C128: 6 | D128: K | E128: 974031132 | F128: Vysekanie rýh v akomkoľvek murive tehlovom na akúkoľvek maltu do hĺbky 50 mm a š. do 70 mm, -0,00600t | J128: m | K128: 40 | L128: 0 | N128: =ROUND(L128*K128,3) -> 0 | U128: znížená | W128: =V128*K128 -> 0 | X128: 0 | Y128: =X128*K128 -> 0 | Z128: 0 | AA128: =Z128*K128 -> 0 | AR128: 4 | AT128: K | AU128: 1 | AY128: ROZPOCET | BE128: =IF(U128="základná",N128,0) -> 0 | BF128: =IF(U128="znížená",N128,0) -> 0 | BG128: =IF(U128="zákl. prenesená",N128,0) -> 0 | BH128: =IF(U128="zníž. prenesená",N128,0) -> 0 | BI128: =IF(U128="nulová",N128,0) -> 0 | BJ128: 2 | BK128: =ROUND(L128*K128,3) -> 0 | BL128: 4 | BM128: 12
C129: 7 | D129: K | E129: 974031142 | F129: Vysekávanie rýh v akomkoľvek murive tehlovom na akúkoľvek maltu do hĺbky 70 mm a š. do 70 mm, -0,00900t | J129: m | K129: 7 | L129: 0 | N129: =ROUND(L129*K129,3) -> 0 | U129: znížená | W129: =V129*K129 -> 0 | X129: 0 | Y129: =X129*K129 -> 0 | Z129: 0 | AA129: =Z129*K129 -> 0 | AR129: 4 | AT129: K | AU129: 1 | AY129: ROZPOCET | BE129: =IF(U129="základná",N129,0) -> 0 | BF129: =IF(U129="znížená",N129,0) -> 0 | BG129: =IF(U129="zákl. prenesená",N129,0) -> 0 | BH129: =IF(U129="zníž. prenesená",N129,0) -> 0 | BI129: =IF(U129="nulová",N129,0) -> 0 | BJ129: 2 | BK129: =ROUND(L129*K129,3) -> 0 | BL129: 4 | BM129: 14
C130: 8 | D130: K | E130: 974042532 | F130: Vysekanie rýh v betónovej dlažbe do hĺbky 50 mm a šírky do 70mm, -0,00800t | J130: m | K130: 13 | L130: 0 | N130: =ROUND(L130*K130,3) -> 0 | U130: znížená | W130: =V130*K130 -> 0 | X130: 0 | Y130: =X130*K130 -> 0 | Z130: 0 | AA130: =Z130*K130 -> 0 | AR130: 4 | AT130: K | AU130: 1 | AY130: ROZPOCET | BE130: =IF(U130="základná",N130,0) -> 0 | BF130: =IF(U130="znížená",N130,0) -> 0 | BG130: =IF(U130="zákl. prenesená",N130,0) -> 0 | BH130: =IF(U130="zníž. prenesená",N130,0) -> 0 | BI130: =IF(U130="nulová",N130,0) -> 0 | BJ130: 2 | BK130: =ROUND(L130*K130,3) -> 0 | BL130: 4 | BM130: 16
C131: 9 | D131: K | E131: 974042542 | F131: Vysekanie rýh v betónovej dlažbe do hĺbky 70 mm a šírky do 70mm, -0,01100t | J131: m | K131: 1 | L131: 0 | N131: =ROUND(L131*K131,3) -> 0 | U131: znížená | W131: =V131*K131 -> 0 | X131: 0 | Y131: =X131*K131 -> 0 | Z131: 0 | AA131: =Z131*K131 -> 0 | AR131: 4 | AT131: K | AU131: 1 | AY131: ROZPOCET | BE131: =IF(U131="základná",N131,0) -> 0 | BF131: =IF(U131="znížená",N131,0) -> 0 | BG131: =IF(U131="zákl. prenesená",N131,0) -> 0 | BH131: =IF(U131="zníž. prenesená",N131,0) -> 0 | BI131: =IF(U131="nulová",N131,0) -> 0 | BJ131: 2 | BK131: =ROUND(L131*K131,3) -> 0 | BL131: 4 | BM131: 18
C132: 10 | D132: K | E132: 974042553 | F132: Vysekanie rýh v betónovej dlažbe do hĺbky 100mm a šírky do 100mm, -0,02200t | J132: m | K132: 3 | L132: 0 | N132: =ROUND(L132*K132,3) -> 0 | U132: znížená | W132: =V132*K132 -> 0 | X132: 0 | Y132: =X132*K132 -> 0 | Z132: 0 | AA132: =Z132*K132 -> 0 | AR132: 4 | AT132: K | AU132: 1 | AY132: ROZPOCET | BE132: =IF(U132="základná",N132,0) -> 0 | BF132: =IF(U132="znížená",N132,0) -> 0 | BG132: =IF(U132="zákl. prenesená",N132,0) -> 0 | BH132: =IF(U132="zníž. prenesená",N132,0) -> 0 | BI132: =IF(U132="nulová",N132,0) -> 0 | BJ132: 2 | BK132: =ROUND(L132*K132,3) -> 0 | BL132: 4 | BM132: 20
C133: 11 | D133: K | E133: 979011111 | F133: Zvislá doprava sutiny a vybúraných hmôt za prvé podlažie nad alebo pod základným podlažím | J133: t | K133: 0.704 | L133: 0 | N133: =ROUND(L133*K133,3) -> 0 | U133: znížená | W133: =V133*K133 -> 0 | X133: 0 | Y133: =X133*K133 -> 0 | Z133: 0 | AA133: =Z133*K133 -> 0 | AR133: 4 | AT133: K | AU133: 1 | AY133: ROZPOCET | BE133: =IF(U133="základná",N133,0) -> 0 | BF133: =IF(U133="znížená",N133,0) -> 0 | BG133: =IF(U133="zákl. prenesená",N133,0) -> 0 | BH133: =IF(U133="zníž. prenesená",N133,0) -> 0 | BI133: =IF(U133="nulová",N133,0) -> 0 | BJ133: 2 | BK133: =ROUND(L133*K133,3) -> 0 | BL133: 4 | BM133: 22
C134: 12 | D134: K | E134: 979081111 | F134: Odvoz sutiny a vybúraných hmôt na skládku do 1 km | J134: t | K134: 0.704 | L134: 0 | N134: =ROUND(L134*K134,3) -> 0 | U134: znížená | W134: =V134*K134 -> 0 | X134: 0 | Y134: =X134*K134 -> 0 | Z134: 0 | AA134: =Z134*K134 -> 0 | AR134: 4 | AT134: K | AU134: 1 | AY134: ROZPOCET | BE134: =IF(U134="základná",N134,0) -> 0 | BF134: =IF(U134="znížená",N134,0) -> 0 | BG134: =IF(U134="zákl. prenesená",N134,0) -> 0 | BH134: =IF(U134="zníž. prenesená",N134,0) -> 0 | BI134: =IF(U134="nulová",N134,0) -> 0 | BJ134: 2 | BK134: =ROUND(L134*K134,3) -> 0 | BL134: 4 | BM134: 24
C135: 13 | D135: K | E135: 979081121 | F135: Odvoz sutiny a vybúraných hmôt na skládku za každý ďalší 1 km | J135: t | K135: 0.704 | L135: 0 | N135: =ROUND(L135*K135,3) -> 0 | U135: znížená | W135: =V135*K135 -> 0 | X135: 0 | Y135: =X135*K135 -> 0 | Z135: 0 | AA135: =Z135*K135 -> 0 | AR135: 4 | AT135: K | AU135: 1 | AY135: ROZPOCET | BE135: =IF(U135="základná",N135,0) -> 0 | BF135: =IF(U135="znížená",N135,0) -> 0 | BG135: =IF(U135="zákl. prenesená",N135,0) -> 0 | BH135: =IF(U135="zníž. prenesená",N135,0) -> 0 | BI135: =IF(U135="nulová",N135,0) -> 0 | BJ135: 2 | BK135: =ROUND(L135*K135,3) -> 0 | BL135: 4 | BM135: 26
D136: 713 - Izolácie tepelné | N136: =BK136 -> 0 | W136: =SUM(W137:W143) -> 0 | Y136: =SUM(Y137:Y143) -> 0 | AA136: =SUM(AA137:AA143) -> 0 | AR136: 1 | AT136: D | AU136: 0 | AY136: ROZPOCET | BK136: =SUM(BK137:BK143) -> 0
C137: 14 | D137: K | E137: 713482111 | F137: Montáž trubíc z PE, hr.do 10 mm,vnút.priemer do 38 mm | J137: m | K137: 31 | L137: 0 | N137: =ROUND(L137*K137,3) -> 0 | U137: znížená | W137: =V137*K137 -> 0 | X137: 0 | Y137: =X137*K137 -> 0 | Z137: 0 | AA137: =Z137*K137 -> 0 | AR137: 4 | AT137: K | AU137: 1 | AY137: ROZPOCET | BE137: =IF(U137="základná",N137,0) -> 0 | BF137: =IF(U137="znížená",N137,0) -> 0 | BG137: =IF(U137="zákl. prenesená",N137,0) -> 0 | BH137: =IF(U137="zníž. prenesená",N137,0) -> 0 | BI137: =IF(U137="nulová",N137,0) -> 0 | BJ137: 2 | BK137: =ROUND(L137*K137,3) -> 0 | BL137: 4 | BM137: 28
C138: 15 | D138: M | E138: 2837741538 | F138: Tubolit DG 20 x 5 izolácia-trubica AZ FLEX Armacell | J138: m | K138: 22 | L138: 0 | N138: =ROUND(L138*K138,3) -> 0 | U138: znížená | W138: =V138*K138 -> 0 | X138: 0 | Y138: =X138*K138 -> 0 | Z138: 0 | AA138: =Z138*K138 -> 0 | AR138: 8 | AT138: M | AU138: 1 | AY138: ROZPOCET | BE138: =IF(U138="základná",N138,0) -> 0 | BF138: =IF(U138="znížená",N138,0) -> 0 | BG138: =IF(U138="zákl. prenesená",N138,0) -> 0 | BH138: =IF(U138="zníž. prenesená",N138,0) -> 0 | BI138: =IF(U138="nulová",N138,0) -> 0 | BJ138: 2 | BK138: =ROUND(L138*K138,3) -> 0 | BL138: 4 | BM138: 30
C139: 16 | D139: M | E139: 2837741559 | F139: Tubolit DG 28 x 5 izolácia-trubica AZ FLEX Armacell | J139: m | K139: 9.18 | L139: 0 | N139: =ROUND(L139*K139,3) -> 0 | U139: znížená | W139: =V139*K139 -> 0 | X139: 0 | Y139: =X139*K139 -> 0 | Z139: 0 | AA139: =Z139*K139 -> 0 | AR139: 8 | AT139: M | AU139: 1 | AY139: ROZPOCET | BE139: =IF(U139="základná",N139,0) -> 0 | BF139: =IF(U139="znížená",N139,0) -> 0 | BG139: =IF(U139="zákl. prenesená",N139,0) -> 0 | BH139: =IF(U139="zníž. prenesená",N139,0) -> 0 | BI139: =IF(U139="nulová",N139,0) -> 0 | BJ139: 2 | BK139: =ROUND(L139*K139,3) -> 0 | BL139: 4 | BM139: 32
C140: 17 | D140: K | E140: 713482121 | F140: Montáž trubíc z PE, hr.15-20 mm,vnút.priemer do 38 mm | J140: m | K140: 26 | L140: 0 | N140: =ROUND(L140*K140,3) -> 0 | U140: znížená | W140: =V140*K140 -> 0 | X140: 0 | Y140: =X140*K140 -> 0 | Z140: 0 | AA140: =Z140*K140 -> 0 | AR140: 4 | AT140: K | AU140: 1 | AY140: ROZPOCET | BE140: =IF(U140="základná",N140,0) -> 0 | BF140: =IF(U140="znížená",N140,0) -> 0 | BG140: =IF(U140="zákl. prenesená",N140,0) -> 0 | BH140: =IF(U140="zníž. prenesená",N140,0) -> 0 | BI140: =IF(U140="nulová",N140,0) -> 0 | BJ140: 2 | BK140: =ROUND(L140*K140,3) -> 0 | BL140: 4 | BM140: 34
C141: 18 | D141: M | E141: 2837741542 | F141: Tubolit DG 22 x 20 izolácia-trubica AZ FLEX Armacell | J141: m | K141: 22 | L141: 0 | N141: =ROUND(L141*K141,3) -> 0 | U141: znížená | W141: =V141*K141 -> 0 | X141: 0 | Y141: =X141*K141 -> 0 | Z141: 0 | AA141: =Z141*K141 -> 0 | AR141: 8 | AT141: M | AU141: 1 | AY141: ROZPOCET | BE141: =IF(U141="základná",N141,0) -> 0 | BF141: =IF(U141="znížená",N141,0) -> 0 | BG141: =IF(U141="zákl. prenesená",N141,0) -> 0 | BH141: =IF(U141="zníž. prenesená",N141,0) -> 0 | BI141: =IF(U141="nulová",N141,0) -> 0 | BJ141: 2 | BK141: =ROUND(L141*K141,3) -> 0 | BL141: 4 | BM141: 36
C142: 19 | D142: M | E142: 2837741555 | F142: Tubolit DG 28 x 20 izolácia-trubica AZ FLEX Armacell | J142: m | K142: 4.08 | L142: 0 | N142: =ROUND(L142*K142,3) -> 0 | U142: znížená | W142: =V142*K142 -> 0 | X142: 0 | Y142: =X142*K142 -> 0 | Z142: 0 | AA142: =Z142*K142 -> 0 | AR142: 8 | AT142: M | AU142: 1 | AY142: ROZPOCET | BE142: =IF(U142="základná",N142,0) -> 0 | BF142: =IF(U142="znížená",N142,0) -> 0 | BG142: =IF(U142="zákl. prenesená",N142,0) -> 0 | BH142: =IF(U142="zníž. prenesená",N142,0) -> 0 | BI142: =IF(U142="nulová",N142,0) -> 0 | BJ142: 2 | BK142: =ROUND(L142*K142,3) -> 0 | BL142: 4 | BM142: 38
C143: 20 | D143: K | E143: 998713101 | F143: Presun hmôt pre izolácie tepelné v objektoch výšky do 6 m | J143: t | K143: 0.002 | L143: 0 | N143: =ROUND(L143*K143,3) -> 0 | U143: znížená | W143: =V143*K143 -> 0 | X143: 0 | Y143: =X143*K143 -> 0 | Z143: 0 | AA143: =Z143*K143 -> 0 | AR143: 4 | AT143: K | AU143: 1 | AY143: ROZPOCET | BE143: =IF(U143="základná",N143,0) -> 0 | BF143: =IF(U143="znížená",N143,0) -> 0 | BG143: =IF(U143="zákl. prenesená",N143,0) -> 0 | BH143: =IF(U143="zníž. prenesená",N143,0) -> 0 | BI143: =IF(U143="nulová",N143,0) -> 0 | BJ143: 2 | BK143: =ROUND(L143*K143,3) -> 0 | BL143: 4 | BM143: 40
D144: 721 - Zdravotechnika | N144: =BK144 -> 0 | W144: =SUM(W145:W158) -> 0 | Y144: =SUM(Y145:Y158) -> 0 | AA144: =SUM(AA145:AA158) -> 0 | AR144: 1 | AT144: D | AU144: 0 | AY144: ROZPOCET | BK144: =SUM(BK145:BK158) -> 0
C145: 21 | D145: K | E145: 721170909 | F145: Oprava odpadového potrubia novodurového vsadenie odbočky do potrubia D 110, D 114 | J145: ks | K145: 7 | L145: 0 | N145: =ROUND(L145*K145,3) -> 0 | U145: znížená | W145: =V145*K145 -> 0 | X145: 0 | Y145: =X145*K145 -> 0 | Z145: 0 | AA145: =Z145*K145 -> 0 | AR145: 4 | AT145: K | AU145: 1 | AY145: ROZPOCET | BE145: =IF(U145="základná",N145,0) -> 0 | BF145: =IF(U145="znížená",N145,0) -> 0 | BG145: =IF(U145="zákl. prenesená",N145,0) -> 0 | BH145: =IF(U145="zníž. prenesená",N145,0) -> 0 | BI145: =IF(U145="nulová",N145,0) -> 0 | BJ145: 2 | BK145: =ROUND(L145*K145,3) -> 0 | BL145: 4 | BM145: 42
C146: 22 | D146: K | E146: 721171107 | F146: Potrubie z PVC - U odpadové ležaté hrdlové D 75x1, 8 | J146: m | K146: 10 | L146: 0 | N146: =ROUND(L146*K146,3) -> 0 | U146: znížená | W146: =V146*K146 -> 0 | X146: 0 | Y146: =X146*K146 -> 0 | Z146: 0 | AA146: =Z146*K146 -> 0 | AR146: 4 | AT146: K | AU146: 1 | AY146: ROZPOCET | BE146: =IF(U146="základná",N146,0) -> 0 | BF146: =IF(U146="znížená",N146,0) -> 0 | BG146: =IF(U146="zákl. prenesená",N146,0) -> 0 | BH146: =IF(U146="zníž. prenesená",N146,0) -> 0 | BI146: =IF(U146="nulová",N146,0) -> 0 | BJ146: 2 | BK146: =ROUND(L146*K146,3) -> 0 | BL146: 4 | BM146: 44
C147: 23 | D147: K | E147: 721171109 | F147: Potrubie z PVC - U odpadové ležaté hrdlové D 110x2, 2 | J147: m | K147: 10 | L147: 0 | N147: =ROUND(L147*K147,3) -> 0 | U147: znížená | W147: =V147*K147 -> 0 | X147: 0 | Y147: =X147*K147 -> 0 | Z147: 0 | AA147: =Z147*K147 -> 0 | AR147: 4 | AT147: K | AU147: 1 | AY147: ROZPOCET | BE147: =IF(U147="základná",N147,0) -> 0 | BF147: =IF(U147="znížená",N147,0) -> 0 | BG147: =IF(U147="zákl. prenesená",N147,0) -> 0 | BH147: =IF(U147="zníž. prenesená",N147,0) -> 0 | BI147: =IF(U147="nulová",N147,0) -> 0 | BJ147: 2 | BK147: =ROUND(L147*K147,3) -> 0 | BL147: 4 | BM147: 46
C148: 24 | D148: K | E148: 721171803 | F148: Demontáž potrubia z novodurových rúr odpadového alebo pripojovacieho do D75, -0,00210 t | J148: m | K148: 12 | L148: 0 | N148: =ROUND(L148*K148,3) -> 0 | U148: znížená | W148: =V148*K148 -> 0 | X148: 0 | Y148: =X148*K148 -> 0 | Z148: 0 | AA148: =Z148*K148 -> 0 | AR148: 4 | AT148: K | AU148: 1 | AY148: ROZPOCET | BE148: =IF(U148="základná",N148,0) -> 0 | BF148: =IF(U148="znížená",N148,0) -> 0 | BG148: =IF(U148="zákl. prenesená",N148,0) -> 0 | BH148: =IF(U148="zníž. prenesená",N148,0) -> 0 | BI148: =IF(U148="nulová",N148,0) -> 0 | BJ148: 2 | BK148: =ROUND(L148*K148,3) -> 0 | BL148: 4 | BM148: 48
C149: 25 | D149: K | E149: 721173205 | F149: Potrubie z PVC - U odpadné pripájacie D 50x1, 8 | J149: m | K149: 12 | L149: 0 | N149: =ROUND(L149*K149,3) -> 0 | U149: znížená | W149: =V149*K149 -> 0 | X149: 0 | Y149: =X149*K149 -> 0 | Z149: 0 | AA149: =Z149*K149 -> 0 | AR149: 4 | AT149: K | AU149: 1 | AY149: ROZPOCET | BE149: =IF(U149="základná",N149,0) -> 0 | BF149: =IF(U149="znížená",N149,0) -> 0 | BG149: =IF(U149="zákl. prenesená",N149,0) -> 0 | BH149: =IF(U149="zníž. prenesená",N149,0) -> 0 | BI149: =IF(U149="nulová",N149,0) -> 0 | BJ149: 2 | BK149: =ROUND(L149*K149,3) -> 0 | BL149: 4 | BM149: 50
C150: 26 | D150: K | E150: 721194104 | F150: Zriadenie prípojky na potrubí vyvedenie a upevnenie odpadových výpustiek D 40x1, 8 | J150: ks | K150: 4 | L150: 0 | N150: =ROUND(L150*K150,3) -> 0 | U150: znížená | W150: =V150*K150 -> 0 | X150: 0 | Y150: =X150*K150 -> 0 | Z150: 0 | AA150: =Z150*K150 -> 0 | AR150: 4 | AT150: K | AU150: 1 | AY150: ROZPOCET | BE150: =IF(U150="základná",N150,0) -> 0 | BF150: =IF(U150="znížená",N150,0) -> 0 | BG150: =IF(U150="zákl. prenesená",N150,0) -> 0 | BH150: =IF(U150="zníž. prenesená",N150,0) -> 0 | BI150: =IF(U150="nulová",N150,0) -> 0 | BJ150: 2 | BK150: =ROUND(L150*K150,3) -> 0 | BL150: 4 | BM150: 52
C151: 27 | D151: K | E151: 721194105 | F151: Zriadenie prípojky na potrubí vyvedenie a upevnenie odpadových výpustiek D 50x1, 8 | J151: ks | K151: 8 | L151: 0 | N151: =ROUND(L151*K151,3) -> 0 | U151: znížená | W151: =V151*K151 -> 0 | X151: 0 | Y151: =X151*K151 -> 0 | Z151: 0 | AA151: =Z151*K151 -> 0 | AR151: 4 | AT151: K | AU151: 1 | AY151: ROZPOCET | BE151: =IF(U151="základná",N151,0) -> 0 | BF151: =IF(U151="znížená",N151,0) -> 0 | BG151: =IF(U151="zákl. prenesená",N151,0) -> 0 | BH151: =IF(U151="zníž. prenesená",N151,0) -> 0 | BI151: =IF(U151="nulová",N151,0) -> 0 | BJ151: 2 | BK151: =ROUND(L151*K151,3) -> 0 | BL151: 4 | BM151: 54
C152: 28 | D152: K | E152: 721194109 | F152: Zriadenie prípojky na potrubí vyvedenie a upevnenie odpadových výpustiek D 110x2, 3 | J152: ks | K152: 5 | L152: 0 | N152: =ROUND(L152*K152,3) -> 0 | U152: znížená | W152: =V152*K152 -> 0 | X152: 0 | Y152: =X152*K152 -> 0 | Z152: 0 | AA152: =Z152*K152 -> 0 | AR152: 4 | AT152: K | AU152: 1 | AY152: ROZPOCET | BE152: =IF(U152="základná",N152,0) -> 0 | BF152: =IF(U152="znížená",N152,0) -> 0 | BG152: =IF(U152="zákl. prenesená",N152,0) -> 0 | BH152: =IF(U152="zníž. prenesená",N152,0) -> 0 | BI152: =IF(U152="nulová",N152,0) -> 0 | BJ152: 2 | BK152: =ROUND(L152*K152,3) -> 0 | BL152: 4 | BM152: 56
C153: 29 | D153: K | E153: 721212311 | F153: Montáž podlahového vpustu, s vodorovným odtokom DN 50 z plastu so zápachovou uzávierkou | J153: ks | K153: 3 | L153: 0 | N153: =ROUND(L153*K153,3) -> 0 | U153: znížená | W153: =V153*K153 -> 0 | X153: 0 | Y153: =X153*K153 -> 0 | Z153: 0 | AA153: =Z153*K153 -> 0 | AR153: 4 | AT153: K | AU153: 1 | AY153: ROZPOCET | BE153: =IF(U153="základná",N153,0) -> 0 | BF153: =IF(U153="znížená",N153,0) -> 0 | BG153: =IF(U153="zákl. prenesená",N153,0) -> 0 | BH153: =IF(U153="zníž. prenesená",N153,0) -> 0 | BI153: =IF(U153="nulová",N153,0) -> 0 | BJ153: 2 | BK153: =ROUND(L153*K153,3) -> 0 | BL153: 4 | BM153: 58
C154: 30 | D154: M | E154: 2866100010 | F154: Podlahová vpusť, D 50, 177x177x92 mm, kanalizačný systém PE, GEBERIT | J154: ks | K154: 3 | L154: 0 | N154: =ROUND(L154*K154,3) -> 0 | U154: znížená | W154: =V154*K154 -> 0 | X154: 0 | Y154: =X154*K154 -> 0 | Z154: 0 | AA154: =Z154*K154 -> 0 | AR154: 8 | AT154: M | AU154: 1 | AY154: ROZPOCET | BE154: =IF(U154="základná",N154,0) -> 0 | BF154: =IF(U154="znížená",N154,0) -> 0 | BG154: =IF(U154="zákl. prenesená",N154,0) -> 0 | BH154: =IF(U154="zníž. prenesená",N154,0) -> 0 | BI154: =IF(U154="nulová",N154,0) -> 0 | BJ154: 2 | BK154: =ROUND(L154*K154,3) -> 0 | BL154: 4 | BM154: 60
C155: 31 | D155: K | E155: 721220801 | F155: Demontáž zápachovej uzávierky do DN 70, -0,00310t | J155: ks | K155: 9 | L155: 0 | N155: =ROUND(L155*K155,3) -> 0 | U155: znížená | W155: =V155*K155 -> 0 | X155: 0 | Y155: =X155*K155 -> 0 | Z155: 0 | AA155: =Z155*K155 -> 0 | AR155: 4 | AT155: K | AU155: 1 | AY155: ROZPOCET | BE155: =IF(U155="základná",N155,0) -> 0 | BF155: =IF(U155="znížená",N155,0) -> 0 | BG155: =IF(U155="zákl. prenesená",N155,0) -> 0 | BH155: =IF(U155="zníž. prenesená",N155,0) -> 0 | BI155: =IF(U155="nulová",N155,0) -> 0 | BJ155: 2 | BK155: =ROUND(L155*K155,3) -> 0 | BL155: 4 | BM155: 62
C156: 32 | D156: K | E156: 721290111 | F156: Ostatné - skúška tesnosti kanalizácie v objektoch vodou do DN 125 | J156: m | K156: 32 | L156: 0 | N156: =ROUND(L156*K156,3) -> 0 | U156: znížená | W156: =V156*K156 -> 0 | X156: 0 | Y156: =X156*K156 -> 0 | Z156: 0 | AA156: =Z156*K156 -> 0 | AR156: 4 | AT156: K | AU156: 1 | AY156: ROZPOCET | BE156: =IF(U156="základná",N156,0) -> 0 | BF156: =IF(U156="znížená",N156,0) -> 0 | BG156: =IF(U156="zákl. prenesená",N156,0) -> 0 | BH156: =IF(U156="zníž. prenesená",N156,0) -> 0 | BI156: =IF(U156="nulová",N156,0) -> 0 | BJ156: 2 | BK156: =ROUND(L156*K156,3) -> 0 | BL156: 4 | BM156: 64
... C158: 34 | D158: K | E158: 998721101 | F158: Presun hmôt pre vnútornú kanalizáciu v objektoch výšky do 6 m | J158: t | K158: 0.05 | L158: 0 | N158: =ROUND(L158*K158,3) -> 0 | U158: znížená | W158: =V158*K158 -> 0 | X158: 0 | Y158: =X158*K158 -> 0 | Z158: 0 | AA158: =Z158*K158 -> 0 | AR158: 4 | AT158: K | AU158: 1 | AY158: ROZPOCET | BE158: =IF(U158="základná",N158,0) -> 0 | BF158: =IF(U158="znížená",N158,0) -> 0 | BG158: =IF(U158="zákl. prenesená",N158,0) -> 0 | BH158: =IF(U158="zníž. prenesená",N158,0) -> 0 | BI158: =IF(U158="nulová",N158,0) -> 0 | BJ158: 2 | BK158: =ROUND(L158*K158,3) -> 0 | BL158: 4 | BM158: 68
D159: 721 - Zdravotechnika | N159: =BK159 -> 0 | W159: =SUM(W160:W167) -> 0 | Y159: =SUM(Y160:Y167) -> 0 | AA159: =SUM(AA160:AA167) -> 0 | AR159: 1 | AT159: D | AU159: 0 | AY159: ROZPOCET | BK159: =SUM(BK160:BK167) -> 0
C160: 35 | D160: K | E160: 722130801 | F160: Demontáž potrubia z oceľových rúrok závitových do DN 25, -0,00213t | J160: m | K160: 10 | L160: 0 | N160: =ROUND(L160*K160,3) -> 0 | U160: znížená | W160: =V160*K160 -> 0 | X160: 0 | Y160: =X160*K160 -> 0 | Z160: 0 | AA160: =Z160*K160 -> 0 | AR160: 4 | AT160: K | AU160: 1 | AY160: ROZPOCET | BE160: =IF(U160="základná",N160,0) -> 0 | BF160: =IF(U160="znížená",N160,0) -> 0 | BG160: =IF(U160="zákl. prenesená",N160,0) -> 0 | BH160: =IF(U160="zníž. prenesená",N160,0) -> 0 | BI160: =IF(U160="nulová",N160,0) -> 0 | BJ160: 2 | BK160: =ROUND(L160*K160,3) -> 0 | BL160: 4 | BM160: 70
C161: 36 | D161: K | E161: 722131913 | F161: Oprava vodovodného potrubia závitového vsadenie odbočky do potrubia DN 25 | J161: súb. | K161: 10 | L161: 0 | N161: =ROUND(L161*K161,3) -> 0 | U161: znížená | W161: =V161*K161 -> 0 | X161: 0 | Y161: =X161*K161 -> 0 | Z161: 0 | AA161: =Z161*K161 -> 0 | AR161: 4 | AT161: K | AU161: 1 | AY161: ROZPOCET | BE161: =IF(U161="základná",N161,0) -> 0 | BF161: =IF(U161="znížená",N161,0) -> 0 | BG161: =IF(U161="zákl. prenesená",N161,0) -> 0 | BH161: =IF(U161="zníž. prenesená",N161,0) -> 0 | BI161: =IF(U161="nulová",N161,0) -> 0 | BJ161: 2 | BK161: =ROUND(L161*K161,3) -> 0 | BL161: 4 | BM161: 72
C162: 37 | D162: K | E162: 722171113 | F162: Potrubie plasthliníkové 20x2 mm v kotúčoch | J162: m | K162: 44 | L162: 0 | N162: =ROUND(L162*K162,3) -> 0 | U162: znížená | W162: =V162*K162 -> 0 | X162: 0 | Y162: =X162*K162 -> 0 | Z162: 0 | AA162: =Z162*K162 -> 0 | AR162: 4 | AT162: K | AU162: 1 | AY162: ROZPOCET | BE162: =IF(U162="základná",N162,0) -> 0 | BF162: =IF(U162="znížená",N162,0) -> 0 | BG162: =IF(U162="zákl. prenesená",N162,0) -> 0 | BH162: =IF(U162="zníž. prenesená",N162,0) -> 0 | BI162: =IF(U162="nulová",N162,0) -> 0 | BJ162: 2 | BK162: =ROUND(L162*K162,3) -> 0 | BL162: 4 | BM162: 74
...

Sheet 3 - SO 03 - Elektromontáž...
D1: Hárok obsahuje: | F1: 1) Krycí list rozpočtu | H1: 2) Rekapitulácia rozpočtu | L1: 3) Rozpočet | O1: Späť na hárok: | S1: Rekapitulácia stavby
C2: optimalizované pre tlač zostáv vo formáte A4 - na výšku | S2: >> skryté stĺpce << | AT2: {05bf1c7d-80a1-4b56-ae3b-7b1c118336f4}
AT3: 0
C4: KRYCÍ LIST ROZPOČTU | T4: v --- nižšie sa nachádzajú doplnkové a pomocné údaje k zostavám --- v | AT4: False
D6: Stavba: | F6: ='Rekapitulácia stavby'!K6 -> „Rekonštrukcia ZOS“
D7: Objekt: | F7: 3 - SO 03 - Elektromontážne práce
D8: JKSO: | M8: KS:
D9: Miesto: | F9: Partizánske | M9: Dátum: | O9: ='Rekapitulácia stavby'!AN8 -> 5. 2. 2018
D11: Objednávateľ: | M11: IČO: | O11: 00310905
E12: Mesto Partizánske | M12: IČO DPH:
D14: Zhotoviteľ: | M14: IČO: | O14: =IF('Rekapitulácia stavby'!AN13="","",'Rekapitulácia stavby'!AN13) -> Vyplň údaj
E15: =IF('Rekapitulácia stavby'!E14="","",'Rekapitulácia stavby'!E14) -> Vyplň údaj | M15: IČO DPH: | O15: =IF('Rekapitulácia stavby'!AN14="","",'Rekapitulácia stavby'!AN14) -> Vyplň údaj
D17: Projektant: | M17: IČO: | O17: 46549943
E18: AM STUDIO s.r.o. | M18: IČO DPH: | O18: SK2023440364
D20: Spracovateľ: | M20: IČO: | O20: 46 549 943
E21: AM STUDIO s.r.o. | M21: IČO DPH: | O21: SK2023440364
D23: Poznámka:
D27: Náklady z rozpočtu | M27: =N88 -> 0
D28: Ostatné náklady | M28: =N96 -> 0
D30: Cena bez DPH | M30: =ROUND(M27+M28,2) -> 0
D32: DPH | E32: základná | F32: 0.2 | G32: z | H32: =(SUM(BE96:BE103)+SUM(BE121:BE168)) -> 0 | M32: =ROUND((SUM(BE96:BE103)+SUM(BE121:BE168)), 2)*F32 -> 0
E33: znížená | F33: 0.2 | G33: z | H33: =(SUM(BF96:BF103)+SUM(BF121:BF168)) -> 0 | M33: =ROUND((SUM(BF96:BF103)+SUM(BF121:BF168)), 2)*F33 -> 0
E34: zákl. prenesená | F34: 0.2 | G34: z | H34: =(SUM(BG96:BG103)+SUM(BG121:BG168)) -> 0 | M34: 0
E35: zníž. prenesená | F35: 0.2 | G35: z | H35: =(SUM(BH96:BH103)+SUM(BH121:BH168)) -> 0 | M35: 0
E36: nulová | F36: 0 | G36: z | H36: =(SUM(BI96:BI103)+SUM(BI121:BI168)) -> 0 | M36: 0
D38: Cena s DPH | G38: v | H38: EUR | L38: =SUM(M30:M36) -> 0
D50: Projektant | J50: Spracovateľ
D59: Dátum a podpis: | G59: Pečiatka | J59: Dátum a podpis: | N59: Pečiatka
D61: Objednávateľ | J61: Zhotoviteľ
D70: Dátum a podpis: | G70: Pečiatka | J70: Dátum a podpis: | N70: Pečiatka
C76: REKAPITULÁCIA ROZPOČTU
C78: Stavba: | F78: =F6 -> „Rekonštrukcia ZOS“
C79: Objekt: | F79: =F7 -> 3 - SO 03 - Elektromontážne práce
C81: Miesto: | F81: =F9 -> Partizánske | K81: Dátum: | M81: =IF(O9="","",O9) -> 5. 2. 2018
C83: Objednávateľ: | F83: =E12 -> Mesto Partizánske | K83: Projektant: | M83: =E18 -> AM STUDIO s.r.o.
C84: Zhotoviteľ: | F84: =IF(E15="","",E15) -> Vyplň údaj | K84: Spracovateľ: | M84: =E21 -> AM STUDIO s.r.o.
C86: Kód - Popis | N86: Cena celkom [EUR]
C88: 1) Náklady z rozpočtu | N88: =N121 -> 0 | AU88: -1
D89: HSV - Práce a dodávky HSV | N89: =N122 -> 0
D90: 9 - Ostatné konštrukcie a práce-búranie | N90: =N123 -> 0
D91: M - Práce a dodávky M | N91: =N125 -> 0
D92: 21-M - Elektromontáže | N92: =N126 -> 0
D93: HZS - Hodinové zúčtovacie sadzby | N93: =N165 -> 0
D94: VP - Práce naviac | N94: =N168 -> 0
C96: 2) Ostatné náklady | N96: =ROUND(N97+N98+N99+N100+N101+N102,2) -> 0 | U96: DPH
D97: GZS | N97: =ROUND(N88*T97,2) -> 0 | U97: znížená | AY97: VRN | BE97: =IF(U97="základná",N97,0) -> 0 | BF97: =IF(U97="znížená",N97,0) -> 0 | BG97: =IF(U97="zákl. prenesená",N97,0) -> 0 | BH97: =IF(U97="zníž. prenesená",N97,0) -> 0 | BI97: =IF(U97="nulová",N97,0) -> 0 | BJ97: 2
D98: Projektové práce | N98: =ROUND(N88*T98,2) -> 0 | U98: znížená | AY98: VRN | BE98: =IF(U98="základná",N98,0) -> 0 | BF98: =IF(U98="znížená",N98,0) -> 0 | BG98: =IF(U98="zákl. prenesená",N98,0) -> 0 | BH98: =IF(U98="zníž. prenesená",N98,0) -> 0 | BI98: =IF(U98="nulová",N98,0) -> 0 | BJ98: 2
D99: Sťažené podmienky | N99: =ROUND(N88*T99,2) -> 0 | U99: znížená | AY99: VRN | BE99: =IF(U99="základná",N99,0) -> 0 | BF99: =IF(U99="znížená",N99,0) -> 0 | BG99: =IF(U99="zákl. prenesená",N99,0) -> 0 | BH99: =IF(U99="zníž. prenesená",N99,0) -> 0 | BI99: =IF(U99="nulová",N99,0) -> 0 | BJ99: 2
D100: Vplyv prostredia | N100: =ROUND(N88*T100,2) -> 0 | U100: znížená | AY100: VRN | BE100: =IF(U100="základná",N100,0) -> 0 | BF100: =IF(U100="znížená",N100,0) -> 0 | BG100: =IF(U100="zákl. prenesená",N100,0) -> 0 | BH100: =IF(U100="zníž. prenesená",N100,0) -> 0 | BI100: =IF(U100="nulová",N100,0) -> 0 | BJ100: 2
D101: Iné VRN | N101: =ROUND(N88*T101,2) -> 0 | U101: znížená | AY101: VRN | BE101: =IF(U101="základná",N101,0) -> 0 | BF101: =IF(U101="znížená",N101,0) -> 0 | BG101: =IF(U101="zákl. prenesená",N101,0) -> 0 | BH101: =IF(U101="zníž. prenesená",N101,0) -> 0 | BI101: =IF(U101="nulová",N101,0) -> 0 | BJ101: 2
D102: Kompletačná činnosť | N102: =ROUND(N88*T102,2) -> 0 | U102: znížená | AY102: KOMPLETACNA | BE102: =IF(U102="základná",N102,0) -> 0 | BF102: =IF(U102="znížená",N102,0) -> 0 | BG102: =IF(U102="zákl. prenesená",N102,0) -> 0 | BH102: =IF(U102="zníž. prenesená",N102,0) -> 0 | BI102: =IF(U102="nulová",N102,0) -> 0 | BJ102: 2
C104: Celkové náklady za stavbu 1) + 2) | L104: =ROUND(SUM(N88+N96),2) -> 0
C110: ROZPOČET
C112: Stavba: | F112: =F6 -> „Rekonštrukcia ZOS“
C113: Objekt: | F113: =F7 -> 3 - SO 03 - Elektromontážne práce
C115: Miesto: | F115: =F9 -> Partizánske | K115: Dátum: | M115: =IF(O9="","",O9) -> 5. 2. 2018
C117: Objednávateľ: | F117: =E12 -> Mesto Partizánske | K117: Projektant: | M117: =E18 -> AM STUDIO s.r.o.
C118: Zhotoviteľ: | F118: =IF(E15="","",E15) -> Vyplň údaj | K118: Spracovateľ: | M118: =E21 -> AM STUDIO s.r.o.
C120: PČ | D120: Typ | E120: Kód | F120: Popis | J120: MJ | K120: Množstvo | L120: J.cena [EUR] | N120: Cena celkom [EUR] | T120: Poznámka | U120: DPH | V120: J. Nh [h] | W120: Nh celkom [h] | X120: J. hmotnosť_x000D_ [t] | Y120: Hmotnosť_x000D_ celkom [t] | Z120: J. suť [t] | AA120: Suť Celkom [t]
C121: Náklady z rozpočtu | N121: =BK121 -> 0 | W121: =W122+W125+W165+W168+W169 -> 0 | Y121: =Y122+Y125+Y165+Y168+Y169 -> 0 | AA121: =AA122+AA125+AA165+AA168+AA169 -> 0 | AT121: D | AU121: -1 | BK121: =BK122+BK125+BK165+BK168+BK169 -> 0
D122: HSV - Práce a dodávky HSV | N122: =BK122 -> 0 | W122: =W123 -> 0 | Y122: =Y123 -> 0 | AA122: =AA123 -> 0 | AR122: 1 | AT122: D | AU122: 0 | AY122: ROZPOCET | BK122: =BK123 -> 0
D123: 9 - Ostatné konštrukcie a práce-búranie | N123: =BK123 -> 0 | W123: =W124 -> 0 | Y123: =Y124 -> 0 | AA123: =AA124 -> 0 | AR123: 1 | AT123: D | AU123: 1 | AY123: ROZPOCET | BK123: =BK124 -> 0
C124: 1 | D124: K | E124: 971033131 | F124: Vybúranie otvoru v murive tehl. priemeru profilu do 60 mm hr.do 150 mm, -0,00100t | J124: ks | K124: 3 | L124: 0 | N124: =ROUND(L124*K124,3) -> 0 | U124: znížená | W124: =V124*K124 -> 0 | X124: 0 | Y124: =X124*K124 -> 0 | Z124: 0 | AA124: =Z124*K124 -> 0 | AR124: 4 | AT124: K | AU124: 2 | AY124: ROZPOCET | BE124: =IF(U124="základná",N124,0) -> 0 | BF124: =IF(U124="znížená",N124,0) -> 0 | BG124: =IF(U124="zákl. prenesená",N124,0) -> 0 | BH124: =IF(U124="zníž. prenesená",N124,0) -> 0 | BI124: =IF(U124="nulová",N124,0) -> 0 | BJ124: 2 | BK124: =ROUND(L124*K124,3) -> 0 | BL124: 4 | BM124: 2
D125: M - Práce a dodávky M | N125: =BK125 -> 0 | W125: =W126 -> 0 | Y125: =Y126 -> 0 | AA125: =AA126 -> 0 | AR125: 3 | AT125: D | AU125: 0 | AY125: ROZPOCET | BK125: =BK126 -> 0
D126: 21-M - Elektromontáže | N126: =BK126 -> 0 | W126: =SUM(W127:W164) -> 0 | Y126: =SUM(Y127:Y164) -> 0 | AA126: =SUM(AA127:AA164) -> 0 | AR126: 3 | AT126: D | AU126: 1 | AY126: ROZPOCET | BK126: =SUM(BK127:BK164) -> 0
C127: 2 | D127: K | E127: 210010108 | F127: Lišta elektroinštalačná z PVC 24x22, uložená pevne, vkladacia | J127: m | K127: 20 | L127: 0 | N127: =ROUND(L127*K127,3) -> 0 | U127: znížená | W127: =V127*K127 -> 0 | X127: 0 | Y127: =X127*K127 -> 0 | Z127: 0 | AA127: =Z127*K127 -> 0 | AR127: 64 | AT127: K | AU127: 2 | AY127: ROZPOCET | BE127: =IF(U127="základná",N127,0) -> 0 | BF127: =IF(U127="znížená",N127,0) -> 0 | BG127: =IF(U127="zákl. prenesená",N127,0) -> 0 | BH127: =IF(U127="zníž. prenesená",N127,0) -> 0 | BI127: =IF(U127="nulová",N127,0) -> 0 | BJ127: 2 | BK127: =ROUND(L127*K127,3) -> 0 | BL127: 64 | BM127: 4
C128: 3 | D128: M | E128: 3410300973 | F128: Lišta vkladacia HD - biela RAL 9003 LV 24X22 HD KOPOS | J128: m | K128: 20 | L128: 0 | N128: =ROUND(L128*K128,3) -> 0 | U128: znížená | W128: =V128*K128 -> 0 | X128: 0 | Y128: =X128*K128 -> 0 | Z128: 0 | AA128: =Z128*K128 -> 0 | AR128: 256 | AT128: M | AU128: 2 | AY128: ROZPOCET | BE128: =IF(U128="základná",N128,0) -> 0 | BF128: =IF(U128="znížená",N128,0) -> 0 | BG128: =IF(U128="zákl. prenesená",N128,0) -> 0 | BH128: =IF(U128="zníž. prenesená",N128,0) -> 0 | BI128: =IF(U128="nulová",N128,0) -> 0 | BJ128: 2 | BK128: =ROUND(L128*K128,3) -> 0 | BL128: 64 | BM128: 6
C129: 4 | D129: K | E129: 210010109 | F129: Lišta elektroinštalačná z PVC 40x20, uložená pevne, vkladacia | J129: m | K129: 60 | L129: 0 | N129: =ROUND(L129*K129,3) -> 0 | U129: znížená | W129: =V129*K129 -> 0 | X129: 0 | Y129: =X129*K129 -> 0 | Z129: 0 | AA129: =Z129*K129 -> 0 | AR129: 64 | AT129: K | AU129: 2 | AY129: ROZPOCET | BE129: =IF(U129="základná",N129,0) -> 0 | BF129: =IF(U129="znížená",N129,0) -> 0 | BG129: =IF(U129="zákl. prenesená",N129,0) -> 0 | BH129: =IF(U129="zníž. prenesená",N129,0) -> 0 | BI129: =IF(U129="nulová",N129,0) -> 0 | BJ129: 2 | BK129: =ROUND(L129*K129,3) -> 0 | BL129: 64 | BM129: 8
C130: 5 | D130: M | E130: 3410300889 | F130: Lišta hranatá HD - biela RAL 9003 LHD 40X20 HD KOPOS | J130: m | K130: 60 | L130: 0 | N130: =ROUND(L130*K130,3) -> 0 | U130: znížená | W130: =V130*K130 -> 0 | X130: 0 | Y130: =X130*K130 -> 0 | Z130: 0 | AA130: =Z130*K130 -> 0 | AR130: 256 | AT130: M | AU130: 2 | AY130: ROZPOCET | BE130: =IF(U130="základná",N130,0) -> 0 | BF130: =IF(U130="znížená",N130,0) -> 0 | BG130: =IF(U130="zákl. prenesená",N130,0) -> 0 | BH130: =IF(U130="zníž. prenesená",N130,0) -> 0 | BI130: =IF(U130="nulová",N130,0) -> 0 | BJ130: 2 | BK130: =ROUND(L130*K130,3) -> 0 | BL130: 64 | BM130: 10
C131: 6 | D131: K | E131: 210010334 | F131: Krabica pre lištový rozvod typ 6482-14 dvojitá, s viečkom a svorkovnicou, vrátane zapojenia | J131: ks | K131: 4 | L131: 0 | N131: =ROUND(L131*K131,3) -> 0 | U131: znížená | W131: =V131*K131 -> 0 | X131: 0 | Y131: =X131*K131 -> 0 | Z131: 0 | AA131: =Z131*K131 -> 0 | AR131: 64 | AT131: K | AU131: 2 | AY131: ROZPOCET | BE131: =IF(U131="základná",N131,0) -> 0 | BF131: =IF(U131="znížená",N131,0) -> 0 | BG131: =IF(U131="zákl. prenesená",N131,0) -> 0 | BH131: =IF(U131="zníž. prenesená",N131,0) -> 0 | BI131: =IF(U131="nulová",N131,0) -> 0 | BJ131: 2 | BK131: =ROUND(L131*K131,3) -> 0 | BL131: 64 | BM131: 12
C132: 7 | D132: M | E132: 3450367305 | F132: Krabica pre lištový rozvod LK03 | J132: ks | K132: 4 | L132: 0 | N132: =ROUND(L132*K132,3) -> 0 | U132: znížená | W132: =V132*K132 -> 0 | X132: 0 | Y132: =X132*K132 -> 0 | Z132: 0 | AA132: =Z132*K132 -> 0 | AR132: 256 | AT132: M | AU132: 2 | AY132: ROZPOCET | BE132: =IF(U132="základná",N132,0) -> 0 | BF132: =IF(U132="znížená",N132,0) -> 0 | BG132: =IF(U132="zákl. prenesená",N132,0) -> 0 | BH132: =IF(U132="zníž. prenesená",N132,0) -> 0 | BI132: =IF(U132="nulová",N132,0) -> 0 | BJ132: 2 | BK132: =ROUND(L132*K132,3) -> 0 | BL132: 64 | BM132: 14
C133: 8 | D133: K | E133: 210110041 | F133: Spínače polozapustené a zapustené vrátane zapojenia jednopólový - radenie 1 | J133: ks | K133: 4 | L133: 0 | N133: =ROUND(L133*K133,3) -> 0 | U133: znížená | W133: =V133*K133 -> 0 | X133: 0 | Y133: =X133*K133 -> 0 | Z133: 0 | AA133: =Z133*K133 -> 0 | AR133: 64 | AT133: K | AU133: 2 | AY133: ROZPOCET | BE133: =IF(U133="základná",N133,0) -> 0 | BF133: =IF(U133="znížená",N133,0) -> 0 | BG133: =IF(U133="zákl. prenesená",N133,0) -> 0 | BH133: =IF(U133="zníž. prenesená",N133,0) -> 0 | BI133: =IF(U133="nulová",N133,0) -> 0 | BJ133: 2 | BK133: =ROUND(L133*K133,3) -> 0 | BL133: 64 | BM133: 16
C134: 9 | D134: M | E134: 3450201270 | F134: Spínač 1 biely komplet | J134: ks | K134: 4 | L134: 0 | N134: =ROUND(L134*K134,3) -> 0 | U134: znížená | W134: =V134*K134 -> 0 | X134: 0 | Y134: =X134*K134 -> 0 | Z134: 0 | AA134: =Z134*K134 -> 0 | AR134: 256 | AT134: M | AU134: 2 | AY134: ROZPOCET | BE134: =IF(U134="základná",N134,0) -> 0 | BF134: =IF(U134="znížená",N134,0) -> 0 | BG134: =IF(U134="zákl. prenesená",N134,0) -> 0 | BH134: =IF(U134="zníž. prenesená",N134,0) -> 0 | BI134: =IF(U134="nulová",N134,0) -> 0 | BJ134: 2 | BK134: =ROUND(L134*K134,3) -> 0 | BL134: 64 | BM134: 18
C135: 10 | D135: K | E135: 210110043 | F135: Spínač polozapustený a zapustený vrátane zapojenia sériový prep.stried. - radenie 5 A | J135: ks | K135: 3 | L135: 0 | N135: =ROUND(L135*K135,3) -> 0 | U135: znížená | W135: =V135*K135 -> 0 | X135: 0 | Y135: =X135*K135 -> 0 | Z135: 0 | AA135: =Z135*K135 -> 0 | AR135: 64 | AT135: K | AU135: 2 | AY135: ROZPOCET | BE135: =IF(U135="základná",N135,0) -> 0 | BF135: =IF(U135="znížená",N135,0) -> 0 | BG135: =IF(U135="zákl. prenesená",N135,0) -> 0 | BH135: =IF(U135="zníž. prenesená",N135,0) -> 0 | BI135: =IF(U135="nulová",N135,0) -> 0 | BJ135: 2 | BK135: =ROUND(L135*K135,3) -> 0 | BL135: 64 | BM135: 20
C136: 11 | D136: M | E136: 3450201430 | F136: Prepínač 5 biely komplet | J136: ks | K136: 3 | L136: 0 | N136: =ROUND(L136*K136,3) -> 0 | U136: znížená | W136: =V136*K136 -> 0 | X136: 0 | Y136: =X136*K136 -> 0 | Z136: 0 | AA136: =Z136*K136 -> 0 | AR136: 256 | AT136: M | AU136: 2 | AY136: ROZPOCET | BE136: =IF(U136="základná",N136,0) -> 0 | BF136: =IF(U136="znížená",N136,0) -> 0 | BG136: =IF(U136="zákl. prenesená",N136,0) -> 0 | BH136: =IF(U136="zníž. prenesená",N136,0) -> 0 | BI136: =IF(U136="nulová",N136,0) -> 0 | BJ136: 2 | BK136: =ROUND(L136*K136,3) -> 0 | BL136: 64 | BM136: 22
C137: 12 | D137: K | E137: 210110051 | F137: Spínač polozapustený a zapustený vrátane zapojenia - spatná montáž | J137: ks | K137: 3 | L137: 0 | N137: =ROUND(L137*K137,3) -> 0 | U137: znížená | W137: =V137*K137 -> 0 | X137: 0 | Y137: =X137*K137 -> 0 | Z137: 0 | AA137: =Z137*K137 -> 0 | AR137: 64 | AT137: K | AU137: 2 | AY137: ROZPOCET | BE137: =IF(U137="základná",N137,0) -> 0 | BF137: =IF(U137="znížená",N137,0) -> 0 | BG137: =IF(U137="zákl. prenesená",N137,0) -> 0 | BH137: =IF(U137="zníž. prenesená",N137,0) -> 0 | BI137: =IF(U137="nulová",N137,0) -> 0 | BJ137: 2 | BK137: =ROUND(L137*K137,3) -> 0 | BL137: 64 | BM137: 24
C138: 13 | D138: K | E138: 210110081 | F138: Sporáková prípojka typ 39563 - 13C, nástenná vrátane tlejivky | J138: ks | K138: 1 | L138: 0 | N138: =ROUND(L138*K138,3) -> 0 | U138: znížená | W138: =V138*K138 -> 0 | X138: 0 | Y138: =X138*K138 -> 0 | Z138: 0 | AA138: =Z138*K138 -> 0 | AR138: 64 | AT138: K | AU138: 2 | AY138: ROZPOCET | BE138: =IF(U138="základná",N138,0) -> 0 | BF138: =IF(U138="znížená",N138,0) -> 0 | BG138: =IF(U138="zákl. prenesená",N138,0) -> 0 | BH138: =IF(U138="zníž. prenesená",N138,0) -> 0 | BI138: =IF(U138="nulová",N138,0) -> 0 | BJ138: 2 | BK138: =ROUND(L138*K138,3) -> 0 | BL138: 64 | BM138: 26
... C164: 39 | D164: K | E164: 998921201 | F164: Presun hmôt pre montáž silnoprúdových rozvodov a zariadení v stavbe (objekte) výšky do 7 m | J164: % | K164: 0 | L164: 0 | N164: =ROUND(L164*K164,3) -> 0 | U164: znížená | W164: =V164*K164 -> 0 | X164: 0 | Y164: =X164*K164 -> 0 | Z164: 0 | AA164: =Z164*K164 -> 0 | AR164: 64 | AT164: K | AU164: 2 | AY164: ROZPOCET | BE164: =IF(U164="základná",N164,0) -> 0 | BF164: =IF(U164="znížená",N164,0) -> 0 | BG164: =IF(U164="zákl. prenesená",N164,0) -> 0 | BH164: =IF(U164="zníž. prenesená",N164,0) -> 0 | BI164: =IF(U164="nulová",N164,0) -> 0 | BJ164: 2 | BK164: =ROUND(L164*K164,3) -> 0 | BL164: 64 | BM164: 78
D165: HZS - Hodinové zúčtovacie sadzby | N165: =BK165 -> 0 | W165: =SUM(W166:W167) -> 0 | Y165: =SUM(Y166:Y167) -> 0 | AA165: =SUM(AA166:AA167) -> 0 | AR165: 4 | AT165: D | AU165: 0 | AY165: ROZPOCET | BK165: =SUM(BK166:BK167) -> 0
C166: 40 | D166: K | E166: HZS0001210 | F166: Demontážne práce elektro | J166: hod | K166: 5 | L166: 0 | N166: =ROUND(L166*K166,3) -> 0 | U166: znížená | W166: =V166*K166 -> 0 | X166: 0 | Y166: =X166*K166 -> 0 | Z166: 0 | AA166: =Z166*K166 -> 0 | AR166: 262144 | AT166: K | AU166: 1 | AY166: ROZPOCET | BE166: =IF(U166="základná",N166,0) -> 0 | BF166: =IF(U166="znížená",N166,0) -> 0 | BG166: =IF(U166="zákl. prenesená",N166,0) -> 0 | BH166: =IF(U166="zníž. prenesená",N166,0) -> 0 | BI166: =IF(U166="nulová",N166,0) -> 0 | BJ166: 2 | BK166: =ROUND(L166*K166,3) -> 0 | BL166: 262144 | BM166: 80
C167: 41 | D167: K | E167: HZS00012101 | F167: Nepredvídatelné práce elektro | J167: hod | K167: 10 | L167: 0 | N167: =ROUND(L167*K167,3) -> 0 | U167: znížená | W167: =V167*K167 -> 0 | X167: 0 | Y167: =X167*K167 -> 0 | Z167: 0 | AA167: =Z167*K167 -> 0 | AR167: 262144 | AT167: K | AU167: 1 | AY167: ROZPOCET | BE167: =IF(U167="základná",N167,0) -> 0 | BF167: =IF(U167="znížená",N167,0) -> 0 | BG167: =IF(U167="zákl. prenesená",N167,0) -> 0 | BH167: =IF(U167="zníž. prenesená",N167,0) -> 0 | BI167: =IF(U167="nulová",N167,0) -> 0 | BJ167: 2 | BK167: =ROUND(L167*K167,3) -> 0 | BL167: 262144 | BM167: 82
D168: VP - Práce naviac | N168: =BK168 -> 0 | W168: 0 | Y168: 0 | AA168: 0 | AR168: 1 | AT168: D | AU168: 0 | AY168: ROZPOCET | BK168: 0
D169: VP - Práce naviac | N169: =BK169 -> 0 | AT169: D | AU169: 0 | AY169: PN | BK169: 0
