Workbook

Sheet Rekapitulácia stavby
A1: 2012 | D1: Hárok obsahuje: | K1: 1) Súhrnný list stavby | W1: 2) Rekapitulácia objektov | BA1: 2.0 | BB1: ZAMOK | BT1: False | BU1: False
C2: optimalizované pre tlač zostáv vo formáte A4 - na výšku | AR2: >> skryté stĺpce << | BS2: 0,001 | BT2: 20
BS3: 0,001 | BT3: 20
C4: SÚHRNNÝ LIST STAVBY | AS4: v --- nižšie sa nachádzajú doplnkové a pomocné údaje k zostavám --- v | BE4: Návod na vyplnenie | BS4: 0,001
D5: Kód: | K5: ZOS | BE5: Meniť je možné iba bunky so žltým podfarbením!_x000D_ _x000D_ 1) na prvom liste Rekapitulácie stavby vyplňte v zostave_x000D_ _x000D_ a) Súhrnný list_x000D_ - údaje o Zhotoviteľovi_x000D_ (prenesú sa do ostatných zostáv aj v iných listoch)_x000D_ _x000D_ b) Rekapitulácia objektov_x000D_ - potrebné Ostatné náklady_x000D_ _x000D_ 2) na vybraných listoch vyplňte v zostave_x000D_ _x000D_ a) Krycí list_x000D_ - údaje o Zhotoviteľovi, pokiaľ sa líšia od údajov o Zhotoviteľovi na Súhrnnom liste_x000D_ (údaje se prenesú do ostatných zostav v danom liste)_x000D_ _x000D_ b) Rekapitulácia rozpočtu_x000D_ - potrebné Ostatné náklady_x000D_ _x000D_ c) Celkové náklady za stavbu_x000D_ - ceny na položkách_x000D_ - množstvo, pokiaľ má žlté podfarbenie_x000D_ - a v prípade potreby poznámku (tá je v skrytom stĺpci) | BS5: 0,001
D6: Stavba: | K6: „Rekonštrukcia ZOS“ | BS6: 0,001
D7: JKSO: | AK7: KS: | BS7: 0,001
D8: Miesto: | K8: Partizánske | AK8: Dátum: | AN8: 5. 2. 2018 | BS8: 0,001
BS9: 0,001
D10: Objednávateľ: | AK10: IČO: | AN10: 00310905 | BS10: 0,001
E11: Mesto Partizánske | AK11: IČO DPH: | BS11: 0,001
BS12: 0,001
D13: Zhotoviteľ: | AK13: IČO: | AN13: Vyplň údaj | BS13: 0,001
E14: Vyplň údaj | AK14: IČO DPH: | AN14: Vyplň údaj | BS14: 0,001
BS15: False
D16: Projektant: | AK16: IČO: | AN16: 46549943 | BS16: False
E17: AM STUDIO s.r.o. | AK17: IČO DPH: | AN17: SK2023440364 | BS17: True
BS18: 0,01
D19: Spracovateľ: | AK19: IČO: | AN19: 46 549 943 | BS19: 0,01
E20: AM STUDIO s.r.o. | AK20: IČO DPH: | AN20: SK2023440364
D22: Poznámka:
D26: Náklady z rozpočtov | AK26: =ROUND(AG87,2) -> 0
D27: Ostatné náklady zo súhrnného listu | AK27: =ROUND(AG92,2) -> 0
D29: Cena bez DPH | AK29: =ROUND(AK26+AK27,2) -> 0
D31: DPH | F31: základná | L31: 0.2 | T31: z | W31: =ROUND(AZ87+SUM(CD93:CD97),2) -> 0 | AK31: =ROUND(AV87+SUM(BY93:BY97),2) -> 0
F32: znížená | L32: 0.2 | T32: z | W32: =ROUND(BA87+SUM(CE93:CE97),2) -> 0 | AK32: =ROUND(AW87+SUM(BZ93:BZ97),2) -> 0
F33: zákl. prenesená | L33: 0.2 | T33: z | W33: =ROUND(BB87+SUM(CF93:CF97),2) -> 0 | AK33: 0
F34: zníž. prenesená | L34: 0.2 | T34: z | W34: =ROUND(BC87+SUM(CG93:CG97),2) -> 0 | AK34: 0
F35: nulová | L35: 0 | T35: z | W35: =ROUND(BD87+SUM(CH93:CH97),2) -> 0 | AK35: 0
D37: Cena s DPH | T37: v | X37: EUR | AK37: =SUM(AK29:AK35) -> 0
D49: Projektant | AC49: Spracovateľ
D58: Dátum a podpis: | R58: Pečiatka | AC58: Dátum a podpis: | AM58: Pečiatka
D60: Objednávateľ | AC60: Zhotoviteľ
D69: Dátum a podpis: | R69: Pečiatka | AC69: Dátum a podpis: | AM69: Pečiatka
C76: REKAPITULÁCIA OBJEKTOV STAVBY
C77: Kód: | L77: =K5 -> ZOS
C78: Stavba: | L78: =K6 -> „Rekonštrukcia ZOS“
C80: Miesto: | L80: =IF(K8="","",K8) -> Partizánske | AI80: Dátum: | AM80: =IF(AN8= "","",AN8) -> 5. 2. 2018
C82: Objednávateľ: | L82: =IF(E11= "","",E11) -> Mesto Partizánske | AI82: Projektant: | AM82: =IF(E17="","",E17) -> AM STUDIO s.r.o. | AS82: Informatívne údaje z listov zákaziek
C83: Zhotoviteľ: | L83: =IF(E14= "Vyplň údaj","",E14) | AI83: Spracovateľ: | AM83: =IF(E20="","",E20) -> AM STUDIO s.r.o.
...

Sheet 1 - SO 01 - Stavebné úpravy
D1: Hárok obsahuje: | F1: 1) Krycí list rozpočtu | H1: 2) Rekapitulácia rozpočtu | L1: 3) Rozpočet | O1: Späť na hárok: | S1: Rekapitulácia stavby
C2: optimalizované pre tlač zostáv vo formáte A4 - na výšku | S2: >> skryté stĺpce << | AT2: {7263c134-0381-4b53-9096-9b18cd835759}
AT3: 0
C4: KRYCÍ LIST ROZPOČTU | T4: v --- nižšie sa nachádzajú doplnkové a pomocné údaje k zostavám --- v | AT4: False
D6: Stavba: | F6: ='Rekapitulácia stavby'!K6 -> „Rekonštrukcia ZOS“
D7: Objekt: | F7: 1 - SO 01 - Stavebné úpravy
D8: JKSO: | M8: KS:
D9: Miesto: | F9: Partizánske | M9: Dátum: | O9: ='Rekapitulácia stavby'!AN8 -> 5. 2. 2018
D11: Objednávateľ: | M11: IČO: | O11: 00310905
E12: Mesto Partizánske | M12: IČO DPH:
D14: Zhotoviteľ: | M14: IČO: | O14: =IF('Rekapitulácia stavby'!AN13="","",'Rekapitulácia stavby'!AN13) -> Vyplň údaj
E15: =IF('Rekapitulácia stavby'!E14="","",'Rekapitulácia stavby'!E14) -> Vyplň údaj | M15: IČO DPH: | O15: =IF('Rekapitulácia stavby'!AN14="","",'Rekapitulácia stavby'!AN14) -> Vyplň údaj
D17: Projektant: | M17: IČO: | O17: 46549943
E18: AM STUDIO s.r.o. | M18: IČO DPH: | O18: SK2023440364
D20: Spracovateľ: | M20: IČO: | O20: 46 549 943
E21: AM STUDIO s.r.o. | M21: IČO DPH: | O21: SK2023440364
D23: Poznámka:
D27: Náklady z rozpočtu | M27: =N88 -> 0
D28: Ostatné náklady | M28: =N105 -> 0
D30: Cena bez DPH | M30: =ROUND(M27+M28,2) -> 0
D32: DPH | E32: základná | F32: 0.2 | G32: z | H32: =(SUM(BE105:BE112)+SUM(BE130:BE238)) -> 0 | M32: =ROUND((SUM(BE105:BE112)+SUM(BE130:BE238)), 2)*F32 -> 0
E33: znížená | F33: 0.2 | G33: z | H33: =(SUM(BF105:BF112)+SUM(BF130:BF238)) -> 0 | M33: =ROUND((SUM(BF105:BF112)+SUM(BF130:BF238)), 2)*F33 -> 0
E34: zákl. prenesená | F34: 0.2 | G34: z | H34: =(SUM(BG105:BG112)+SUM(BG130:BG238)) -> 0 | M34: 0
E35: zníž. prenesená | F35: 0.2 | G35: z | H35: =(SUM(BH105:BH112)+SUM(BH130:BH238)) -> 0 | M35: 0
E36: nulová | F36: 0 | G36: z | H36: =(SUM(BI105:BI112)+SUM(BI130:BI238)) -> 0 | M36: 0
D38: Cena s DPH | G38: v | H38: EUR | L38: =SUM(M30:M36) -> 0
D50: Projektant | J50: Spracovateľ
D59: Dátum a podpis: | G59: Pečiatka | J59: Dátum a podpis: | N59: Pečiatka
D61: Objednávateľ | J61: Zhotoviteľ
D70: Dátum a podpis: | G70: Pečiatka | J70: Dátum a podpis: | N70: Pečiatka
C76: REKAPITULÁCIA ROZPOČTU
C78: Stavba: | F78: =F6 -> „Rekonštrukcia ZOS“
C79: Objekt: | F79: =F7 -> 1 - SO 01 - Stavebné úpravy
C81: Miesto: | F81: =F9 -> Partizánske | K81: Dátum: | M81: =IF(O9="","",O9) -> 5. 2. 2018
C83: Objednávateľ: | F83: =E12 -> Mesto Partizánske | K83: Projektant: | M83: =E18 -> AM STUDIO s.r.o.
C84: Zhotoviteľ: | F84: =IF(E15="","",E15) -> Vyplň údaj | K84: Spracovateľ: | M84: =E21 -> AM STUDIO s.r.o.
C86: Kód - Popis | N86: Cena celkom [EUR]
C88: 1) Náklady z rozpočtu | N88: =N130 -> 0 | AU88: -1
D89: HSV - Práce a dodávky HSV | N89: =N131 -> 0
D90: 3 - Zvislé a kompletné konštrukcie | N90: =N132 -> 0
...

Sheet 2 - SO 02 - Zdravotechnika
D1: Hárok obsahuje: | F1: 1) Krycí list rozpočtu | H1: 2) Rekapitulácia rozpočtu | L1: 3) Rozpočet | O1: Späť na hárok: | S1: Rekapitulácia stavby
C2: optimalizované pre tlač zostáv vo formáte A4 - na výšku | S2: >> skryté stĺpce << | AT2: {bd2049ea-4e77-45c6-8bed-71f544fd8dd2}
AT3: 0
C4: KRYCÍ LIST ROZPOČTU | T4: v --- nižšie sa nachádzajú doplnkové a pomocné údaje k zostavám --- v | AT4: False
D6: Stavba: | F6: ='Rekapitulácia stavby'!K6 -> „Rekonštrukcia ZOS“
D7: Objekt: | F7: 2 - SO 02 - Zdravotechnika
D8: JKSO: | M8: KS:
D9: Miesto: | F9: Partizánske | M9: Dátum: | O9: ='Rekapitulácia stavby'!AN8 -> 5. 2. 2018
D11: Objednávateľ: | M11: IČO: | O11: 00310905
E12: Mesto Partizánske | M12: IČO DPH:
D14: Zhotoviteľ: | M14: IČO: | O14: =IF('Rekapitulácia stavby'!AN13="","",'Rekapitulácia stavby'!AN13) -> Vyplň údaj
E15: =IF('Rekapitulácia stavby'!E14="","",'Rekapitulácia stavby'!E14) -> Vyplň údaj | M15: IČO DPH: | O15: =IF('Rekapitulácia stavby'!AN14="","",'Rekapitulácia stavby'!AN14) -> Vyplň údaj
D17: Projektant: | M17: IČO: | O17: 46549943
E18: AM STUDIO s.r.o. | M18: IČO DPH: | O18: SK2023440364
D20: Spracovateľ: | M20: IČO: | O20: 46 549 943
E21: AM STUDIO s.r.o. | M21: IČO DPH: | O21: SK2023440364
D23: Poznámka:
D27: Náklady z rozpočtu | M27: =N88 -> 0
D28: Ostatné náklady | M28: =N96 -> 0
D30: Cena bez DPH | M30: =ROUND(M27+M28,2) -> 0
D32: DPH | E32: základná | F32: 0.2 | G32: z | H32: =(SUM(BE96:BE103)+SUM(BE121:BE200)) -> 0 | M32: =ROUND((SUM(BE96:BE103)+SUM(BE121:BE200)), 2)*F32 -> 0
E33: znížená | F33: 0.2 | G33: z | H33: =(SUM(BF96:BF103)+SUM(BF121:BF200)) -> 0 | M33: =ROUND((SUM(BF96:BF103)+SUM(BF121:BF200)), 2)*F33 -> 0
E34: zákl. prenesená | F34: 0.2 | G34: z | H34: =(SUM(BG96:BG103)+SUM(BG121:BG200)) -> 0 | M34: 0
E35: zníž. prenesená | F35: 0.2 | G35: z | H35: =(SUM(BH96:BH103)+SUM(BH121:BH200)) -> 0 | M35: 0
E36: nulová | F36: 0 | G36: z | H36: =(SUM(BI96:BI103)+SUM(BI121:BI200)) -> 0 | M36: 0
D38: Cena s DPH | G38: v | H38: EUR | L38: =SUM(M30:M36) -> 0
D50: Projektant | J50: Spracovateľ
D59: Dátum a podpis: | G59: Pečiatka | J59: Dátum a podpis: | N59: Pečiatka
D61: Objednávateľ | J61: Zhotoviteľ
D70: Dátum a podpis: | G70: Pečiatka | J70: Dátum a podpis: | N70: Pečiatka
C76: REKAPITULÁCIA ROZPOČTU
C78: Stavba: | F78: =F6 -> „Rekonštrukcia ZOS“
C79: Objekt: | F79: =F7 -> 2 - SO 02 - Zdravotechnika
C81: Miesto: | F81: =F9 -> Partizánske | K81: Dátum: | M81: =IF(O9="","",O9) -> 5. 2. 2018
C83: Objednávateľ: | F83: =E12 -> Mesto Partizánske | K83: Projektant: | M83: =E18 -> AM STUDIO s.r.o.
C84: Zhotoviteľ: | F84: =IF(E15="","",E15) -> Vyplň údaj | K84: Spracovateľ: | M84: =E21 -> AM STUDIO s.r.o.
C86: Kód - Popis | N86: Cena celkom [EUR]
C88: 1) Náklady z rozpočtu | N88: =N121 -> 0 | AU88: -1
D89: 97 - Prerazenie otvorov a ostatné búracie práce | N89: =N122 -> 0
D90: 713 - Izolácie tepelné | N90: =N136 -> 0
...

Sheet 3 - SO 03 - Elektromontáž...
D1: Hárok obsahuje: | F1: 1) Krycí list rozpočtu | H1: 2) Rekapitulácia rozpočtu | L1: 3) Rozpočet | O1: Späť na hárok: | S1: Rekapitulácia stavby
C2: optimalizované pre tlač zostáv vo formáte A4 - na výšku | S2: >> skryté stĺpce << | AT2: {05bf1c7d-80a1-4b56-ae3b-7b1c118336f4}
AT3: 0
C4: KRYCÍ LIST ROZPOČTU | T4: v --- nižšie sa nachádzajú doplnkové a pomocné údaje k zostavám --- v | AT4: False
D6: Stavba: | F6: ='Rekapitulácia stavby'!K6 -> „Rekonštrukcia ZOS“
D7: Objekt: | F7: 3 - SO 03 - Elektromontážne práce
D8: JKSO: | M8: KS:
D9: Miesto: | F9: Partizánske | M9: Dátum: | O9: ='Rekapitulácia stavby'!AN8 -> 5. 2. 2018
D11: Objednávateľ: | M11: IČO: | O11: 00310905
E12: Mesto Partizánske | M12: IČO DPH:
D14: Zhotoviteľ: | M14: IČO: | O14: =IF('Rekapitulácia stavby'!AN13="","",'Rekapitulácia stavby'!AN13) -> Vyplň údaj
E15: =IF('Rekapitulácia stavby'!E14="","",'Rekapitulácia stavby'!E14) -> Vyplň údaj | M15: IČO DPH: | O15: =IF('Rekapitulácia stavby'!AN14="","",'Rekapitulácia stavby'!AN14) -> Vyplň údaj
D17: Projektant: | M17: IČO: | O17: 46549943
E18: AM STUDIO s.r.o. | M18: IČO DPH: | O18: SK2023440364
D20: Spracovateľ: | M20: IČO: | O20: 46 549 943
E21: AM STUDIO s.r.o. | M21: IČO DPH: | O21: SK2023440364
D23: Poznámka:
D27: Náklady z rozpočtu | M27: =N88 -> 0
D28: Ostatné náklady | M28: =N96 -> 0
D30: Cena bez DPH | M30: =ROUND(M27+M28,2) -> 0
D32: DPH | E32: základná | F32: 0.2 | G32: z | H32: =(SUM(BE96:BE103)+SUM(BE121:BE168)) -> 0 | M32: =ROUND((SUM(BE96:BE103)+SUM(BE121:BE168)), 2)*F32 -> 0
E33: znížená | F33: 0.2 | G33: z | H33: =(SUM(BF96:BF103)+SUM(BF121:BF168)) -> 0 | M33: =ROUND((SUM(BF96:BF103)+SUM(BF121:BF168)), 2)*F33 -> 0
E34: zákl. prenesená | F34: 0.2 | G34: z | H34: =(SUM(BG96:BG103)+SUM(BG121:BG168)) -> 0 | M34: 0
E35: zníž. prenesená | F35: 0.2 | G35: z | H35: =(SUM(BH96:BH103)+SUM(BH121:BH168)) -> 0 | M35: 0
E36: nulová | F36: 0 | G36: z | H36: =(SUM(BI96:BI103)+SUM(BI121:BI168)) -> 0 | M36: 0
D38: Cena s DPH | G38: v | H38: EUR | L38: =SUM(M30:M36) -> 0
D50: Projektant | J50: Spracovateľ
D59: Dátum a podpis: | G59: Pečiatka | J59: Dátum a podpis: | N59: Pečiatka
D61: Objednávateľ | J61: Zhotoviteľ
D70: Dátum a podpis: | G70: Pečiatka | J70: Dátum a podpis: | N70: Pečiatka
C76: REKAPITULÁCIA ROZPOČTU
C78: Stavba: | F78: =F6 -> „Rekonštrukcia ZOS“
C79: Objekt: | F79: =F7 -> 3 - SO 03 - Elektromontážne práce
C81: Miesto: | F81: =F9 -> Partizánske | K81: Dátum: | M81: =IF(O9="","",O9) -> 5. 2. 2018
C83: Objednávateľ: | F83: =E12 -> Mesto Partizánske | K83: Projektant: | M83: =E18 -> AM STUDIO s.r.o.
C84: Zhotoviteľ: | F84: =IF(E15="","",E15) -> Vyplň údaj | K84: Spracovateľ: | M84: =E21 -> AM STUDIO s.r.o.
C86: Kód - Popis | N86: Cena celkom [EUR]
C88: 1) Náklady z rozpočtu | N88: =N121 -> 0 | AU88: -1
D89: HSV - Práce a dodávky HSV | N89: =N122 -> 0
D90: 9 - Ostatné konštrukcie a práce-búranie | N90: =N123 -> 0
...
