Workbook

Sheet Rekapitulácia stavby
A1: 2012 | D1: Hárok obsahuje: | K1: 1) Súhrnný list stavby | W1: 2) Rekapitulácia objektov | BA1: 2.0 | BB1: ZAMOK | BT1: False | BU1: False
C2: optimalizované pre tlač zostáv vo formáte A4 - na výšku | AR2: >> skryté stĺpce << | BS2: 0,001 | BT2: 20
BS3: 0,001 | BT3: 20
C4: SÚHRNNÝ LIST STAVBY | AS4: v --- nižšie sa nachádzajú doplnkové a pomocné údaje k zostavám --- v | BE4: Návod na vyplnenie | BS4: 0,001
D5: Kód: | K5: 2017-077 | BE5: Meniť je možné iba bunky so žltým podfarbením!_x000D_ _x000D_ 1) na prvom liste Rekapitulácie stavby vyplňte v zostave_x000D_ _x000D_ a) Súhrnný list_x000D_ - údaje o Zhotoviteľovi_x000D_ (prenesú sa do ostatných zostáv aj v iných listoch)_x000D_ _x000D_ b) Rekapitulácia objektov_x000D_ - potrebné Ostatné náklady_x000D_ _x000D_ 2) na vybraných listoch vyplňte v zostave_x000D_ _x000D_ a) Krycí list_x000D_ - údaje o Zhotoviteľovi, pokiaľ sa líšia od údajov o Zhotoviteľovi na Súhrnnom liste_x000D_ (údaje se prenesú do ostatných zostav v danom liste)_x000D_ _x000D_ b) Rekapitulácia rozpočtu_x000D_ - potrebné Ostatné náklady_x000D_ _x000D_ c) Celkové náklady za stavbu_x000D_ - ceny na položkách_x000D_ - množstvo, pokiaľ má žlté podfarbenie_x000D_ - a v prípade potreby poznámku (tá je v skrytom stĺpci) | BS5: 0,001
D6: Stavba: | K6: Spevnená plocha pre pozdĺžne státie 44 x 2,4 m pri OB 422 na Obuvníckej ul. | BS6: 0,001
D7: JKSO: | AK7: KS: | BS7: 0,001
D8: Miesto: | AK8: Dátum: | AN8: 29. 3. 2017 | BS8: 0,001
BS9: 0,001
D10: Objednávateľ: | AK10: IČO: | BS10: 0,001
E11: Mesto Partizánske | AK11: IČO DPH: | BS11: 0,001
BS12: 0,001
D13: Zhotoviteľ: | AK13: IČO: | AN13: Vyplň údaj | BS13: 0,001
E14: Vyplň údaj | AK14: IČO DPH: | AN14: Vyplň údaj | BS14: 0,001
BS15: False
D16: Projektant: | AK16: IČO: | BS16: False
AK17: IČO DPH: | BS17: True
BS18: 0,01
D19: Spracovateľ: | AK19: IČO: | BS19: 0,01
AK20: IČO DPH:
D22: Poznámka:
D26: Náklady z rozpočtov | AK26: =ROUND(AG87,2) -> 0
D27: Ostatné náklady zo súhrnného listu | AK27: =ROUND(AG90,2) -> 0
D29: Cena bez DPH | AK29: =ROUND(AK26+AK27,2) -> 0
D31: DPH | F31: základná | L31: 0.2 | T31: z | W31: =ROUND(AZ87+SUM(CD91:CD95),2) -> 0 | AK31: =ROUND(AV87+SUM(BY91:BY95),2) -> 0
F32: znížená | L32: 0.2 | T32: z | W32: =ROUND(BA87+SUM(CE91:CE95),2) -> 0 | AK32: =ROUND(AW87+SUM(BZ91:BZ95),2) -> 0
F33: zákl. prenesená | L33: 0.2 | T33: z | W33: =ROUND(BB87+SUM(CF91:CF95),2) -> 0 | AK33: 0
F34: zníž. prenesená | L34: 0.2 | T34: z | W34: =ROUND(BC87+SUM(CG91:CG95),2) -> 0 | AK34: 0
F35: nulová | L35: 0 | T35: z | W35: =ROUND(BD87+SUM(CH91:CH95),2) -> 0 | AK35: 0
D37: Cena s DPH | T37: v | X37: EUR | AK37: =SUM(AK29:AK35) -> 0
D49: Projektant | AC49: Spracovateľ
D58: Dátum a podpis: | R58: Pečiatka | AC58: Dátum a podpis: | AM58: Pečiatka
D60: Objednávateľ | AC60: Zhotoviteľ
D69: Dátum a podpis: | R69: Pečiatka | AC69: Dátum a podpis: | AM69: Pečiatka
C76: REKAPITULÁCIA OBJEKTOV STAVBY
C77: Kód: | L77: =K5 -> 2017-077
C78: Stavba: | L78: =K6 -> Spevnená plocha pre pozdĺžne státie 44 x 2,4 m pri OB 422 na Obuvníckej ul.
C80: Miesto: | L80: =IF(K8="","",K8) | AI80: Dátum: | AM80: =IF(AN8= "","",AN8) -> 29. 3. 2017
C82: Objednávateľ: | L82: =IF(E11= "","",E11) -> Mesto Partizánske | AI82: Projektant: | AM82: =IF(E17="","",E17) | AS82: Informatívne údaje z listov zákaziek
C83: Zhotoviteľ: | L83: =IF(E14= "Vyplň údaj","",E14) | AI83: Spracovateľ: | AM83: =IF(E20="","",E20)
C85: Kód | I85: Objekt | AG85: Cena bez DPH [EUR] | AN85: Cena s DPH [EUR] | AS85: z toho Ostat._x000D_ náklady [EUR] | AT85: DPH [EUR] | AU85: Normohodiny [h] | AV85: DPH základná [EUR] | AW85: DPH znížená [EUR] | AX85: DPH základná prenesená_x000D_ [EUR] | AY85: DPH znížená prenesená_x000D_ [EUR] | AZ85: Základňa_x000D_ DPH základná | BA85: Základňa_x000D_ DPH znížená | BB85: Základňa_x000D_ DPH zákl. prenesená | BC85: Základňa_x000D_ DPH zníž. prenesená | BD85: Základňa_x000D_ DPH nulová
C87: 1) Náklady z rozpočtov | AG87: =ROUND(AG88,2) -> 0 | AN87: =SUM(AG87,AT87) -> 0 | AS87: =ROUND(AS88,2) -> 0 | AT87: =ROUND(SUM(AV87:AW87),2) -> 0 | AU87: =ROUND(AU88,5) -> 0 | AV87: =ROUND(AZ87*L31,2) -> 0 | AW87: =ROUND(BA87*L32,2) -> 0 | AX87: =ROUND(BB87*L31,2) -> 0 | AY87: =ROUND(BC87*L32,2) -> 0 | AZ87: =ROUND(AZ88,2) -> 0 | BA87: =ROUND(BA88,2) -> 0 | BB87: =ROUND(BB88,2) -> 0 | BC87: =ROUND(BC88,2) -> 0 | BD87: =ROUND(BD88,2) -> 0 | BS87: D | BT87: 0 | BV87: IMPORT | BW87: {f97f1f66-94c2-434a-87b6-e80919a3169f} | BX87: {00000000-0000-0000-0000-000000000000}
A88: / | D88: 2017-077 | J88: Spevnená plocha pre pozdĺžne státie 44 x 2,4 m pri OB 422 na Obuvníckej ul. | AG88: ='2017-077 - Spevnená ploch...'!M29 -> 0 | AN88: =SUM(AG88,AT88) -> 0 | AS88: ='2017-077 - Spevnená ploch...'!M27 -> 0 | AT88: =ROUND(SUM(AV88:AW88),2) -> 0 | AU88: ='2017-077 - Spevnená ploch...'!W119 -> 0 | AV88: ='2017-077 - Spevnená ploch...'!M31 -> 0 | AW88: ='2017-077 - Spevnená ploch...'!M32 -> 0 | AX88: ='2017-077 - Spevnená ploch...'!M33 -> 0 | AY88: ='2017-077 - Spevnená ploch...'!M34 -> 0 | AZ88: ='2017-077 - Spevnená ploch...'!H31 -> 0 | BA88: ='2017-077 - Spevnená ploch...'!H32 -> 0 | BB88: ='2017-077 - Spevnená ploch...'!H33 -> 0 | BC88: ='2017-077 - Spevnená ploch...'!H34 -> 0 | BD88: ='2017-077 - Spevnená ploch...'!H35 -> 0 | BT88: 1 | BU88: ###NOINSERT### | BV88: IMPORT | BW88: {f97f1f66-94c2-434a-87b6-e80919a3169f} | BX88: {00000000-0000-0000-0000-000000000000}
C90: 2) Ostatné náklady zo súhrnného listu | AG90: =ROUND(SUM(AG91:AG94),2) -> 0 | AN90: =ROUND(SUM(AN91:AN94),2) -> 0 | AS90: Percent. zadanie_x000D_ [% nákladov rozpočtu] | AT90: Zaradenie nákladov | AU90: DPH | AV90: DPH [EUR]
D91: Ostatné náklady | AG91: =ROUND(AG87*AS91,2) -> 0 | AN91: =ROUND(AG91+AV91,2) -> 0 | AS91: 0 | AT91: stavebná časť | AU91: základná | AV91: =ROUND(IF(AU91="základná",AG91*L31,IF(AU91="znížená",AG91*L32,0)),2) -> 0 | BV91: OSTATNENAKLADY | BY91: =IF(AU91="základná",AV91,0) -> 0 | BZ91: =IF(AU91="znížená",AV91,0) -> 0 | CA91: 0 | CB91: 0 | CC91: 0 | CD91: =IF(AU91="základná",AG91,0) -> 0 | CE91: =IF(AU91="znížená",AG91,0) -> 0 | CF91: =IF(AU91="zákl. prenesená",AG91,0) -> 0 | CG91: =IF(AU91="zníž. prenesená",AG91,0) -> 0 | CH91: =IF(AU91="nulová",AG91,0) -> 0 | CI91: =IF(AU91="základná",1,IF(AU91="znížená",2,IF(AU91="zákl. prenesená",4,IF(AU91="zníž. prenesená",5,3)))) -> 1 | CJ91: =IF(AT91="stavebná časť",1,IF(8891="investičná časť",2,3)) -> 1 | CK91: =IF(D91="Vyplň vlastné","","x") -> x
D92: Vyplň vlastné | AG92: =AG87*AS92 -> 0 | AN92: =AG92+AV92 -> 0 | AS92: 0 | AT92: stavebná časť | AU92: základná | AV92: =ROUND(IF(AU92="nulová",0,IF(OR(AU92="základná",AU92="zákl. prenesená"),AG92*L31,AG92*L32)),2) -> 0 | BV92: OSTATNENAKLADYVLASTNE | BY92: =IF(AU92="základná",AV92,0) -> 0 | BZ92: =IF(AU92="znížená",AV92,0) -> 0 | CA92: =IF(AU92="zákl. prenesená",AV92,0) -> 0 | CB92: =IF(AU92="zníž. prenesená",AV92,0) -> 0 | CC92: =IF(AU92="nulová",AV92,0) -> 0 | CD92: =IF(AU92="základná",AG92,0) -> 0 | CE92: =IF(AU92="znížená",AG92,0) -> 0 | CF92: =IF(AU92="zákl. prenesená",AG92,0) -> 0 | CG92: =IF(AU92="zníž. prenesená",AG92,0) -> 0 | CH92: =IF(AU92="nulová",AG92,0) -> 0 | CI92: =IF(AU92="základná",1,IF(AU92="znížená",2,IF(AU92="zákl. prenesená",4,IF(AU92="zníž. prenesená",5,3)))) -> 1 | CJ92: =IF(AT92="stavebná časť",1,IF(8892="investičná časť",2,3)) -> 1 | CK92: =IF(D92="Vyplň vlastné","","x")
D93: Vyplň vlastné | AG93: =AG87*AS93 -> 0 | AN93: =AG93+AV93 -> 0 | AS93: 0 | AT93: stavebná časť | AU93: základná | AV93: =ROUND(IF(AU93="nulová",0,IF(OR(AU93="základná",AU93="zákl. prenesená"),AG93*L31,AG93*L32)),2) -> 0 | BV93: OSTATNENAKLADYVLASTNE | BY93: =IF(AU93="základná",AV93,0) -> 0 | BZ93: =IF(AU93="znížená",AV93,0) -> 0 | CA93: =IF(AU93="zákl. prenesená",AV93,0) -> 0 | CB93: =IF(AU93="zníž. prenesená",AV93,0) -> 0 | CC93: =IF(AU93="nulová",AV93,0) -> 0 | CD93: =IF(AU93="základná",AG93,0) -> 0 | CE93: =IF(AU93="znížená",AG93,0) -> 0 | CF93: =IF(AU93="zákl. prenesená",AG93,0) -> 0 | CG93: =IF(AU93="zníž. prenesená",AG93,0) -> 0 | CH93: =IF(AU93="nulová",AG93,0) -> 0 | CI93: =IF(AU93="základná",1,IF(AU93="znížená",2,IF(AU93="zákl. prenesená",4,IF(AU93="zníž. prenesená",5,3)))) -> 1 | CJ93: =IF(AT93="stavebná časť",1,IF(8893="investičná časť",2,3)) -> 1 | CK93: =IF(D93="Vyplň vlastné","","x")
D94: Vyplň vlastné | AG94: =AG87*AS94 -> 0 | AN94: =AG94+AV94 -> 0 | AS94: 0 | AT94: stavebná časť | AU94: základná | AV94: =ROUND(IF(AU94="nulová",0,IF(OR(AU94="základná",AU94="zákl. prenesená"),AG94*L31,AG94*L32)),2) -> 0 | BV94: OSTATNENAKLADYVLASTNE | BY94: =IF(AU94="základná",AV94,0) -> 0 | BZ94: =IF(AU94="znížená",AV94,0) -> 0 | CA94: =IF(AU94="zákl. prenesená",AV94,0) -> 0 | CB94: =IF(AU94="zníž. prenesená",AV94,0) -> 0 | CC94: =IF(AU94="nulová",AV94,0) -> 0 | CD94: =IF(AU94="základná",AG94,0) -> 0 | CE94: =IF(AU94="znížená",AG94,0) -> 0 | CF94: =IF(AU94="zákl. prenesená",AG94,0) -> 0 | CG94: =IF(AU94="zníž. prenesená",AG94,0) -> 0 | CH94: =IF(AU94="nulová",AG94,0) -> 0 | CI94: =IF(AU94="základná",1,IF(AU94="znížená",2,IF(AU94="zákl. prenesená",4,IF(AU94="zníž. prenesená",5,3)))) -> 1 | CJ94: =IF(AT94="stavebná časť",1,IF(8894="investičná časť",2,3)) -> 1 | CK94: =IF(D94="Vyplň vlastné","","x")
C96: Celkové náklady za stavbu 1) + 2) | AG96: =ROUND(AG87+AG90,2) -> 0 | AN96: =AN87+AN90 -> 0

Sheet 2017-077 - Spevnená ploch...
D1: Hárok obsahuje: | F1: 1) Krycí list rozpočtu | H1: 2) Rekapitulácia rozpočtu | L1: 3) Rozpočet | O1: Späť na hárok: | S1: Rekapitulácia stavby
C2: optimalizované pre tlač zostáv vo formáte A4 - na výšku | S2: >> skryté stĺpce << | AT2: {f97f1f66-94c2-434a-87b6-e80919a3169f}
AT3: 0
C4: KRYCÍ LIST ROZPOČTU | T4: v --- nižšie sa nachádzajú doplnkové a pomocné údaje k zostavám --- v | AT4: False
D6: Stavba: | F6: Spevnená plocha pre pozdĺžne státie 44 x 2,4 m pri OB 422 na Obuvníckej ul.
D7: JKSO: | M7: KS:
D8: Miesto: | M8: Dátum: | O8: ='Rekapitulácia stavby'!AN8 -> 29. 3. 2017
D10: Objednávateľ: | M10: IČO:
E11: Mesto Partizánske | M11: IČO DPH:
D13: Zhotoviteľ: | M13: IČO: | O13: =IF('Rekapitulácia stavby'!AN13="","",'Rekapitulácia stavby'!AN13) -> Vyplň údaj
E14: =IF('Rekapitulácia stavby'!E14="","",'Rekapitulácia stavby'!E14) -> Vyplň údaj | M14: IČO DPH: | O14: =IF('Rekapitulácia stavby'!AN14="","",'Rekapitulácia stavby'!AN14) -> Vyplň údaj
D16: Projektant: | M16: IČO: | O16: =IF('Rekapitulácia stavby'!AN16="","",'Rekapitulácia stavby'!AN16)
E17: =IF('Rekapitulácia stavby'!E17="","",'Rekapitulácia stavby'!E17) | M17: IČO DPH: | O17: =IF('Rekapitulácia stavby'!AN17="","",'Rekapitulácia stavby'!AN17)
D19: Spracovateľ: | M19: IČO: | O19: =IF('Rekapitulácia stavby'!AN19="","",'Rekapitulácia stavby'!AN19)
E20: =IF('Rekapitulácia stavby'!E20="","",'Rekapitulácia stavby'!E20) | M20: IČO DPH: | O20: =IF('Rekapitulácia stavby'!AN20="","",'Rekapitulácia stavby'!AN20)
D22: Poznámka:
D26: Náklady z rozpočtu | M26: =N87 -> 0
D27: Ostatné náklady | M27: =N95 -> 0
D29: Cena bez DPH | M29: =ROUND(M26+M27,2) -> 0
D31: DPH | E31: základná | F31: 0.2 | G31: z | H31: =ROUND((((SUM(BE95:BE102)+SUM(BE119:BE137))+SUM(BE139:BE143))),2) -> 0 | M31: =ROUND(((ROUND((SUM(BE95:BE102)+SUM(BE119:BE137)), 2)*F31)+SUM(BE139:BE143)*F31),2) -> 0
E32: znížená | F32: 0.2 | G32: z | H32: =ROUND((((SUM(BF95:BF102)+SUM(BF119:BF137))+SUM(BF139:BF143))),2) -> 0 | M32: =ROUND(((ROUND((SUM(BF95:BF102)+SUM(BF119:BF137)), 2)*F32)+SUM(BF139:BF143)*F32),2) -> 0
E33: zákl. prenesená | F33: 0.2 | G33: z | H33: =ROUND((((SUM(BG95:BG102)+SUM(BG119:BG137))+SUM(BG139:BG143))),2) -> 0 | M33: 0
E34: zníž. prenesená | F34: 0.2 | G34: z | H34: =ROUND((((SUM(BH95:BH102)+SUM(BH119:BH137))+SUM(BH139:BH143))),2) -> 0 | M34: 0
E35: nulová | F35: 0 | G35: z | H35: =ROUND((((SUM(BI95:BI102)+SUM(BI119:BI137))+SUM(BI139:BI143))),2) -> 0 | M35: 0
D37: Cena s DPH | G37: v | H37: EUR | L37: =SUM(M29:M35) -> 0
D50: Projektant | J50: Spracovateľ
D59: Dátum a podpis: | G59: Pečiatka | J59: Dátum a podpis: | N59: Pečiatka
D61: Objednávateľ | J61: Zhotoviteľ
D70: Dátum a podpis: | G70: Pečiatka | J70: Dátum a podpis: | N70: Pečiatka
C76: REKAPITULÁCIA ROZPOČTU
C78: Stavba: | F78: =F6 -> Spevnená plocha pre pozdĺžne státie 44 x 2,4 m pri OB 422 na Obuvníckej ul.
C80: Miesto: | F80: =F8 | K80: Dátum: | M80: =IF(O8="","",O8) -> 29. 3. 2017
C82: Objednávateľ: | F82: =E11 -> Mesto Partizánske | K82: Projektant: | M82: =E17
C83: Zhotoviteľ: | F83: =IF(E14="","",E14) -> Vyplň údaj | K83: Spracovateľ: | M83: =E20
C85: Kód - Popis | N85: Cena celkom [EUR]
C87: 1) Náklady z rozpočtu | N87: =N119 -> 0 | AU87: -1
D88: HSV - Práce a dodávky HSV | N88: =N120 -> 0
D89: 1 - Zemné práce | N89: =N121 -> 0
D90: 5 - Komunikácie | N90: =N127 -> 0
D91: 9 - Ostatné konštrukcie a práce-búranie | N91: =N133 -> 0
D92: 99 - Presun hmôt HSV | N92: =N136 -> 0
D93: VP - Práce naviac | N93: =N138 -> 0
C95: 2) Ostatné náklady | N95: =ROUND(N96+N97+N98+N99+N100+N101,2) -> 0 | U95: DPH
D96: GZS | N96: =ROUND(N87*T96,2) -> 0 | U96: znížená | AY96: VRN | BE96: =IF(U96="základná",N96,0) -> 0 | BF96: =IF(U96="znížená",N96,0) -> 0 | BG96: =IF(U96="zákl. prenesená",N96,0) -> 0 | BH96: =IF(U96="zníž. prenesená",N96,0) -> 0 | BI96: =IF(U96="nulová",N96,0) -> 0 | BJ96: 2
D97: Projektové práce | N97: =ROUND(N87*T97,2) -> 0 | U97: znížená | AY97: VRN | BE97: =IF(U97="základná",N97,0) -> 0 | BF97: =IF(U97="znížená",N97,0) -> 0 | BG97: =IF(U97="zákl. prenesená",N97,0) -> 0 | BH97: =IF(U97="zníž. prenesená",N97,0) -> 0 | BI97: =IF(U97="nulová",N97,0) -> 0 | BJ97: 2
D98: Sťažené podmienky | N98: =ROUND(N87*T98,2) -> 0 | U98: znížená | AY98: VRN | BE98: =IF(U98="základná",N98,0) -> 0 | BF98: =IF(U98="znížená",N98,0) -> 0 | BG98: =IF(U98="zákl. prenesená",N98,0) -> 0 | BH98: =IF(U98="zníž. prenesená",N98,0) -> 0 | BI98: =IF(U98="nulová",N98,0) -> 0 | BJ98: 2
D99: Vplyv prostredia | N99: =ROUND(N87*T99,2) -> 0 | U99: znížená | AY99: VRN | BE99: =IF(U99="základná",N99,0) -> 0 | BF99: =IF(U99="znížená",N99,0) -> 0 | BG99: =IF(U99="zákl. prenesená",N99,0) -> 0 | BH99: =IF(U99="zníž. prenesená",N99,0) -> 0 | BI99: =IF(U99="nulová",N99,0) -> 0 | BJ99: 2
D100: Iné VRN | N100: =ROUND(N87*T100,2) -> 0 | U100: znížená | AY100: VRN | BE100: =IF(U100="základná",N100,0) -> 0 | BF100: =IF(U100="znížená",N100,0) -> 0 | BG100: =IF(U100="zákl. prenesená",N100,0) -> 0 | BH100: =IF(U100="zníž. prenesená",N100,0) -> 0 | BI100: =IF(U100="nulová",N100,0) -> 0 | BJ100: 2
D101: Kompletačná činnosť | N101: =ROUND(N87*T101,2) -> 0 | U101: znížená | AY101: KOMPLETACNA | BE101: =IF(U101="základná",N101,0) -> 0 | BF101: =IF(U101="znížená",N101,0) -> 0 | BG101: =IF(U101="zákl. prenesená",N101,0) -> 0 | BH101: =IF(U101="zníž. prenesená",N101,0) -> 0 | BI101: =IF(U101="nulová",N101,0) -> 0 | BJ101: 2
C103: Celkové náklady za stavbu 1) + 2) | L103: =ROUND(SUM(N87+N95),2) -> 0
C109: ROZPOČET
C111: Stavba: | F111: =F6 -> Spevnená plocha pre pozdĺžne státie 44 x 2,4 m pri OB 422 na Obuvníckej ul.
C113: Miesto: | F113: =F8 | K113: Dátum: | M113: =IF(O8="","",O8) -> 29. 3. 2017
C115: Objednávateľ: | F115: =E11 -> Mesto Partizánske | K115: Projektant: | M115: =E17
C116: Zhotoviteľ: | F116: =IF(E14="","",E14) -> Vyplň údaj | K116: Spracovateľ: | M116: =E20
C118: PČ | D118: Typ | E118: Kód | F118: Popis | J118: MJ | K118: Množstvo | L118: J.cena [EUR] | N118: Cena celkom [EUR] | T118: Poznámka | U118: DPH | V118: J. Nh [h] | W118: Nh celkom [h] | X118: J. hmotnosť_x000D_ [t] | Y118: Hmotnosť_x000D_ celkom [t] | Z118: J. suť [t] | AA118: Suť Celkom [t]
C119: Náklady z rozpočtu | N119: =BK119 -> 0 | W119: =W120+W138 -> 0 | Y119: =Y120+Y138 -> 86.55877 | AA119: =AA120+AA138 -> 0 | AT119: D | AU119: -1 | BK119: =BK120+BK138 -> 0
D120: HSV - Práce a dodávky HSV | N120: =BK120 -> 0 | W120: =W121+W127+W133+W136 -> 0 | Y120: =Y121+Y127+Y133+Y136 -> 86.55877 | AA120: =AA121+AA127+AA133+AA136 -> 0 | AR120: 1 | AT120: D | AU120: 0 | AY120: ROZPOCET | BK120: =BK121+BK127+BK133+BK136 -> 0
D121: 1 - Zemné práce | N121: =BK121 -> 0 | W121: =SUM(W122:W126) -> 0 | Y121: =SUM(Y122:Y126) -> 0 | AA121: =SUM(AA122:AA126) -> 0 | AR121: 1 | AT121: D | AU121: 1 | AY121: ROZPOCET | BK121: =SUM(BK122:BK126) -> 0
C122: 1 | D122: K | E122: 122201101 | F122: Odkopávka a prekopávka nezapažená v hornine 3, do 100 m3 | J122: m3 | K122: 39.9 | L122: 0 | N122: =ROUND(L122*K122,3) -> 0 | U122: znížená | W122: =V122*K122 -> 0 | X122: 0 | Y122: =X122*K122 -> 0 | Z122: 0 | AA122: =Z122*K122 -> 0 | AR122: 4 | AT122: K | AU122: 2 | AY122: ROZPOCET | BE122: =IF(U122="základná",N122,0) -> 0 | BF122: =IF(U122="znížená",N122,0) -> 0 | BG122: =IF(U122="zákl. prenesená",N122,0) -> 0 | BH122: =IF(U122="zníž. prenesená",N122,0) -> 0 | BI122: =IF(U122="nulová",N122,0) -> 0 | BJ122: 2 | BK122: =ROUND(L122*K122,3) -> 0 | BL122: 4 | BM122: 1357311342
C123: 2 | D123: K | E123: 122201109 | F123: Odkopávky a prekopávky nezapažené. Príplatok k cenám za lepivosť horniny 3 | J123: m3 | K123: 39.9 | L123: 0 | N123: =ROUND(L123*K123,3) -> 0 | U123: znížená | W123: =V123*K123 -> 0 | X123: 0 | Y123: =X123*K123 -> 0 | Z123: 0 | AA123: =Z123*K123 -> 0 | AR123: 4 | AT123: K | AU123: 2 | AY123: ROZPOCET | BE123: =IF(U123="základná",N123,0) -> 0 | BF123: =IF(U123="znížená",N123,0) -> 0 | BG123: =IF(U123="zákl. prenesená",N123,0) -> 0 | BH123: =IF(U123="zníž. prenesená",N123,0) -> 0 | BI123: =IF(U123="nulová",N123,0) -> 0 | BJ123: 2 | BK123: =ROUND(L123*K123,3) -> 0 | BL123: 4 | BM123: -17783504
C124: 3 | D124: K | E124: 162501102 | F124: Vodorovné premiestnenie výkopku po spevnenej ceste z horniny tr.1-4, do 100 m3 na vzdialenosť do 3000 m | J124: m3 | K124: 35 | L124: 0 | N124: =ROUND(L124*K124,3) -> 0 | U124: znížená | W124: =V124*K124 -> 0 | X124: 0 | Y124: =X124*K124 -> 0 | Z124: 0 | AA124: =Z124*K124 -> 0 | AR124: 4 | AT124: K | AU124: 2 | AY124: ROZPOCET | BE124: =IF(U124="základná",N124,0) -> 0 | BF124: =IF(U124="znížená",N124,0) -> 0 | BG124: =IF(U124="zákl. prenesená",N124,0) -> 0 | BH124: =IF(U124="zníž. prenesená",N124,0) -> 0 | BI124: =IF(U124="nulová",N124,0) -> 0 | BJ124: 2 | BK124: =ROUND(L124*K124,3) -> 0 | BL124: 4 | BM124: 78114229
C125: 4 | D125: K | E125: 171201201 | F125: Uloženie sypaniny na skládky do 100 m3 | J125: m3 | K125: 35 | L125: 0 | N125: =ROUND(L125*K125,3) -> 0 | U125: znížená | W125: =V125*K125 -> 0 | X125: 0 | Y125: =X125*K125 -> 0 | Z125: 0 | AA125: =Z125*K125 -> 0 | AR125: 4 | AT125: K | AU125: 2 | AY125: ROZPOCET | BE125: =IF(U125="základná",N125,0) -> 0 | BF125: =IF(U125="znížená",N125,0) -> 0 | BG125: =IF(U125="zákl. prenesená",N125,0) -> 0 | BH125: =IF(U125="zníž. prenesená",N125,0) -> 0 | BI125: =IF(U125="nulová",N125,0) -> 0 | BJ125: 2 | BK125: =ROUND(L125*K125,3) -> 0 | BL125: 4 | BM125: 1724539508
C126: 5 | D126: K | E126: 171209002 | F126: Poplatok za skladovanie - zemina a kamenivo (17 05) ostatné | J126: t | K126: 35 | L126: 0 | N126: =ROUND(L126*K126,3) -> 0 | U126: znížená | W126: =V126*K126 -> 0 | X126: 0 | Y126: =X126*K126 -> 0 | Z126: 0 | AA126: =Z126*K126 -> 0 | AR126: 4 | AT126: K | AU126: 2 | AY126: ROZPOCET | BE126: =IF(U126="základná",N126,0) -> 0 | BF126: =IF(U126="znížená",N126,0) -> 0 | BG126: =IF(U126="zákl. prenesená",N126,0) -> 0 | BH126: =IF(U126="zníž. prenesená",N126,0) -> 0 | BI126: =IF(U126="nulová",N126,0) -> 0 | BJ126: 2 | BK126: =ROUND(L126*K126,3) -> 0 | BL126: 4 | BM126: -1501050691
D127: 5 - Komunikácie | N127: =BK127 -> 0 | W127: =SUM(W128:W132) -> 0 | Y127: =SUM(Y128:Y132) -> 75.17727 | AA127: =SUM(AA128:AA132) -> 0 | AR127: 1 | AT127: D | AU127: 1 | AY127: ROZPOCET | BK127: =SUM(BK128:BK132) -> 0
C128: 6 | D128: K | E128: 564751111 | F128: Podklad alebo kryt z kameniva hrubého drveného veľ. 32-63 mm s rozprestretím a zhutn.hr. 150 mm | J128: m2 | K128: 133 | L128: 0 | N128: =ROUND(L128*K128,3) -> 0 | U128: znížená | W128: =V128*K128 -> 0 | X128: 0.2916 | Y128: =X128*K128 -> 38.7828 | Z128: 0 | AA128: =Z128*K128 -> 0 | AR128: 4 | AT128: K | AU128: 2 | AY128: ROZPOCET | BE128: =IF(U128="základná",N128,0) -> 0 | BF128: =IF(U128="znížená",N128,0) -> 0 | BG128: =IF(U128="zákl. prenesená",N128,0) -> 0 | BH128: =IF(U128="zníž. prenesená",N128,0) -> 0 | BI128: =IF(U128="nulová",N128,0) -> 0 | BJ128: 2 | BK128: =ROUND(L128*K128,3) -> 0 | BL128: 4 | BM128: -1113529328
C129: 7 | D129: K | E129: 564801112 | F129: Podklad zo štrkodrviny s rozprestretím a zhutnením, po zhutnení hr. 40 mm | J129: m2 | K129: 123 | L129: 0 | N129: =ROUND(L129*K129,3) -> 0 | U129: znížená | W129: =V129*K129 -> 0 | X129: 0.08003 | Y129: =X129*K129 -> 9.84369 | Z129: 0 | AA129: =Z129*K129 -> 0 | AR129: 4 | AT129: K | AU129: 2 | AY129: ROZPOCET | BE129: =IF(U129="základná",N129,0) -> 0 | BF129: =IF(U129="znížená",N129,0) -> 0 | BG129: =IF(U129="zákl. prenesená",N129,0) -> 0 | BH129: =IF(U129="zníž. prenesená",N129,0) -> 0 | BI129: =IF(U129="nulová",N129,0) -> 0 | BJ129: 2 | BK129: =ROUND(L129*K129,3) -> 0 | BL129: 4 | BM129: -1178048848
C130: 8 | D130: K | E130: 596912112 | F130: Kladenie dlažby z vegetačných tvárnic (bez lôžka) veľkosti do 0,25 m2 hr. 8 cm nad 20 m2 | J130: m2 | K130: 123 | L130: 0 | N130: =ROUND(L130*K130,3) -> 0 | U130: znížená | W130: =V130*K130 -> 0 | X130: 0 | Y130: =X130*K130 -> 0 | Z130: 0 | AA130: =Z130*K130 -> 0 | AR130: 4 | AT130: K | AU130: 2 | AY130: ROZPOCET | BE130: =IF(U130="základná",N130,0) -> 0 | BF130: =IF(U130="znížená",N130,0) -> 0 | BG130: =IF(U130="zákl. prenesená",N130,0) -> 0 | BH130: =IF(U130="zníž. prenesená",N130,0) -> 0 | BI130: =IF(U130="nulová",N130,0) -> 0 | BJ130: 2 | BK130: =ROUND(L130*K130,3) -> 0 | BL130: 4 | BM130: 38160440
C131: 9 | D131: M | E131: 5922784400 | F131: Tvárnica polovegetačná betónová TBM 60 x 40 x 8 | J131: ks | K131: 511.68 | L131: 0 | N131: =ROUND(L131*K131,3) -> 0 | U131: znížená | W131: =V131*K131 -> 0 | X131: 0.027 | Y131: =X131*K131 -> 13.81536 | Z131: 0 | AA131: =Z131*K131 -> 0 | AR131: 8 | AT131: M | AU131: 2 | AY131: ROZPOCET | BE131: =IF(U131="základná",N131,0) -> 0 | BF131: =IF(U131="znížená",N131,0) -> 0 | BG131: =IF(U131="zákl. prenesená",N131,0) -> 0 | BH131: =IF(U131="zníž. prenesená",N131,0) -> 0 | BI131: =IF(U131="nulová",N131,0) -> 0 | BJ131: 2 | BK131: =ROUND(L131*K131,3) -> 0 | BL131: 4 | BM131: -623141934
C132: 10 | D132: K | E132: 599432111 | F132: Vyplnenie škár dlažby kamenivom ťaženým | J132: m2 | K132: 123 | L132: 0 | N132: =ROUND(L132*K132,3) -> 0 | U132: znížená | W132: =V132*K132 -> 0 | X132: 0.10354 | Y132: =X132*K132 -> 12.73542 | Z132: 0 | AA132: =Z132*K132 -> 0 | AR132: 4 | AT132: K | AU132: 2 | AY132: ROZPOCET | BE132: =IF(U132="základná",N132,0) -> 0 | BF132: =IF(U132="znížená",N132,0) -> 0 | BG132: =IF(U132="zákl. prenesená",N132,0) -> 0 | BH132: =IF(U132="zníž. prenesená",N132,0) -> 0 | BI132: =IF(U132="nulová",N132,0) -> 0 | BJ132: 2 | BK132: =ROUND(L132*K132,3) -> 0 | BL132: 4 | BM132: -2069146864
D133: 9 - Ostatné konštrukcie a práce-búranie | N133: =BK133 -> 0 | W133: =SUM(W134:W135) -> 0 | Y133: =SUM(Y134:Y135) -> 11.3815 | AA133: =SUM(AA134:AA135) -> 0 | AR133: 1 | AT133: D | AU133: 1 | AY133: ROZPOCET | BK133: =SUM(BK134:BK135) -> 0
C134: 11 | D134: K | E134: 917862112 | F134: Osadenie chodník. obrubníka betónového stojatého do lôžka z betónu prosteho tr. C 16/20 s bočnou oporou | J134: m | K134: 65 | L134: 0 | N134: =ROUND(L134*K134,3) -> 0 | U134: znížená | W134: =V134*K134 -> 0 | X134: 0.12662 | Y134: =X134*K134 -> 8.2303 | Z134: 0 | AA134: =Z134*K134 -> 0 | AR134: 4 | AT134: K | AU134: 2 | AY134: ROZPOCET | BE134: =IF(U134="základná",N134,0) -> 0 | BF134: =IF(U134="znížená",N134,0) -> 0 | BG134: =IF(U134="zákl. prenesená",N134,0) -> 0 | BH134: =IF(U134="zníž. prenesená",N134,0) -> 0 | BI134: =IF(U134="nulová",N134,0) -> 0 | BJ134: 2 | BK134: =ROUND(L134*K134,3) -> 0 | BL134: 4 | BM134: 1674554034
C135: 12 | D135: M | E135: 5921954360 | F135: Premac obrubník 1000x200x100 mm SKOS 1,5/1,5 cm | J135: ks | K135: 65.65 | L135: 0 | N135: =ROUND(L135*K135,3) -> 0 | U135: znížená | W135: =V135*K135 -> 0 | X135: 0.048 | Y135: =X135*K135 -> 3.1512 | Z135: 0 | AA135: =Z135*K135 -> 0 | AR135: 8 | AT135: M | AU135: 2 | AY135: ROZPOCET | BE135: =IF(U135="základná",N135,0) -> 0 | BF135: =IF(U135="znížená",N135,0) -> 0 | BG135: =IF(U135="zákl. prenesená",N135,0) -> 0 | BH135: =IF(U135="zníž. prenesená",N135,0) -> 0 | BI135: =IF(U135="nulová",N135,0) -> 0 | BJ135: 2 | BK135: =ROUND(L135*K135,3) -> 0 | BL135: 4 | BM135: -306772339
D136: 99 - Presun hmôt HSV | N136: =BK136 -> 0 | W136: =W137 -> 0 | Y136: =Y137 -> 0 | AA136: =AA137 -> 0 | AR136: 1 | AT136: D | AU136: 1 | AY136: ROZPOCET | BK136: =BK137 -> 0
C137: 13 | D137: K | E137: 998223011 | F137: Presun hmôt pre pozemné komunikácie s krytom dláždeným (822 2.3, 822 5.3) akejkoľvek dĺžky objektu | J137: t | K137: 86.559 | L137: 0 | N137: =ROUND(L137*K137,3) -> 0 | U137: znížená | W137: =V137*K137 -> 0 | X137: 0 | Y137: =X137*K137 -> 0 | Z137: 0 | AA137: =Z137*K137 -> 0 | AR137: 4 | AT137: K | AU137: 2 | AY137: ROZPOCET | BE137: =IF(U137="základná",N137,0) -> 0 | BF137: =IF(U137="znížená",N137,0) -> 0 | BG137: =IF(U137="zákl. prenesená",N137,0) -> 0 | BH137: =IF(U137="zníž. prenesená",N137,0) -> 0 | BI137: =IF(U137="nulová",N137,0) -> 0 | BJ137: 2 | BK137: =ROUND(L137*K137,3) -> 0 | BL137: 4 | BM137: -1030520292
D138: VP - Práce naviac | N138: =BK138 -> 0 | AT138: D | AU138: 0 | AY138: PN | BK138: =SUM(BK139:BK143) -> 0
D139: K | N139: =BK139 -> 0 | U139: znížená | AT139: PN | AU139: 1 | AY139: PN | BE139: =IF(U139="základná",N139,0) -> 0 | BF139: =IF(U139="znížená",N139,0) -> 0 | BG139: =IF(U139="zákl. prenesená",N139,0) -> 0 | BH139: =IF(U139="zníž. prenesená",N139,0) -> 0 | BI139: =IF(U139="nulová",N139,0) -> 0 | BJ139: 2 | BK139: =L139*K139 -> 0
D140: K | N140: =BK140 -> 0 | U140: znížená | AT140: PN | AU140: 1 | AY140: PN | BE140: =IF(U140="základná",N140,0) -> 0 | BF140: =IF(U140="znížená",N140,0) -> 0 | BG140: =IF(U140="zákl. prenesená",N140,0) -> 0 | BH140: =IF(U140="zníž. prenesená",N140,0) -> 0 | BI140: =IF(U140="nulová",N140,0) -> 0 | BJ140: 2 | BK140: =L140*K140 -> 0
D141: K | N141: =BK141 -> 0 | U141: znížená | AT141: PN | AU141: 1 | AY141: PN | BE141: =IF(U141="základná",N141,0) -> 0 | BF141: =IF(U141="znížená",N141,0) -> 0 | BG141: =IF(U141="zákl. prenesená",N141,0) -> 0 | BH141: =IF(U141="zníž. prenesená",N141,0) -> 0 | BI141: =IF(U141="nulová",N141,0) -> 0 | BJ141: 2 | BK141: =L141*K141 -> 0
D142: K | N142: =BK142 -> 0 | U142: znížená | AT142: PN | AU142: 1 | AY142: PN | BE142: =IF(U142="základná",N142,0) -> 0 | BF142: =IF(U142="znížená",N142,0) -> 0 | BG142: =IF(U142="zákl. prenesená",N142,0) -> 0 | BH142: =IF(U142="zníž. prenesená",N142,0) -> 0 | BI142: =IF(U142="nulová",N142,0) -> 0 | BJ142: 2 | BK142: =L142*K142 -> 0
D143: K | N143: =BK143 -> 0 | U143: znížená | AT143: PN | AU143: 1 | AY143: PN | BE143: =IF(U143="základná",N143,0) -> 0 | BF143: =IF(U143="znížená",N143,0) -> 0 | BG143: =IF(U143="zákl. prenesená",N143,0) -> 0 | BH143: =IF(U143="zníž. prenesená",N143,0) -> 0 | BI143: =IF(U143="nulová",N143,0) -> 0 | BJ143: 2 | BK143: =L143*K143 -> 0
