Workbook

Sheet Rekapitulácia stavby
A1: 2012 | D1: Hárok obsahuje: | K1: 1) Súhrnný list stavby | W1: 2) Rekapitulácia objektov | BA1: 2.0 | BB1: ZAMOK | BT1: False | BU1: False
C2: optimalizované pre tlač zostáv vo formáte A4 - na výšku | AR2: >> skryté stĺpce << | BS2: 0,001 | BT2: 20
BS3: 0,001 | BT3: 20
C4: SÚHRNNÝ LIST STAVBY | AS4: v --- nižšie sa nachádzajú doplnkové a pomocné údaje k zostavám --- v | BE4: Návod na vyplnenie | BS4: 0,001
D5: Kód: | K5: 2017-204 | BE5: Meniť je možné iba bunky so žltým podfarbením!_x000D_ _x000D_ 1) na prvom liste Rekapitulácie stavby vyplňte v zostave_x000D_ _x000D_ a) Súhrnný list_x000D_ - údaje o Zhotoviteľovi_x000D_ (prenesú sa do ostatných zostáv aj v iných listoch)_x000D_ _x000D_ b) Rekapitulácia objektov_x000D_ - potrebné Ostatné náklady_x000D_ _x000D_ 2) na vybraných listoch vyplňte v zostave_x000D_ _x000D_ a) Krycí list_x000D_ - údaje o Zhotoviteľovi, pokiaľ sa líšia od údajov o Zhotoviteľovi na Súhrnnom liste_x000D_ (údaje se prenesú do ostatných zostav v danom liste)_x000D_ _x000D_ b) Rekapitulácia rozpočtu_x000D_ - potrebné Ostatné náklady_x000D_ _x000D_ c) Celkové náklady za stavbu_x000D_ - ceny na položkách_x000D_ - množstvo, pokiaľ má žlté podfarbenie_x000D_ - a v prípade potreby poznámku (tá je v skrytom stĺpci) | BS5: 0,001
D6: Stavba: | K6: Oprava chodníka na Námestí SNP medzi MK Slovanská a Červená | BS6: 0,001
D7: JKSO: | AK7: KS: | BS7: 0,001
D8: Miesto: | AK8: Dátum: | AN8: 25. 7. 2017 | BS8: 0,001
BS9: 0,001
D10: Objednávateľ: | AK10: IČO: | BS10: 0,001
E11: Mesto Partizánske | AK11: IČO DPH: | BS11: 0,001
BS12: 0,001
D13: Zhotoviteľ: | AK13: IČO: | AN13: Vyplň údaj | BS13: 0,001
E14: Vyplň údaj | AK14: IČO DPH: | AN14: Vyplň údaj | BS14: 0,001
BS15: False
D16: Projektant: | AK16: IČO: | BS16: False
AK17: IČO DPH: | BS17: True
BS18: 0,01
D19: Spracovateľ: | AK19: IČO: | BS19: 0,01
AK20: IČO DPH:
D22: Poznámka:
D26: Náklady z rozpočtov | AK26: =ROUND(AG87,2) -> 0
D27: Ostatné náklady zo súhrnného listu | AK27: =ROUND(AG91,2) -> 0
D29: Cena bez DPH | AK29: =ROUND(AK26+AK27,2) -> 0
D31: DPH | F31: základná | L31: 0.2 | T31: z | W31: =ROUND(AZ87+SUM(CD92:CD96),2) -> 0 | AK31: =ROUND(AV87+SUM(BY92:BY96),2) -> 0
F32: znížená | L32: 0.2 | T32: z | W32: =ROUND(BA87+SUM(CE92:CE96),2) -> 0 | AK32: =ROUND(AW87+SUM(BZ92:BZ96),2) -> 0
F33: zákl. prenesená | L33: 0.2 | T33: z | W33: =ROUND(BB87+SUM(CF92:CF96),2) -> 0 | AK33: 0
F34: zníž. prenesená | L34: 0.2 | T34: z | W34: =ROUND(BC87+SUM(CG92:CG96),2) -> 0 | AK34: 0
F35: nulová | L35: 0 | T35: z | W35: =ROUND(BD87+SUM(CH92:CH96),2) -> 0 | AK35: 0
D37: Cena s DPH | T37: v | X37: EUR | AK37: =SUM(AK29:AK35) -> 0
D49: Projektant | AC49: Spracovateľ
D58: Dátum a podpis: | R58: Pečiatka | AC58: Dátum a podpis: | AM58: Pečiatka
D60: Objednávateľ | AC60: Zhotoviteľ
D69: Dátum a podpis: | R69: Pečiatka | AC69: Dátum a podpis: | AM69: Pečiatka
C76: REKAPITULÁCIA OBJEKTOV STAVBY
C77: Kód: | L77: =K5 -> 2017-204
C78: Stavba: | L78: =K6 -> Oprava chodníka na Námestí SNP medzi MK Slovanská a Červená
C80: Miesto: | L80: =IF(K8="","",K8) | AI80: Dátum: | AM80: =IF(AN8= "","",AN8) -> 25. 7. 2017
C82: Objednávateľ: | L82: =IF(E11= "","",E11) -> Mesto Partizánske | AI82: Projektant: | AM82: =IF(E17="","",E17) | AS82: Informatívne údaje z listov zákaziek
C83: Zhotoviteľ: | L83: =IF(E14= "Vyplň údaj","",E14) | AI83: Spracovateľ: | AM83: =IF(E20="","",E20)
C85: Kód | I85: Objekt | AG85: Cena bez DPH [EUR] | AN85: Cena s DPH [EUR] | AS85: z toho Ostat._x000D_ náklady [EUR] | AT85: DPH [EUR] | AU85: Normohodiny [h] | AV85: DPH základná [EUR] | AW85: DPH znížená [EUR] | AX85: DPH základná prenesená_x000D_ [EUR] | AY85: DPH znížená prenesená_x000D_ [EUR] | AZ85: Základňa_x000D_ DPH základná | BA85: Základňa_x000D_ DPH znížená | BB85: Základňa_x000D_ DPH zákl. prenesená | BC85: Základňa_x000D_ DPH zníž. prenesená | BD85: Základňa_x000D_ DPH nulová
C87: 1) Náklady z rozpočtov | AG87: =ROUND(SUM(AG88:AG89),2) -> 0 | AN87: =SUM(AG87,AT87) -> 0 | AS87: =ROUND(SUM(AS88:AS89),2) -> 0 | AT87: =ROUND(SUM(AV87:AW87),2) -> 0 | AU87: =ROUND(SUM(AU88:AU89),5) -> 0 | AV87: =ROUND(AZ87*L31,2) -> 0 | AW87: =ROUND(BA87*L32,2) -> 0 | AX87: =ROUND(BB87*L31,2) -> 0 | AY87: =ROUND(BC87*L32,2) -> 0 | AZ87: =ROUND(SUM(AZ88:AZ89),2) -> 0 | BA87: =ROUND(SUM(BA88:BA89),2) -> 0 | BB87: =ROUND(SUM(BB88:BB89),2) -> 0 | BC87: =ROUND(SUM(BC88:BC89),2) -> 0 | BD87: =ROUND(SUM(BD88:BD89),2) -> 0 | BS87: D | BT87: 0 | BU87: ###NOIMPORT### | BV87: IMPORT | BW87: {0a905da9-3212-4c62-adc4-976872486482} | BX87: {00000000-0000-0000-0000-000000000000}
A88: / | D88: 1 | J88: Chodník Slovanská - Červená | AG88: ='1 - Chodník Slovanská - Č...'!M30 -> 0 | AN88: =SUM(AG88,AT88) -> 0 | AS88: ='1 - Chodník Slovanská - Č...'!M28 -> 0 | AT88: =ROUND(SUM(AV88:AW88),2) -> 0 | AU88: ='1 - Chodník Slovanská - Č...'!W121 -> 0 | AV88: ='1 - Chodník Slovanská - Č...'!M32 -> 0 | AW88: ='1 - Chodník Slovanská - Č...'!M33 -> 0 | AX88: ='1 - Chodník Slovanská - Č...'!M34 -> 0 | AY88: ='1 - Chodník Slovanská - Č...'!M35 -> 0 | AZ88: ='1 - Chodník Slovanská - Č...'!H32 -> 0 | BA88: ='1 - Chodník Slovanská - Č...'!H33 -> 0 | BB88: ='1 - Chodník Slovanská - Č...'!H34 -> 0 | BC88: ='1 - Chodník Slovanská - Č...'!H35 -> 0 | BD88: ='1 - Chodník Slovanská - Č...'!H36 -> 0 | BT88: 1 | BV88: IMPORT | BW88: {d94a692b-bb1a-405c-adc5-0412476284b8} | BX88: {0a905da9-3212-4c62-adc4-976872486482}
A89: / | D89: 2 | J89: Chodník pri výškovej budove a priechod pre chodcov | AG89: ='2 - Chodník pri výškovej ...'!M30 -> 0 | AN89: =SUM(AG89,AT89) -> 0 | AS89: ='2 - Chodník pri výškovej ...'!M28 -> 0 | AT89: =ROUND(SUM(AV89:AW89),2) -> 0 | AU89: ='2 - Chodník pri výškovej ...'!W121 -> 0 | AV89: ='2 - Chodník pri výškovej ...'!M32 -> 0 | AW89: ='2 - Chodník pri výškovej ...'!M33 -> 0 | AX89: ='2 - Chodník pri výškovej ...'!M34 -> 0 | AY89: ='2 - Chodník pri výškovej ...'!M35 -> 0 | AZ89: ='2 - Chodník pri výškovej ...'!H32 -> 0 | BA89: ='2 - Chodník pri výškovej ...'!H33 -> 0 | BB89: ='2 - Chodník pri výškovej ...'!H34 -> 0 | BC89: ='2 - Chodník pri výškovej ...'!H35 -> 0 | BD89: ='2 - Chodník pri výškovej ...'!H36 -> 0 | BT89: 1 | BV89: IMPORT | BW89: {caaacaa6-e916-4f23-acc0-16ff9755f6cc} | BX89: {0a905da9-3212-4c62-adc4-976872486482}
C91: 2) Ostatné náklady zo súhrnného listu | AG91: =ROUND(SUM(AG92:AG95),2) -> 0 | AN91: =ROUND(SUM(AN92:AN95),2) -> 0 | AS91: Percent. zadanie_x000D_ [% nákladov rozpočtu] | AT91: Zaradenie nákladov | AU91: DPH | AV91: DPH [EUR]
D92: Ostatné náklady | AG92: =ROUND(AG87*AS92,2) -> 0 | AN92: =ROUND(AG92+AV92,2) -> 0 | AS92: 0 | AT92: stavebná časť | AU92: základná | AV92: =ROUND(IF(AU92="základná",AG92*L31,IF(AU92="znížená",AG92*L32,0)),2) -> 0 | BV92: OSTATNENAKLADY | BY92: =IF(AU92="základná",AV92,0) -> 0 | BZ92: =IF(AU92="znížená",AV92,0) -> 0 | CA92: 0 | CB92: 0 | CC92: 0 | CD92: =IF(AU92="základná",AG92,0) -> 0 | CE92: =IF(AU92="znížená",AG92,0) -> 0 | CF92: =IF(AU92="zákl. prenesená",AG92,0) -> 0 | CG92: =IF(AU92="zníž. prenesená",AG92,0) -> 0 | CH92: =IF(AU92="nulová",AG92,0) -> 0 | CI92: =IF(AU92="základná",1,IF(AU92="znížená",2,IF(AU92="zákl. prenesená",4,IF(AU92="zníž. prenesená",5,3)))) -> 1 | CJ92: =IF(AT92="stavebná časť",1,IF(8892="investičná časť",2,3)) -> 1 | CK92: =IF(D92="Vyplň vlastné","","x") -> x
D93: Vyplň vlastné | AG93: =AG87*AS93 -> 0 | AN93: =AG93+AV93 -> 0 | AS93: 0 | AT93: stavebná časť | AU93: základná | AV93: =ROUND(IF(AU93="nulová",0,IF(OR(AU93="základná",AU93="zákl. prenesená"),AG93*L31,AG93*L32)),2) -> 0 | BV93: OSTATNENAKLADYVLASTNE | BY93: =IF(AU93="základná",AV93,0) -> 0 | BZ93: =IF(AU93="znížená",AV93,0) -> 0 | CA93: =IF(AU93="zákl. prenesená",AV93,0) -> 0 | CB93: =IF(AU93="zníž. prenesená",AV93,0) -> 0 | CC93: =IF(AU93="nulová",AV93,0) -> 0 | CD93: =IF(AU93="základná",AG93,0) -> 0 | CE93: =IF(AU93="znížená",AG93,0) -> 0 | CF93: =IF(AU93="zákl. prenesená",AG93,0) -> 0 | CG93: =IF(AU93="zníž. prenesená",AG93,0) -> 0 | CH93: =IF(AU93="nulová",AG93,0) -> 0 | CI93: =IF(AU93="základná",1,IF(AU93="znížená",2,IF(AU93="zákl. prenesená",4,IF(AU93="zníž. prenesená",5,3)))) -> 1 | CJ93: =IF(AT93="stavebná časť",1,IF(8893="investičná časť",2,3)) -> 1 | CK93: =IF(D93="Vyplň vlastné","","x")
D94: Vyplň vlastné | AG94: =AG87*AS94 -> 0 | AN94: =AG94+AV94 -> 0 | AS94: 0 | AT94: stavebná časť | AU94: základná | AV94: =ROUND(IF(AU94="nulová",0,IF(OR(AU94="základná",AU94="zákl. prenesená"),AG94*L31,AG94*L32)),2) -> 0 | BV94: OSTATNENAKLADYVLASTNE | BY94: =IF(AU94="základná",AV94,0) -> 0 | BZ94: =IF(AU94="znížená",AV94,0) -> 0 | CA94: =IF(AU94="zákl. prenesená",AV94,0) -> 0 | CB94: =IF(AU94="zníž. prenesená",AV94,0) -> 0 | CC94: =IF(AU94="nulová",AV94,0) -> 0 | CD94: =IF(AU94="základná",AG94,0) -> 0 | CE94: =IF(AU94="znížená",AG94,0) -> 0 | CF94: =IF(AU94="zákl. prenesená",AG94,0) -> 0 | CG94: =IF(AU94="zníž. prenesená",AG94,0) -> 0 | CH94: =IF(AU94="nulová",AG94,0) -> 0 | CI94: =IF(AU94="základná",1,IF(AU94="znížená",2,IF(AU94="zákl. prenesená",4,IF(AU94="zníž. prenesená",5,3)))) -> 1 | CJ94: =IF(AT94="stavebná časť",1,IF(8894="investičná časť",2,3)) -> 1 | CK94: =IF(D94="Vyplň vlastné","","x")
D95: Vyplň vlastné | AG95: =AG87*AS95 -> 0 | AN95: =AG95+AV95 -> 0 | AS95: 0 | AT95: stavebná časť | AU95: základná | AV95: =ROUND(IF(AU95="nulová",0,IF(OR(AU95="základná",AU95="zákl. prenesená"),AG95*L31,AG95*L32)),2) -> 0 | BV95: OSTATNENAKLADYVLASTNE | BY95: =IF(AU95="základná",AV95,0) -> 0 | BZ95: =IF(AU95="znížená",AV95,0) -> 0 | CA95: =IF(AU95="zákl. prenesená",AV95,0) -> 0 | CB95: =IF(AU95="zníž. prenesená",AV95,0) -> 0 | CC95: =IF(AU95="nulová",AV95,0) -> 0 | CD95: =IF(AU95="základná",AG95,0) -> 0 | CE95: =IF(AU95="znížená",AG95,0) -> 0 | CF95: =IF(AU95="zákl. prenesená",AG95,0) -> 0 | CG95: =IF(AU95="zníž. prenesená",AG95,0) -> 0 | CH95: =IF(AU95="nulová",AG95,0) -> 0 | CI95: =IF(AU95="základná",1,IF(AU95="znížená",2,IF(AU95="zákl. prenesená",4,IF(AU95="zníž. prenesená",5,3)))) -> 1 | CJ95: =IF(AT95="stavebná časť",1,IF(8895="investičná časť",2,3)) -> 1 | CK95: =IF(D95="Vyplň vlastné","","x")
C97: Celkové náklady za stavbu 1) + 2) | AG97: =ROUND(AG87+AG91,2) -> 0 | AN97: =AN87+AN91 -> 0

Sheet 1 - Chodník Slovanská - Č...
D1: Hárok obsahuje: | F1: 1) Krycí list rozpočtu | H1: 2) Rekapitulácia rozpočtu | L1: 3) Rozpočet | O1: Späť na hárok: | S1: Rekapitulácia stavby
C2: optimalizované pre tlač zostáv vo formáte A4 - na výšku | S2: >> skryté stĺpce << | AT2: {d94a692b-bb1a-405c-adc5-0412476284b8}
AT3: 0
C4: KRYCÍ LIST ROZPOČTU | T4: v --- nižšie sa nachádzajú doplnkové a pomocné údaje k zostavám --- v | AT4: False
D6: Stavba: | F6: ='Rekapitulácia stavby'!K6 -> Oprava chodníka na Námestí SNP medzi MK Slovanská a Červená
D7: Objekt: | F7: 1 - Chodník Slovanská - Červená
D8: JKSO: | M8: KS:
D9: Miesto: | M9: Dátum: | O9: ='Rekapitulácia stavby'!AN8 -> 25. 7. 2017
D11: Objednávateľ: | M11: IČO:
E12: Mesto Partizánske | M12: IČO DPH:
D14: Zhotoviteľ: | M14: IČO: | O14: =IF('Rekapitulácia stavby'!AN13="","",'Rekapitulácia stavby'!AN13) -> Vyplň údaj
E15: =IF('Rekapitulácia stavby'!E14="","",'Rekapitulácia stavby'!E14) -> Vyplň údaj | M15: IČO DPH: | O15: =IF('Rekapitulácia stavby'!AN14="","",'Rekapitulácia stavby'!AN14) -> Vyplň údaj
D17: Projektant: | M17: IČO: | O17: =IF('Rekapitulácia stavby'!AN16="","",'Rekapitulácia stavby'!AN16)
E18: =IF('Rekapitulácia stavby'!E17="","",'Rekapitulácia stavby'!E17) | M18: IČO DPH: | O18: =IF('Rekapitulácia stavby'!AN17="","",'Rekapitulácia stavby'!AN17)
D20: Spracovateľ: | M20: IČO: | O20: =IF('Rekapitulácia stavby'!AN19="","",'Rekapitulácia stavby'!AN19)
E21: =IF('Rekapitulácia stavby'!E20="","",'Rekapitulácia stavby'!E20) | M21: IČO DPH: | O21: =IF('Rekapitulácia stavby'!AN20="","",'Rekapitulácia stavby'!AN20)
D23: Poznámka:
D27: Náklady z rozpočtu | M27: =N88 -> 0
D28: Ostatné náklady | M28: =N96 -> 0
D30: Cena bez DPH | M30: =ROUND(M27+M28,2) -> 0
D32: DPH | E32: základná | F32: 0.2 | G32: z | H32: =ROUND((((SUM(BE96:BE103)+SUM(BE121:BE147))+SUM(BE149:BE153))),2) -> 0 | M32: =ROUND(((ROUND((SUM(BE96:BE103)+SUM(BE121:BE147)), 2)*F32)+SUM(BE149:BE153)*F32),2) -> 0
E33: znížená | F33: 0.2 | G33: z | H33: =ROUND((((SUM(BF96:BF103)+SUM(BF121:BF147))+SUM(BF149:BF153))),2) -> 0 | M33: =ROUND(((ROUND((SUM(BF96:BF103)+SUM(BF121:BF147)), 2)*F33)+SUM(BF149:BF153)*F33),2) -> 0
E34: zákl. prenesená | F34: 0.2 | G34: z | H34: =ROUND((((SUM(BG96:BG103)+SUM(BG121:BG147))+SUM(BG149:BG153))),2) -> 0 | M34: 0
E35: zníž. prenesená | F35: 0.2 | G35: z | H35: =ROUND((((SUM(BH96:BH103)+SUM(BH121:BH147))+SUM(BH149:BH153))),2) -> 0 | M35: 0
E36: nulová | F36: 0 | G36: z | H36: =ROUND((((SUM(BI96:BI103)+SUM(BI121:BI147))+SUM(BI149:BI153))),2) -> 0 | M36: 0
D38: Cena s DPH | G38: v | H38: EUR | L38: =SUM(M30:M36) -> 0
D50: Projektant | J50: Spracovateľ
D59: Dátum a podpis: | G59: Pečiatka | J59: Dátum a podpis: | N59: Pečiatka
D61: Objednávateľ | J61: Zhotoviteľ
D70: Dátum a podpis: | G70: Pečiatka | J70: Dátum a podpis: | N70: Pečiatka
C76: REKAPITULÁCIA ROZPOČTU
C78: Stavba: | F78: =F6 -> Oprava chodníka na Námestí SNP medzi MK Slovanská a Červená
C79: Objekt: | F79: =F7 -> 1 - Chodník Slovanská - Červená
C81: Miesto: | F81: =F9 | K81: Dátum: | M81: =IF(O9="","",O9) -> 25. 7. 2017
C83: Objednávateľ: | F83: =E12 -> Mesto Partizánske | K83: Projektant: | M83: =E18
C84: Zhotoviteľ: | F84: =IF(E15="","",E15) -> Vyplň údaj | K84: Spracovateľ: | M84: =E21
C86: Kód - Popis | N86: Cena celkom [EUR]
C88: 1) Náklady z rozpočtu | N88: =N121 -> 0 | AU88: -1
D89: HSV - Práce a dodávky HSV | N89: =N122 -> 0
D90: 1 - Zemné práce | N90: =N123 -> 0
D91: 5 - Komunikácie | N91: =N129 -> 0
D92: 9 - Ostatné konštrukcie a práce-búranie | N92: =N135 -> 0
D93: 99 - Presun hmôt HSV | N93: =N146 -> 0
D94: VP - Práce naviac | N94: =N148 -> 0
C96: 2) Ostatné náklady | N96: =ROUND(N97+N98+N99+N100+N101+N102,2) -> 0 | U96: DPH
D97: GZS | N97: =ROUND(N88*T97,2) -> 0 | U97: znížená | AY97: VRN | BE97: =IF(U97="základná",N97,0) -> 0 | BF97: =IF(U97="znížená",N97,0) -> 0 | BG97: =IF(U97="zákl. prenesená",N97,0) -> 0 | BH97: =IF(U97="zníž. prenesená",N97,0) -> 0 | BI97: =IF(U97="nulová",N97,0) -> 0 | BJ97: 2
D98: Projektové práce | N98: =ROUND(N88*T98,2) -> 0 | U98: znížená | AY98: VRN | BE98: =IF(U98="základná",N98,0) -> 0 | BF98: =IF(U98="znížená",N98,0) -> 0 | BG98: =IF(U98="zákl. prenesená",N98,0) -> 0 | BH98: =IF(U98="zníž. prenesená",N98,0) -> 0 | BI98: =IF(U98="nulová",N98,0) -> 0 | BJ98: 2
D99: Sťažené podmienky | N99: =ROUND(N88*T99,2) -> 0 | U99: znížená | AY99: VRN | BE99: =IF(U99="základná",N99,0) -> 0 | BF99: =IF(U99="znížená",N99,0) -> 0 | BG99: =IF(U99="zákl. prenesená",N99,0) -> 0 | BH99: =IF(U99="zníž. prenesená",N99,0) -> 0 | BI99: =IF(U99="nulová",N99,0) -> 0 | BJ99: 2
D100: Vplyv prostredia | N100: =ROUND(N88*T100,2) -> 0 | U100: znížená | AY100: VRN | BE100: =IF(U100="základná",N100,0) -> 0 | BF100: =IF(U100="znížená",N100,0) -> 0 | BG100: =IF(U100="zákl. prenesená",N100,0) -> 0 | BH100: =IF(U100="zníž. prenesená",N100,0) -> 0 | BI100: =IF(U100="nulová",N100,0) -> 0 | BJ100: 2
D101: Iné VRN | N101: =ROUND(N88*T101,2) -> 0 | U101: znížená | AY101: VRN | BE101: =IF(U101="základná",N101,0) -> 0 | BF101: =IF(U101="znížená",N101,0) -> 0 | BG101: =IF(U101="zákl. prenesená",N101,0) -> 0 | BH101: =IF(U101="zníž. prenesená",N101,0) -> 0 | BI101: =IF(U101="nulová",N101,0) -> 0 | BJ101: 2
D102: Kompletačná činnosť | N102: =ROUND(N88*T102,2) -> 0 | U102: znížená | AY102: KOMPLETACNA | BE102: =IF(U102="základná",N102,0) -> 0 | BF102: =IF(U102="znížená",N102,0) -> 0 | BG102: =IF(U102="zákl. prenesená",N102,0) -> 0 | BH102: =IF(U102="zníž. prenesená",N102,0) -> 0 | BI102: =IF(U102="nulová",N102,0) -> 0 | BJ102: 2
C104: Celkové náklady za stavbu 1) + 2) | L104: =ROUND(SUM(N88+N96),2) -> 0
C110: ROZPOČET
C112: Stavba: | F112: =F6 -> Oprava chodníka na Námestí SNP medzi MK Slovanská a Červená
C113: Objekt: | F113: =F7 -> 1 - Chodník Slovanská - Červená
C115: Miesto: | F115: =F9 | K115: Dátum: | M115: =IF(O9="","",O9) -> 25. 7. 2017
C117: Objednávateľ: | F117: =E12 -> Mesto Partizánske | K117: Projektant: | M117: =E18
C118: Zhotoviteľ: | F118: =IF(E15="","",E15) -> Vyplň údaj | K118: Spracovateľ: | M118: =E21
C120: PČ | D120: Typ | E120: Kód | F120: Popis | J120: MJ | K120: Množstvo | L120: J.cena [EUR] | N120: Cena celkom [EUR] | T120: Poznámka | U120: DPH | V120: J. Nh [h] | W120: Nh celkom [h] | X120: J. hmotnosť_x000D_ [t] | Y120: Hmotnosť_x000D_ celkom [t] | Z120: J. suť [t] | AA120: Suť Celkom [t]
C121: Náklady z rozpočtu | N121: =BK121 -> 0 | W121: =W122+W148 -> 0 | Y121: =Y122+Y148 -> 47.640119 | AA121: =AA122+AA148 -> 25.6935 | AT121: D | AU121: -1 | BK121: =BK122+BK148 -> 0
D122: HSV - Práce a dodávky HSV | N122: =BK122 -> 0 | W122: =W123+W129+W135+W146 -> 0 | Y122: =Y123+Y129+Y135+Y146 -> 47.640119 | AA122: =AA123+AA129+AA135+AA146 -> 25.6935 | AR122: 1 | AT122: D | AU122: 0 | AY122: ROZPOCET | BK122: =BK123+BK129+BK135+BK146 -> 0
D123: 1 - Zemné práce | N123: =BK123 -> 0 | W123: =SUM(W124:W128) -> 0 | Y123: =SUM(Y124:Y128) -> 0 | AA123: =SUM(AA124:AA128) -> 25.6935 | AR123: 1 | AT123: D | AU123: 1 | AY123: ROZPOCET | BK123: =SUM(BK124:BK128) -> 0
C124: 1 | D124: K | E124: 113107141 | F124: Odstránenie krytuv ploche do 200 m2 asfaltového, hr. vrstvy do 50 mm, -0,09800t | J124: m2 | K124: 59.5 | L124: 0 | N124: =ROUND(L124*K124,3) -> 0 | U124: znížená | W124: =V124*K124 -> 0 | X124: 0 | Y124: =X124*K124 -> 0 | Z124: 0.098 | AA124: =Z124*K124 -> 5.831 | AR124: 4 | AT124: K | AU124: 2 | AY124: ROZPOCET | BE124: =IF(U124="základná",N124,0) -> 0 | BF124: =IF(U124="znížená",N124,0) -> 0 | BG124: =IF(U124="zákl. prenesená",N124,0) -> 0 | BH124: =IF(U124="zníž. prenesená",N124,0) -> 0 | BI124: =IF(U124="nulová",N124,0) -> 0 | BJ124: 2 | BK124: =ROUND(L124*K124,3) -> 0 | BL124: 4 | BM124: -1491899685
C125: 2 | D125: K | E125: 113206111 | F125: Vytrhanie obrúb betónových, s vybúraním lôžka, z krajníkov alebo obrubníkov stojatých, -0,14500t | J125: m | K125: 35 | L125: 0 | N125: =ROUND(L125*K125,3) -> 0 | U125: znížená | W125: =V125*K125 -> 0 | X125: 0 | Y125: =X125*K125 -> 0 | Z125: 0.145 | AA125: =Z125*K125 -> 5.075 | AR125: 4 | AT125: K | AU125: 2 | AY125: ROZPOCET | BE125: =IF(U125="základná",N125,0) -> 0 | BF125: =IF(U125="znížená",N125,0) -> 0 | BG125: =IF(U125="zákl. prenesená",N125,0) -> 0 | BH125: =IF(U125="zníž. prenesená",N125,0) -> 0 | BI125: =IF(U125="nulová",N125,0) -> 0 | BJ125: 2 | BK125: =ROUND(L125*K125,3) -> 0 | BL125: 4 | BM125: -1424403489
C126: 3 | D126: K | E126: 113208111 | F126: Vytrhanie obrúb betonových, s vybúraním lôžka, záhonových, -0,04000t | J126: m | K126: 35 | L126: 0 | N126: =ROUND(L126*K126,3) -> 0 | U126: znížená | W126: =V126*K126 -> 0 | X126: 0 | Y126: =X126*K126 -> 0 | Z126: 0.04 | AA126: =Z126*K126 -> 1.4 | AR126: 4 | AT126: K | AU126: 2 | AY126: ROZPOCET | BE126: =IF(U126="základná",N126,0) -> 0 | BF126: =IF(U126="znížená",N126,0) -> 0 | BG126: =IF(U126="zákl. prenesená",N126,0) -> 0 | BH126: =IF(U126="zníž. prenesená",N126,0) -> 0 | BI126: =IF(U126="nulová",N126,0) -> 0 | BJ126: 2 | BK126: =ROUND(L126*K126,3) -> 0 | BL126: 4 | BM126: 602942698
C127: 4 | D127: K | E127: 113307131 | F127: Odstránenie podkladu v ploche do 200 m2 z betónu prostého, hr. vrstvy do 150 mm, -0,22500t | J127: m2 | K127: 59.5 | L127: 0 | N127: =ROUND(L127*K127,3) -> 0 | U127: znížená | W127: =V127*K127 -> 0 | X127: 0 | Y127: =X127*K127 -> 0 | Z127: 0.225 | AA127: =Z127*K127 -> 13.3875 | AR127: 4 | AT127: K | AU127: 2 | AY127: ROZPOCET | BE127: =IF(U127="základná",N127,0) -> 0 | BF127: =IF(U127="znížená",N127,0) -> 0 | BG127: =IF(U127="zákl. prenesená",N127,0) -> 0 | BH127: =IF(U127="zníž. prenesená",N127,0) -> 0 | BI127: =IF(U127="nulová",N127,0) -> 0 | BJ127: 2 | BK127: =ROUND(L127*K127,3) -> 0 | BL127: 4 | BM127: -183124776
C128: 5 | D128: K | E128: 184803111 | F128: Rez a tvarovanie živých plotov alebo stien priamych výšky do 1 m šírky do do 0,8 m | J128: m2 | K128: 35 | L128: 0 | N128: =ROUND(L128*K128,3) -> 0 | U128: znížená | W128: =V128*K128 -> 0 | X128: 0 | Y128: =X128*K128 -> 0 | Z128: 0 | AA128: =Z128*K128 -> 0 | AR128: 4 | AT128: K | AU128: 2 | AY128: ROZPOCET | BE128: =IF(U128="základná",N128,0) -> 0 | BF128: =IF(U128="znížená",N128,0) -> 0 | BG128: =IF(U128="zákl. prenesená",N128,0) -> 0 | BH128: =IF(U128="zníž. prenesená",N128,0) -> 0 | BI128: =IF(U128="nulová",N128,0) -> 0 | BJ128: 2 | BK128: =ROUND(L128*K128,3) -> 0 | BL128: 4 | BM128: 182229425
D129: 5 - Komunikácie | N129: =BK129 -> 0 | W129: =SUM(W130:W134) -> 0 | Y129: =SUM(Y130:Y134) -> 36.666735 | AA129: =SUM(AA130:AA134) -> 0 | AR129: 1 | AT129: D | AU129: 1 | AY129: ROZPOCET | BK129: =SUM(BK130:BK134) -> 0
C130: 6 | D130: K | E130: 564751111 | F130: Podklad alebo kryt z kameniva hrubého drveného veľ. 32-63 mm s rozprestretím a zhutn.hr. 150 mm | J130: m2 | K130: 59.5 | L130: 0 | N130: =ROUND(L130*K130,3) -> 0 | U130: znížená | W130: =V130*K130 -> 0 | X130: 0.2916 | Y130: =X130*K130 -> 17.3502 | Z130: 0 | AA130: =Z130*K130 -> 0 | AR130: 4 | AT130: K | AU130: 2 | AY130: ROZPOCET | BE130: =IF(U130="základná",N130,0) -> 0 | BF130: =IF(U130="znížená",N130,0) -> 0 | BG130: =IF(U130="zákl. prenesená",N130,0) -> 0 | BH130: =IF(U130="zníž. prenesená",N130,0) -> 0 | BI130: =IF(U130="nulová",N130,0) -> 0 | BJ130: 2 | BK130: =ROUND(L130*K130,3) -> 0 | BL130: 4 | BM130: -1430536618
C131: 7 | D131: K | E131: 564801112 | F131: Podklad zo štrkodrviny s rozprestretím a zhutnením, po zhutnení hr. 40 mm | J131: m2 | K131: 59.5 | L131: 0 | N131: =ROUND(L131*K131,3) -> 0 | U131: znížená | W131: =V131*K131 -> 0 | X131: 0.08003 | Y131: =X131*K131 -> 4.761785 | Z131: 0 | AA131: =Z131*K131 -> 0 | AR131: 4 | AT131: K | AU131: 2 | AY131: ROZPOCET | BE131: =IF(U131="základná",N131,0) -> 0 | BF131: =IF(U131="znížená",N131,0) -> 0 | BG131: =IF(U131="zákl. prenesená",N131,0) -> 0 | BH131: =IF(U131="zníž. prenesená",N131,0) -> 0 | BI131: =IF(U131="nulová",N131,0) -> 0 | BJ131: 2 | BK131: =ROUND(L131*K131,3) -> 0 | BL131: 4 | BM131: -194888075
C132: 8 | D132: K | E132: 596911112 | F132: Kladenie zámkovej dlažby hr. 6 cm pre peších nad 20 m2 so zriadením lôžka z kameniva hr. 4 cm | J132: m2 | K132: 59.5 | L132: 0 | N132: =ROUND(L132*K132,3) -> 0 | U132: znížená | W132: =V132*K132 -> 0 | X132: 0.112 | Y132: =X132*K132 -> 6.664 | Z132: 0 | AA132: =Z132*K132 -> 0 | AR132: 4 | AT132: K | AU132: 2 | AY132: ROZPOCET | BE132: =IF(U132="základná",N132,0) -> 0 | BF132: =IF(U132="znížená",N132,0) -> 0 | BG132: =IF(U132="zákl. prenesená",N132,0) -> 0 | BH132: =IF(U132="zníž. prenesená",N132,0) -> 0 | BI132: =IF(U132="nulová",N132,0) -> 0 | BJ132: 2 | BK132: =ROUND(L132*K132,3) -> 0 | BL132: 4 | BM132: 813337534
C133: 9 | D133: M | E133: 5921952300 | F133: Dlažba zámková hr. 60 mm, sivá 10,08 m2/paleta | J133: m2 | K133: 60.095 | L133: 0 | N133: =ROUND(L133*K133,3) -> 0 | U133: znížená | W133: =V133*K133 -> 0 | X133: 0.13 | Y133: =X133*K133 -> 7.81235 | Z133: 0 | AA133: =Z133*K133 -> 0 | AR133: 8 | AT133: M | AU133: 2 | AY133: ROZPOCET | BE133: =IF(U133="základná",N133,0) -> 0 | BF133: =IF(U133="znížená",N133,0) -> 0 | BG133: =IF(U133="zákl. prenesená",N133,0) -> 0 | BH133: =IF(U133="zníž. prenesená",N133,0) -> 0 | BI133: =IF(U133="nulová",N133,0) -> 0 | BJ133: 2 | BK133: =ROUND(L133*K133,3) -> 0 | BL133: 4 | BM133: 927681252
C134: 10 | D134: K | E134: 599142111 | F134: Úprava zálievky dilatačných alebo pracovných škár hĺbky do 40 mm, šírky nad 20 do 40 mm | J134: m | K134: 35 | L134: 0 | N134: =ROUND(L134*K134,3) -> 0 | U134: znížená | W134: =V134*K134 -> 0 | X134: 0.00224 | Y134: =X134*K134 -> 0.0784 | Z134: 0 | AA134: =Z134*K134 -> 0 | AR134: 4 | AT134: K | AU134: 2 | AY134: ROZPOCET | BE134: =IF(U134="základná",N134,0) -> 0 | BF134: =IF(U134="znížená",N134,0) -> 0 | BG134: =IF(U134="zákl. prenesená",N134,0) -> 0 | BH134: =IF(U134="zníž. prenesená",N134,0) -> 0 | BI134: =IF(U134="nulová",N134,0) -> 0 | BJ134: 2 | BK134: =ROUND(L134*K134,3) -> 0 | BL134: 4 | BM134: -830396290
D135: 9 - Ostatné konštrukcie a práce-búranie | N135: =BK135 -> 0 | W135: =SUM(W136:W145) -> 0 | Y135: =SUM(Y136:Y145) -> 10.973384 | AA135: =SUM(AA136:AA145) -> 0 | AR135: 1 | AT135: D | AU135: 1 | AY135: ROZPOCET | BK135: =SUM(BK136:BK145) -> 0
C136: 11 | D136: K | E136: 916561111 | F136: Osadenie záhonového alebo parkového obrubníka betón., do lôžka z bet. pros. tr. C 12/15 s bočnou oporou | J136: m | K136: 35 | L136: 0 | N136: =ROUND(L136*K136,3) -> 0 | U136: znížená | W136: =V136*K136 -> 0 | X136: 0.09793 | Y136: =X136*K136 -> 3.42755 | Z136: 0 | AA136: =Z136*K136 -> 0 | AR136: 4 | AT136: K | AU136: 2 | AY136: ROZPOCET | BE136: =IF(U136="základná",N136,0) -> 0 | BF136: =IF(U136="znížená",N136,0) -> 0 | BG136: =IF(U136="zákl. prenesená",N136,0) -> 0 | BH136: =IF(U136="zníž. prenesená",N136,0) -> 0 | BI136: =IF(U136="nulová",N136,0) -> 0 | BJ136: 2 | BK136: =ROUND(L136*K136,3) -> 0 | BL136: 4 | BM136: 80383603
C137: 12 | D137: M | E137: 5921954660 | F137: Premac obrubník parkový 100x20x5 cm, sivý | J137: ks | K137: 35.35 | L137: 0 | N137: =ROUND(L137*K137,3) -> 0 | U137: znížená | W137: =V137*K137 -> 0 | X137: 0.023 | Y137: =X137*K137 -> 0.81305 | Z137: 0 | AA137: =Z137*K137 -> 0 | AR137: 8 | AT137: M | AU137: 2 | AY137: ROZPOCET | BE137: =IF(U137="základná",N137,0) -> 0 | BF137: =IF(U137="znížená",N137,0) -> 0 | BG137: =IF(U137="zákl. prenesená",N137,0) -> 0 | BH137: =IF(U137="zníž. prenesená",N137,0) -> 0 | BI137: =IF(U137="nulová",N137,0) -> 0 | BJ137: 2 | BK137: =ROUND(L137*K137,3) -> 0 | BL137: 4 | BM137: -628257238
C138: 13 | D138: K | E138: 917762111 | F138: Osadenie chodník. obrubníka betónového ležatého do lôžka z betónu prosteho tr. C 12/15 s bočnou oporou | J138: m | K138: 3.4 | L138: 0 | N138: =ROUND(L138*K138,3) -> 0 | U138: znížená | W138: =V138*K138 -> 0 | X138: 0.16401 | Y138: =X138*K138 -> 0.557634 | Z138: 0 | AA138: =Z138*K138 -> 0 | AR138: 4 | AT138: K | AU138: 2 | AY138: ROZPOCET | BE138: =IF(U138="základná",N138,0) -> 0 | BF138: =IF(U138="znížená",N138,0) -> 0 | BG138: =IF(U138="zákl. prenesená",N138,0) -> 0 | BH138: =IF(U138="zníž. prenesená",N138,0) -> 0 | BI138: =IF(U138="nulová",N138,0) -> 0 | BJ138: 2 | BK138: =ROUND(L138*K138,3) -> 0 | BL138: 4 | BM138: 500907097
C139: 14 | D139: M | E139: 5922903030 | F139: Obrubník rovný 100/20/10 cm, sivá | J139: ks | K139: 4 | L139: 0 | N139: =ROUND(L139*K139,3) -> 0 | U139: znížená | W139: =V139*K139 -> 0 | X139: 0.045 | Y139: =X139*K139 -> 0.18 | Z139: 0 | AA139: =Z139*K139 -> 0 | AR139: 8 | AT139: M | AU139: 2 | AY139: ROZPOCET | BE139: =IF(U139="základná",N139,0) -> 0 | BF139: =IF(U139="znížená",N139,0) -> 0 | BG139: =IF(U139="zákl. prenesená",N139,0) -> 0 | BH139: =IF(U139="zníž. prenesená",N139,0) -> 0 | BI139: =IF(U139="nulová",N139,0) -> 0 | BJ139: 2 | BK139: =ROUND(L139*K139,3) -> 0 | BL139: 4 | BM139: 398343871
C140: 15 | D140: K | E140: 917862111 | F140: Osadenie chodník. obrubníka betónového stojatého do lôžka z betónu prosteho tr. C 12/15 s bočnou oporou | J140: m | K140: 35 | L140: 0 | N140: =ROUND(L140*K140,3) -> 0 | U140: znížená | W140: =V140*K140 -> 0 | X140: 0.12584 | Y140: =X140*K140 -> 4.4044 | Z140: 0 | AA140: =Z140*K140 -> 0 | AR140: 4 | AT140: K | AU140: 2 | AY140: ROZPOCET | BE140: =IF(U140="základná",N140,0) -> 0 | BF140: =IF(U140="znížená",N140,0) -> 0 | BG140: =IF(U140="zákl. prenesená",N140,0) -> 0 | BH140: =IF(U140="zníž. prenesená",N140,0) -> 0 | BI140: =IF(U140="nulová",N140,0) -> 0 | BJ140: 2 | BK140: =ROUND(L140*K140,3) -> 0 | BL140: 4 | BM140: 1475104136
C141: 16 | D141: M | E141: 5922903030 | F141: Obrubník rovný 100/20/10 cm, sivá | J141: ks | K141: 35.35 | L141: 0 | N141: =ROUND(L141*K141,3) -> 0 | U141: znížená | W141: =V141*K141 -> 0 | X141: 0.045 | Y141: =X141*K141 -> 1.59075 | Z141: 0 | AA141: =Z141*K141 -> 0 | AR141: 8 | AT141: M | AU141: 2 | AY141: ROZPOCET | BE141: =IF(U141="základná",N141,0) -> 0 | BF141: =IF(U141="znížená",N141,0) -> 0 | BG141: =IF(U141="zákl. prenesená",N141,0) -> 0 | BH141: =IF(U141="zníž. prenesená",N141,0) -> 0 | BI141: =IF(U141="nulová",N141,0) -> 0 | BJ141: 2 | BK141: =ROUND(L141*K141,3) -> 0 | BL141: 4 | BM141: -1416631090
C142: 17 | D142: K | E142: 919735112 | F142: Rezanie existujúceho asfaltového krytu alebo podkladu hĺbky nad 50 do 100 mm | J142: m | K142: 35 | L142: 0 | N142: =ROUND(L142*K142,3) -> 0 | U142: znížená | W142: =V142*K142 -> 0 | X142: 0 | Y142: =X142*K142 -> 0 | Z142: 0 | AA142: =Z142*K142 -> 0 | AR142: 4 | AT142: K | AU142: 2 | AY142: ROZPOCET | BE142: =IF(U142="základná",N142,0) -> 0 | BF142: =IF(U142="znížená",N142,0) -> 0 | BG142: =IF(U142="zákl. prenesená",N142,0) -> 0 | BH142: =IF(U142="zníž. prenesená",N142,0) -> 0 | BI142: =IF(U142="nulová",N142,0) -> 0 | BJ142: 2 | BK142: =ROUND(L142*K142,3) -> 0 | BL142: 4 | BM142: -216930442
C143: 18 | D143: K | E143: 979082213 | F143: Vodorovná doprava sutiny so zložením a hrubým urovnaním na vzdialenosť do 1 km | J143: t | K143: 25.694 | L143: 0 | N143: =ROUND(L143*K143,3) -> 0 | U143: znížená | W143: =V143*K143 -> 0 | X143: 0 | Y143: =X143*K143 -> 0 | Z143: 0 | AA143: =Z143*K143 -> 0 | AR143: 4 | AT143: K | AU143: 2 | AY143: ROZPOCET | BE143: =IF(U143="základná",N143,0) -> 0 | BF143: =IF(U143="znížená",N143,0) -> 0 | BG143: =IF(U143="zákl. prenesená",N143,0) -> 0 | BH143: =IF(U143="zníž. prenesená",N143,0) -> 0 | BI143: =IF(U143="nulová",N143,0) -> 0 | BJ143: 2 | BK143: =ROUND(L143*K143,3) -> 0 | BL143: 4 | BM143: -1863654528
C144: 19 | D144: K | E144: 979082219 | F144: Príplatok k cene za každý ďalší aj začatý 1 km nad 1 km | J144: t | K144: 25.694 | L144: 0 | N144: =ROUND(L144*K144,3) -> 0 | U144: znížená | W144: =V144*K144 -> 0 | X144: 0 | Y144: =X144*K144 -> 0 | Z144: 0 | AA144: =Z144*K144 -> 0 | AR144: 4 | AT144: K | AU144: 2 | AY144: ROZPOCET | BE144: =IF(U144="základná",N144,0) -> 0 | BF144: =IF(U144="znížená",N144,0) -> 0 | BG144: =IF(U144="zákl. prenesená",N144,0) -> 0 | BH144: =IF(U144="zníž. prenesená",N144,0) -> 0 | BI144: =IF(U144="nulová",N144,0) -> 0 | BJ144: 2 | BK144: =ROUND(L144*K144,3) -> 0 | BL144: 4 | BM144: -1452759105
C145: 20 | D145: K | E145: 979089012 | F145: Poplatok za skladovanie - betón, tehly, dlaždice (17 01 ), ostatné | J145: t | K145: 25.694 | L145: 0 | N145: =ROUND(L145*K145,3) -> 0 | U145: znížená | W145: =V145*K145 -> 0 | X145: 0 | Y145: =X145*K145 -> 0 | Z145: 0 | AA145: =Z145*K145 -> 0 | AR145: 4 | AT145: K | AU145: 2 | AY145: ROZPOCET | BE145: =IF(U145="základná",N145,0) -> 0 | BF145: =IF(U145="znížená",N145,0) -> 0 | BG145: =IF(U145="zákl. prenesená",N145,0) -> 0 | BH145: =IF(U145="zníž. prenesená",N145,0) -> 0 | BI145: =IF(U145="nulová",N145,0) -> 0 | BJ145: 2 | BK145: =ROUND(L145*K145,3) -> 0 | BL145: 4 | BM145: -637688347
D146: 99 - Presun hmôt HSV | N146: =BK146 -> 0 | W146: =W147 -> 0 | Y146: =Y147 -> 0 | AA146: =AA147 -> 0 | AR146: 1 | AT146: D | AU146: 1 | AY146: ROZPOCET | BK146: =BK147 -> 0
C147: 21 | D147: K | E147: 998223011 | F147: Presun hmôt pre pozemné komunikácie s krytom dláždeným (822 2.3, 822 5.3) akejkoľvek dĺžky objektu | J147: t | K147: 47.64 | L147: 0 | N147: =ROUND(L147*K147,3) -> 0 | U147: znížená | W147: =V147*K147 -> 0 | X147: 0 | Y147: =X147*K147 -> 0 | Z147: 0 | AA147: =Z147*K147 -> 0 | AR147: 4 | AT147: K | AU147: 2 | AY147: ROZPOCET | BE147: =IF(U147="základná",N147,0) -> 0 | BF147: =IF(U147="znížená",N147,0) -> 0 | BG147: =IF(U147="zákl. prenesená",N147,0) -> 0 | BH147: =IF(U147="zníž. prenesená",N147,0) -> 0 | BI147: =IF(U147="nulová",N147,0) -> 0 | BJ147: 2 | BK147: =ROUND(L147*K147,3) -> 0 | BL147: 4 | BM147: -1995958110
D148: VP - Práce naviac | N148: =BK148 -> 0 | AT148: D | AU148: 0 | AY148: PN | BK148: =SUM(BK149:BK153) -> 0
D149: K | N149: =BK149 -> 0 | U149: znížená | AT149: PN | AU149: 1 | AY149: PN | BE149: =IF(U149="základná",N149,0) -> 0 | BF149: =IF(U149="znížená",N149,0) -> 0 | BG149: =IF(U149="zákl. prenesená",N149,0) -> 0 | BH149: =IF(U149="zníž. prenesená",N149,0) -> 0 | BI149: =IF(U149="nulová",N149,0) -> 0 | BJ149: 2 | BK149: =L149*K149 -> 0
D150: K | N150: =BK150 -> 0 | U150: znížená | AT150: PN | AU150: 1 | AY150: PN | BE150: =IF(U150="základná",N150,0) -> 0 | BF150: =IF(U150="znížená",N150,0) -> 0 | BG150: =IF(U150="zákl. prenesená",N150,0) -> 0 | BH150: =IF(U150="zníž. prenesená",N150,0) -> 0 | BI150: =IF(U150="nulová",N150,0) -> 0 | BJ150: 2 | BK150: =L150*K150 -> 0
D151: K | N151: =BK151 -> 0 | U151: znížená | AT151: PN | AU151: 1 | AY151: PN | BE151: =IF(U151="základná",N151,0) -> 0 | BF151: =IF(U151="znížená",N151,0) -> 0 | BG151: =IF(U151="zákl. prenesená",N151,0) -> 0 | BH151: =IF(U151="zníž. prenesená",N151,0) -> 0 | BI151: =IF(U151="nulová",N151,0) -> 0 | BJ151: 2 | BK151: =L151*K151 -> 0
D152: K | N152: =BK152 -> 0 | U152: znížená | AT152: PN | AU152: 1 | AY152: PN | BE152: =IF(U152="základná",N152,0) -> 0 | BF152: =IF(U152="znížená",N152,0) -> 0 | BG152: =IF(U152="zákl. prenesená",N152,0) -> 0 | BH152: =IF(U152="zníž. prenesená",N152,0) -> 0 | BI152: =IF(U152="nulová",N152,0) -> 0 | BJ152: 2 | BK152: =L152*K152 -> 0
D153: K | N153: =BK153 -> 0 | U153: znížená | AT153: PN | AU153: 1 | AY153: PN | BE153: =IF(U153="základná",N153,0) -> 0 | BF153: =IF(U153="znížená",N153,0) -> 0 | BG153: =IF(U153="zákl. prenesená",N153,0) -> 0 | BH153: =IF(U153="zníž. prenesená",N153,0) -> 0 | BI153: =IF(U153="nulová",N153,0) -> 0 | BJ153: 2 | BK153: =L153*K153 -> 0

Sheet 2 - Chodník pri výškovej ...
D1: Hárok obsahuje: | F1: 1) Krycí list rozpočtu | H1: 2) Rekapitulácia rozpočtu | L1: 3) Rozpočet | O1: Späť na hárok: | S1: Rekapitulácia stavby
C2: optimalizované pre tlač zostáv vo formáte A4 - na výšku | S2: >> skryté stĺpce << | AT2: {caaacaa6-e916-4f23-acc0-16ff9755f6cc}
AT3: 0
C4: KRYCÍ LIST ROZPOČTU | T4: v --- nižšie sa nachádzajú doplnkové a pomocné údaje k zostavám --- v | AT4: False
D6: Stavba: | F6: ='Rekapitulácia stavby'!K6 -> Oprava chodníka na Námestí SNP medzi MK Slovanská a Červená
D7: Objekt: | F7: 2 - Chodník pri výškovej budove a priechod pre chodcov
D8: JKSO: | M8: KS:
D9: Miesto: | M9: Dátum: | O9: ='Rekapitulácia stavby'!AN8 -> 25. 7. 2017
D11: Objednávateľ: | M11: IČO:
E12: Mesto Partizánske | M12: IČO DPH:
D14: Zhotoviteľ: | M14: IČO: | O14: =IF('Rekapitulácia stavby'!AN13="","",'Rekapitulácia stavby'!AN13) -> Vyplň údaj
E15: =IF('Rekapitulácia stavby'!E14="","",'Rekapitulácia stavby'!E14) -> Vyplň údaj | M15: IČO DPH: | O15: =IF('Rekapitulácia stavby'!AN14="","",'Rekapitulácia stavby'!AN14) -> Vyplň údaj
D17: Projektant: | M17: IČO: | O17: =IF('Rekapitulácia stavby'!AN16="","",'Rekapitulácia stavby'!AN16)
E18: =IF('Rekapitulácia stavby'!E17="","",'Rekapitulácia stavby'!E17) | M18: IČO DPH: | O18: =IF('Rekapitulácia stavby'!AN17="","",'Rekapitulácia stavby'!AN17)
D20: Spracovateľ: | M20: IČO: | O20: =IF('Rekapitulácia stavby'!AN19="","",'Rekapitulácia stavby'!AN19)
E21: =IF('Rekapitulácia stavby'!E20="","",'Rekapitulácia stavby'!E20) | M21: IČO DPH: | O21: =IF('Rekapitulácia stavby'!AN20="","",'Rekapitulácia stavby'!AN20)
D23: Poznámka:
D27: Náklady z rozpočtu | M27: =N88 -> 0
D28: Ostatné náklady | M28: =N96 -> 0
D30: Cena bez DPH | M30: =ROUND(M27+M28,2) -> 0
D32: DPH | E32: základná | F32: 0.2 | G32: z | H32: =ROUND((((SUM(BE96:BE103)+SUM(BE121:BE150))+SUM(BE152:BE156))),2) -> 0 | M32: =ROUND(((ROUND((SUM(BE96:BE103)+SUM(BE121:BE150)), 2)*F32)+SUM(BE152:BE156)*F32),2) -> 0
E33: znížená | F33: 0.2 | G33: z | H33: =ROUND((((SUM(BF96:BF103)+SUM(BF121:BF150))+SUM(BF152:BF156))),2) -> 0 | M33: =ROUND(((ROUND((SUM(BF96:BF103)+SUM(BF121:BF150)), 2)*F33)+SUM(BF152:BF156)*F33),2) -> 0
E34: zákl. prenesená | F34: 0.2 | G34: z | H34: =ROUND((((SUM(BG96:BG103)+SUM(BG121:BG150))+SUM(BG152:BG156))),2) -> 0 | M34: 0
E35: zníž. prenesená | F35: 0.2 | G35: z | H35: =ROUND((((SUM(BH96:BH103)+SUM(BH121:BH150))+SUM(BH152:BH156))),2) -> 0 | M35: 0
E36: nulová | F36: 0 | G36: z | H36: =ROUND((((SUM(BI96:BI103)+SUM(BI121:BI150))+SUM(BI152:BI156))),2) -> 0 | M36: 0
D38: Cena s DPH | G38: v | H38: EUR | L38: =SUM(M30:M36) -> 0
D50: Projektant | J50: Spracovateľ
D59: Dátum a podpis: | G59: Pečiatka | J59: Dátum a podpis: | N59: Pečiatka
D61: Objednávateľ | J61: Zhotoviteľ
D70: Dátum a podpis: | G70: Pečiatka | J70: Dátum a podpis: | N70: Pečiatka
C76: REKAPITULÁCIA ROZPOČTU
C78: Stavba: | F78: =F6 -> Oprava chodníka na Námestí SNP medzi MK Slovanská a Červená
C79: Objekt: | F79: =F7 -> 2 - Chodník pri výškovej budove a priechod pre chodcov
C81: Miesto: | F81: =F9 | K81: Dátum: | M81: =IF(O9="","",O9) -> 25. 7. 2017
C83: Objednávateľ: | F83: =E12 -> Mesto Partizánske | K83: Projektant: | M83: =E18
C84: Zhotoviteľ: | F84: =IF(E15="","",E15) -> Vyplň údaj | K84: Spracovateľ: | M84: =E21
C86: Kód - Popis | N86: Cena celkom [EUR]
C88: 1) Náklady z rozpočtu | N88: =N121 -> 0 | AU88: -1
D89: HSV - Práce a dodávky HSV | N89: =N122 -> 0
D90: 1 - Zemné práce | N90: =N123 -> 0
D91: 5 - Komunikácie | N91: =N131 -> 0
D92: 9 - Ostatné konštrukcie a práce-búranie | N92: =N136 -> 0
D93: 99 - Presun hmôt HSV | N93: =N149 -> 0
D94: VP - Práce naviac | N94: =N151 -> 0
C96: 2) Ostatné náklady | N96: =ROUND(N97+N98+N99+N100+N101+N102,2) -> 0 | U96: DPH
D97: GZS | N97: =ROUND(N88*T97,2) -> 0 | U97: znížená | AY97: VRN | BE97: =IF(U97="základná",N97,0) -> 0 | BF97: =IF(U97="znížená",N97,0) -> 0 | BG97: =IF(U97="zákl. prenesená",N97,0) -> 0 | BH97: =IF(U97="zníž. prenesená",N97,0) -> 0 | BI97: =IF(U97="nulová",N97,0) -> 0 | BJ97: 2
D98: Projektové práce | N98: =ROUND(N88*T98,2) -> 0 | U98: znížená | AY98: VRN | BE98: =IF(U98="základná",N98,0) -> 0 | BF98: =IF(U98="znížená",N98,0) -> 0 | BG98: =IF(U98="zákl. prenesená",N98,0) -> 0 | BH98: =IF(U98="zníž. prenesená",N98,0) -> 0 | BI98: =IF(U98="nulová",N98,0) -> 0 | BJ98: 2
D99: Sťažené podmienky | N99: =ROUND(N88*T99,2) -> 0 | U99: znížená | AY99: VRN | BE99: =IF(U99="základná",N99,0) -> 0 | BF99: =IF(U99="znížená",N99,0) -> 0 | BG99: =IF(U99="zákl. prenesená",N99,0) -> 0 | BH99: =IF(U99="zníž. prenesená",N99,0) -> 0 | BI99: =IF(U99="nulová",N99,0) -> 0 | BJ99: 2
D100: Vplyv prostredia | N100: =ROUND(N88*T100,2) -> 0 | U100: znížená | AY100: VRN | BE100: =IF(U100="základná",N100,0) -> 0 | BF100: =IF(U100="znížená",N100,0) -> 0 | BG100: =IF(U100="zákl. prenesená",N100,0) -> 0 | BH100: =IF(U100="zníž. prenesená",N100,0) -> 0 | BI100: =IF(U100="nulová",N100,0) -> 0 | BJ100: 2
D101: Iné VRN | N101: =ROUND(N88*T101,2) -> 0 | U101: znížená | AY101: VRN | BE101: =IF(U101="základná",N101,0) -> 0 | BF101: =IF(U101="znížená",N101,0) -> 0 | BG101: =IF(U101="zákl. prenesená",N101,0) -> 0 | BH101: =IF(U101="zníž. prenesená",N101,0) -> 0 | BI101: =IF(U101="nulová",N101,0) -> 0 | BJ101: 2
D102: Kompletačná činnosť | N102: =ROUND(N88*T102,2) -> 0 | U102: znížená | AY102: KOMPLETACNA | BE102: =IF(U102="základná",N102,0) -> 0 | BF102: =IF(U102="znížená",N102,0) -> 0 | BG102: =IF(U102="zákl. prenesená",N102,0) -> 0 | BH102: =IF(U102="zníž. prenesená",N102,0) -> 0 | BI102: =IF(U102="nulová",N102,0) -> 0 | BJ102: 2
C104: Celkové náklady za stavbu 1) + 2) | L104: =ROUND(SUM(N88+N96),2) -> 0
C110: ROZPOČET
C112: Stavba: | F112: =F6 -> Oprava chodníka na Námestí SNP medzi MK Slovanská a Červená
C113: Objekt: | F113: =F7 -> 2 - Chodník pri výškovej budove a priechod pre chodcov
C115: Miesto: | F115: =F9 | K115: Dátum: | M115: =IF(O9="","",O9) -> 25. 7. 2017
C117: Objednávateľ: | F117: =E12 -> Mesto Partizánske | K117: Projektant: | M117: =E18
C118: Zhotoviteľ: | F118: =IF(E15="","",E15) -> Vyplň údaj | K118: Spracovateľ: | M118: =E21
C120: PČ | D120: Typ | E120: Kód | F120: Popis | J120: MJ | K120: Množstvo | L120: J.cena [EUR] | N120: Cena celkom [EUR] | T120: Poznámka | U120: DPH | V120: J. Nh [h] | W120: Nh celkom [h] | X120: J. hmotnosť_x000D_ [t] | Y120: Hmotnosť_x000D_ celkom [t] | Z120: J. suť [t] | AA120: Suť Celkom [t]
C121: Náklady z rozpočtu | N121: =BK121 -> 0 | W121: =W122+W151 -> 0 | Y121: =Y122+Y151 -> 44.14882 | AA121: =AA122+AA151 -> 0.105 | AT121: D | AU121: -1 | BK121: =BK122+BK151 -> 0
D122: HSV - Práce a dodávky HSV | N122: =BK122 -> 0 | W122: =W123+W131+W136+W149 -> 0 | Y122: =Y123+Y131+Y136+Y149 -> 44.14882 | AA122: =AA123+AA131+AA136+AA149 -> 0.105 | AR122: 1 | AT122: D | AU122: 0 | AY122: ROZPOCET | BK122: =BK123+BK131+BK136+BK149 -> 0
D123: 1 - Zemné práce | N123: =BK123 -> 0 | W123: =SUM(W124:W130) -> 0 | Y123: =SUM(Y124:Y130) -> 0 | AA123: =SUM(AA124:AA130) -> 0 | AR123: 1 | AT123: D | AU123: 1 | AY123: ROZPOCET | BK123: =SUM(BK124:BK130) -> 0
C124: 1 | D124: K | E124: 122201101 | F124: Odkopávka a prekopávka nezapažená v hornine 3, do 100 m3 | J124: m3 | K124: 18 | L124: 0 | N124: =ROUND(L124*K124,3) -> 0 | U124: znížená | W124: =V124*K124 -> 0 | X124: 0 | Y124: =X124*K124 -> 0 | Z124: 0 | AA124: =Z124*K124 -> 0 | AR124: 4 | AT124: K | AU124: 2 | AY124: ROZPOCET | BE124: =IF(U124="základná",N124,0) -> 0 | BF124: =IF(U124="znížená",N124,0) -> 0 | BG124: =IF(U124="zákl. prenesená",N124,0) -> 0 | BH124: =IF(U124="zníž. prenesená",N124,0) -> 0 | BI124: =IF(U124="nulová",N124,0) -> 0 | BJ124: 2 | BK124: =ROUND(L124*K124,3) -> 0 | BL124: 4 | BM124: -2016607628
C125: 2 | D125: K | E125: 122201109 | F125: Odkopávky a prekopávky nezapažené. Príplatok k cenám za lepivosť horniny 3 | J125: m3 | K125: 18 | L125: 0 | N125: =ROUND(L125*K125,3) -> 0 | U125: znížená | W125: =V125*K125 -> 0 | X125: 0 | Y125: =X125*K125 -> 0 | Z125: 0 | AA125: =Z125*K125 -> 0 | AR125: 4 | AT125: K | AU125: 2 | AY125: ROZPOCET | BE125: =IF(U125="základná",N125,0) -> 0 | BF125: =IF(U125="znížená",N125,0) -> 0 | BG125: =IF(U125="zákl. prenesená",N125,0) -> 0 | BH125: =IF(U125="zníž. prenesená",N125,0) -> 0 | BI125: =IF(U125="nulová",N125,0) -> 0 | BJ125: 2 | BK125: =ROUND(L125*K125,3) -> 0 | BL125: 4 | BM125: 360765449
C126: 3 | D126: K | E126: 162501102 | F126: Vodorovné premiestnenie výkopku po spevnenej ceste z horniny tr.1-4, do 100 m3 na vzdialenosť do 3000 m | J126: m3 | K126: 18 | L126: 0 | N126: =ROUND(L126*K126,3) -> 0 | U126: znížená | W126: =V126*K126 -> 0 | X126: 0 | Y126: =X126*K126 -> 0 | Z126: 0 | AA126: =Z126*K126 -> 0 | AR126: 4 | AT126: K | AU126: 2 | AY126: ROZPOCET | BE126: =IF(U126="základná",N126,0) -> 0 | BF126: =IF(U126="znížená",N126,0) -> 0 | BG126: =IF(U126="zákl. prenesená",N126,0) -> 0 | BH126: =IF(U126="zníž. prenesená",N126,0) -> 0 | BI126: =IF(U126="nulová",N126,0) -> 0 | BJ126: 2 | BK126: =ROUND(L126*K126,3) -> 0 | BL126: 4 | BM126: -140598414
C127: 4 | D127: K | E127: 162501105 | F127: Vodorovné premiestnenie výkopku po spevnenej ceste z horniny tr.1-4, do 100 m3, príplatok k cene za každých ďalšich a začatých 1000 m | J127: m3 | K127: 18 | L127: 0 | N127: =ROUND(L127*K127,3) -> 0 | U127: znížená | W127: =V127*K127 -> 0 | X127: 0 | Y127: =X127*K127 -> 0 | Z127: 0 | AA127: =Z127*K127 -> 0 | AR127: 4 | AT127: K | AU127: 2 | AY127: ROZPOCET | BE127: =IF(U127="základná",N127,0) -> 0 | BF127: =IF(U127="znížená",N127,0) -> 0 | BG127: =IF(U127="zákl. prenesená",N127,0) -> 0 | BH127: =IF(U127="zníž. prenesená",N127,0) -> 0 | BI127: =IF(U127="nulová",N127,0) -> 0 | BJ127: 2 | BK127: =ROUND(L127*K127,3) -> 0 | BL127: 4 | BM127: -879385489
C128: 5 | D128: K | E128: 171201201 | F128: Uloženie sypaniny na skládky do 100 m3 | J128: m3 | K128: 18 | L128: 0 | N128: =ROUND(L128*K128,3) -> 0 | U128: znížená | W128: =V128*K128 -> 0 | X128: 0 | Y128: =X128*K128 -> 0 | Z128: 0 | AA128: =Z128*K128 -> 0 | AR128: 4 | AT128: K | AU128: 2 | AY128: ROZPOCET | BE128: =IF(U128="základná",N128,0) -> 0 | BF128: =IF(U128="znížená",N128,0) -> 0 | BG128: =IF(U128="zákl. prenesená",N128,0) -> 0 | BH128: =IF(U128="zníž. prenesená",N128,0) -> 0 | BI128: =IF(U128="nulová",N128,0) -> 0 | BJ128: 2 | BK128: =ROUND(L128*K128,3) -> 0 | BL128: 4 | BM128: 1009657615
C129: 6 | D129: K | E129: 171209002 | F129: Poplatok za skladovanie - zemina a kamenivo (17 05) ostatné | J129: t | K129: 32.4 | L129: 0 | N129: =ROUND(L129*K129,3) -> 0 | U129: znížená | W129: =V129*K129 -> 0 | X129: 0 | Y129: =X129*K129 -> 0 | Z129: 0 | AA129: =Z129*K129 -> 0 | AR129: 4 | AT129: K | AU129: 2 | AY129: ROZPOCET | BE129: =IF(U129="základná",N129,0) -> 0 | BF129: =IF(U129="znížená",N129,0) -> 0 | BG129: =IF(U129="zákl. prenesená",N129,0) -> 0 | BH129: =IF(U129="zníž. prenesená",N129,0) -> 0 | BI129: =IF(U129="nulová",N129,0) -> 0 | BJ129: 2 | BK129: =ROUND(L129*K129,3) -> 0 | BL129: 4 | BM129: -1056955301
C130: 7 | D130: K | E130: 181301101 | F130: Rozprestretie ornice v rovine, plocha do 500 m2, hr.do 100 mm | J130: m2 | K130: 28 | L130: 0 | N130: =ROUND(L130*K130,3) -> 0 | U130: znížená | W130: =V130*K130 -> 0 | X130: 0 | Y130: =X130*K130 -> 0 | Z130: 0 | AA130: =Z130*K130 -> 0 | AR130: 4 | AT130: K | AU130: 2 | AY130: ROZPOCET | BE130: =IF(U130="základná",N130,0) -> 0 | BF130: =IF(U130="znížená",N130,0) -> 0 | BG130: =IF(U130="zákl. prenesená",N130,0) -> 0 | BH130: =IF(U130="zníž. prenesená",N130,0) -> 0 | BI130: =IF(U130="nulová",N130,0) -> 0 | BJ130: 2 | BK130: =ROUND(L130*K130,3) -> 0 | BL130: 4 | BM130: -2112484015
D131: 5 - Komunikácie | N131: =BK131 -> 0 | W131: =SUM(W132:W135) -> 0 | Y131: =SUM(Y132:Y135) -> 36.9738 | AA131: =SUM(AA132:AA135) -> 0 | AR131: 1 | AT131: D | AU131: 1 | AY131: ROZPOCET | BK131: =SUM(BK132:BK135) -> 0
C132: 8 | D132: K | E132: 564751111 | F132: Podklad alebo kryt z kameniva hrubého drveného veľ. 32-63 mm s rozprestretím a zhutn.hr. 150 mm | J132: m2 | K132: 60 | L132: 0 | N132: =ROUND(L132*K132,3) -> 0 | U132: znížená | W132: =V132*K132 -> 0 | X132: 0.2916 | Y132: =X132*K132 -> 17.496 | Z132: 0 | AA132: =Z132*K132 -> 0 | AR132: 4 | AT132: K | AU132: 2 | AY132: ROZPOCET | BE132: =IF(U132="základná",N132,0) -> 0 | BF132: =IF(U132="znížená",N132,0) -> 0 | BG132: =IF(U132="zákl. prenesená",N132,0) -> 0 | BH132: =IF(U132="zníž. prenesená",N132,0) -> 0 | BI132: =IF(U132="nulová",N132,0) -> 0 | BJ132: 2 | BK132: =ROUND(L132*K132,3) -> 0 | BL132: 4 | BM132: -1365194862
C133: 9 | D133: K | E133: 564801112 | F133: Podklad zo štrkodrviny s rozprestretím a zhutnením, po zhutnení hr. 40 mm | J133: m2 | K133: 60 | L133: 0 | N133: =ROUND(L133*K133,3) -> 0 | U133: znížená | W133: =V133*K133 -> 0 | X133: 0.08003 | Y133: =X133*K133 -> 4.8018 | Z133: 0 | AA133: =Z133*K133 -> 0 | AR133: 4 | AT133: K | AU133: 2 | AY133: ROZPOCET | BE133: =IF(U133="základná",N133,0) -> 0 | BF133: =IF(U133="znížená",N133,0) -> 0 | BG133: =IF(U133="zákl. prenesená",N133,0) -> 0 | BH133: =IF(U133="zníž. prenesená",N133,0) -> 0 | BI133: =IF(U133="nulová",N133,0) -> 0 | BJ133: 2 | BK133: =ROUND(L133*K133,3) -> 0 | BL133: 4 | BM133: 1515205706
C134: 10 | D134: K | E134: 596911112 | F134: Kladenie zámkovej dlažby hr. 6 cm pre peších nad 20 m2 so zriadením lôžka z kameniva hr. 4 cm | J134: m2 | K134: 60 | L134: 0 | N134: =ROUND(L134*K134,3) -> 0 | U134: znížená | W134: =V134*K134 -> 0 | X134: 0.112 | Y134: =X134*K134 -> 6.72 | Z134: 0 | AA134: =Z134*K134 -> 0 | AR134: 4 | AT134: K | AU134: 2 | AY134: ROZPOCET | BE134: =IF(U134="základná",N134,0) -> 0 | BF134: =IF(U134="znížená",N134,0) -> 0 | BG134: =IF(U134="zákl. prenesená",N134,0) -> 0 | BH134: =IF(U134="zníž. prenesená",N134,0) -> 0 | BI134: =IF(U134="nulová",N134,0) -> 0 | BJ134: 2 | BK134: =ROUND(L134*K134,3) -> 0 | BL134: 4 | BM134: -676370541
C135: 11 | D135: M | E135: 5921952840 | F135: Dlažba KLASIKO 20x10x6 cm, sivá | J135: m2 | K135: 61.2 | L135: 0 | N135: =ROUND(L135*K135,3) -> 0 | U135: znížená | W135: =V135*K135 -> 0 | X135: 0.13 | Y135: =X135*K135 -> 7.956 | Z135: 0 | AA135: =Z135*K135 -> 0 | AR135: 8 | AT135: M | AU135: 2 | AY135: ROZPOCET | BE135: =IF(U135="základná",N135,0) -> 0 | BF135: =IF(U135="znížená",N135,0) -> 0 | BG135: =IF(U135="zákl. prenesená",N135,0) -> 0 | BH135: =IF(U135="zníž. prenesená",N135,0) -> 0 | BI135: =IF(U135="nulová",N135,0) -> 0 | BJ135: 2 | BK135: =ROUND(L135*K135,3) -> 0 | BL135: 4 | BM135: -1001065053
D136: 9 - Ostatné konštrukcie a práce-búranie | N136: =BK136 -> 0 | W136: =SUM(W137:W148) -> 0 | Y136: =SUM(Y137:Y148) -> 7.17502 | AA136: =SUM(AA137:AA148) -> 0.105 | AR136: 1 | AT136: D | AU136: 1 | AY136: ROZPOCET | BK136: =SUM(BK137:BK148) -> 0
C137: 12 | D137: K | E137: 914001111 | F137: Osadenie a montáž cestnej zvislej dopravnej značky na stľpik, stľp, konzolu alebo objekt | J137: ks | K137: 1 | L137: 0 | N137: =ROUND(L137*K137,3) -> 0 | U137: znížená | W137: =V137*K137 -> 0 | X137: 0.22133 | Y137: =X137*K137 -> 0.22133 | Z137: 0 | AA137: =Z137*K137 -> 0 | AR137: 4 | AT137: K | AU137: 2 | AY137: ROZPOCET | BE137: =IF(U137="základná",N137,0) -> 0 | BF137: =IF(U137="znížená",N137,0) -> 0 | BG137: =IF(U137="zákl. prenesená",N137,0) -> 0 | BH137: =IF(U137="zníž. prenesená",N137,0) -> 0 | BI137: =IF(U137="nulová",N137,0) -> 0 | BJ137: 2 | BK137: =ROUND(L137*K137,3) -> 0 | BL137: 4 | BM137: -1199175885
C138: 13 | D138: M | E138: 4044791670 | F138: IP6 „Priechod pre chodcov“,pozink.dopr.značka, zväčšený rozmer 750x750 mm, na flôrescenčnom podklade | J138: ks | K138: 1 | L138: 0 | N138: =ROUND(L138*K138,3) -> 0 | U138: znížená | W138: =V138*K138 -> 0 | X138: 0 | Y138: =X138*K138 -> 0 | Z138: 0 | AA138: =Z138*K138 -> 0 | AR138: 8 | AT138: M | AU138: 2 | AY138: ROZPOCET | BE138: =IF(U138="základná",N138,0) -> 0 | BF138: =IF(U138="znížená",N138,0) -> 0 | BG138: =IF(U138="zákl. prenesená",N138,0) -> 0 | BH138: =IF(U138="zníž. prenesená",N138,0) -> 0 | BI138: =IF(U138="nulová",N138,0) -> 0 | BJ138: 2 | BK138: =ROUND(L138*K138,3) -> 0 | BL138: 4 | BM138: 724854858
C139: 14 | D139: M | E139: 4044777000 | F139: Stĺpik Zn, f60 mm / 1 bm | J139: m | K139: 3.25 | L139: 0 | N139: =ROUND(L139*K139,3) -> 0 | U139: znížená | W139: =V139*K139 -> 0 | X139: 0.0014 | Y139: =X139*K139 -> 0.00455 | Z139: 0 | AA139: =Z139*K139 -> 0 | AR139: 8 | AT139: M | AU139: 2 | AY139: ROZPOCET | BE139: =IF(U139="základná",N139,0) -> 0 | BF139: =IF(U139="znížená",N139,0) -> 0 | BG139: =IF(U139="zákl. prenesená",N139,0) -> 0 | BH139: =IF(U139="zníž. prenesená",N139,0) -> 0 | BI139: =IF(U139="nulová",N139,0) -> 0 | BJ139: 2 | BK139: =ROUND(L139*K139,3) -> 0 | BL139: 4 | BM139: 190513240
C140: 15 | D140: M | E140: 4044777004 | F140: Objímka, f60 mm | J140: ks | K140: 2 | L140: 0 | N140: =ROUND(L140*K140,3) -> 0 | U140: znížená | W140: =V140*K140 -> 0 | X140: 0 | Y140: =X140*K140 -> 0 | Z140: 0 | AA140: =Z140*K140 -> 0 | AR140: 8 | AT140: M | AU140: 2 | AY140: ROZPOCET | BE140: =IF(U140="základná",N140,0) -> 0 | BF140: =IF(U140="znížená",N140,0) -> 0 | BG140: =IF(U140="zákl. prenesená",N140,0) -> 0 | BH140: =IF(U140="zníž. prenesená",N140,0) -> 0 | BI140: =IF(U140="nulová",N140,0) -> 0 | BJ140: 2 | BK140: =ROUND(L140*K140,3) -> 0 | BL140: 4 | BM140: -565785534
C141: 16 | D141: M | E141: 4044777006 | F141: Stĺpik viečko, f60 mm | J141: ks | K141: 1 | L141: 0 | N141: =ROUND(L141*K141,3) -> 0 | U141: znížená | W141: =V141*K141 -> 0 | X141: 0 | Y141: =X141*K141 -> 0 | Z141: 0 | AA141: =Z141*K141 -> 0 | AR141: 8 | AT141: M | AU141: 2 | AY141: ROZPOCET | BE141: =IF(U141="základná",N141,0) -> 0 | BF141: =IF(U141="znížená",N141,0) -> 0 | BG141: =IF(U141="zákl. prenesená",N141,0) -> 0 | BH141: =IF(U141="zníž. prenesená",N141,0) -> 0 | BI141: =IF(U141="nulová",N141,0) -> 0 | BJ141: 2 | BK141: =ROUND(L141*K141,3) -> 0 | BL141: 4 | BM141: -1179657611
C142: 17 | D142: K | E142: 915721111 | F142: Vodorovné značenie krytu striekané farbou stopčiar, zebier, tieňov, šípok nápisov, prechodov a pod. | J142: m2 | K142: 9 | L142: 0 | N142: =ROUND(L142*K142,3) -> 0 | U142: znížená | W142: =V142*K142 -> 0 | X142: 0.00066 | Y142: =X142*K142 -> 0.00594 | Z142: 0 | AA142: =Z142*K142 -> 0 | AR142: 4 | AT142: K | AU142: 2 | AY142: ROZPOCET | BE142: =IF(U142="základná",N142,0) -> 0 | BF142: =IF(U142="znížená",N142,0) -> 0 | BG142: =IF(U142="zákl. prenesená",N142,0) -> 0 | BH142: =IF(U142="zníž. prenesená",N142,0) -> 0 | BI142: =IF(U142="nulová",N142,0) -> 0 | BJ142: 2 | BK142: =ROUND(L142*K142,3) -> 0 | BL142: 4 | BM142: 1811151857
C143: 18 | D143: K | E143: 915729111 | F143: Príplatok za reflexnú úpravu balotinovú stopčiar, zebier, tieňov, šípok nápisov, prechodov a pod. | J143: m2 | K143: 9 | L143: 0 | N143: =ROUND(L143*K143,3) -> 0 | U143: znížená | W143: =V143*K143 -> 0 | X143: 0.00032 | Y143: =X143*K143 -> 0.00288 | Z143: 0 | AA143: =Z143*K143 -> 0 | AR143: 4 | AT143: K | AU143: 2 | AY143: ROZPOCET | BE143: =IF(U143="základná",N143,0) -> 0 | BF143: =IF(U143="znížená",N143,0) -> 0 | BG143: =IF(U143="zákl. prenesená",N143,0) -> 0 | BH143: =IF(U143="zníž. prenesená",N143,0) -> 0 | BI143: =IF(U143="nulová",N143,0) -> 0 | BJ143: 2 | BK143: =ROUND(L143*K143,3) -> 0 | BL143: 4 | BM143: 284548627
C144: 19 | D144: K | E144: 915791112 | F144: Predznačenie pre vodorovné značenie striekané farbou alebo vykonávané z náterových hmôt | J144: m2 | K144: 9 | L144: 0 | N144: =ROUND(L144*K144,3) -> 0 | U144: znížená | W144: =V144*K144 -> 0 | X144: 0 | Y144: =X144*K144 -> 0 | Z144: 0 | AA144: =Z144*K144 -> 0 | AR144: 4 | AT144: K | AU144: 2 | AY144: ROZPOCET | BE144: =IF(U144="základná",N144,0) -> 0 | BF144: =IF(U144="znížená",N144,0) -> 0 | BG144: =IF(U144="zákl. prenesená",N144,0) -> 0 | BH144: =IF(U144="zníž. prenesená",N144,0) -> 0 | BI144: =IF(U144="nulová",N144,0) -> 0 | BJ144: 2 | BK144: =ROUND(L144*K144,3) -> 0 | BL144: 4 | BM144: -1505224809
C145: 20 | D145: K | E145: 916561112 | F145: Osadenie záhonového alebo parkového obrubníka betón., do lôžka z bet. pros. tr. C 16/20 s bočnou oporou | J145: m | K145: 57 | L145: 0 | N145: =ROUND(L145*K145,3) -> 0 | U145: znížená | W145: =V145*K145 -> 0 | X145: 0.09853 | Y145: =X145*K145 -> 5.61621 | Z145: 0 | AA145: =Z145*K145 -> 0 | AR145: 4 | AT145: K | AU145: 2 | AY145: ROZPOCET | BE145: =IF(U145="základná",N145,0) -> 0 | BF145: =IF(U145="znížená",N145,0) -> 0 | BG145: =IF(U145="zákl. prenesená",N145,0) -> 0 | BH145: =IF(U145="zníž. prenesená",N145,0) -> 0 | BI145: =IF(U145="nulová",N145,0) -> 0 | BJ145: 2 | BK145: =ROUND(L145*K145,3) -> 0 | BL145: 4 | BM145: 1537597430
C146: 21 | D146: M | E146: 5921954660 | F146: Premac obrubník parkový 100x20x5 cm, sivý | J146: ks | K146: 57.57 | L146: 0 | N146: =ROUND(L146*K146,3) -> 0 | U146: znížená | W146: =V146*K146 -> 0 | X146: 0.023 | Y146: =X146*K146 -> 1.32411 | Z146: 0 | AA146: =Z146*K146 -> 0 | AR146: 8 | AT146: M | AU146: 2 | AY146: ROZPOCET | BE146: =IF(U146="základná",N146,0) -> 0 | BF146: =IF(U146="znížená",N146,0) -> 0 | BG146: =IF(U146="zákl. prenesená",N146,0) -> 0 | BH146: =IF(U146="zníž. prenesená",N146,0) -> 0 | BI146: =IF(U146="nulová",N146,0) -> 0 | BJ146: 2 | BK146: =ROUND(L146*K146,3) -> 0 | BL146: 4 | BM146: -441464050
C147: 22 | D147: K | E147: 919735112 | F147: Rezanie existujúceho asfaltového krytu alebo podkladu hĺbky nad 50 do 100 mm | J147: m | K147: 3 | L147: 0 | N147: =ROUND(L147*K147,3) -> 0 | U147: znížená | W147: =V147*K147 -> 0 | X147: 0 | Y147: =X147*K147 -> 0 | Z147: 0 | AA147: =Z147*K147 -> 0 | AR147: 4 | AT147: K | AU147: 2 | AY147: ROZPOCET | BE147: =IF(U147="základná",N147,0) -> 0 | BF147: =IF(U147="znížená",N147,0) -> 0 | BG147: =IF(U147="zákl. prenesená",N147,0) -> 0 | BH147: =IF(U147="zníž. prenesená",N147,0) -> 0 | BI147: =IF(U147="nulová",N147,0) -> 0 | BJ147: 2 | BK147: =ROUND(L147*K147,3) -> 0 | BL147: 4 | BM147: -1478992165
C148: 23 | D148: K | E148: 966005111 | F148: Rozobratie a úprava zábradlia s betónovými pätkami, -0,03500t | J148: m | K148: 3 | L148: 0 | N148: =ROUND(L148*K148,3) -> 0 | U148: znížená | W148: =V148*K148 -> 0 | X148: 0 | Y148: =X148*K148 -> 0 | Z148: 0.035 | AA148: =Z148*K148 -> 0.105 | AR148: 4 | AT148: K | AU148: 2 | AY148: ROZPOCET | BE148: =IF(U148="základná",N148,0) -> 0 | BF148: =IF(U148="znížená",N148,0) -> 0 | BG148: =IF(U148="zákl. prenesená",N148,0) -> 0 | BH148: =IF(U148="zníž. prenesená",N148,0) -> 0 | BI148: =IF(U148="nulová",N148,0) -> 0 | BJ148: 2 | BK148: =ROUND(L148*K148,3) -> 0 | BL148: 4 | BM148: 592763467
D149: 99 - Presun hmôt HSV | N149: =BK149 -> 0 | W149: =W150 -> 0 | Y149: =Y150 -> 0 | AA149: =AA150 -> 0 | AR149: 1 | AT149: D | AU149: 1 | AY149: ROZPOCET | BK149: =BK150 -> 0
C150: 24 | D150: K | E150: 998223011 | F150: Presun hmôt pre pozemné komunikácie s krytom dláždeným (822 2.3, 822 5.3) akejkoľvek dĺžky objektu | J150: t | K150: 44.149 | L150: 0 | N150: =ROUND(L150*K150,3) -> 0 | U150: znížená | W150: =V150*K150 -> 0 | X150: 0 | Y150: =X150*K150 -> 0 | Z150: 0 | AA150: =Z150*K150 -> 0 | AR150: 4 | AT150: K | AU150: 2 | AY150: ROZPOCET | BE150: =IF(U150="základná",N150,0) -> 0 | BF150: =IF(U150="znížená",N150,0) -> 0 | BG150: =IF(U150="zákl. prenesená",N150,0) -> 0 | BH150: =IF(U150="zníž. prenesená",N150,0) -> 0 | BI150: =IF(U150="nulová",N150,0) -> 0 | BJ150: 2 | BK150: =ROUND(L150*K150,3) -> 0 | BL150: 4 | BM150: -1414145349
D151: VP - Práce naviac | N151: =BK151 -> 0 | AT151: D | AU151: 0 | AY151: PN | BK151: =SUM(BK152:BK156) -> 0
D152: K | N152: =BK152 -> 0 | U152: znížená | AT152: PN | AU152: 1 | AY152: PN | BE152: =IF(U152="základná",N152,0) -> 0 | BF152: =IF(U152="znížená",N152,0) -> 0 | BG152: =IF(U152="zákl. prenesená",N152,0) -> 0 | BH152: =IF(U152="zníž. prenesená",N152,0) -> 0 | BI152: =IF(U152="nulová",N152,0) -> 0 | BJ152: 2 | BK152: =L152*K152 -> 0
D153: K | N153: =BK153 -> 0 | U153: znížená | AT153: PN | AU153: 1 | AY153: PN | BE153: =IF(U153="základná",N153,0) -> 0 | BF153: =IF(U153="znížená",N153,0) -> 0 | BG153: =IF(U153="zákl. prenesená",N153,0) -> 0 | BH153: =IF(U153="zníž. prenesená",N153,0) -> 0 | BI153: =IF(U153="nulová",N153,0) -> 0 | BJ153: 2 | BK153: =L153*K153 -> 0
D154: K | N154: =BK154 -> 0 | U154: znížená | AT154: PN | AU154: 1 | AY154: PN | BE154: =IF(U154="základná",N154,0) -> 0 | BF154: =IF(U154="znížená",N154,0) -> 0 | BG154: =IF(U154="zákl. prenesená",N154,0) -> 0 | BH154: =IF(U154="zníž. prenesená",N154,0) -> 0 | BI154: =IF(U154="nulová",N154,0) -> 0 | BJ154: 2 | BK154: =L154*K154 -> 0
D155: K | N155: =BK155 -> 0 | U155: znížená | AT155: PN | AU155: 1 | AY155: PN | BE155: =IF(U155="základná",N155,0) -> 0 | BF155: =IF(U155="znížená",N155,0) -> 0 | BG155: =IF(U155="zákl. prenesená",N155,0) -> 0 | BH155: =IF(U155="zníž. prenesená",N155,0) -> 0 | BI155: =IF(U155="nulová",N155,0) -> 0 | BJ155: 2 | BK155: =L155*K155 -> 0
D156: K | N156: =BK156 -> 0 | U156: znížená | AT156: PN | AU156: 1 | AY156: PN | BE156: =IF(U156="základná",N156,0) -> 0 | BF156: =IF(U156="znížená",N156,0) -> 0 | BG156: =IF(U156="zákl. prenesená",N156,0) -> 0 | BH156: =IF(U156="zníž. prenesená",N156,0) -> 0 | BI156: =IF(U156="nulová",N156,0) -> 0 | BJ156: 2 | BK156: =L156*K156 -> 0
