Workbook

Sheet Rekapitulácia stavby
A1: 2012 | D1: Hárok obsahuje: | K1: 1) Súhrnný list stavby | W1: 2) Rekapitulácia objektov | BA1: 2.0 | BB1: ZAMOK | BT1: False | BU1: False
C2: optimalizované pre tlač zostáv vo formáte A4 - na výšku | AR2: >> skryté stĺpce << | BS2: 0,001 | BT2: 20
BS3: 0,001 | BT3: 20
C4: SÚHRNNÝ LIST STAVBY | AS4: v --- nižšie sa nachádzajú doplnkové a pomocné údaje k zostavám --- v | BE4: Návod na vyplnenie | BS4: 0,001
D5: Kód: | K5: 2017-037 | BE5: Meniť je možné iba bunky so žltým podfarbením!_x000D_ _x000D_ 1) na prvom liste Rekapitulácie stavby vyplňte v zostave_x000D_ _x000D_ a) Súhrnný list_x000D_ - údaje o Zhotoviteľovi_x000D_ (prenesú sa do ostatných zostáv aj v iných listoch)_x000D_ _x000D_ b) Rekapitulácia objektov_x000D_ - potrebné Ostatné náklady_x000D_ _x000D_ 2) na vybraných listoch vyplňte v zostave_x000D_ _x000D_ a) Krycí list_x000D_ - údaje o Zhotoviteľovi, pokiaľ sa líšia od údajov o Zhotoviteľovi na Súhrnnom liste_x000D_ (údaje se prenesú do ostatných zostav v danom liste)_x000D_ _x000D_ b) Rekapitulácia rozpočtu_x000D_ - potrebné Ostatné náklady_x000D_ _x000D_ c) Celkové náklady za stavbu_x000D_ - ceny na položkách_x000D_ - množstvo, pokiaľ má žlté podfarbenie_x000D_ - a v prípade potreby poznámku (tá je v skrytom stĺpci) | BS5: 0,001
D6: Stavba: | K6: Oprava chodníkov pri OB 1014 na ul. Malá Okružná | BS6: 0,001
D7: JKSO: | AK7: KS: | BS7: 0,001
D8: Miesto: | AK8: Dátum: | AN8: 27. 2. 2017 | BS8: 0,001
BS9: 0,001
D10: Objednávateľ: | AK10: IČO: | BS10: 0,001
E11: Mesto Partizánske | AK11: IČO DPH: | BS11: 0,001
BS12: 0,001
D13: Zhotoviteľ: | AK13: IČO: | AN13: Vyplň údaj | BS13: 0,001
E14: Vyplň údaj | AK14: IČO DPH: | AN14: Vyplň údaj | BS14: 0,001
BS15: False
D16: Projektant: | AK16: IČO: | BS16: False
AK17: IČO DPH: | BS17: True
BS18: 0,01
D19: Spracovateľ: | AK19: IČO: | BS19: 0,01
AK20: IČO DPH:
D22: Poznámka:
D26: Náklady z rozpočtov | AK26: =ROUND(AG87,2) -> 0
D27: Ostatné náklady zo súhrnného listu | AK27: =ROUND(AG92,2) -> 0
D29: Cena bez DPH | AK29: =ROUND(AK26+AK27,2) -> 0
D31: DPH | F31: základná | L31: 0.2 | T31: z | W31: =ROUND(AZ87+SUM(CD93:CD97),2) -> 0 | AK31: =ROUND(AV87+SUM(BY93:BY97),2) -> 0
F32: znížená | L32: 0.2 | T32: z | W32: =ROUND(BA87+SUM(CE93:CE97),2) -> 0 | AK32: =ROUND(AW87+SUM(BZ93:BZ97),2) -> 0
F33: zákl. prenesená | L33: 0.2 | T33: z | W33: =ROUND(BB87+SUM(CF93:CF97),2) -> 0 | AK33: 0
F34: zníž. prenesená | L34: 0.2 | T34: z | W34: =ROUND(BC87+SUM(CG93:CG97),2) -> 0 | AK34: 0
F35: nulová | L35: 0 | T35: z | W35: =ROUND(BD87+SUM(CH93:CH97),2) -> 0 | AK35: 0
D37: Cena s DPH | T37: v | X37: EUR | AK37: =SUM(AK29:AK35) -> 0
D49: Projektant | AC49: Spracovateľ
D58: Dátum a podpis: | R58: Pečiatka | AC58: Dátum a podpis: | AM58: Pečiatka
D60: Objednávateľ | AC60: Zhotoviteľ
D69: Dátum a podpis: | R69: Pečiatka | AC69: Dátum a podpis: | AM69: Pečiatka
C76: REKAPITULÁCIA OBJEKTOV STAVBY
C77: Kód: | L77: =K5 -> 2017-037
C78: Stavba: | L78: =K6 -> Oprava chodníkov pri OB 1014 na ul. Malá Okružná
C80: Miesto: | L80: =IF(K8="","",K8) | AI80: Dátum: | AM80: =IF(AN8= "","",AN8) -> 27. 2. 2017
C82: Objednávateľ: | L82: =IF(E11= "","",E11) -> Mesto Partizánske | AI82: Projektant: | AM82: =IF(E17="","",E17) | AS82: Informatívne údaje z listov zákaziek
C83: Zhotoviteľ: | L83: =IF(E14= "Vyplň údaj","",E14) | AI83: Spracovateľ: | AM83: =IF(E20="","",E20)
...

Sheet 1 - 1014- 9 a 1014-11
D1: Hárok obsahuje: | F1: 1) Krycí list rozpočtu | H1: 2) Rekapitulácia rozpočtu | L1: 3) Rozpočet | O1: Späť na hárok: | S1: Rekapitulácia stavby
C2: optimalizované pre tlač zostáv vo formáte A4 - na výšku | S2: >> skryté stĺpce << | AT2: {bb85c850-2885-4322-b710-65f62811dcc5}
AT3: 0
C4: KRYCÍ LIST ROZPOČTU | T4: v --- nižšie sa nachádzajú doplnkové a pomocné údaje k zostavám --- v | AT4: False
D6: Stavba: | F6: ='Rekapitulácia stavby'!K6 -> Oprava chodníkov pri OB 1014 na ul. Malá Okružná
D7: Objekt: | F7: 1 - 1014/ 9 a 1014/11
D8: JKSO: | M8: KS:
D9: Miesto: | M9: Dátum: | O9: ='Rekapitulácia stavby'!AN8 -> 27. 2. 2017
D11: Objednávateľ: | M11: IČO:
E12: Mesto Partizánske | M12: IČO DPH:
D14: Zhotoviteľ: | M14: IČO: | O14: =IF('Rekapitulácia stavby'!AN13="","",'Rekapitulácia stavby'!AN13) -> Vyplň údaj
E15: =IF('Rekapitulácia stavby'!E14="","",'Rekapitulácia stavby'!E14) -> Vyplň údaj | M15: IČO DPH: | O15: =IF('Rekapitulácia stavby'!AN14="","",'Rekapitulácia stavby'!AN14) -> Vyplň údaj
D17: Projektant: | M17: IČO: | O17: =IF('Rekapitulácia stavby'!AN16="","",'Rekapitulácia stavby'!AN16)
E18: =IF('Rekapitulácia stavby'!E17="","",'Rekapitulácia stavby'!E17) | M18: IČO DPH: | O18: =IF('Rekapitulácia stavby'!AN17="","",'Rekapitulácia stavby'!AN17)
D20: Spracovateľ: | M20: IČO: | O20: =IF('Rekapitulácia stavby'!AN19="","",'Rekapitulácia stavby'!AN19)
E21: =IF('Rekapitulácia stavby'!E20="","",'Rekapitulácia stavby'!E20) | M21: IČO DPH: | O21: =IF('Rekapitulácia stavby'!AN20="","",'Rekapitulácia stavby'!AN20)
D23: Poznámka:
D27: Náklady z rozpočtu | M27: =N88 -> 0
D28: Ostatné náklady | M28: =N101 -> 0
D30: Cena bez DPH | M30: =ROUND(M27+M28,2) -> 0
D32: DPH | E32: základná | F32: 0.2 | G32: z | H32: =ROUND((((SUM(BE101:BE108)+SUM(BE126:BE162))+SUM(BE164:BE168))),2) -> 0 | M32: =ROUND(((ROUND((SUM(BE101:BE108)+SUM(BE126:BE162)), 2)*F32)+SUM(BE164:BE168)*F32),2) -> 0
E33: znížená | F33: 0.2 | G33: z | H33: =ROUND((((SUM(BF101:BF108)+SUM(BF126:BF162))+SUM(BF164:BF168))),2) -> 0 | M33: =ROUND(((ROUND((SUM(BF101:BF108)+SUM(BF126:BF162)), 2)*F33)+SUM(BF164:BF168)*F33),2) -> 0
E34: zákl. prenesená | F34: 0.2 | G34: z | H34: =ROUND((((SUM(BG101:BG108)+SUM(BG126:BG162))+SUM(BG164:BG168))),2) -> 0 | M34: 0
E35: zníž. prenesená | F35: 0.2 | G35: z | H35: =ROUND((((SUM(BH101:BH108)+SUM(BH126:BH162))+SUM(BH164:BH168))),2) -> 0 | M35: 0
E36: nulová | F36: 0 | G36: z | H36: =ROUND((((SUM(BI101:BI108)+SUM(BI126:BI162))+SUM(BI164:BI168))),2) -> 0 | M36: 0
D38: Cena s DPH | G38: v | H38: EUR | L38: =SUM(M30:M36) -> 0
D50: Projektant | J50: Spracovateľ
D59: Dátum a podpis: | G59: Pečiatka | J59: Dátum a podpis: | N59: Pečiatka
D61: Objednávateľ | J61: Zhotoviteľ
D70: Dátum a podpis: | G70: Pečiatka | J70: Dátum a podpis: | N70: Pečiatka
C76: REKAPITULÁCIA ROZPOČTU
C78: Stavba: | F78: =F6 -> Oprava chodníkov pri OB 1014 na ul. Malá Okružná
C79: Objekt: | F79: =F7 -> 1 - 1014/ 9 a 1014/11
C81: Miesto: | F81: =F9 | K81: Dátum: | M81: =IF(O9="","",O9) -> 27. 2. 2017
C83: Objednávateľ: | F83: =E12 -> Mesto Partizánske | K83: Projektant: | M83: =E18
C84: Zhotoviteľ: | F84: =IF(E15="","",E15) -> Vyplň údaj | K84: Spracovateľ: | M84: =E21
C86: Kód - Popis | N86: Cena celkom [EUR]
C88: 1) Náklady z rozpočtu | N88: =N126 -> 0 | AU88: -1
D89: HSV1 - Vchod 1014/9 | N89: =N127 -> 0
D90: 1 - Zemné práce | N90: =N128 -> 0
...

Sheet 2 - 1014-13 a 1014-15
D1: Hárok obsahuje: | F1: 1) Krycí list rozpočtu | H1: 2) Rekapitulácia rozpočtu | L1: 3) Rozpočet | O1: Späť na hárok: | S1: Rekapitulácia stavby
C2: optimalizované pre tlač zostáv vo formáte A4 - na výšku | S2: >> skryté stĺpce << | AT2: {1721bd1b-a059-45a0-8499-e210fbc9e97f}
AT3: 0
C4: KRYCÍ LIST ROZPOČTU | T4: v --- nižšie sa nachádzajú doplnkové a pomocné údaje k zostavám --- v | AT4: False
D6: Stavba: | F6: ='Rekapitulácia stavby'!K6 -> Oprava chodníkov pri OB 1014 na ul. Malá Okružná
D7: Objekt: | F7: 2 - 1014/13 a 1014/15
D8: JKSO: | M8: KS:
D9: Miesto: | M9: Dátum: | O9: ='Rekapitulácia stavby'!AN8 -> 27. 2. 2017
D11: Objednávateľ: | M11: IČO:
E12: Mesto Partizánske | M12: IČO DPH:
D14: Zhotoviteľ: | M14: IČO: | O14: =IF('Rekapitulácia stavby'!AN13="","",'Rekapitulácia stavby'!AN13) -> Vyplň údaj
E15: =IF('Rekapitulácia stavby'!E14="","",'Rekapitulácia stavby'!E14) -> Vyplň údaj | M15: IČO DPH: | O15: =IF('Rekapitulácia stavby'!AN14="","",'Rekapitulácia stavby'!AN14) -> Vyplň údaj
D17: Projektant: | M17: IČO: | O17: =IF('Rekapitulácia stavby'!AN16="","",'Rekapitulácia stavby'!AN16)
E18: =IF('Rekapitulácia stavby'!E17="","",'Rekapitulácia stavby'!E17) | M18: IČO DPH: | O18: =IF('Rekapitulácia stavby'!AN17="","",'Rekapitulácia stavby'!AN17)
D20: Spracovateľ: | M20: IČO: | O20: =IF('Rekapitulácia stavby'!AN19="","",'Rekapitulácia stavby'!AN19)
E21: =IF('Rekapitulácia stavby'!E20="","",'Rekapitulácia stavby'!E20) | M21: IČO DPH: | O21: =IF('Rekapitulácia stavby'!AN20="","",'Rekapitulácia stavby'!AN20)
D23: Poznámka:
D27: Náklady z rozpočtu | M27: =N88 -> 0
D28: Ostatné náklady | M28: =N96 -> 0
D30: Cena bez DPH | M30: =ROUND(M27+M28,2) -> 0
D32: DPH | E32: základná | F32: 0.2 | G32: z | H32: =ROUND((((SUM(BE96:BE103)+SUM(BE121:BE139))+SUM(BE141:BE145))),2) -> 0 | M32: =ROUND(((ROUND((SUM(BE96:BE103)+SUM(BE121:BE139)), 2)*F32)+SUM(BE141:BE145)*F32),2) -> 0
E33: znížená | F33: 0.2 | G33: z | H33: =ROUND((((SUM(BF96:BF103)+SUM(BF121:BF139))+SUM(BF141:BF145))),2) -> 0 | M33: =ROUND(((ROUND((SUM(BF96:BF103)+SUM(BF121:BF139)), 2)*F33)+SUM(BF141:BF145)*F33),2) -> 0
E34: zákl. prenesená | F34: 0.2 | G34: z | H34: =ROUND((((SUM(BG96:BG103)+SUM(BG121:BG139))+SUM(BG141:BG145))),2) -> 0 | M34: 0
E35: zníž. prenesená | F35: 0.2 | G35: z | H35: =ROUND((((SUM(BH96:BH103)+SUM(BH121:BH139))+SUM(BH141:BH145))),2) -> 0 | M35: 0
E36: nulová | F36: 0 | G36: z | H36: =ROUND((((SUM(BI96:BI103)+SUM(BI121:BI139))+SUM(BI141:BI145))),2) -> 0 | M36: 0
D38: Cena s DPH | G38: v | H38: EUR | L38: =SUM(M30:M36) -> 0
D50: Projektant | J50: Spracovateľ
D59: Dátum a podpis: | G59: Pečiatka | J59: Dátum a podpis: | N59: Pečiatka
D61: Objednávateľ | J61: Zhotoviteľ
D70: Dátum a podpis: | G70: Pečiatka | J70: Dátum a podpis: | N70: Pečiatka
C76: REKAPITULÁCIA ROZPOČTU
C78: Stavba: | F78: =F6 -> Oprava chodníkov pri OB 1014 na ul. Malá Okružná
C79: Objekt: | F79: =F7 -> 2 - 1014/13 a 1014/15
C81: Miesto: | F81: =F9 | K81: Dátum: | M81: =IF(O9="","",O9) -> 27. 2. 2017
C83: Objednávateľ: | F83: =E12 -> Mesto Partizánske | K83: Projektant: | M83: =E18
C84: Zhotoviteľ: | F84: =IF(E15="","",E15) -> Vyplň údaj | K84: Spracovateľ: | M84: =E21
C86: Kód - Popis | N86: Cena celkom [EUR]
C88: 1) Náklady z rozpočtu | N88: =N121 -> 0 | AU88: -1
D89: HSV3 - Vchody 1014/13, 15 a chodník dl. 16,3 m | N89: =N122 -> 0
D90: 1 - Zemné práce | N90: =N123 -> 0
...

Sheet 3 - 1014-17 a 1014-19
D1: Hárok obsahuje: | F1: 1) Krycí list rozpočtu | H1: 2) Rekapitulácia rozpočtu | L1: 3) Rozpočet | O1: Späť na hárok: | S1: Rekapitulácia stavby
C2: optimalizované pre tlač zostáv vo formáte A4 - na výšku | S2: >> skryté stĺpce << | AT2: {0a00648c-0d46-4365-9493-16c53558d896}
AT3: 0
C4: KRYCÍ LIST ROZPOČTU | T4: v --- nižšie sa nachádzajú doplnkové a pomocné údaje k zostavám --- v | AT4: False
D6: Stavba: | F6: ='Rekapitulácia stavby'!K6 -> Oprava chodníkov pri OB 1014 na ul. Malá Okružná
D7: Objekt: | F7: 3 - 1014/17 a 1014/19
D8: JKSO: | M8: KS:
D9: Miesto: | M9: Dátum: | O9: ='Rekapitulácia stavby'!AN8 -> 27. 2. 2017
D11: Objednávateľ: | M11: IČO:
E12: Mesto Partizánske | M12: IČO DPH:
D14: Zhotoviteľ: | M14: IČO: | O14: =IF('Rekapitulácia stavby'!AN13="","",'Rekapitulácia stavby'!AN13) -> Vyplň údaj
E15: =IF('Rekapitulácia stavby'!E14="","",'Rekapitulácia stavby'!E14) -> Vyplň údaj | M15: IČO DPH: | O15: =IF('Rekapitulácia stavby'!AN14="","",'Rekapitulácia stavby'!AN14) -> Vyplň údaj
D17: Projektant: | M17: IČO: | O17: =IF('Rekapitulácia stavby'!AN16="","",'Rekapitulácia stavby'!AN16)
E18: =IF('Rekapitulácia stavby'!E17="","",'Rekapitulácia stavby'!E17) | M18: IČO DPH: | O18: =IF('Rekapitulácia stavby'!AN17="","",'Rekapitulácia stavby'!AN17)
D20: Spracovateľ: | M20: IČO: | O20: =IF('Rekapitulácia stavby'!AN19="","",'Rekapitulácia stavby'!AN19)
E21: =IF('Rekapitulácia stavby'!E20="","",'Rekapitulácia stavby'!E20) | M21: IČO DPH: | O21: =IF('Rekapitulácia stavby'!AN20="","",'Rekapitulácia stavby'!AN20)
D23: Poznámka:
D27: Náklady z rozpočtu | M27: =N88 -> 0
D28: Ostatné náklady | M28: =N96 -> 0
D30: Cena bez DPH | M30: =ROUND(M27+M28,2) -> 0
D32: DPH | E32: základná | F32: 0.2 | G32: z | H32: =ROUND((((SUM(BE96:BE103)+SUM(BE121:BE140))+SUM(BE142:BE146))),2) -> 0 | M32: =ROUND(((ROUND((SUM(BE96:BE103)+SUM(BE121:BE140)), 2)*F32)+SUM(BE142:BE146)*F32),2) -> 0
E33: znížená | F33: 0.2 | G33: z | H33: =ROUND((((SUM(BF96:BF103)+SUM(BF121:BF140))+SUM(BF142:BF146))),2) -> 0 | M33: =ROUND(((ROUND((SUM(BF96:BF103)+SUM(BF121:BF140)), 2)*F33)+SUM(BF142:BF146)*F33),2) -> 0
E34: zákl. prenesená | F34: 0.2 | G34: z | H34: =ROUND((((SUM(BG96:BG103)+SUM(BG121:BG140))+SUM(BG142:BG146))),2) -> 0 | M34: 0
E35: zníž. prenesená | F35: 0.2 | G35: z | H35: =ROUND((((SUM(BH96:BH103)+SUM(BH121:BH140))+SUM(BH142:BH146))),2) -> 0 | M35: 0
E36: nulová | F36: 0 | G36: z | H36: =ROUND((((SUM(BI96:BI103)+SUM(BI121:BI140))+SUM(BI142:BI146))),2) -> 0 | M36: 0
D38: Cena s DPH | G38: v | H38: EUR | L38: =SUM(M30:M36) -> 0
D50: Projektant | J50: Spracovateľ
D59: Dátum a podpis: | G59: Pečiatka | J59: Dátum a podpis: | N59: Pečiatka
D61: Objednávateľ | J61: Zhotoviteľ
D70: Dátum a podpis: | G70: Pečiatka | J70: Dátum a podpis: | N70: Pečiatka
C76: REKAPITULÁCIA ROZPOČTU
C78: Stavba: | F78: =F6 -> Oprava chodníkov pri OB 1014 na ul. Malá Okružná
C79: Objekt: | F79: =F7 -> 3 - 1014/17 a 1014/19
C81: Miesto: | F81: =F9 | K81: Dátum: | M81: =IF(O9="","",O9) -> 27. 2. 2017
C83: Objednávateľ: | F83: =E12 -> Mesto Partizánske | K83: Projektant: | M83: =E18
C84: Zhotoviteľ: | F84: =IF(E15="","",E15) -> Vyplň údaj | K84: Spracovateľ: | M84: =E21
C86: Kód - Popis | N86: Cena celkom [EUR]
C88: 1) Náklady z rozpočtu | N88: =N121 -> 0 | AU88: -1
D89: HSV4 - Vchody 1014/17, 19 a chodník v dĺžke 47,5 | N89: =N122 -> 0
D90: 1 - Zemné práce | N90: =N123 -> 0
...
