Workbook

Sheet Rekapitulácia stavby
A1: 2012 | D1: Hárok obsahuje: | K1: 1) Súhrnný list stavby | W1: 2) Rekapitulácia objektov | BA1: 2.0 | BB1: ZAMOK | BT1: False | BU1: False
C2: optimalizované pre tlač zostáv vo formáte A4 - na výšku | AR2: >> skryté stĺpce << | BS2: 0,001 | BT2: 20
BS3: 0,001 | BT3: 20
C4: SÚHRNNÝ LIST STAVBY | AS4: v --- nižšie sa nachádzajú doplnkové a pomocné údaje k zostavám --- v | BE4: Návod na vyplnenie | BS4: 0,001
D5: Kód: | K5: 2017-188 | BE5: Meniť je možné iba bunky so žltým podfarbením!_x000D_ _x000D_ 1) na prvom liste Rekapitulácie stavby vyplňte v zostave_x000D_ _x000D_ a) Súhrnný list_x000D_ - údaje o Zhotoviteľovi_x000D_ (prenesú sa do ostatných zostáv aj v iných listoch)_x000D_ _x000D_ b) Rekapitulácia objektov_x000D_ - potrebné Ostatné náklady_x000D_ _x000D_ 2) na vybraných listoch vyplňte v zostave_x000D_ _x000D_ a) Krycí list_x000D_ - údaje o Zhotoviteľovi, pokiaľ sa líšia od údajov o Zhotoviteľovi na Súhrnnom liste_x000D_ (údaje se prenesú do ostatných zostav v danom liste)_x000D_ _x000D_ b) Rekapitulácia rozpočtu_x000D_ - potrebné Ostatné náklady_x000D_ _x000D_ c) Celkové náklady za stavbu_x000D_ - ceny na položkách_x000D_ - množstvo, pokiaľ má žlté podfarbenie_x000D_ - a v prípade potreby poznámku (tá je v skrytom stĺpci) | BS5: 0,001
D6: Stavba: | K6: Zemné a elektroinštalačné práce pre rozšírenie verejného osvetlenia | BS6: 0,001
D7: JKSO: | AK7: KS: | BS7: 0,001
D8: Miesto: | AK8: Dátum: | AN8: 20. 7. 2017 | BS8: 0,001
BS9: 0,001
D10: Objednávateľ: | AK10: IČO: | BS10: 0,001
E11: Mesto Partizánske | AK11: IČO DPH: | BS11: 0,001
BS12: 0,001
D13: Zhotoviteľ: | AK13: IČO: | AN13: Vyplň údaj | BS13: 0,001
E14: Vyplň údaj | AK14: IČO DPH: | AN14: Vyplň údaj | BS14: 0,001
BS15: False
D16: Projektant: | AK16: IČO: | BS16: False
AK17: IČO DPH: | BS17: True
BS18: 0,01
D19: Spracovateľ: | AK19: IČO: | BS19: 0,01
AK20: IČO DPH:
D22: Poznámka:
D26: Náklady z rozpočtov | AK26: =ROUND(AG87,2) -> 0
D27: Ostatné náklady zo súhrnného listu | AK27: =ROUND(AG93,2) -> 0
D29: Cena bez DPH | AK29: =ROUND(AK26+AK27,2) -> 0
D31: DPH | F31: základná | L31: 0.2 | T31: z | W31: =ROUND(AZ87+SUM(CD94:CD98),2) -> 0 | AK31: =ROUND(AV87+SUM(BY94:BY98),2) -> 0
F32: znížená | L32: 0.2 | T32: z | W32: =ROUND(BA87+SUM(CE94:CE98),2) -> 0 | AK32: =ROUND(AW87+SUM(BZ94:BZ98),2) -> 0
F33: zákl. prenesená | L33: 0.2 | T33: z | W33: =ROUND(BB87+SUM(CF94:CF98),2) -> 0 | AK33: 0
F34: zníž. prenesená | L34: 0.2 | T34: z | W34: =ROUND(BC87+SUM(CG94:CG98),2) -> 0 | AK34: 0
F35: nulová | L35: 0 | T35: z | W35: =ROUND(BD87+SUM(CH94:CH98),2) -> 0 | AK35: 0
D37: Cena s DPH | T37: v | X37: EUR | AK37: =SUM(AK29:AK35) -> 0
D49: Projektant | AC49: Spracovateľ
D58: Dátum a podpis: | R58: Pečiatka | AC58: Dátum a podpis: | AM58: Pečiatka
D60: Objednávateľ | AC60: Zhotoviteľ
D69: Dátum a podpis: | R69: Pečiatka | AC69: Dátum a podpis: | AM69: Pečiatka
C76: REKAPITULÁCIA OBJEKTOV STAVBY
C77: Kód: | L77: =K5 -> 2017-188
C78: Stavba: | L78: =K6 -> Zemné a elektroinštalačné práce pre rozšírenie verejného osvetlenia
C80: Miesto: | L80: =IF(K8="","",K8) | AI80: Dátum: | AM80: =IF(AN8= "","",AN8) -> 20. 7. 2017
C82: Objednávateľ: | L82: =IF(E11= "","",E11) -> Mesto Partizánske | AI82: Projektant: | AM82: =IF(E17="","",E17) | AS82: Informatívne údaje z listov zákaziek
C83: Zhotoviteľ: | L83: =IF(E14= "Vyplň údaj","",E14) | AI83: Spracovateľ: | AM83: =IF(E20="","",E20)
C85: Kód | I85: Objekt | AG85: Cena bez DPH [EUR] | AN85: Cena s DPH [EUR] | AS85: z toho Ostat._x000D_ náklady [EUR] | AT85: DPH [EUR] | AU85: Normohodiny [h] | AV85: DPH základná [EUR] | AW85: DPH znížená [EUR] | AX85: DPH základná prenesená_x000D_ [EUR] | AY85: DPH znížená prenesená_x000D_ [EUR] | AZ85: Základňa_x000D_ DPH základná | BA85: Základňa_x000D_ DPH znížená | BB85: Základňa_x000D_ DPH zákl. prenesená | BC85: Základňa_x000D_ DPH zníž. prenesená | BD85: Základňa_x000D_ DPH nulová
C87: 1) Náklady z rozpočtov | AG87: =ROUND(SUM(AG88:AG91),2) -> 0 | AN87: =SUM(AG87,AT87) -> 0 | AS87: =ROUND(SUM(AS88:AS91),2) -> 0 | AT87: =ROUND(SUM(AV87:AW87),2) -> 0 | AU87: =ROUND(SUM(AU88:AU91),5) -> 0 | AV87: =ROUND(AZ87*L31,2) -> 0 | AW87: =ROUND(BA87*L32,2) -> 0 | AX87: =ROUND(BB87*L31,2) -> 0 | AY87: =ROUND(BC87*L32,2) -> 0 | AZ87: =ROUND(SUM(AZ88:AZ91),2) -> 0 | BA87: =ROUND(SUM(BA88:BA91),2) -> 0 | BB87: =ROUND(SUM(BB88:BB91),2) -> 0 | BC87: =ROUND(SUM(BC88:BC91),2) -> 0 | BD87: =ROUND(SUM(BD88:BD91),2) -> 0 | BS87: D | BT87: 0 | BU87: ###NOIMPORT### | BV87: IMPORT | BW87: {181e1824-7378-4b1d-9d1e-4d131c937786} | BX87: {00000000-0000-0000-0000-000000000000}
A88: / | D88: 1 | J88: Centrum - chodníky a vnútrobloky Februárová, Makarenkova, Komenského | AG88: ='1 - Centrum - chodníky a ...'!M30 -> 0 | AN88: =SUM(AG88,AT88) -> 0 | AS88: ='1 - Centrum - chodníky a ...'!M28 -> 0 | AT88: =ROUND(SUM(AV88:AW88),2) -> 0 | AU88: ='1 - Centrum - chodníky a ...'!W134 -> 0 | AV88: ='1 - Centrum - chodníky a ...'!M32 -> 0 | AW88: ='1 - Centrum - chodníky a ...'!M33 -> 0 | AX88: ='1 - Centrum - chodníky a ...'!M34 -> 0 | AY88: ='1 - Centrum - chodníky a ...'!M35 -> 0 | AZ88: ='1 - Centrum - chodníky a ...'!H32 -> 0 | BA88: ='1 - Centrum - chodníky a ...'!H33 -> 0 | BB88: ='1 - Centrum - chodníky a ...'!H34 -> 0 | BC88: ='1 - Centrum - chodníky a ...'!H35 -> 0 | BD88: ='1 - Centrum - chodníky a ...'!H36 -> 0 | BT88: 1 | BV88: IMPORT | BW88: {e1502c39-22b8-4e70-823a-8f466a810814} | BX88: {181e1824-7378-4b1d-9d1e-4d131c937786}
A89: / | D89: 2 | J89: Luhy I. - chodníky ul. Gen. Svobodu, Nádražná | AG89: ='2 - Luhy I. - chodníky ul...'!M30 -> 0 | AN89: =SUM(AG89,AT89) -> 0 | AS89: ='2 - Luhy I. - chodníky ul...'!M28 -> 0 | AT89: =ROUND(SUM(AV89:AW89),2) -> 0 | AU89: ='2 - Luhy I. - chodníky ul...'!W128 -> 0 | AV89: ='2 - Luhy I. - chodníky ul...'!M32 -> 0 | AW89: ='2 - Luhy I. - chodníky ul...'!M33 -> 0 | AX89: ='2 - Luhy I. - chodníky ul...'!M34 -> 0 | AY89: ='2 - Luhy I. - chodníky ul...'!M35 -> 0 | AZ89: ='2 - Luhy I. - chodníky ul...'!H32 -> 0 | BA89: ='2 - Luhy I. - chodníky ul...'!H33 -> 0 | BB89: ='2 - Luhy I. - chodníky ul...'!H34 -> 0 | BC89: ='2 - Luhy I. - chodníky ul...'!H35 -> 0 | BD89: ='2 - Luhy I. - chodníky ul...'!H36 -> 0 | BT89: 1 | BV89: IMPORT | BW89: {76078592-e7b8-492f-949b-e90ca2745eff} | BX89: {181e1824-7378-4b1d-9d1e-4d131c937786}
A90: / | D90: 3 | J90: Štrkovec - ul. Gumárenská, Pribinova, Lomonosovova | AG90: ='3 - Štrkovec - ul. Gumáre...'!M30 -> 0 | AN90: =SUM(AG90,AT90) -> 0 | AS90: ='3 - Štrkovec - ul. Gumáre...'!M28 -> 0 | AT90: =ROUND(SUM(AV90:AW90),2) -> 0 | AU90: ='3 - Štrkovec - ul. Gumáre...'!W128 -> 0 | AV90: ='3 - Štrkovec - ul. Gumáre...'!M32 -> 0 | AW90: ='3 - Štrkovec - ul. Gumáre...'!M33 -> 0 | AX90: ='3 - Štrkovec - ul. Gumáre...'!M34 -> 0 | AY90: ='3 - Štrkovec - ul. Gumáre...'!M35 -> 0 | AZ90: ='3 - Štrkovec - ul. Gumáre...'!H32 -> 0 | BA90: ='3 - Štrkovec - ul. Gumáre...'!H33 -> 0 | BB90: ='3 - Štrkovec - ul. Gumáre...'!H34 -> 0 | BC90: ='3 - Štrkovec - ul. Gumáre...'!H35 -> 0 | BD90: ='3 - Štrkovec - ul. Gumáre...'!H36 -> 0 | BT90: 1 | BV90: IMPORT | BW90: {fb7d1a73-5867-484b-ad7e-98d26838a84e} | BX90: {181e1824-7378-4b1d-9d1e-4d131c937786}
A91: / | D91: 4 | J91: Šípok - ul. Lúčna, ul. Horská schody | AG91: ='4 - Šípok - ul. Lúčna, ul...'!M30 -> 0 | AN91: =SUM(AG91,AT91) -> 0 | AS91: ='4 - Šípok - ul. Lúčna, ul...'!M28 -> 0 | AT91: =ROUND(SUM(AV91:AW91),2) -> 0 | AU91: ='4 - Šípok - ul. Lúčna, ul...'!W124 -> 0 | AV91: ='4 - Šípok - ul. Lúčna, ul...'!M32 -> 0 | AW91: ='4 - Šípok - ul. Lúčna, ul...'!M33 -> 0 | AX91: ='4 - Šípok - ul. Lúčna, ul...'!M34 -> 0 | AY91: ='4 - Šípok - ul. Lúčna, ul...'!M35 -> 0 | AZ91: ='4 - Šípok - ul. Lúčna, ul...'!H32 -> 0 | BA91: ='4 - Šípok - ul. Lúčna, ul...'!H33 -> 0 | BB91: ='4 - Šípok - ul. Lúčna, ul...'!H34 -> 0 | BC91: ='4 - Šípok - ul. Lúčna, ul...'!H35 -> 0 | BD91: ='4 - Šípok - ul. Lúčna, ul...'!H36 -> 0 | BT91: 1 | BV91: IMPORT | BW91: {de394425-33b4-401c-ae54-1edef6ccc2cc} | BX91: {181e1824-7378-4b1d-9d1e-4d131c937786}
C93: 2) Ostatné náklady zo súhrnného listu | AG93: =ROUND(SUM(AG94:AG97),2) -> 0 | AN93: =ROUND(SUM(AN94:AN97),2) -> 0 | AS93: Percent. zadanie_x000D_ [% nákladov rozpočtu] | AT93: Zaradenie nákladov | AU93: DPH | AV93: DPH [EUR]
D94: Ostatné náklady | AG94: =ROUND(AG87*AS94,2) -> 0 | AN94: =ROUND(AG94+AV94,2) -> 0 | AS94: 0 | AT94: stavebná časť | AU94: základná | AV94: =ROUND(IF(AU94="základná",AG94*L31,IF(AU94="znížená",AG94*L32,0)),2) -> 0 | BV94: OSTATNENAKLADY | BY94: =IF(AU94="základná",AV94,0) -> 0 | BZ94: =IF(AU94="znížená",AV94,0) -> 0 | CA94: 0 | CB94: 0 | CC94: 0 | CD94: =IF(AU94="základná",AG94,0) -> 0 | CE94: =IF(AU94="znížená",AG94,0) -> 0 | CF94: =IF(AU94="zákl. prenesená",AG94,0) -> 0 | CG94: =IF(AU94="zníž. prenesená",AG94,0) -> 0 | CH94: =IF(AU94="nulová",AG94,0) -> 0 | CI94: =IF(AU94="základná",1,IF(AU94="znížená",2,IF(AU94="zákl. prenesená",4,IF(AU94="zníž. prenesená",5,3)))) -> 1 | CJ94: =IF(AT94="stavebná časť",1,IF(8894="investičná časť",2,3)) -> 1 | CK94: =IF(D94="Vyplň vlastné","","x") -> x
D95: Vyplň vlastné | AG95: =AG87*AS95 -> 0 | AN95: =AG95+AV95 -> 0 | AS95: 0 | AT95: stavebná časť | AU95: základná | AV95: =ROUND(IF(AU95="nulová",0,IF(OR(AU95="základná",AU95="zákl. prenesená"),AG95*L31,AG95*L32)),2) -> 0 | BV95: OSTATNENAKLADYVLASTNE | BY95: =IF(AU95="základná",AV95,0) -> 0 | BZ95: =IF(AU95="znížená",AV95,0) -> 0 | CA95: =IF(AU95="zákl. prenesená",AV95,0) -> 0 | CB95: =IF(AU95="zníž. prenesená",AV95,0) -> 0 | CC95: =IF(AU95="nulová",AV95,0) -> 0 | CD95: =IF(AU95="základná",AG95,0) -> 0 | CE95: =IF(AU95="znížená",AG95,0) -> 0 | CF95: =IF(AU95="zákl. prenesená",AG95,0) -> 0 | CG95: =IF(AU95="zníž. prenesená",AG95,0) -> 0 | CH95: =IF(AU95="nulová",AG95,0) -> 0 | CI95: =IF(AU95="základná",1,IF(AU95="znížená",2,IF(AU95="zákl. prenesená",4,IF(AU95="zníž. prenesená",5,3)))) -> 1 | CJ95: =IF(AT95="stavebná časť",1,IF(8895="investičná časť",2,3)) -> 1 | CK95: =IF(D95="Vyplň vlastné","","x")
D96: Vyplň vlastné | AG96: =AG87*AS96 -> 0 | AN96: =AG96+AV96 -> 0 | AS96: 0 | AT96: stavebná časť | AU96: základná | AV96: =ROUND(IF(AU96="nulová",0,IF(OR(AU96="základná",AU96="zákl. prenesená"),AG96*L31,AG96*L32)),2) -> 0 | BV96: OSTATNENAKLADYVLASTNE | BY96: =IF(AU96="základná",AV96,0) -> 0 | BZ96: =IF(AU96="znížená",AV96,0) -> 0 | CA96: =IF(AU96="zákl. prenesená",AV96,0) -> 0 | CB96: =IF(AU96="zníž. prenesená",AV96,0) -> 0 | CC96: =IF(AU96="nulová",AV96,0) -> 0 | CD96: =IF(AU96="základná",AG96,0) -> 0 | CE96: =IF(AU96="znížená",AG96,0) -> 0 | CF96: =IF(AU96="zákl. prenesená",AG96,0) -> 0 | CG96: =IF(AU96="zníž. prenesená",AG96,0) -> 0 | CH96: =IF(AU96="nulová",AG96,0) -> 0 | CI96: =IF(AU96="základná",1,IF(AU96="znížená",2,IF(AU96="zákl. prenesená",4,IF(AU96="zníž. prenesená",5,3)))) -> 1 | CJ96: =IF(AT96="stavebná časť",1,IF(8896="investičná časť",2,3)) -> 1 | CK96: =IF(D96="Vyplň vlastné","","x")
D97: Vyplň vlastné | AG97: =AG87*AS97 -> 0 | AN97: =AG97+AV97 -> 0 | AS97: 0 | AT97: stavebná časť | AU97: základná | AV97: =ROUND(IF(AU97="nulová",0,IF(OR(AU97="základná",AU97="zákl. prenesená"),AG97*L31,AG97*L32)),2) -> 0 | BV97: OSTATNENAKLADYVLASTNE | BY97: =IF(AU97="základná",AV97,0) -> 0 | BZ97: =IF(AU97="znížená",AV97,0) -> 0 | CA97: =IF(AU97="zákl. prenesená",AV97,0) -> 0 | CB97: =IF(AU97="zníž. prenesená",AV97,0) -> 0 | CC97: =IF(AU97="nulová",AV97,0) -> 0 | CD97: =IF(AU97="základná",AG97,0) -> 0 | CE97: =IF(AU97="znížená",AG97,0) -> 0 | CF97: =IF(AU97="zákl. prenesená",AG97,0) -> 0 | CG97: =IF(AU97="zníž. prenesená",AG97,0) -> 0 | CH97: =IF(AU97="nulová",AG97,0) -> 0 | CI97: =IF(AU97="základná",1,IF(AU97="znížená",2,IF(AU97="zákl. prenesená",4,IF(AU97="zníž. prenesená",5,3)))) -> 1 | CJ97: =IF(AT97="stavebná časť",1,IF(8897="investičná časť",2,3)) -> 1 | CK97: =IF(D97="Vyplň vlastné","","x")
C99: Celkové náklady za stavbu 1) + 2) | AG99: =ROUND(AG87+AG93,2) -> 0 | AN99: =AN87+AN93 -> 0

Sheet 1 - Centrum - chodníky a ...
D1: Hárok obsahuje: | F1: 1) Krycí list rozpočtu | H1: 2) Rekapitulácia rozpočtu | L1: 3) Rozpočet | O1: Späť na hárok: | S1: Rekapitulácia stavby
C2: optimalizované pre tlač zostáv vo formáte A4 - na výšku | S2: >> skryté stĺpce << | AT2: {e1502c39-22b8-4e70-823a-8f466a810814}
AT3: 0
C4: KRYCÍ LIST ROZPOČTU | T4: v --- nižšie sa nachádzajú doplnkové a pomocné údaje k zostavám --- v | AT4: False
D6: Stavba: | F6: ='Rekapitulácia stavby'!K6 -> Zemné a elektroinštalačné práce pre rozšírenie verejného osvetlenia
D7: Objekt: | F7: 1 - Centrum - chodníky a vnútrobloky Februárová, Makarenkova, Komenského
D8: JKSO: | M8: KS:
D9: Miesto: | M9: Dátum: | O9: ='Rekapitulácia stavby'!AN8 -> 20. 7. 2017
D11: Objednávateľ: | M11: IČO:
E12: Mesto Partizánske | M12: IČO DPH:
D14: Zhotoviteľ: | M14: IČO: | O14: =IF('Rekapitulácia stavby'!AN13="","",'Rekapitulácia stavby'!AN13) -> Vyplň údaj
E15: =IF('Rekapitulácia stavby'!E14="","",'Rekapitulácia stavby'!E14) -> Vyplň údaj | M15: IČO DPH: | O15: =IF('Rekapitulácia stavby'!AN14="","",'Rekapitulácia stavby'!AN14) -> Vyplň údaj
D17: Projektant: | M17: IČO: | O17: =IF('Rekapitulácia stavby'!AN16="","",'Rekapitulácia stavby'!AN16)
E18: =IF('Rekapitulácia stavby'!E17="","",'Rekapitulácia stavby'!E17) | M18: IČO DPH: | O18: =IF('Rekapitulácia stavby'!AN17="","",'Rekapitulácia stavby'!AN17)
D20: Spracovateľ: | M20: IČO: | O20: =IF('Rekapitulácia stavby'!AN19="","",'Rekapitulácia stavby'!AN19)
E21: =IF('Rekapitulácia stavby'!E20="","",'Rekapitulácia stavby'!E20) | M21: IČO DPH: | O21: =IF('Rekapitulácia stavby'!AN20="","",'Rekapitulácia stavby'!AN20)
D23: Poznámka:
D27: Náklady z rozpočtu | M27: =N88 -> 0
D28: Ostatné náklady | M28: =N109 -> 0
D30: Cena bez DPH | M30: =ROUND(M27+M28,2) -> 0
D32: DPH | E32: základná | F32: 0.2 | G32: z | H32: =ROUND((((SUM(BE109:BE116)+SUM(BE134:BE326))+SUM(BE328:BE332))),2) -> 0 | M32: =ROUND(((ROUND((SUM(BE109:BE116)+SUM(BE134:BE326)), 2)*F32)+SUM(BE328:BE332)*F32),2) -> 0
E33: znížená | F33: 0.2 | G33: z | H33: =ROUND((((SUM(BF109:BF116)+SUM(BF134:BF326))+SUM(BF328:BF332))),2) -> 0 | M33: =ROUND(((ROUND((SUM(BF109:BF116)+SUM(BF134:BF326)), 2)*F33)+SUM(BF328:BF332)*F33),2) -> 0
E34: zákl. prenesená | F34: 0.2 | G34: z | H34: =ROUND((((SUM(BG109:BG116)+SUM(BG134:BG326))+SUM(BG328:BG332))),2) -> 0 | M34: 0
E35: zníž. prenesená | F35: 0.2 | G35: z | H35: =ROUND((((SUM(BH109:BH116)+SUM(BH134:BH326))+SUM(BH328:BH332))),2) -> 0 | M35: 0
E36: nulová | F36: 0 | G36: z | H36: =ROUND((((SUM(BI109:BI116)+SUM(BI134:BI326))+SUM(BI328:BI332))),2) -> 0 | M36: 0
D38: Cena s DPH | G38: v | H38: EUR | L38: =SUM(M30:M36) -> 0
D50: Projektant | J50: Spracovateľ
D59: Dátum a podpis: | G59: Pečiatka | J59: Dátum a podpis: | N59: Pečiatka
D61: Objednávateľ | J61: Zhotoviteľ
D70: Dátum a podpis: | G70: Pečiatka | J70: Dátum a podpis: | N70: Pečiatka
C76: REKAPITULÁCIA ROZPOČTU
C78: Stavba: | F78: =F6 -> Zemné a elektroinštalačné práce pre rozšírenie verejného osvetlenia
C79: Objekt: | F79: =F7 -> 1 - Centrum - chodníky a vnútrobloky Februárová, Makarenkova, Komenského
C81: Miesto: | F81: =F9 | K81: Dátum: | M81: =IF(O9="","",O9) -> 20. 7. 2017
C83: Objednávateľ: | F83: =E12 -> Mesto Partizánske | K83: Projektant: | M83: =E18
C84: Zhotoviteľ: | F84: =IF(E15="","",E15) -> Vyplň údaj | K84: Spracovateľ: | M84: =E21
C86: Kód - Popis | N86: Cena celkom [EUR]
C88: 1) Náklady z rozpočtu | N88: =N134 -> 0 | AU88: -1
D89: M - Práce a dodávky M | N89: =N135 -> 0
D90: M1 - Chodník pri OB 652 Februárová - Jašíkova | N90: =N136 -> 0
D91: 21-M - Elektromontáže | N91: =N137 -> 0
D92: 46-M - Zemné práce pri extr.mont.prácach | N92: =N160 -> 0
D93: M2 - Komenského 203 garáže | N93: =N173 -> 0
D94: 21-M - Elektromontáže | N94: =N174 -> 0
D95: 46-M - Zemné práce pri extr.mont.prácach | N95: =N197 -> 0
D96: M3 - Osvetlenie vnútrobloku Makarenkova 145 | N96: =N211 -> 0
D97: 21-M - Elektromontáže | N97: =N212 -> 0
D98: 46-M - Zemné práce pri extr.mont.prácach | N98: =N235 -> 0
D99: M4 - Osvetlenie vnútrobloku Makarenkova 147, 148 | N99: =N248 -> 0
D100: 21-M - Elektromontáže | N100: =N249 -> 0
D101: 46-M - Zemné práce pri extr.mont.prácach | N101: =N272 -> 0
D102: M5 - Osvetlenie vnútrobloku Februárová 638 | N102: =N286 -> 0
D103: 21-M - Elektromontáže | N103: =N287 -> 0
D104: 46-M - Zemné práce pri extr.mont.prácach | N104: =N310 -> 0
D105: VRN - Vedľajšie rozpočtové náklady | N105: =N323 -> 0
D106: VRN03 - Geodetické práce | N106: =N324 -> 0
D107: VP - Práce naviac | N107: =N327 -> 0
C109: 2) Ostatné náklady | N109: =ROUND(N110+N111+N112+N113+N114+N115,2) -> 0 | U109: DPH
D110: GZS | N110: =ROUND(N88*T110,2) -> 0 | U110: znížená | AY110: VRN | BE110: =IF(U110="základná",N110,0) -> 0 | BF110: =IF(U110="znížená",N110,0) -> 0 | BG110: =IF(U110="zákl. prenesená",N110,0) -> 0 | BH110: =IF(U110="zníž. prenesená",N110,0) -> 0 | BI110: =IF(U110="nulová",N110,0) -> 0 | BJ110: 2
D111: Projektové práce | N111: =ROUND(N88*T111,2) -> 0 | U111: znížená | AY111: VRN | BE111: =IF(U111="základná",N111,0) -> 0 | BF111: =IF(U111="znížená",N111,0) -> 0 | BG111: =IF(U111="zákl. prenesená",N111,0) -> 0 | BH111: =IF(U111="zníž. prenesená",N111,0) -> 0 | BI111: =IF(U111="nulová",N111,0) -> 0 | BJ111: 2
D112: Sťažené podmienky | N112: =ROUND(N88*T112,2) -> 0 | U112: znížená | AY112: VRN | BE112: =IF(U112="základná",N112,0) -> 0 | BF112: =IF(U112="znížená",N112,0) -> 0 | BG112: =IF(U112="zákl. prenesená",N112,0) -> 0 | BH112: =IF(U112="zníž. prenesená",N112,0) -> 0 | BI112: =IF(U112="nulová",N112,0) -> 0 | BJ112: 2
D113: Vplyv prostredia | N113: =ROUND(N88*T113,2) -> 0 | U113: znížená | AY113: VRN | BE113: =IF(U113="základná",N113,0) -> 0 | BF113: =IF(U113="znížená",N113,0) -> 0 | BG113: =IF(U113="zákl. prenesená",N113,0) -> 0 | BH113: =IF(U113="zníž. prenesená",N113,0) -> 0 | BI113: =IF(U113="nulová",N113,0) -> 0 | BJ113: 2
D114: Iné VRN | N114: =ROUND(N88*T114,2) -> 0 | U114: znížená | AY114: VRN | BE114: =IF(U114="základná",N114,0) -> 0 | BF114: =IF(U114="znížená",N114,0) -> 0 | BG114: =IF(U114="zákl. prenesená",N114,0) -> 0 | BH114: =IF(U114="zníž. prenesená",N114,0) -> 0 | BI114: =IF(U114="nulová",N114,0) -> 0 | BJ114: 2
D115: Kompletačná činnosť | N115: =ROUND(N88*T115,2) -> 0 | U115: znížená | AY115: KOMPLETACNA | BE115: =IF(U115="základná",N115,0) -> 0 | BF115: =IF(U115="znížená",N115,0) -> 0 | BG115: =IF(U115="zákl. prenesená",N115,0) -> 0 | BH115: =IF(U115="zníž. prenesená",N115,0) -> 0 | BI115: =IF(U115="nulová",N115,0) -> 0 | BJ115: 2
C117: Celkové náklady za stavbu 1) + 2) | L117: =ROUND(SUM(N88+N109),2) -> 0
C123: ROZPOČET
C125: Stavba: | F125: =F6 -> Zemné a elektroinštalačné práce pre rozšírenie verejného osvetlenia
C126: Objekt: | F126: =F7 -> 1 - Centrum - chodníky a vnútrobloky Februárová, Makarenkova, Komenského
C128: Miesto: | F128: =F9 | K128: Dátum: | M128: =IF(O9="","",O9) -> 20. 7. 2017
C130: Objednávateľ: | F130: =E12 -> Mesto Partizánske | K130: Projektant: | M130: =E18
C131: Zhotoviteľ: | F131: =IF(E15="","",E15) -> Vyplň údaj | K131: Spracovateľ: | M131: =E21
C133: PČ | D133: Typ | E133: Kód | F133: Popis | J133: MJ | K133: Množstvo | L133: J.cena [EUR] | N133: Cena celkom [EUR] | T133: Poznámka | U133: DPH | V133: J. Nh [h] | W133: Nh celkom [h] | X133: J. hmotnosť_x000D_ [t] | Y133: Hmotnosť_x000D_ celkom [t] | Z133: J. suť [t] | AA133: Suť Celkom [t]
C134: Náklady z rozpočtu | N134: =BK134 -> 0 | W134: =W135+W323+W327 -> 0 | Y134: =Y135+Y323+Y327 -> 20.848002 | AA134: =AA135+AA323+AA327 -> 0 | AT134: D | AU134: -1 | BK134: =BK135+BK323+BK327 -> 0
D135: M - Práce a dodávky M | N135: =BK135 -> 0 | W135: =W136+W173+W211+W248+W286 -> 0 | Y135: =Y136+Y173+Y211+Y248+Y286 -> 20.848002 | AA135: =AA136+AA173+AA211+AA248+AA286 -> 0 | AR135: 3 | AT135: D | AU135: 0 | AY135: ROZPOCET | BK135: =BK136+BK173+BK211+BK248+BK286 -> 0
D136: M1 - Chodník pri OB 652 Februárová - Jašíkova | N136: =BK136 -> 0 | W136: =W137+W160 -> 0 | Y136: =Y137+Y160 -> 4.0380682 | AA136: =AA137+AA160 -> 0 | AR136: 3 | AT136: D | AU136: 1 | AY136: ROZPOCET | BK136: =BK137+BK160 -> 0
D137: 21-M - Elektromontáže | N137: =BK137 -> 0 | W137: =SUM(W138:W159) -> 0 | Y137: =SUM(Y138:Y159) -> 0.180613 | AA137: =SUM(AA138:AA159) -> 0 | AR137: 3 | AT137: D | AU137: 2 | AY137: ROZPOCET | BK137: =SUM(BK138:BK159) -> 0
C138: 1 | D138: K | E138: 210010016 | F138: Rúrka ohybná elektroinštalačná z PVC uložená voľne | J138: m | K138: 4 | L138: 0 | N138: =ROUND(L138*K138,3) -> 0 | U138: znížená | W138: =V138*K138 -> 0 | X138: 0 | Y138: =X138*K138 -> 0 | Z138: 0 | AA138: =Z138*K138 -> 0 | AR138: 64 | AT138: K | AU138: 3 | AY138: ROZPOCET | BE138: =IF(U138="základná",N138,0) -> 0 | BF138: =IF(U138="znížená",N138,0) -> 0 | BG138: =IF(U138="zákl. prenesená",N138,0) -> 0 | BH138: =IF(U138="zníž. prenesená",N138,0) -> 0 | BI138: =IF(U138="nulová",N138,0) -> 0 | BJ138: 2 | BK138: =ROUND(L138*K138,3) -> 0 | BL138: 64 | BM138: -41062849
C139: 2 | D139: M | E139: 3457100340 | F139: Rúrka ohybná šedá | J139: m | K139: 4 | L139: 0 | N139: =ROUND(L139*K139,3) -> 0 | U139: znížená | W139: =V139*K139 -> 0 | X139: 0.00102 | Y139: =X139*K139 -> 0.00408 | Z139: 0 | AA139: =Z139*K139 -> 0 | AR139: 256 | AT139: M | AU139: 3 | AY139: ROZPOCET | BE139: =IF(U139="základná",N139,0) -> 0 | BF139: =IF(U139="znížená",N139,0) -> 0 | BG139: =IF(U139="zákl. prenesená",N139,0) -> 0 | BH139: =IF(U139="zníž. prenesená",N139,0) -> 0 | BI139: =IF(U139="nulová",N139,0) -> 0 | BJ139: 2 | BK139: =ROUND(L139*K139,3) -> 0 | BL139: 64 | BM139: 160042263
C140: 3 | D140: K | E140: 210120101 | F140: Poistkový patrón montáž do 63 A, vrátane dotykového krúžku | J140: ks | K140: 2 | L140: 0 | N140: =ROUND(L140*K140,3) -> 0 | U140: znížená | W140: =V140*K140 -> 0 | X140: 0 | Y140: =X140*K140 -> 0 | Z140: 0 | AA140: =Z140*K140 -> 0 | AR140: 64 | AT140: K | AU140: 3 | AY140: ROZPOCET | BE140: =IF(U140="základná",N140,0) -> 0 | BF140: =IF(U140="znížená",N140,0) -> 0 | BG140: =IF(U140="zákl. prenesená",N140,0) -> 0 | BH140: =IF(U140="zníž. prenesená",N140,0) -> 0 | BI140: =IF(U140="nulová",N140,0) -> 0 | BJ140: 2 | BK140: =ROUND(L140*K140,3) -> 0 | BL140: 64 | BM140: -289023140
C141: 4 | D141: M | E141: 3450112600 | F141: Poistkový patrón 10A | J141: ks | K141: 2 | L141: 0 | N141: =ROUND(L141*K141,3) -> 0 | U141: znížená | W141: =V141*K141 -> 0 | X141: 6e-05 | Y141: =X141*K141 -> 0.00012 | Z141: 0 | AA141: =Z141*K141 -> 0 | AR141: 256 | AT141: M | AU141: 3 | AY141: ROZPOCET | BE141: =IF(U141="základná",N141,0) -> 0 | BF141: =IF(U141="znížená",N141,0) -> 0 | BG141: =IF(U141="zákl. prenesená",N141,0) -> 0 | BH141: =IF(U141="zníž. prenesená",N141,0) -> 0 | BI141: =IF(U141="nulová",N141,0) -> 0 | BJ141: 2 | BK141: =ROUND(L141*K141,3) -> 0 | BL141: 64 | BM141: -1706967733
C142: 5 | D142: K | E142: 210201810 | F142: Montáž a zapojenie svietidla 1x svetelný zdroj, uličného | J142: ks | K142: 2 | L142: 0 | N142: =ROUND(L142*K142,3) -> 0 | U142: znížená | W142: =V142*K142 -> 0 | X142: 0 | Y142: =X142*K142 -> 0 | Z142: 0 | AA142: =Z142*K142 -> 0 | AR142: 64 | AT142: K | AU142: 3 | AY142: ROZPOCET | BE142: =IF(U142="základná",N142,0) -> 0 | BF142: =IF(U142="znížená",N142,0) -> 0 | BG142: =IF(U142="zákl. prenesená",N142,0) -> 0 | BH142: =IF(U142="zníž. prenesená",N142,0) -> 0 | BI142: =IF(U142="nulová",N142,0) -> 0 | BJ142: 2 | BK142: =ROUND(L142*K142,3) -> 0 | BL142: 64 | BM142: -137558597
C143: 6 | D143: K | E143: 210204002 | F143: Osvetľovací stožiar sadový - oceľový | J143: ks | K143: 2 | L143: 0 | N143: =ROUND(L143*K143,3) -> 0 | U143: znížená | W143: =V143*K143 -> 0 | X143: 0 | Y143: =X143*K143 -> 0 | Z143: 0 | AA143: =Z143*K143 -> 0 | AR143: 64 | AT143: K | AU143: 3 | AY143: ROZPOCET | BE143: =IF(U143="základná",N143,0) -> 0 | BF143: =IF(U143="znížená",N143,0) -> 0 | BG143: =IF(U143="zákl. prenesená",N143,0) -> 0 | BH143: =IF(U143="zníž. prenesená",N143,0) -> 0 | BI143: =IF(U143="nulová",N143,0) -> 0 | BJ143: 2 | BK143: =ROUND(L143*K143,3) -> 0 | BL143: 64 | BM143: 867578457
C144: 7 | D144: M | E144: 3160114100 | F144: Stožiar oceľový rúrkový žiarovozinkový, výška svietidla 6 m, ELV PRODUKT | J144: ks | K144: 2 | L144: 0 | N144: =ROUND(L144*K144,3) -> 0 | U144: znížená | W144: =V144*K144 -> 0 | X144: 0.048 | Y144: =X144*K144 -> 0.096 | Z144: 0 | AA144: =Z144*K144 -> 0 | AR144: 256 | AT144: M | AU144: 3 | AY144: ROZPOCET | BE144: =IF(U144="základná",N144,0) -> 0 | BF144: =IF(U144="znížená",N144,0) -> 0 | BG144: =IF(U144="zákl. prenesená",N144,0) -> 0 | BH144: =IF(U144="zníž. prenesená",N144,0) -> 0 | BI144: =IF(U144="nulová",N144,0) -> 0 | BJ144: 2 | BK144: =ROUND(L144*K144,3) -> 0 | BL144: 64 | BM144: 919581972
C145: 8 | D145: K | E145: 210204201 | F145: Elektrovýstroj stožiara pre 1 okruh | J145: ks | K145: 2 | L145: 0 | N145: =ROUND(L145*K145,3) -> 0 | U145: znížená | W145: =V145*K145 -> 0 | X145: 0 | Y145: =X145*K145 -> 0 | Z145: 0 | AA145: =Z145*K145 -> 0 | AR145: 64 | AT145: K | AU145: 3 | AY145: ROZPOCET | BE145: =IF(U145="základná",N145,0) -> 0 | BF145: =IF(U145="znížená",N145,0) -> 0 | BG145: =IF(U145="zákl. prenesená",N145,0) -> 0 | BH145: =IF(U145="zníž. prenesená",N145,0) -> 0 | BI145: =IF(U145="nulová",N145,0) -> 0 | BJ145: 2 | BK145: =ROUND(L145*K145,3) -> 0 | BL145: 64 | BM145: -1132222162
C146: 9 | D146: M | E146: 3484301760 | F146: Stožiarová svorkovnica pre 1 poistku | J146: ks | K146: 2 | L146: 0 | N146: =ROUND(L146*K146,3) -> 0 | U146: znížená | W146: =V146*K146 -> 0 | X146: 0.00413 | Y146: =X146*K146 -> 0.00826 | Z146: 0 | AA146: =Z146*K146 -> 0 | AR146: 256 | AT146: M | AU146: 3 | AY146: ROZPOCET | BE146: =IF(U146="základná",N146,0) -> 0 | BF146: =IF(U146="znížená",N146,0) -> 0 | BG146: =IF(U146="zákl. prenesená",N146,0) -> 0 | BH146: =IF(U146="zníž. prenesená",N146,0) -> 0 | BI146: =IF(U146="nulová",N146,0) -> 0 | BJ146: 2 | BK146: =ROUND(L146*K146,3) -> 0 | BL146: 64 | BM146: 1395863787
C147: 10 | D147: K | E147: 210220001 | F147: Uzemňovacie vedenie v zemi FeZn | J147: m | K147: 60 | L147: 0 | N147: =ROUND(L147*K147,3) -> 0 | U147: znížená | W147: =V147*K147 -> 0 | X147: 0 | Y147: =X147*K147 -> 0 | Z147: 0 | AA147: =Z147*K147 -> 0 | AR147: 64 | AT147: K | AU147: 3 | AY147: ROZPOCET | BE147: =IF(U147="základná",N147,0) -> 0 | BF147: =IF(U147="znížená",N147,0) -> 0 | BG147: =IF(U147="zákl. prenesená",N147,0) -> 0 | BH147: =IF(U147="zníž. prenesená",N147,0) -> 0 | BI147: =IF(U147="nulová",N147,0) -> 0 | BJ147: 2 | BK147: =ROUND(L147*K147,3) -> 0 | BL147: 64 | BM147: 1115177699
C148: 11 | D148: M | E148: 3544224150 | F148: Územňovací vodič ocelový žiarovo zinkovaný označenie O 10 | J148: kg | K148: 1.333 | L148: 0 | N148: =ROUND(L148*K148,3) -> 0 | U148: znížená | W148: =V148*K148 -> 0 | X148: 0.001 | Y148: =X148*K148 -> 0.001333 | Z148: 0 | AA148: =Z148*K148 -> 0 | AR148: 256 | AT148: M | AU148: 3 | AY148: ROZPOCET | BE148: =IF(U148="základná",N148,0) -> 0 | BF148: =IF(U148="znížená",N148,0) -> 0 | BG148: =IF(U148="zákl. prenesená",N148,0) -> 0 | BH148: =IF(U148="zníž. prenesená",N148,0) -> 0 | BI148: =IF(U148="nulová",N148,0) -> 0 | BJ148: 2 | BK148: =ROUND(L148*K148,3) -> 0 | BL148: 64 | BM148: -1950455997
C149: 12 | D149: M | E149: 3544223850 | F149: Územňovacia pásovina ocelová žiarovo zinkovaná označenie 30 x 4 mm | J149: kg | K149: 50 | L149: 0 | N149: =ROUND(L149*K149,3) -> 0 | U149: znížená | W149: =V149*K149 -> 0 | X149: 0.001 | Y149: =X149*K149 -> 0.05 | Z149: 0 | AA149: =Z149*K149 -> 0 | AR149: 256 | AT149: M | AU149: 3 | AY149: ROZPOCET | BE149: =IF(U149="základná",N149,0) -> 0 | BF149: =IF(U149="znížená",N149,0) -> 0 | BG149: =IF(U149="zákl. prenesená",N149,0) -> 0 | BH149: =IF(U149="zníž. prenesená",N149,0) -> 0 | BI149: =IF(U149="nulová",N149,0) -> 0 | BJ149: 2 | BK149: =ROUND(L149*K149,3) -> 0 | BL149: 64 | BM149: -414648055
... C159: 22 | D159: M | E159: 3410350085 | F159: CYKY 3x1,5 Kábel pre pevné uloženie, medený STN | J159: m | K159: 14 | L159: 0 | N159: =ROUND(L159*K159,3) -> 0 | U159: znížená | W159: =V159*K159 -> 0 | X159: 0.00014 | Y159: =X159*K159 -> 0.00196 | Z159: 0 | AA159: =Z159*K159 -> 0 | AR159: 256 | AT159: M | AU159: 3 | AY159: ROZPOCET | BE159: =IF(U159="základná",N159,0) -> 0 | BF159: =IF(U159="znížená",N159,0) -> 0 | BG159: =IF(U159="zákl. prenesená",N159,0) -> 0 | BH159: =IF(U159="zníž. prenesená",N159,0) -> 0 | BI159: =IF(U159="nulová",N159,0) -> 0 | BJ159: 2 | BK159: =ROUND(L159*K159,3) -> 0 | BL159: 64 | BM159: -1195837972
D160: 46-M - Zemné práce pri extr.mont.prácach | N160: =BK160 -> 0 | W160: =SUM(W161:W172) -> 0 | Y160: =SUM(Y161:Y172) -> 3.8574552 | AA160: =SUM(AA161:AA172) -> 0 | AR160: 3 | AT160: D | AU160: 2 | AY160: ROZPOCET | BK160: =SUM(BK161:BK172) -> 0
C161: 23 | D161: K | E161: 272353101 | F161: Debnenie pätky s prierezom do 0.01m2, výšky do 0.1 m | J161: ks | K161: 2 | L161: 0 | N161: =ROUND(L161*K161,3) -> 0 | U161: znížená | W161: =V161*K161 -> 0 | X161: 0.00116 | Y161: =X161*K161 -> 0.00232 | Z161: 0 | AA161: =Z161*K161 -> 0 | AR161: 64 | AT161: K | AU161: 3 | AY161: ROZPOCET | BE161: =IF(U161="základná",N161,0) -> 0 | BF161: =IF(U161="znížená",N161,0) -> 0 | BG161: =IF(U161="zákl. prenesená",N161,0) -> 0 | BH161: =IF(U161="zníž. prenesená",N161,0) -> 0 | BI161: =IF(U161="nulová",N161,0) -> 0 | BJ161: 2 | BK161: =ROUND(L161*K161,3) -> 0 | BL161: 64 | BM161: 12527153
C162: 24 | D162: K | E162: 275316241 | F162: Stožiarové pätky z betónu prostého C 25/30 | J162: m3 | K162: 0.72 | L162: 0 | N162: =ROUND(L162*K162,3) -> 0 | U162: znížená | W162: =V162*K162 -> 0 | X162: 2.32341 | Y162: =X162*K162 -> 1.6728552 | Z162: 0 | AA162: =Z162*K162 -> 0 | AR162: 64 | AT162: K | AU162: 3 | AY162: ROZPOCET | BE162: =IF(U162="základná",N162,0) -> 0 | BF162: =IF(U162="znížená",N162,0) -> 0 | BG162: =IF(U162="zákl. prenesená",N162,0) -> 0 | BH162: =IF(U162="zníž. prenesená",N162,0) -> 0 | BI162: =IF(U162="nulová",N162,0) -> 0 | BJ162: 2 | BK162: =ROUND(L162*K162,3) -> 0 | BL162: 64 | BM162: -465096430
C163: 25 | D163: K | E163: 460050003 | F163: Jama pre jednoduchý stožiar nepätkovaný dĺžky 6-8 m, v rovine,zásyp a zhutnenie,zemina tr.3 | J163: ks | K163: 2 | L163: 0 | N163: =ROUND(L163*K163,3) -> 0 | U163: znížená | W163: =V163*K163 -> 0 | X163: 0 | Y163: =X163*K163 -> 0 | Z163: 0 | AA163: =Z163*K163 -> 0 | AR163: 64 | AT163: K | AU163: 3 | AY163: ROZPOCET | BE163: =IF(U163="základná",N163,0) -> 0 | BF163: =IF(U163="znížená",N163,0) -> 0 | BG163: =IF(U163="zákl. prenesená",N163,0) -> 0 | BH163: =IF(U163="zníž. prenesená",N163,0) -> 0 | BI163: =IF(U163="nulová",N163,0) -> 0 | BJ163: 2 | BK163: =ROUND(L163*K163,3) -> 0 | BL163: 64 | BM163: 1969091358
C164: 26 | D164: K | E164: 460200143 | F164: Hĺbenie káblovej ryhy ručne 35 cm širokej a 60 cm hlbokej, v zemine triedy 3 | J164: m | K164: 60 | L164: 0 | N164: =ROUND(L164*K164,3) -> 0 | U164: znížená | W164: =V164*K164 -> 0 | X164: 0 | Y164: =X164*K164 -> 0 | Z164: 0 | AA164: =Z164*K164 -> 0 | AR164: 64 | AT164: K | AU164: 3 | AY164: ROZPOCET | BE164: =IF(U164="základná",N164,0) -> 0 | BF164: =IF(U164="znížená",N164,0) -> 0 | BG164: =IF(U164="zákl. prenesená",N164,0) -> 0 | BH164: =IF(U164="zníž. prenesená",N164,0) -> 0 | BI164: =IF(U164="nulová",N164,0) -> 0 | BJ164: 2 | BK164: =ROUND(L164*K164,3) -> 0 | BL164: 64 | BM164: 820715534
C165: 27 | D165: K | E165: 460420022 | F165: Zriadenie, rekonšt. káblového lôžka z piesku bez zakrytia, v ryhe šír. do 65 cm, hrúbky vrstvy 10 cm | J165: m | K165: 60 | L165: 0 | N165: =ROUND(L165*K165,3) -> 0 | U165: znížená | W165: =V165*K165 -> 0 | X165: 0 | Y165: =X165*K165 -> 0 | Z165: 0 | AA165: =Z165*K165 -> 0 | AR165: 64 | AT165: K | AU165: 3 | AY165: ROZPOCET | BE165: =IF(U165="základná",N165,0) -> 0 | BF165: =IF(U165="znížená",N165,0) -> 0 | BG165: =IF(U165="zákl. prenesená",N165,0) -> 0 | BH165: =IF(U165="zníž. prenesená",N165,0) -> 0 | BI165: =IF(U165="nulová",N165,0) -> 0 | BJ165: 2 | BK165: =ROUND(L165*K165,3) -> 0 | BL165: 64 | BM165: -932674696
C166: 28 | D166: M | E166: 5831214500 | F166: Drvina vápencová zmes 0 - 4 | J166: t | K166: 2.16 | L166: 0 | N166: =ROUND(L166*K166,3) -> 0 | U166: znížená | W166: =V166*K166 -> 0 | X166: 1 | Y166: =X166*K166 -> 2.16 | Z166: 0 | AA166: =Z166*K166 -> 0 | AR166: 256 | AT166: M | AU166: 3 | AY166: ROZPOCET | BE166: =IF(U166="základná",N166,0) -> 0 | BF166: =IF(U166="znížená",N166,0) -> 0 | BG166: =IF(U166="zákl. prenesená",N166,0) -> 0 | BH166: =IF(U166="zníž. prenesená",N166,0) -> 0 | BI166: =IF(U166="nulová",N166,0) -> 0 | BJ166: 2 | BK166: =ROUND(L166*K166,3) -> 0 | BL166: 64 | BM166: 198133135
C167: 29 | D167: K | E167: 460490012 | F167: Rozvinutie a uloženie výstražnej fólie z PVC do ryhy, šírka 33 cm | J167: m | K167: 60 | L167: 0 | N167: =ROUND(L167*K167,3) -> 0 | U167: znížená | W167: =V167*K167 -> 0 | X167: 0 | Y167: =X167*K167 -> 0 | Z167: 0 | AA167: =Z167*K167 -> 0 | AR167: 64 | AT167: K | AU167: 3 | AY167: ROZPOCET | BE167: =IF(U167="základná",N167,0) -> 0 | BF167: =IF(U167="znížená",N167,0) -> 0 | BG167: =IF(U167="zákl. prenesená",N167,0) -> 0 | BH167: =IF(U167="zníž. prenesená",N167,0) -> 0 | BI167: =IF(U167="nulová",N167,0) -> 0 | BJ167: 2 | BK167: =ROUND(L167*K167,3) -> 0 | BL167: 64 | BM167: -176568945
C168: 30 | D168: M | E168: 2830002000 | F168: Fólia červená v m | J168: m | K168: 60 | L168: 0 | N168: =ROUND(L168*K168,3) -> 0 | U168: znížená | W168: =V168*K168 -> 0 | X168: 0.00021 | Y168: =X168*K168 -> 0.0126 | Z168: 0 | AA168: =Z168*K168 -> 0 | AR168: 256 | AT168: M | AU168: 3 | AY168: ROZPOCET | BE168: =IF(U168="základná",N168,0) -> 0 | BF168: =IF(U168="znížená",N168,0) -> 0 | BG168: =IF(U168="zákl. prenesená",N168,0) -> 0 | BH168: =IF(U168="zníž. prenesená",N168,0) -> 0 | BI168: =IF(U168="nulová",N168,0) -> 0 | BJ168: 2 | BK168: =ROUND(L168*K168,3) -> 0 | BL168: 64 | BM168: -1957072536
C169: 31 | D169: K | E169: 460560143 | F169: Ručný zásyp nezap. káblovej ryhy bez zhutn. zeminy, 35 cm širokej, 60 cm hlbokej v zemine tr. 3 | J169: m | K169: 60 | L169: 0 | N169: =ROUND(L169*K169,3) -> 0 | U169: znížená | W169: =V169*K169 -> 0 | X169: 0 | Y169: =X169*K169 -> 0 | Z169: 0 | AA169: =Z169*K169 -> 0 | AR169: 64 | AT169: K | AU169: 3 | AY169: ROZPOCET | BE169: =IF(U169="základná",N169,0) -> 0 | BF169: =IF(U169="znížená",N169,0) -> 0 | BG169: =IF(U169="zákl. prenesená",N169,0) -> 0 | BH169: =IF(U169="zníž. prenesená",N169,0) -> 0 | BI169: =IF(U169="nulová",N169,0) -> 0 | BJ169: 2 | BK169: =ROUND(L169*K169,3) -> 0 | BL169: 64 | BM169: -941108784
C170: 32 | D170: K | E170: 871353121 | F170: Puzdro v pätke stožiara z kanalizačných rúr z tvrdého PVC DN 200 | J170: m | K170: 2 | L170: 0 | N170: =ROUND(L170*K170,3) -> 0 | U170: znížená | W170: =V170*K170 -> 0 | X170: 1e-05 | Y170: =X170*K170 -> 2e-05 | Z170: 0 | AA170: =Z170*K170 -> 0 | AR170: 64 | AT170: K | AU170: 3 | AY170: ROZPOCET | BE170: =IF(U170="základná",N170,0) -> 0 | BF170: =IF(U170="znížená",N170,0) -> 0 | BG170: =IF(U170="zákl. prenesená",N170,0) -> 0 | BH170: =IF(U170="zníž. prenesená",N170,0) -> 0 | BI170: =IF(U170="nulová",N170,0) -> 0 | BJ170: 2 | BK170: =ROUND(L170*K170,3) -> 0 | BL170: 64 | BM170: 1547931935
...

Sheet 2 - Luhy I. - chodníky ul...
D1: Hárok obsahuje: | F1: 1) Krycí list rozpočtu | H1: 2) Rekapitulácia rozpočtu | L1: 3) Rozpočet | O1: Späť na hárok: | S1: Rekapitulácia stavby
C2: optimalizované pre tlač zostáv vo formáte A4 - na výšku | S2: >> skryté stĺpce << | AT2: {76078592-e7b8-492f-949b-e90ca2745eff}
AT3: 0
C4: KRYCÍ LIST ROZPOČTU | T4: v --- nižšie sa nachádzajú doplnkové a pomocné údaje k zostavám --- v | AT4: False
D6: Stavba: | F6: ='Rekapitulácia stavby'!K6 -> Zemné a elektroinštalačné práce pre rozšírenie verejného osvetlenia
D7: Objekt: | F7: 2 - Luhy I. - chodníky ul. Gen. Svobodu, Nádražná
D8: JKSO: | M8: KS:
D9: Miesto: | M9: Dátum: | O9: ='Rekapitulácia stavby'!AN8 -> 20. 7. 2017
D11: Objednávateľ: | M11: IČO:
E12: Mesto Partizánske | M12: IČO DPH:
D14: Zhotoviteľ: | M14: IČO: | O14: =IF('Rekapitulácia stavby'!AN13="","",'Rekapitulácia stavby'!AN13) -> Vyplň údaj
E15: =IF('Rekapitulácia stavby'!E14="","",'Rekapitulácia stavby'!E14) -> Vyplň údaj | M15: IČO DPH: | O15: =IF('Rekapitulácia stavby'!AN14="","",'Rekapitulácia stavby'!AN14) -> Vyplň údaj
D17: Projektant: | M17: IČO: | O17: =IF('Rekapitulácia stavby'!AN16="","",'Rekapitulácia stavby'!AN16)
E18: =IF('Rekapitulácia stavby'!E17="","",'Rekapitulácia stavby'!E17) | M18: IČO DPH: | O18: =IF('Rekapitulácia stavby'!AN17="","",'Rekapitulácia stavby'!AN17)
D20: Spracovateľ: | M20: IČO: | O20: =IF('Rekapitulácia stavby'!AN19="","",'Rekapitulácia stavby'!AN19)
E21: =IF('Rekapitulácia stavby'!E20="","",'Rekapitulácia stavby'!E20) | M21: IČO DPH: | O21: =IF('Rekapitulácia stavby'!AN20="","",'Rekapitulácia stavby'!AN20)
D23: Poznámka:
D27: Náklady z rozpočtu | M27: =N88 -> 0
D28: Ostatné náklady | M28: =N103 -> 0
D30: Cena bez DPH | M30: =ROUND(M27+M28,2) -> 0
D32: DPH | E32: základná | F32: 0.2 | G32: z | H32: =ROUND((((SUM(BE103:BE110)+SUM(BE128:BE231))+SUM(BE233:BE237))),2) -> 0 | M32: =ROUND(((ROUND((SUM(BE103:BE110)+SUM(BE128:BE231)), 2)*F32)+SUM(BE233:BE237)*F32),2) -> 0
E33: znížená | F33: 0.2 | G33: z | H33: =ROUND((((SUM(BF103:BF110)+SUM(BF128:BF231))+SUM(BF233:BF237))),2) -> 0 | M33: =ROUND(((ROUND((SUM(BF103:BF110)+SUM(BF128:BF231)), 2)*F33)+SUM(BF233:BF237)*F33),2) -> 0
E34: zákl. prenesená | F34: 0.2 | G34: z | H34: =ROUND((((SUM(BG103:BG110)+SUM(BG128:BG231))+SUM(BG233:BG237))),2) -> 0 | M34: 0
E35: zníž. prenesená | F35: 0.2 | G35: z | H35: =ROUND((((SUM(BH103:BH110)+SUM(BH128:BH231))+SUM(BH233:BH237))),2) -> 0 | M35: 0
E36: nulová | F36: 0 | G36: z | H36: =ROUND((((SUM(BI103:BI110)+SUM(BI128:BI231))+SUM(BI233:BI237))),2) -> 0 | M36: 0
D38: Cena s DPH | G38: v | H38: EUR | L38: =SUM(M30:M36) -> 0
D50: Projektant | J50: Spracovateľ
D59: Dátum a podpis: | G59: Pečiatka | J59: Dátum a podpis: | N59: Pečiatka
D61: Objednávateľ | J61: Zhotoviteľ
D70: Dátum a podpis: | G70: Pečiatka | J70: Dátum a podpis: | N70: Pečiatka
C76: REKAPITULÁCIA ROZPOČTU
C78: Stavba: | F78: =F6 -> Zemné a elektroinštalačné práce pre rozšírenie verejného osvetlenia
C79: Objekt: | F79: =F7 -> 2 - Luhy I. - chodníky ul. Gen. Svobodu, Nádražná
C81: Miesto: | F81: =F9 | K81: Dátum: | M81: =IF(O9="","",O9) -> 20. 7. 2017
C83: Objednávateľ: | F83: =E12 -> Mesto Partizánske | K83: Projektant: | M83: =E18
C84: Zhotoviteľ: | F84: =IF(E15="","",E15) -> Vyplň údaj | K84: Spracovateľ: | M84: =E21
C86: Kód - Popis | N86: Cena celkom [EUR]
C88: 1) Náklady z rozpočtu | N88: =N128 -> 0 | AU88: -1
D89: M - Práce a dodávky M | N89: =N129 -> 0
D90: M11 - Chodníky pri CVČ náhrada za solárne | N90: =N130 -> 0
D91: 21-M - Elektromontáže | N91: =N131 -> 0
D92: 46-M - Zemné práce pri extr.mont.prácach | N92: =N141 -> 0
D93: M12 - Chodník za 828 pri Špeciálnej základnej škole | N93: =N150 -> 0
D94: 21-M - Elektromontáže | N94: =N151 -> 0
D95: 46-M - Zemné práce pri extr.mont.prácach | N95: =N174 -> 0
D96: M13 - Parkovisko Nádražná 889 a 892 | N96: =N188 -> 0
D97: 21-M - Elektromontáže | N97: =N189 -> 0
D98: 46-M - Zemné práce pri extr.mont.prácach | N98: =N214 -> 0
D99: VRN - Vedľajšie rozpočtové náklady | N99: =N228 -> 0
D100: VRN03 - Geodetické práce | N100: =N229 -> 0
D101: VP - Práce naviac | N101: =N232 -> 0
C103: 2) Ostatné náklady | N103: =ROUND(N104+N105+N106+N107+N108+N109,2) -> 0 | U103: DPH
D104: GZS | N104: =ROUND(N88*T104,2) -> 0 | U104: znížená | AY104: VRN | BE104: =IF(U104="základná",N104,0) -> 0 | BF104: =IF(U104="znížená",N104,0) -> 0 | BG104: =IF(U104="zákl. prenesená",N104,0) -> 0 | BH104: =IF(U104="zníž. prenesená",N104,0) -> 0 | BI104: =IF(U104="nulová",N104,0) -> 0 | BJ104: 2
D105: Projektové práce | N105: =ROUND(N88*T105,2) -> 0 | U105: znížená | AY105: VRN | BE105: =IF(U105="základná",N105,0) -> 0 | BF105: =IF(U105="znížená",N105,0) -> 0 | BG105: =IF(U105="zákl. prenesená",N105,0) -> 0 | BH105: =IF(U105="zníž. prenesená",N105,0) -> 0 | BI105: =IF(U105="nulová",N105,0) -> 0 | BJ105: 2
D106: Sťažené podmienky | N106: =ROUND(N88*T106,2) -> 0 | U106: znížená | AY106: VRN | BE106: =IF(U106="základná",N106,0) -> 0 | BF106: =IF(U106="znížená",N106,0) -> 0 | BG106: =IF(U106="zákl. prenesená",N106,0) -> 0 | BH106: =IF(U106="zníž. prenesená",N106,0) -> 0 | BI106: =IF(U106="nulová",N106,0) -> 0 | BJ106: 2
D107: Vplyv prostredia | N107: =ROUND(N88*T107,2) -> 0 | U107: znížená | AY107: VRN | BE107: =IF(U107="základná",N107,0) -> 0 | BF107: =IF(U107="znížená",N107,0) -> 0 | BG107: =IF(U107="zákl. prenesená",N107,0) -> 0 | BH107: =IF(U107="zníž. prenesená",N107,0) -> 0 | BI107: =IF(U107="nulová",N107,0) -> 0 | BJ107: 2
D108: Iné VRN | N108: =ROUND(N88*T108,2) -> 0 | U108: znížená | AY108: VRN | BE108: =IF(U108="základná",N108,0) -> 0 | BF108: =IF(U108="znížená",N108,0) -> 0 | BG108: =IF(U108="zákl. prenesená",N108,0) -> 0 | BH108: =IF(U108="zníž. prenesená",N108,0) -> 0 | BI108: =IF(U108="nulová",N108,0) -> 0 | BJ108: 2
D109: Kompletačná činnosť | N109: =ROUND(N88*T109,2) -> 0 | U109: znížená | AY109: KOMPLETACNA | BE109: =IF(U109="základná",N109,0) -> 0 | BF109: =IF(U109="znížená",N109,0) -> 0 | BG109: =IF(U109="zákl. prenesená",N109,0) -> 0 | BH109: =IF(U109="zníž. prenesená",N109,0) -> 0 | BI109: =IF(U109="nulová",N109,0) -> 0 | BJ109: 2
C111: Celkové náklady za stavbu 1) + 2) | L111: =ROUND(SUM(N88+N103),2) -> 0
C117: ROZPOČET
C119: Stavba: | F119: =F6 -> Zemné a elektroinštalačné práce pre rozšírenie verejného osvetlenia
C120: Objekt: | F120: =F7 -> 2 - Luhy I. - chodníky ul. Gen. Svobodu, Nádražná
C122: Miesto: | F122: =F9 | K122: Dátum: | M122: =IF(O9="","",O9) -> 20. 7. 2017
C124: Objednávateľ: | F124: =E12 -> Mesto Partizánske | K124: Projektant: | M124: =E18
C125: Zhotoviteľ: | F125: =IF(E15="","",E15) -> Vyplň údaj | K125: Spracovateľ: | M125: =E21
C127: PČ | D127: Typ | E127: Kód | F127: Popis | J127: MJ | K127: Množstvo | L127: J.cena [EUR] | N127: Cena celkom [EUR] | T127: Poznámka | U127: DPH | V127: J. Nh [h] | W127: Nh celkom [h] | X127: J. hmotnosť_x000D_ [t] | Y127: Hmotnosť_x000D_ celkom [t] | Z127: J. suť [t] | AA127: Suť Celkom [t]
C128: Náklady z rozpočtu | N128: =BK128 -> 0 | W128: =W129+W228+W232 -> 0 | Y128: =Y129+Y228+Y232 -> 10.856517 | AA128: =AA129+AA228+AA232 -> 0 | AT128: D | AU128: -1 | BK128: =BK129+BK228+BK232 -> 0
D129: M - Práce a dodávky M | N129: =BK129 -> 0 | W129: =W130+W150+W188 -> 0 | Y129: =Y130+Y150+Y188 -> 10.856517 | AA129: =AA130+AA150+AA188 -> 0 | AR129: 3 | AT129: D | AU129: 0 | AY129: ROZPOCET | BK129: =BK130+BK150+BK188 -> 0
D130: M11 - Chodníky pri CVČ náhrada za solárne | N130: =BK130 -> 0 | W130: =W131+W141 -> 0 | Y130: =Y131+Y141 -> 4.0306932 | AA130: =AA131+AA141 -> 0 | AR130: 3 | AT130: D | AU130: 1 | AY130: ROZPOCET | BK130: =BK131+BK141 -> 0
D131: 21-M - Elektromontáže | N131: =BK131 -> 0 | W131: =SUM(W132:W140) -> 0 | Y131: =SUM(Y132:Y140) -> 0.04759325 | AA131: =SUM(AA132:AA140) -> 0 | AR131: 3 | AT131: D | AU131: 2 | AY131: ROZPOCET | BK131: =SUM(BK132:BK140) -> 0
C132: 1 | D132: K | E132: 210120101 | F132: Poistkový patrón montáž do 63 A, vrátane dotykového krúžku | J132: ks | K132: 3 | L132: 0 | N132: =ROUND(L132*K132,3) -> 0 | U132: znížená | W132: =V132*K132 -> 0 | X132: 0 | Y132: =X132*K132 -> 0 | Z132: 0 | AA132: =Z132*K132 -> 0 | AR132: 64 | AT132: K | AU132: 3 | AY132: ROZPOCET | BE132: =IF(U132="základná",N132,0) -> 0 | BF132: =IF(U132="znížená",N132,0) -> 0 | BG132: =IF(U132="zákl. prenesená",N132,0) -> 0 | BH132: =IF(U132="zníž. prenesená",N132,0) -> 0 | BI132: =IF(U132="nulová",N132,0) -> 0 | BJ132: 2 | BK132: =ROUND(L132*K132,3) -> 0 | BL132: 64 | BM132: -289023140
C133: 2 | D133: M | E133: 3450112600 | F133: Poistkový patrón 10A | J133: ks | K133: 3 | L133: 0 | N133: =ROUND(L133*K133,3) -> 0 | U133: znížená | W133: =V133*K133 -> 0 | X133: 6e-05 | Y133: =X133*K133 -> 0.00018 | Z133: 0 | AA133: =Z133*K133 -> 0 | AR133: 256 | AT133: M | AU133: 3 | AY133: ROZPOCET | BE133: =IF(U133="základná",N133,0) -> 0 | BF133: =IF(U133="znížená",N133,0) -> 0 | BG133: =IF(U133="zákl. prenesená",N133,0) -> 0 | BH133: =IF(U133="zníž. prenesená",N133,0) -> 0 | BI133: =IF(U133="nulová",N133,0) -> 0 | BJ133: 2 | BK133: =ROUND(L133*K133,3) -> 0 | BL133: 64 | BM133: -1706967733
C134: 3 | D134: K | E134: 210201810 | F134: Montáž a zapojenie svietidla 1x svetelný zdroj, uličného | J134: ks | K134: 3 | L134: 0 | N134: =ROUND(L134*K134,3) -> 0 | U134: znížená | W134: =V134*K134 -> 0 | X134: 0 | Y134: =X134*K134 -> 0 | Z134: 0 | AA134: =Z134*K134 -> 0 | AR134: 64 | AT134: K | AU134: 3 | AY134: ROZPOCET | BE134: =IF(U134="základná",N134,0) -> 0 | BF134: =IF(U134="znížená",N134,0) -> 0 | BG134: =IF(U134="zákl. prenesená",N134,0) -> 0 | BH134: =IF(U134="zníž. prenesená",N134,0) -> 0 | BI134: =IF(U134="nulová",N134,0) -> 0 | BJ134: 2 | BK134: =ROUND(L134*K134,3) -> 0 | BL134: 64 | BM134: -137558597
C135: 4 | D135: K | E135: 210204201 | F135: Elektrovýstroj stožiara pre 1 okruh | J135: ks | K135: 3 | L135: 0 | N135: =ROUND(L135*K135,3) -> 0 | U135: znížená | W135: =V135*K135 -> 0 | X135: 0 | Y135: =X135*K135 -> 0 | Z135: 0 | AA135: =Z135*K135 -> 0 | AR135: 64 | AT135: K | AU135: 3 | AY135: ROZPOCET | BE135: =IF(U135="základná",N135,0) -> 0 | BF135: =IF(U135="znížená",N135,0) -> 0 | BG135: =IF(U135="zákl. prenesená",N135,0) -> 0 | BH135: =IF(U135="zníž. prenesená",N135,0) -> 0 | BI135: =IF(U135="nulová",N135,0) -> 0 | BJ135: 2 | BK135: =ROUND(L135*K135,3) -> 0 | BL135: 64 | BM135: -1132222162
C136: 5 | D136: M | E136: 3484301760 | F136: Stožiarová svorkovnica pre 1 poistku | J136: ks | K136: 3 | L136: 0 | N136: =ROUND(L136*K136,3) -> 0 | U136: znížená | W136: =V136*K136 -> 0 | X136: 0.00413 | Y136: =X136*K136 -> 0.01239 | Z136: 0 | AA136: =Z136*K136 -> 0 | AR136: 256 | AT136: M | AU136: 3 | AY136: ROZPOCET | BE136: =IF(U136="základná",N136,0) -> 0 | BF136: =IF(U136="znížená",N136,0) -> 0 | BG136: =IF(U136="zákl. prenesená",N136,0) -> 0 | BH136: =IF(U136="zníž. prenesená",N136,0) -> 0 | BI136: =IF(U136="nulová",N136,0) -> 0 | BJ136: 2 | BK136: =ROUND(L136*K136,3) -> 0 | BL136: 64 | BM136: 1395863787
C137: 6 | D137: K | E137: 210800109 | F137: Kábel medený uložený voľne CYKY 450/750 V 3x4 | J137: m | K137: 110 | L137: 0 | N137: =ROUND(L137*K137,3) -> 0 | U137: znížená | W137: =V137*K137 -> 0 | X137: 0 | Y137: =X137*K137 -> 0 | Z137: 0 | AA137: =Z137*K137 -> 0 | AR137: 64 | AT137: K | AU137: 3 | AY137: ROZPOCET | BE137: =IF(U137="základná",N137,0) -> 0 | BF137: =IF(U137="znížená",N137,0) -> 0 | BG137: =IF(U137="zákl. prenesená",N137,0) -> 0 | BH137: =IF(U137="zníž. prenesená",N137,0) -> 0 | BI137: =IF(U137="nulová",N137,0) -> 0 | BJ137: 2 | BK137: =ROUND(L137*K137,3) -> 0 | BL137: 64 | BM137: 2117875056
C138: 7 | D138: M | E138: 3410350087 | F138: CYKY 3x4 Kábel pre pevné uloženie, medený STN | J138: m | K138: 128.333 | L138: 0 | N138: =ROUND(L138*K138,3) -> 0 | U138: znížená | W138: =V138*K138 -> 0 | X138: 0.00025 | Y138: =X138*K138 -> 0.03208325 | Z138: 0 | AA138: =Z138*K138 -> 0 | AR138: 256 | AT138: M | AU138: 3 | AY138: ROZPOCET | BE138: =IF(U138="základná",N138,0) -> 0 | BF138: =IF(U138="znížená",N138,0) -> 0 | BG138: =IF(U138="zákl. prenesená",N138,0) -> 0 | BH138: =IF(U138="zníž. prenesená",N138,0) -> 0 | BI138: =IF(U138="nulová",N138,0) -> 0 | BJ138: 2 | BK138: =ROUND(L138*K138,3) -> 0 | BL138: 64 | BM138: 1612845744
C139: 8 | D139: K | E139: 210800146 | F139: Kábel medený uložený pevne CYKY 450/750 V 3x1,5 | J139: m | K139: 21 | L139: 0 | N139: =ROUND(L139*K139,3) -> 0 | U139: znížená | W139: =V139*K139 -> 0 | X139: 0 | Y139: =X139*K139 -> 0 | Z139: 0 | AA139: =Z139*K139 -> 0 | AR139: 64 | AT139: K | AU139: 3 | AY139: ROZPOCET | BE139: =IF(U139="základná",N139,0) -> 0 | BF139: =IF(U139="znížená",N139,0) -> 0 | BG139: =IF(U139="zákl. prenesená",N139,0) -> 0 | BH139: =IF(U139="zníž. prenesená",N139,0) -> 0 | BI139: =IF(U139="nulová",N139,0) -> 0 | BJ139: 2 | BK139: =ROUND(L139*K139,3) -> 0 | BL139: 64 | BM139: -182755679
C140: 9 | D140: M | E140: 3410350085 | F140: CYKY 3x1,5 Kábel pre pevné uloženie, medený STN | J140: m | K140: 21 | L140: 0 | N140: =ROUND(L140*K140,3) -> 0 | U140: znížená | W140: =V140*K140 -> 0 | X140: 0.00014 | Y140: =X140*K140 -> 0.00294 | Z140: 0 | AA140: =Z140*K140 -> 0 | AR140: 256 | AT140: M | AU140: 3 | AY140: ROZPOCET | BE140: =IF(U140="základná",N140,0) -> 0 | BF140: =IF(U140="znížená",N140,0) -> 0 | BG140: =IF(U140="zákl. prenesená",N140,0) -> 0 | BH140: =IF(U140="zníž. prenesená",N140,0) -> 0 | BI140: =IF(U140="nulová",N140,0) -> 0 | BJ140: 2 | BK140: =ROUND(L140*K140,3) -> 0 | BL140: 64 | BM140: -1195837972
D141: 46-M - Zemné práce pri extr.mont.prácach | N141: =BK141 -> 0 | W141: =SUM(W142:W149) -> 0 | Y141: =SUM(Y142:Y149) -> 3.9831 | AA141: =SUM(AA142:AA149) -> 0 | AR141: 3 | AT141: D | AU141: 2 | AY141: ROZPOCET | BK141: =SUM(BK142:BK149) -> 0
C142: 10 | D142: K | E142: 460200143 | F142: Hĺbenie káblovej ryhy ručne 35 cm širokej a 60 cm hlbokej, v zemine triedy 3 | J142: m | K142: 110 | L142: 0 | N142: =ROUND(L142*K142,3) -> 0 | U142: znížená | W142: =V142*K142 -> 0 | X142: 0 | Y142: =X142*K142 -> 0 | Z142: 0 | AA142: =Z142*K142 -> 0 | AR142: 64 | AT142: K | AU142: 3 | AY142: ROZPOCET | BE142: =IF(U142="základná",N142,0) -> 0 | BF142: =IF(U142="znížená",N142,0) -> 0 | BG142: =IF(U142="zákl. prenesená",N142,0) -> 0 | BH142: =IF(U142="zníž. prenesená",N142,0) -> 0 | BI142: =IF(U142="nulová",N142,0) -> 0 | BJ142: 2 | BK142: =ROUND(L142*K142,3) -> 0 | BL142: 64 | BM142: 820715534
C143: 11 | D143: K | E143: 460420022 | F143: Zriadenie, rekonšt. káblového lôžka z piesku bez zakrytia, v ryhe šír. do 65 cm, hrúbky vrstvy 10 cm | J143: m | K143: 110 | L143: 0 | N143: =ROUND(L143*K143,3) -> 0 | U143: znížená | W143: =V143*K143 -> 0 | X143: 0 | Y143: =X143*K143 -> 0 | Z143: 0 | AA143: =Z143*K143 -> 0 | AR143: 64 | AT143: K | AU143: 3 | AY143: ROZPOCET | BE143: =IF(U143="základná",N143,0) -> 0 | BF143: =IF(U143="znížená",N143,0) -> 0 | BG143: =IF(U143="zákl. prenesená",N143,0) -> 0 | BH143: =IF(U143="zníž. prenesená",N143,0) -> 0 | BI143: =IF(U143="nulová",N143,0) -> 0 | BJ143: 2 | BK143: =ROUND(L143*K143,3) -> 0 | BL143: 64 | BM143: -932674696
C144: 12 | D144: M | E144: 5831214500 | F144: Drvina vápencová zmes 0 - 4 | J144: t | K144: 3.96 | L144: 0 | N144: =ROUND(L144*K144,3) -> 0 | U144: znížená | W144: =V144*K144 -> 0 | X144: 1 | Y144: =X144*K144 -> 3.96 | Z144: 0 | AA144: =Z144*K144 -> 0 | AR144: 256 | AT144: M | AU144: 3 | AY144: ROZPOCET | BE144: =IF(U144="základná",N144,0) -> 0 | BF144: =IF(U144="znížená",N144,0) -> 0 | BG144: =IF(U144="zákl. prenesená",N144,0) -> 0 | BH144: =IF(U144="zníž. prenesená",N144,0) -> 0 | BI144: =IF(U144="nulová",N144,0) -> 0 | BJ144: 2 | BK144: =ROUND(L144*K144,3) -> 0 | BL144: 64 | BM144: 198133135
C145: 13 | D145: K | E145: 460490012 | F145: Rozvinutie a uloženie výstražnej fólie z PVC do ryhy, šírka 33 cm | J145: m | K145: 110 | L145: 0 | N145: =ROUND(L145*K145,3) -> 0 | U145: znížená | W145: =V145*K145 -> 0 | X145: 0 | Y145: =X145*K145 -> 0 | Z145: 0 | AA145: =Z145*K145 -> 0 | AR145: 64 | AT145: K | AU145: 3 | AY145: ROZPOCET | BE145: =IF(U145="základná",N145,0) -> 0 | BF145: =IF(U145="znížená",N145,0) -> 0 | BG145: =IF(U145="zákl. prenesená",N145,0) -> 0 | BH145: =IF(U145="zníž. prenesená",N145,0) -> 0 | BI145: =IF(U145="nulová",N145,0) -> 0 | BJ145: 2 | BK145: =ROUND(L145*K145,3) -> 0 | BL145: 64 | BM145: -176568945
C146: 14 | D146: M | E146: 2830002000 | F146: Fólia červená v m | J146: m | K146: 110 | L146: 0 | N146: =ROUND(L146*K146,3) -> 0 | U146: znížená | W146: =V146*K146 -> 0 | X146: 0.00021 | Y146: =X146*K146 -> 0.0231 | Z146: 0 | AA146: =Z146*K146 -> 0 | AR146: 256 | AT146: M | AU146: 3 | AY146: ROZPOCET | BE146: =IF(U146="základná",N146,0) -> 0 | BF146: =IF(U146="znížená",N146,0) -> 0 | BG146: =IF(U146="zákl. prenesená",N146,0) -> 0 | BH146: =IF(U146="zníž. prenesená",N146,0) -> 0 | BI146: =IF(U146="nulová",N146,0) -> 0 | BJ146: 2 | BK146: =ROUND(L146*K146,3) -> 0 | BL146: 64 | BM146: -1957072536
C147: 15 | D147: K | E147: 460560143 | F147: Ručný zásyp nezap. káblovej ryhy bez zhutn. zeminy, 35 cm širokej, 60 cm hlbokej v zemine tr. 3 | J147: m | K147: 110 | L147: 0 | N147: =ROUND(L147*K147,3) -> 0 | U147: znížená | W147: =V147*K147 -> 0 | X147: 0 | Y147: =X147*K147 -> 0 | Z147: 0 | AA147: =Z147*K147 -> 0 | AR147: 64 | AT147: K | AU147: 3 | AY147: ROZPOCET | BE147: =IF(U147="základná",N147,0) -> 0 | BF147: =IF(U147="znížená",N147,0) -> 0 | BG147: =IF(U147="zákl. prenesená",N147,0) -> 0 | BH147: =IF(U147="zníž. prenesená",N147,0) -> 0 | BI147: =IF(U147="nulová",N147,0) -> 0 | BJ147: 2 | BK147: =ROUND(L147*K147,3) -> 0 | BL147: 64 | BM147: -941108784
C148: 16 | D148: K | E148: 460510001 | F148: Úplné zriadenie a osadenie káblového priestupu, vysekanie orvoru v mieste napojenia na jestvujúce verejné osvetlenie, oprava povrchu pätky | J148: ks | K148: 1 | L148: 0 | N148: =ROUND(L148*K148,3) -> 0 | U148: znížená | W148: =V148*K148 -> 0 | X148: 0 | Y148: =X148*K148 -> 0 | Z148: 0 | AA148: =Z148*K148 -> 0 | AR148: 64 | AT148: K | AU148: 3 | AY148: ROZPOCET | BE148: =IF(U148="základná",N148,0) -> 0 | BF148: =IF(U148="znížená",N148,0) -> 0 | BG148: =IF(U148="zákl. prenesená",N148,0) -> 0 | BH148: =IF(U148="zníž. prenesená",N148,0) -> 0 | BI148: =IF(U148="nulová",N148,0) -> 0 | BJ148: 2 | BK148: =ROUND(L148*K148,3) -> 0 | BL148: 64 | BM148: -1904921368
C149: 17 | D149: K | E149: 141720011 | F149: Neriadené zemné pretláčanie v hornine tr. 3-4, priemer pretláčania do 50 mm | J149: m | K149: 4 | L149: 0 | N149: =ROUND(L149*K149,3) -> 0 | U149: znížená | W149: =V149*K149 -> 0 | X149: 0 | Y149: =X149*K149 -> 0 | Z149: 0 | AA149: =Z149*K149 -> 0 | AR149: 4 | AT149: K | AU149: 3 | AY149: ROZPOCET | BE149: =IF(U149="základná",N149,0) -> 0 | BF149: =IF(U149="znížená",N149,0) -> 0 | BG149: =IF(U149="zákl. prenesená",N149,0) -> 0 | BH149: =IF(U149="zníž. prenesená",N149,0) -> 0 | BI149: =IF(U149="nulová",N149,0) -> 0 | BJ149: 2 | BK149: =ROUND(L149*K149,3) -> 0 | BL149: 4 | BM149: -1467988658
D150: M12 - Chodník za 828 pri Špeciálnej základnej škole | N150: =BK150 -> 0 | W150: =W151+W174 -> 0 | Y150: =Y151+Y174 -> 4.4113642 | AA150: =AA151+AA174 -> 0 | AR150: 3 | AT150: D | AU150: 1 | AY150: ROZPOCET | BK150: =BK151+BK174 -> 0
D151: 21-M - Elektromontáže | N151: =BK151 -> 0 | W151: =SUM(W152:W173) -> 0 | Y151: =SUM(Y152:Y173) -> 0.191809 | AA151: =SUM(AA152:AA173) -> 0 | AR151: 3 | AT151: D | AU151: 2 | AY151: ROZPOCET | BK151: =SUM(BK152:BK173) -> 0
C152: 18 | D152: K | E152: 210010016 | F152: Rúrka ohybná elektroinštalačná z PVC uložená voľne | J152: m | K152: 4 | L152: 0 | N152: =ROUND(L152*K152,3) -> 0 | U152: znížená | W152: =V152*K152 -> 0 | X152: 0 | Y152: =X152*K152 -> 0 | Z152: 0 | AA152: =Z152*K152 -> 0 | AR152: 64 | AT152: K | AU152: 3 | AY152: ROZPOCET | BE152: =IF(U152="základná",N152,0) -> 0 | BF152: =IF(U152="znížená",N152,0) -> 0 | BG152: =IF(U152="zákl. prenesená",N152,0) -> 0 | BH152: =IF(U152="zníž. prenesená",N152,0) -> 0 | BI152: =IF(U152="nulová",N152,0) -> 0 | BJ152: 2 | BK152: =ROUND(L152*K152,3) -> 0 | BL152: 64 | BM152: 1107941522
C153: 19 | D153: M | E153: 3457100340 | F153: Rúrka ohybná šedá | J153: m | K153: 4 | L153: 0 | N153: =ROUND(L153*K153,3) -> 0 | U153: znížená | W153: =V153*K153 -> 0 | X153: 0.00102 | Y153: =X153*K153 -> 0.00408 | Z153: 0 | AA153: =Z153*K153 -> 0 | AR153: 256 | AT153: M | AU153: 3 | AY153: ROZPOCET | BE153: =IF(U153="základná",N153,0) -> 0 | BF153: =IF(U153="znížená",N153,0) -> 0 | BG153: =IF(U153="zákl. prenesená",N153,0) -> 0 | BH153: =IF(U153="zníž. prenesená",N153,0) -> 0 | BI153: =IF(U153="nulová",N153,0) -> 0 | BJ153: 2 | BK153: =ROUND(L153*K153,3) -> 0 | BL153: 64 | BM153: 1253334758
C154: 20 | D154: K | E154: 210120101 | F154: Poistkový patrón montáž do 63 A, vrátane dotykového krúžku | J154: ks | K154: 2 | L154: 0 | N154: =ROUND(L154*K154,3) -> 0 | U154: znížená | W154: =V154*K154 -> 0 | X154: 0 | Y154: =X154*K154 -> 0 | Z154: 0 | AA154: =Z154*K154 -> 0 | AR154: 64 | AT154: K | AU154: 3 | AY154: ROZPOCET | BE154: =IF(U154="základná",N154,0) -> 0 | BF154: =IF(U154="znížená",N154,0) -> 0 | BG154: =IF(U154="zákl. prenesená",N154,0) -> 0 | BH154: =IF(U154="zníž. prenesená",N154,0) -> 0 | BI154: =IF(U154="nulová",N154,0) -> 0 | BJ154: 2 | BK154: =ROUND(L154*K154,3) -> 0 | BL154: 64 | BM154: -1347056958
C155: 21 | D155: M | E155: 3450112600 | F155: Poistkový patrón 10A | J155: ks | K155: 2 | L155: 0 | N155: =ROUND(L155*K155,3) -> 0 | U155: znížená | W155: =V155*K155 -> 0 | X155: 6e-05 | Y155: =X155*K155 -> 0.00012 | Z155: 0 | AA155: =Z155*K155 -> 0 | AR155: 256 | AT155: M | AU155: 3 | AY155: ROZPOCET | BE155: =IF(U155="základná",N155,0) -> 0 | BF155: =IF(U155="znížená",N155,0) -> 0 | BG155: =IF(U155="zákl. prenesená",N155,0) -> 0 | BH155: =IF(U155="zníž. prenesená",N155,0) -> 0 | BI155: =IF(U155="nulová",N155,0) -> 0 | BJ155: 2 | BK155: =ROUND(L155*K155,3) -> 0 | BL155: 64 | BM155: 361560652
C156: 22 | D156: K | E156: 210201810 | F156: Montáž a zapojenie svietidla 1x svetelný zdroj, uličného | J156: ks | K156: 2 | L156: 0 | N156: =ROUND(L156*K156,3) -> 0 | U156: znížená | W156: =V156*K156 -> 0 | X156: 0 | Y156: =X156*K156 -> 0 | Z156: 0 | AA156: =Z156*K156 -> 0 | AR156: 64 | AT156: K | AU156: 3 | AY156: ROZPOCET | BE156: =IF(U156="základná",N156,0) -> 0 | BF156: =IF(U156="znížená",N156,0) -> 0 | BG156: =IF(U156="zákl. prenesená",N156,0) -> 0 | BH156: =IF(U156="zníž. prenesená",N156,0) -> 0 | BI156: =IF(U156="nulová",N156,0) -> 0 | BJ156: 2 | BK156: =ROUND(L156*K156,3) -> 0 | BL156: 64 | BM156: 1187784877
C157: 23 | D157: K | E157: 210204002 | F157: Osvetľovací stožiar sadový - oceľový | J157: ks | K157: 2 | L157: 0 | N157: =ROUND(L157*K157,3) -> 0 | U157: znížená | W157: =V157*K157 -> 0 | X157: 0 | Y157: =X157*K157 -> 0 | Z157: 0 | AA157: =Z157*K157 -> 0 | AR157: 64 | AT157: K | AU157: 3 | AY157: ROZPOCET | BE157: =IF(U157="základná",N157,0) -> 0 | BF157: =IF(U157="znížená",N157,0) -> 0 | BG157: =IF(U157="zákl. prenesená",N157,0) -> 0 | BH157: =IF(U157="zníž. prenesená",N157,0) -> 0 | BI157: =IF(U157="nulová",N157,0) -> 0 | BJ157: 2 | BK157: =ROUND(L157*K157,3) -> 0 | BL157: 64 | BM157: -370591947
C158: 24 | D158: M | E158: 3160114100 | F158: Stožiar oceľový rúrkový žiarovozinkový, výška svietidla 6 m, ELV PRODUKT | J158: ks | K158: 2 | L158: 0 | N158: =ROUND(L158*K158,3) -> 0 | U158: znížená | W158: =V158*K158 -> 0 | X158: 0.048 | Y158: =X158*K158 -> 0.096 | Z158: 0 | AA158: =Z158*K158 -> 0 | AR158: 256 | AT158: M | AU158: 3 | AY158: ROZPOCET | BE158: =IF(U158="základná",N158,0) -> 0 | BF158: =IF(U158="znížená",N158,0) -> 0 | BG158: =IF(U158="zákl. prenesená",N158,0) -> 0 | BH158: =IF(U158="zníž. prenesená",N158,0) -> 0 | BI158: =IF(U158="nulová",N158,0) -> 0 | BJ158: 2 | BK158: =ROUND(L158*K158,3) -> 0 | BL158: 64 | BM158: 526273521
C159: 25 | D159: K | E159: 210204201 | F159: Elektrovýstroj stožiara pre 1 okruh | J159: ks | K159: 2 | L159: 0 | N159: =ROUND(L159*K159,3) -> 0 | U159: znížená | W159: =V159*K159 -> 0 | X159: 0 | Y159: =X159*K159 -> 0 | Z159: 0 | AA159: =Z159*K159 -> 0 | AR159: 64 | AT159: K | AU159: 3 | AY159: ROZPOCET | BE159: =IF(U159="základná",N159,0) -> 0 | BF159: =IF(U159="znížená",N159,0) -> 0 | BG159: =IF(U159="zákl. prenesená",N159,0) -> 0 | BH159: =IF(U159="zníž. prenesená",N159,0) -> 0 | BI159: =IF(U159="nulová",N159,0) -> 0 | BJ159: 2 | BK159: =ROUND(L159*K159,3) -> 0 | BL159: 64 | BM159: 1010321160
C160: 26 | D160: M | E160: 3484301760 | F160: Stožiarová svorkovnica pre 1 poistku | J160: ks | K160: 2 | L160: 0 | N160: =ROUND(L160*K160,3) -> 0 | U160: znížená | W160: =V160*K160 -> 0 | X160: 0.00413 | Y160: =X160*K160 -> 0.00826 | Z160: 0 | AA160: =Z160*K160 -> 0 | AR160: 256 | AT160: M | AU160: 3 | AY160: ROZPOCET | BE160: =IF(U160="základná",N160,0) -> 0 | BF160: =IF(U160="znížená",N160,0) -> 0 | BG160: =IF(U160="zákl. prenesená",N160,0) -> 0 | BH160: =IF(U160="zníž. prenesená",N160,0) -> 0 | BI160: =IF(U160="nulová",N160,0) -> 0 | BJ160: 2 | BK160: =ROUND(L160*K160,3) -> 0 | BL160: 64 | BM160: 696404851
C161: 27 | D161: K | E161: 210220001 | F161: Uzemňovacie vedenie v zemi FeZn | J161: m | K161: 70 | L161: 0 | N161: =ROUND(L161*K161,3) -> 0 | U161: znížená | W161: =V161*K161 -> 0 | X161: 0 | Y161: =X161*K161 -> 0 | Z161: 0 | AA161: =Z161*K161 -> 0 | AR161: 64 | AT161: K | AU161: 3 | AY161: ROZPOCET | BE161: =IF(U161="základná",N161,0) -> 0 | BF161: =IF(U161="znížená",N161,0) -> 0 | BG161: =IF(U161="zákl. prenesená",N161,0) -> 0 | BH161: =IF(U161="zníž. prenesená",N161,0) -> 0 | BI161: =IF(U161="nulová",N161,0) -> 0 | BJ161: 2 | BK161: =ROUND(L161*K161,3) -> 0 | BL161: 64 | BM161: -647089023
...

Sheet 3 - Štrkovec - ul. Gumáre...
D1: Hárok obsahuje: | F1: 1) Krycí list rozpočtu | H1: 2) Rekapitulácia rozpočtu | L1: 3) Rozpočet | O1: Späť na hárok: | S1: Rekapitulácia stavby
C2: optimalizované pre tlač zostáv vo formáte A4 - na výšku | S2: >> skryté stĺpce << | AT2: {fb7d1a73-5867-484b-ad7e-98d26838a84e}
AT3: 0
C4: KRYCÍ LIST ROZPOČTU | T4: v --- nižšie sa nachádzajú doplnkové a pomocné údaje k zostavám --- v | AT4: False
D6: Stavba: | F6: ='Rekapitulácia stavby'!K6 -> Zemné a elektroinštalačné práce pre rozšírenie verejného osvetlenia
D7: Objekt: | F7: 3 - Štrkovec - ul. Gumárenská, Pribinova, Lomonosovova
D8: JKSO: | M8: KS:
D9: Miesto: | M9: Dátum: | O9: ='Rekapitulácia stavby'!AN8 -> 20. 7. 2017
D11: Objednávateľ: | M11: IČO:
E12: Mesto Partizánske | M12: IČO DPH:
D14: Zhotoviteľ: | M14: IČO: | O14: =IF('Rekapitulácia stavby'!AN13="","",'Rekapitulácia stavby'!AN13) -> Vyplň údaj
E15: =IF('Rekapitulácia stavby'!E14="","",'Rekapitulácia stavby'!E14) -> Vyplň údaj | M15: IČO DPH: | O15: =IF('Rekapitulácia stavby'!AN14="","",'Rekapitulácia stavby'!AN14) -> Vyplň údaj
D17: Projektant: | M17: IČO: | O17: =IF('Rekapitulácia stavby'!AN16="","",'Rekapitulácia stavby'!AN16)
E18: =IF('Rekapitulácia stavby'!E17="","",'Rekapitulácia stavby'!E17) | M18: IČO DPH: | O18: =IF('Rekapitulácia stavby'!AN17="","",'Rekapitulácia stavby'!AN17)
D20: Spracovateľ: | M20: IČO: | O20: =IF('Rekapitulácia stavby'!AN19="","",'Rekapitulácia stavby'!AN19)
E21: =IF('Rekapitulácia stavby'!E20="","",'Rekapitulácia stavby'!E20) | M21: IČO DPH: | O21: =IF('Rekapitulácia stavby'!AN20="","",'Rekapitulácia stavby'!AN20)
D23: Poznámka:
D27: Náklady z rozpočtu | M27: =N88 -> 0
D28: Ostatné náklady | M28: =N103 -> 0
D30: Cena bez DPH | M30: =ROUND(M27+M28,2) -> 0
D32: DPH | E32: základná | F32: 0.2 | G32: z | H32: =ROUND((((SUM(BE103:BE110)+SUM(BE128:BE245))+SUM(BE247:BE251))),2) -> 0 | M32: =ROUND(((ROUND((SUM(BE103:BE110)+SUM(BE128:BE245)), 2)*F32)+SUM(BE247:BE251)*F32),2) -> 0
E33: znížená | F33: 0.2 | G33: z | H33: =ROUND((((SUM(BF103:BF110)+SUM(BF128:BF245))+SUM(BF247:BF251))),2) -> 0 | M33: =ROUND(((ROUND((SUM(BF103:BF110)+SUM(BF128:BF245)), 2)*F33)+SUM(BF247:BF251)*F33),2) -> 0
E34: zákl. prenesená | F34: 0.2 | G34: z | H34: =ROUND((((SUM(BG103:BG110)+SUM(BG128:BG245))+SUM(BG247:BG251))),2) -> 0 | M34: 0
E35: zníž. prenesená | F35: 0.2 | G35: z | H35: =ROUND((((SUM(BH103:BH110)+SUM(BH128:BH245))+SUM(BH247:BH251))),2) -> 0 | M35: 0
E36: nulová | F36: 0 | G36: z | H36: =ROUND((((SUM(BI103:BI110)+SUM(BI128:BI245))+SUM(BI247:BI251))),2) -> 0 | M36: 0
D38: Cena s DPH | G38: v | H38: EUR | L38: =SUM(M30:M36) -> 0
D50: Projektant | J50: Spracovateľ
D59: Dátum a podpis: | G59: Pečiatka | J59: Dátum a podpis: | N59: Pečiatka
D61: Objednávateľ | J61: Zhotoviteľ
D70: Dátum a podpis: | G70: Pečiatka | J70: Dátum a podpis: | N70: Pečiatka
C76: REKAPITULÁCIA ROZPOČTU
C78: Stavba: | F78: =F6 -> Zemné a elektroinštalačné práce pre rozšírenie verejného osvetlenia
C79: Objekt: | F79: =F7 -> 3 - Štrkovec - ul. Gumárenská, Pribinova, Lomonosovova
C81: Miesto: | F81: =F9 | K81: Dátum: | M81: =IF(O9="","",O9) -> 20. 7. 2017
C83: Objednávateľ: | F83: =E12 -> Mesto Partizánske | K83: Projektant: | M83: =E18
C84: Zhotoviteľ: | F84: =IF(E15="","",E15) -> Vyplň údaj | K84: Spracovateľ: | M84: =E21
C86: Kód - Popis | N86: Cena celkom [EUR]
C88: 1) Náklady z rozpočtu | N88: =N128 -> 0 | AU88: -1
D89: M - Práce a dodávky M | N89: =N129 -> 0
D90: M31 - Gumárenská ul. | N90: =N130 -> 0
D91: 21-M - Elektromontáže | N91: =N131 -> 0
D92: 46-M - Zemné práce pri extr.mont.prácach | N92: =N154 -> 0
D93: M32 - Pribinova ul. | N93: =N168 -> 0
D94: 21-M - Elektromontáže | N94: =N169 -> 0
D95: 46-M - Zemné práce pri extr.mont.prácach | N95: =N192 -> 0
D96: M33 - Spojovací chodník Lomonosovova - Októbrova | N96: =N205 -> 0
D97: 21-M - Elektromontáže | N97: =N206 -> 0
D98: 46-M - Zemné práce pri extr.mont.prácach | N98: =N229 -> 0
D99: VRN - Vedľajšie rozpočtové náklady | N99: =N242 -> 0
D100: VRN03 - Geodetické práce | N100: =N243 -> 0
D101: VP - Práce naviac | N101: =N246 -> 0
C103: 2) Ostatné náklady | N103: =ROUND(N104+N105+N106+N107+N108+N109,2) -> 0 | U103: DPH
D104: GZS | N104: =ROUND(N88*T104,2) -> 0 | U104: znížená | AY104: VRN | BE104: =IF(U104="základná",N104,0) -> 0 | BF104: =IF(U104="znížená",N104,0) -> 0 | BG104: =IF(U104="zákl. prenesená",N104,0) -> 0 | BH104: =IF(U104="zníž. prenesená",N104,0) -> 0 | BI104: =IF(U104="nulová",N104,0) -> 0 | BJ104: 2
D105: Projektové práce | N105: =ROUND(N88*T105,2) -> 0 | U105: znížená | AY105: VRN | BE105: =IF(U105="základná",N105,0) -> 0 | BF105: =IF(U105="znížená",N105,0) -> 0 | BG105: =IF(U105="zákl. prenesená",N105,0) -> 0 | BH105: =IF(U105="zníž. prenesená",N105,0) -> 0 | BI105: =IF(U105="nulová",N105,0) -> 0 | BJ105: 2
D106: Sťažené podmienky | N106: =ROUND(N88*T106,2) -> 0 | U106: znížená | AY106: VRN | BE106: =IF(U106="základná",N106,0) -> 0 | BF106: =IF(U106="znížená",N106,0) -> 0 | BG106: =IF(U106="zákl. prenesená",N106,0) -> 0 | BH106: =IF(U106="zníž. prenesená",N106,0) -> 0 | BI106: =IF(U106="nulová",N106,0) -> 0 | BJ106: 2
D107: Vplyv prostredia | N107: =ROUND(N88*T107,2) -> 0 | U107: znížená | AY107: VRN | BE107: =IF(U107="základná",N107,0) -> 0 | BF107: =IF(U107="znížená",N107,0) -> 0 | BG107: =IF(U107="zákl. prenesená",N107,0) -> 0 | BH107: =IF(U107="zníž. prenesená",N107,0) -> 0 | BI107: =IF(U107="nulová",N107,0) -> 0 | BJ107: 2
D108: Iné VRN | N108: =ROUND(N88*T108,2) -> 0 | U108: znížená | AY108: VRN | BE108: =IF(U108="základná",N108,0) -> 0 | BF108: =IF(U108="znížená",N108,0) -> 0 | BG108: =IF(U108="zákl. prenesená",N108,0) -> 0 | BH108: =IF(U108="zníž. prenesená",N108,0) -> 0 | BI108: =IF(U108="nulová",N108,0) -> 0 | BJ108: 2
D109: Kompletačná činnosť | N109: =ROUND(N88*T109,2) -> 0 | U109: znížená | AY109: KOMPLETACNA | BE109: =IF(U109="základná",N109,0) -> 0 | BF109: =IF(U109="znížená",N109,0) -> 0 | BG109: =IF(U109="zákl. prenesená",N109,0) -> 0 | BH109: =IF(U109="zníž. prenesená",N109,0) -> 0 | BI109: =IF(U109="nulová",N109,0) -> 0 | BJ109: 2
C111: Celkové náklady za stavbu 1) + 2) | L111: =ROUND(SUM(N88+N103),2) -> 0
C117: ROZPOČET
C119: Stavba: | F119: =F6 -> Zemné a elektroinštalačné práce pre rozšírenie verejného osvetlenia
C120: Objekt: | F120: =F7 -> 3 - Štrkovec - ul. Gumárenská, Pribinova, Lomonosovova
C122: Miesto: | F122: =F9 | K122: Dátum: | M122: =IF(O9="","",O9) -> 20. 7. 2017
C124: Objednávateľ: | F124: =E12 -> Mesto Partizánske | K124: Projektant: | M124: =E18
C125: Zhotoviteľ: | F125: =IF(E15="","",E15) -> Vyplň údaj | K125: Spracovateľ: | M125: =E21
C127: PČ | D127: Typ | E127: Kód | F127: Popis | J127: MJ | K127: Množstvo | L127: J.cena [EUR] | N127: Cena celkom [EUR] | T127: Poznámka | U127: DPH | V127: J. Nh [h] | W127: Nh celkom [h] | X127: J. hmotnosť_x000D_ [t] | Y127: Hmotnosť_x000D_ celkom [t] | Z127: J. suť [t] | AA127: Suť Celkom [t]
C128: Náklady z rozpočtu | N128: =BK128 -> 0 | W128: =W129+W242+W246 -> 0 | Y128: =Y129+Y242+Y246 -> 6.8042248 | AA128: =AA129+AA242+AA246 -> 0 | AT128: D | AU128: -1 | BK128: =BK129+BK242+BK246 -> 0
D129: M - Práce a dodávky M | N129: =BK129 -> 0 | W129: =W130+W168+W205 -> 0 | Y129: =Y130+Y168+Y205 -> 6.8042248 | AA129: =AA130+AA168+AA205 -> 0 | AR129: 3 | AT129: D | AU129: 0 | AY129: ROZPOCET | BK129: =BK130+BK168+BK205 -> 0
D130: M31 - Gumárenská ul. | N130: =BK130 -> 0 | W130: =W131+W154 -> 0 | Y130: =Y131+Y154 -> 2.0189846 | AA130: =AA131+AA154 -> 0 | AR130: 3 | AT130: D | AU130: 1 | AY130: ROZPOCET | BK130: =BK131+BK154 -> 0
D131: 21-M - Elektromontáže | N131: =BK131 -> 0 | W131: =SUM(W132:W153) -> 0 | Y131: =SUM(Y132:Y153) -> 0.090257 | AA131: =SUM(AA132:AA153) -> 0 | AR131: 3 | AT131: D | AU131: 2 | AY131: ROZPOCET | BK131: =SUM(BK132:BK153) -> 0
C132: 1 | D132: K | E132: 210010016 | F132: Rúrka ohybná elektroinštalačná z PVC uložená voľne | J132: m | K132: 2 | L132: 0 | N132: =ROUND(L132*K132,3) -> 0 | U132: znížená | W132: =V132*K132 -> 0 | X132: 0 | Y132: =X132*K132 -> 0 | Z132: 0 | AA132: =Z132*K132 -> 0 | AR132: 64 | AT132: K | AU132: 3 | AY132: ROZPOCET | BE132: =IF(U132="základná",N132,0) -> 0 | BF132: =IF(U132="znížená",N132,0) -> 0 | BG132: =IF(U132="zákl. prenesená",N132,0) -> 0 | BH132: =IF(U132="zníž. prenesená",N132,0) -> 0 | BI132: =IF(U132="nulová",N132,0) -> 0 | BJ132: 2 | BK132: =ROUND(L132*K132,3) -> 0 | BL132: 64 | BM132: 1107941522
C133: 2 | D133: M | E133: 3457100340 | F133: Rúrka ohybná šedá | J133: m | K133: 2 | L133: 0 | N133: =ROUND(L133*K133,3) -> 0 | U133: znížená | W133: =V133*K133 -> 0 | X133: 0.00102 | Y133: =X133*K133 -> 0.00204 | Z133: 0 | AA133: =Z133*K133 -> 0 | AR133: 256 | AT133: M | AU133: 3 | AY133: ROZPOCET | BE133: =IF(U133="základná",N133,0) -> 0 | BF133: =IF(U133="znížená",N133,0) -> 0 | BG133: =IF(U133="zákl. prenesená",N133,0) -> 0 | BH133: =IF(U133="zníž. prenesená",N133,0) -> 0 | BI133: =IF(U133="nulová",N133,0) -> 0 | BJ133: 2 | BK133: =ROUND(L133*K133,3) -> 0 | BL133: 64 | BM133: 1253334758
C134: 3 | D134: K | E134: 210120101 | F134: Poistkový patrón montáž do 63 A, vrátane dotykového krúžku | J134: ks | K134: 1 | L134: 0 | N134: =ROUND(L134*K134,3) -> 0 | U134: znížená | W134: =V134*K134 -> 0 | X134: 0 | Y134: =X134*K134 -> 0 | Z134: 0 | AA134: =Z134*K134 -> 0 | AR134: 64 | AT134: K | AU134: 3 | AY134: ROZPOCET | BE134: =IF(U134="základná",N134,0) -> 0 | BF134: =IF(U134="znížená",N134,0) -> 0 | BG134: =IF(U134="zákl. prenesená",N134,0) -> 0 | BH134: =IF(U134="zníž. prenesená",N134,0) -> 0 | BI134: =IF(U134="nulová",N134,0) -> 0 | BJ134: 2 | BK134: =ROUND(L134*K134,3) -> 0 | BL134: 64 | BM134: -1347056958
C135: 4 | D135: M | E135: 3450112600 | F135: Poistkový patrón 10A | J135: ks | K135: 1 | L135: 0 | N135: =ROUND(L135*K135,3) -> 0 | U135: znížená | W135: =V135*K135 -> 0 | X135: 6e-05 | Y135: =X135*K135 -> 6e-05 | Z135: 0 | AA135: =Z135*K135 -> 0 | AR135: 256 | AT135: M | AU135: 3 | AY135: ROZPOCET | BE135: =IF(U135="základná",N135,0) -> 0 | BF135: =IF(U135="znížená",N135,0) -> 0 | BG135: =IF(U135="zákl. prenesená",N135,0) -> 0 | BH135: =IF(U135="zníž. prenesená",N135,0) -> 0 | BI135: =IF(U135="nulová",N135,0) -> 0 | BJ135: 2 | BK135: =ROUND(L135*K135,3) -> 0 | BL135: 64 | BM135: 361560652
C136: 5 | D136: K | E136: 210201810 | F136: Montáž a zapojenie svietidla 1x svetelný zdroj, uličného | J136: ks | K136: 1 | L136: 0 | N136: =ROUND(L136*K136,3) -> 0 | U136: znížená | W136: =V136*K136 -> 0 | X136: 0 | Y136: =X136*K136 -> 0 | Z136: 0 | AA136: =Z136*K136 -> 0 | AR136: 64 | AT136: K | AU136: 3 | AY136: ROZPOCET | BE136: =IF(U136="základná",N136,0) -> 0 | BF136: =IF(U136="znížená",N136,0) -> 0 | BG136: =IF(U136="zákl. prenesená",N136,0) -> 0 | BH136: =IF(U136="zníž. prenesená",N136,0) -> 0 | BI136: =IF(U136="nulová",N136,0) -> 0 | BJ136: 2 | BK136: =ROUND(L136*K136,3) -> 0 | BL136: 64 | BM136: 1187784877
C137: 6 | D137: K | E137: 210204002 | F137: Osvetľovací stožiar sadový - oceľový | J137: ks | K137: 1 | L137: 0 | N137: =ROUND(L137*K137,3) -> 0 | U137: znížená | W137: =V137*K137 -> 0 | X137: 0 | Y137: =X137*K137 -> 0 | Z137: 0 | AA137: =Z137*K137 -> 0 | AR137: 64 | AT137: K | AU137: 3 | AY137: ROZPOCET | BE137: =IF(U137="základná",N137,0) -> 0 | BF137: =IF(U137="znížená",N137,0) -> 0 | BG137: =IF(U137="zákl. prenesená",N137,0) -> 0 | BH137: =IF(U137="zníž. prenesená",N137,0) -> 0 | BI137: =IF(U137="nulová",N137,0) -> 0 | BJ137: 2 | BK137: =ROUND(L137*K137,3) -> 0 | BL137: 64 | BM137: -370591947
C138: 7 | D138: M | E138: 3160114100 | F138: Stožiar oceľový rúrkový žiarovozinkový, výška svietidla 6 m, ELV PRODUKT | J138: ks | K138: 1 | L138: 0 | N138: =ROUND(L138*K138,3) -> 0 | U138: znížená | W138: =V138*K138 -> 0 | X138: 0.048 | Y138: =X138*K138 -> 0.048 | Z138: 0 | AA138: =Z138*K138 -> 0 | AR138: 256 | AT138: M | AU138: 3 | AY138: ROZPOCET | BE138: =IF(U138="základná",N138,0) -> 0 | BF138: =IF(U138="znížená",N138,0) -> 0 | BG138: =IF(U138="zákl. prenesená",N138,0) -> 0 | BH138: =IF(U138="zníž. prenesená",N138,0) -> 0 | BI138: =IF(U138="nulová",N138,0) -> 0 | BJ138: 2 | BK138: =ROUND(L138*K138,3) -> 0 | BL138: 64 | BM138: 526273521
C139: 8 | D139: K | E139: 210204201 | F139: Elektrovýstroj stožiara pre 1 okruh | J139: ks | K139: 1 | L139: 0 | N139: =ROUND(L139*K139,3) -> 0 | U139: znížená | W139: =V139*K139 -> 0 | X139: 0 | Y139: =X139*K139 -> 0 | Z139: 0 | AA139: =Z139*K139 -> 0 | AR139: 64 | AT139: K | AU139: 3 | AY139: ROZPOCET | BE139: =IF(U139="základná",N139,0) -> 0 | BF139: =IF(U139="znížená",N139,0) -> 0 | BG139: =IF(U139="zákl. prenesená",N139,0) -> 0 | BH139: =IF(U139="zníž. prenesená",N139,0) -> 0 | BI139: =IF(U139="nulová",N139,0) -> 0 | BJ139: 2 | BK139: =ROUND(L139*K139,3) -> 0 | BL139: 64 | BM139: 1010321160
C140: 9 | D140: M | E140: 3484301760 | F140: Stožiarová svorkovnica pre 1 poistku | J140: ks | K140: 1 | L140: 0 | N140: =ROUND(L140*K140,3) -> 0 | U140: znížená | W140: =V140*K140 -> 0 | X140: 0.00413 | Y140: =X140*K140 -> 0.00413 | Z140: 0 | AA140: =Z140*K140 -> 0 | AR140: 256 | AT140: M | AU140: 3 | AY140: ROZPOCET | BE140: =IF(U140="základná",N140,0) -> 0 | BF140: =IF(U140="znížená",N140,0) -> 0 | BG140: =IF(U140="zákl. prenesená",N140,0) -> 0 | BH140: =IF(U140="zníž. prenesená",N140,0) -> 0 | BI140: =IF(U140="nulová",N140,0) -> 0 | BJ140: 2 | BK140: =ROUND(L140*K140,3) -> 0 | BL140: 64 | BM140: 696404851
C141: 10 | D141: K | E141: 210220001 | F141: Uzemňovacie vedenie v zemi FeZn | J141: m | K141: 30 | L141: 0 | N141: =ROUND(L141*K141,3) -> 0 | U141: znížená | W141: =V141*K141 -> 0 | X141: 0 | Y141: =X141*K141 -> 0 | Z141: 0 | AA141: =Z141*K141 -> 0 | AR141: 64 | AT141: K | AU141: 3 | AY141: ROZPOCET | BE141: =IF(U141="základná",N141,0) -> 0 | BF141: =IF(U141="znížená",N141,0) -> 0 | BG141: =IF(U141="zákl. prenesená",N141,0) -> 0 | BH141: =IF(U141="zníž. prenesená",N141,0) -> 0 | BI141: =IF(U141="nulová",N141,0) -> 0 | BJ141: 2 | BK141: =ROUND(L141*K141,3) -> 0 | BL141: 64 | BM141: -647089023
C142: 11 | D142: M | E142: 3544224150 | F142: Územňovací vodič ocelový žiarovo zinkovaný označenie O 10 | J142: kg | K142: 0.667 | L142: 0 | N142: =ROUND(L142*K142,3) -> 0 | U142: znížená | W142: =V142*K142 -> 0 | X142: 0.001 | Y142: =X142*K142 -> 0.000667 | Z142: 0 | AA142: =Z142*K142 -> 0 | AR142: 256 | AT142: M | AU142: 3 | AY142: ROZPOCET | BE142: =IF(U142="základná",N142,0) -> 0 | BF142: =IF(U142="znížená",N142,0) -> 0 | BG142: =IF(U142="zákl. prenesená",N142,0) -> 0 | BH142: =IF(U142="zníž. prenesená",N142,0) -> 0 | BI142: =IF(U142="nulová",N142,0) -> 0 | BJ142: 2 | BK142: =ROUND(L142*K142,3) -> 0 | BL142: 64 | BM142: 188862369
C143: 12 | D143: M | E143: 3544223850 | F143: Územňovacia pásovina ocelová žiarovo zinkovaná označenie 30 x 4 mm | J143: kg | K143: 25 | L143: 0 | N143: =ROUND(L143*K143,3) -> 0 | U143: znížená | W143: =V143*K143 -> 0 | X143: 0.001 | Y143: =X143*K143 -> 0.025 | Z143: 0 | AA143: =Z143*K143 -> 0 | AR143: 256 | AT143: M | AU143: 3 | AY143: ROZPOCET | BE143: =IF(U143="základná",N143,0) -> 0 | BF143: =IF(U143="znížená",N143,0) -> 0 | BG143: =IF(U143="zákl. prenesená",N143,0) -> 0 | BH143: =IF(U143="zníž. prenesená",N143,0) -> 0 | BI143: =IF(U143="nulová",N143,0) -> 0 | BJ143: 2 | BK143: =ROUND(L143*K143,3) -> 0 | BL143: 64 | BM143: -1817945096
... C153: 22 | D153: M | E153: 3410350085 | F153: CYKY 3x1,5 Kábel pre pevné uloženie, medený STN | J153: m | K153: 7 | L153: 0 | N153: =ROUND(L153*K153,3) -> 0 | U153: znížená | W153: =V153*K153 -> 0 | X153: 0.00014 | Y153: =X153*K153 -> 0.00098 | Z153: 0 | AA153: =Z153*K153 -> 0 | AR153: 256 | AT153: M | AU153: 3 | AY153: ROZPOCET | BE153: =IF(U153="základná",N153,0) -> 0 | BF153: =IF(U153="znížená",N153,0) -> 0 | BG153: =IF(U153="zákl. prenesená",N153,0) -> 0 | BH153: =IF(U153="zníž. prenesená",N153,0) -> 0 | BI153: =IF(U153="nulová",N153,0) -> 0 | BJ153: 2 | BK153: =ROUND(L153*K153,3) -> 0 | BL153: 64 | BM153: 1878308567
D154: 46-M - Zemné práce pri extr.mont.prácach | N154: =BK154 -> 0 | W154: =SUM(W155:W167) -> 0 | Y154: =SUM(Y155:Y167) -> 1.9287276 | AA154: =SUM(AA155:AA167) -> 0 | AR154: 3 | AT154: D | AU154: 2 | AY154: ROZPOCET | BK154: =SUM(BK155:BK167) -> 0
C155: 23 | D155: K | E155: 272353101 | F155: Debnenie pätky s prierezom do 0.01m2, výšky do 0.1 m | J155: ks | K155: 1 | L155: 0 | N155: =ROUND(L155*K155,3) -> 0 | U155: znížená | W155: =V155*K155 -> 0 | X155: 0.00116 | Y155: =X155*K155 -> 0.00116 | Z155: 0 | AA155: =Z155*K155 -> 0 | AR155: 64 | AT155: K | AU155: 3 | AY155: ROZPOCET | BE155: =IF(U155="základná",N155,0) -> 0 | BF155: =IF(U155="znížená",N155,0) -> 0 | BG155: =IF(U155="zákl. prenesená",N155,0) -> 0 | BH155: =IF(U155="zníž. prenesená",N155,0) -> 0 | BI155: =IF(U155="nulová",N155,0) -> 0 | BJ155: 2 | BK155: =ROUND(L155*K155,3) -> 0 | BL155: 64 | BM155: -988552376
C156: 24 | D156: K | E156: 275316241 | F156: Stožiarové pätky z betónu prostého C 25/30 | J156: m3 | K156: 0.36 | L156: 0 | N156: =ROUND(L156*K156,3) -> 0 | U156: znížená | W156: =V156*K156 -> 0 | X156: 2.32341 | Y156: =X156*K156 -> 0.8364276 | Z156: 0 | AA156: =Z156*K156 -> 0 | AR156: 64 | AT156: K | AU156: 3 | AY156: ROZPOCET | BE156: =IF(U156="základná",N156,0) -> 0 | BF156: =IF(U156="znížená",N156,0) -> 0 | BG156: =IF(U156="zákl. prenesená",N156,0) -> 0 | BH156: =IF(U156="zníž. prenesená",N156,0) -> 0 | BI156: =IF(U156="nulová",N156,0) -> 0 | BJ156: 2 | BK156: =ROUND(L156*K156,3) -> 0 | BL156: 64 | BM156: 2109256285
C157: 25 | D157: K | E157: 460050003 | F157: Jama pre jednoduchý stožiar nepätkovaný dĺžky 6-8 m, v rovine,zásyp a zhutnenie,zemina tr.3 | J157: ks | K157: 1 | L157: 0 | N157: =ROUND(L157*K157,3) -> 0 | U157: znížená | W157: =V157*K157 -> 0 | X157: 0 | Y157: =X157*K157 -> 0 | Z157: 0 | AA157: =Z157*K157 -> 0 | AR157: 64 | AT157: K | AU157: 3 | AY157: ROZPOCET | BE157: =IF(U157="základná",N157,0) -> 0 | BF157: =IF(U157="znížená",N157,0) -> 0 | BG157: =IF(U157="zákl. prenesená",N157,0) -> 0 | BH157: =IF(U157="zníž. prenesená",N157,0) -> 0 | BI157: =IF(U157="nulová",N157,0) -> 0 | BJ157: 2 | BK157: =ROUND(L157*K157,3) -> 0 | BL157: 64 | BM157: 1949834115
C158: 26 | D158: K | E158: 460200143 | F158: Hĺbenie káblovej ryhy ručne 35 cm širokej a 60 cm hlbokej, v zemine triedy 3 | J158: m | K158: 30 | L158: 0 | N158: =ROUND(L158*K158,3) -> 0 | U158: znížená | W158: =V158*K158 -> 0 | X158: 0 | Y158: =X158*K158 -> 0 | Z158: 0 | AA158: =Z158*K158 -> 0 | AR158: 64 | AT158: K | AU158: 3 | AY158: ROZPOCET | BE158: =IF(U158="základná",N158,0) -> 0 | BF158: =IF(U158="znížená",N158,0) -> 0 | BG158: =IF(U158="zákl. prenesená",N158,0) -> 0 | BH158: =IF(U158="zníž. prenesená",N158,0) -> 0 | BI158: =IF(U158="nulová",N158,0) -> 0 | BJ158: 2 | BK158: =ROUND(L158*K158,3) -> 0 | BL158: 64 | BM158: 1090893439
C159: 27 | D159: K | E159: 460420022 | F159: Zriadenie, rekonšt. káblového lôžka z piesku bez zakrytia, v ryhe šír. do 65 cm, hrúbky vrstvy 10 cm | J159: m | K159: 30 | L159: 0 | N159: =ROUND(L159*K159,3) -> 0 | U159: znížená | W159: =V159*K159 -> 0 | X159: 0 | Y159: =X159*K159 -> 0 | Z159: 0 | AA159: =Z159*K159 -> 0 | AR159: 64 | AT159: K | AU159: 3 | AY159: ROZPOCET | BE159: =IF(U159="základná",N159,0) -> 0 | BF159: =IF(U159="znížená",N159,0) -> 0 | BG159: =IF(U159="zákl. prenesená",N159,0) -> 0 | BH159: =IF(U159="zníž. prenesená",N159,0) -> 0 | BI159: =IF(U159="nulová",N159,0) -> 0 | BJ159: 2 | BK159: =ROUND(L159*K159,3) -> 0 | BL159: 64 | BM159: -626655019
C160: 28 | D160: M | E160: 5831214500 | F160: Drvina vápencová zmes 0 - 4 | J160: t | K160: 1.08 | L160: 0 | N160: =ROUND(L160*K160,3) -> 0 | U160: znížená | W160: =V160*K160 -> 0 | X160: 1 | Y160: =X160*K160 -> 1.08 | Z160: 0 | AA160: =Z160*K160 -> 0 | AR160: 256 | AT160: M | AU160: 3 | AY160: ROZPOCET | BE160: =IF(U160="základná",N160,0) -> 0 | BF160: =IF(U160="znížená",N160,0) -> 0 | BG160: =IF(U160="zákl. prenesená",N160,0) -> 0 | BH160: =IF(U160="zníž. prenesená",N160,0) -> 0 | BI160: =IF(U160="nulová",N160,0) -> 0 | BJ160: 2 | BK160: =ROUND(L160*K160,3) -> 0 | BL160: 64 | BM160: -722538120
C161: 29 | D161: K | E161: 460490012 | F161: Rozvinutie a uloženie výstražnej fólie z PVC do ryhy, šírka 33 cm | J161: m | K161: 30 | L161: 0 | N161: =ROUND(L161*K161,3) -> 0 | U161: znížená | W161: =V161*K161 -> 0 | X161: 0 | Y161: =X161*K161 -> 0 | Z161: 0 | AA161: =Z161*K161 -> 0 | AR161: 64 | AT161: K | AU161: 3 | AY161: ROZPOCET | BE161: =IF(U161="základná",N161,0) -> 0 | BF161: =IF(U161="znížená",N161,0) -> 0 | BG161: =IF(U161="zákl. prenesená",N161,0) -> 0 | BH161: =IF(U161="zníž. prenesená",N161,0) -> 0 | BI161: =IF(U161="nulová",N161,0) -> 0 | BJ161: 2 | BK161: =ROUND(L161*K161,3) -> 0 | BL161: 64 | BM161: 1389138500
C162: 30 | D162: M | E162: 2830002000 | F162: Fólia červená v m | J162: m | K162: 30 | L162: 0 | N162: =ROUND(L162*K162,3) -> 0 | U162: znížená | W162: =V162*K162 -> 0 | X162: 0.00021 | Y162: =X162*K162 -> 0.0063 | Z162: 0 | AA162: =Z162*K162 -> 0 | AR162: 256 | AT162: M | AU162: 3 | AY162: ROZPOCET | BE162: =IF(U162="základná",N162,0) -> 0 | BF162: =IF(U162="znížená",N162,0) -> 0 | BG162: =IF(U162="zákl. prenesená",N162,0) -> 0 | BH162: =IF(U162="zníž. prenesená",N162,0) -> 0 | BI162: =IF(U162="nulová",N162,0) -> 0 | BJ162: 2 | BK162: =ROUND(L162*K162,3) -> 0 | BL162: 64 | BM162: -1261886304
C163: 31 | D163: K | E163: 460560143 | F163: Ručný zásyp nezap. káblovej ryhy bez zhutn. zeminy, 35 cm širokej, 60 cm hlbokej v zemine tr. 3 | J163: m | K163: 30 | L163: 0 | N163: =ROUND(L163*K163,3) -> 0 | U163: znížená | W163: =V163*K163 -> 0 | X163: 0 | Y163: =X163*K163 -> 0 | Z163: 0 | AA163: =Z163*K163 -> 0 | AR163: 64 | AT163: K | AU163: 3 | AY163: ROZPOCET | BE163: =IF(U163="základná",N163,0) -> 0 | BF163: =IF(U163="znížená",N163,0) -> 0 | BG163: =IF(U163="zákl. prenesená",N163,0) -> 0 | BH163: =IF(U163="zníž. prenesená",N163,0) -> 0 | BI163: =IF(U163="nulová",N163,0) -> 0 | BJ163: 2 | BK163: =ROUND(L163*K163,3) -> 0 | BL163: 64 | BM163: -819345215
C164: 32 | D164: K | E164: 871353121 | F164: Puzdro v pätke stožiara z kanalizačných rúr z tvrdého PVC DN 200 | J164: m | K164: 1 | L164: 0 | N164: =ROUND(L164*K164,3) -> 0 | U164: znížená | W164: =V164*K164 -> 0 | X164: 1e-05 | Y164: =X164*K164 -> 1e-05 | Z164: 0 | AA164: =Z164*K164 -> 0 | AR164: 64 | AT164: K | AU164: 3 | AY164: ROZPOCET | BE164: =IF(U164="základná",N164,0) -> 0 | BF164: =IF(U164="znížená",N164,0) -> 0 | BG164: =IF(U164="zákl. prenesená",N164,0) -> 0 | BH164: =IF(U164="zníž. prenesená",N164,0) -> 0 | BI164: =IF(U164="nulová",N164,0) -> 0 | BJ164: 2 | BK164: =ROUND(L164*K164,3) -> 0 | BL164: 64 | BM164: 1234700216
C165: 33 | D165: M | E165: 2861102700 | F165: Kanalizačné rúry PVC-U hladké s hrdlom 200x 4.5x1000mm | J165: ks | K165: 1 | L165: 0 | N165: =ROUND(L165*K165,3) -> 0 | U165: znížená | W165: =V165*K165 -> 0 | X165: 0.00483 | Y165: =X165*K165 -> 0.00483 | Z165: 0 | AA165: =Z165*K165 -> 0 | AR165: 256 | AT165: M | AU165: 3 | AY165: ROZPOCET | BE165: =IF(U165="základná",N165,0) -> 0 | BF165: =IF(U165="znížená",N165,0) -> 0 | BG165: =IF(U165="zákl. prenesená",N165,0) -> 0 | BH165: =IF(U165="zníž. prenesená",N165,0) -> 0 | BI165: =IF(U165="nulová",N165,0) -> 0 | BJ165: 2 | BK165: =ROUND(L165*K165,3) -> 0 | BL165: 64 | BM165: 1686850276
C166: 34 | D166: K | E166: 460510001 | F166: Úplné zriadenie a osadenie káblového priestupu, vysekanie orvoru v mieste napojenia na jestvujúce verejné osvetlenie, oprava povrchu pätky | J166: ks | K166: 1 | L166: 0 | N166: =ROUND(L166*K166,3) -> 0 | U166: znížená | W166: =V166*K166 -> 0 | X166: 0 | Y166: =X166*K166 -> 0 | Z166: 0 | AA166: =Z166*K166 -> 0 | AR166: 64 | AT166: K | AU166: 3 | AY166: ROZPOCET | BE166: =IF(U166="základná",N166,0) -> 0 | BF166: =IF(U166="znížená",N166,0) -> 0 | BG166: =IF(U166="zákl. prenesená",N166,0) -> 0 | BH166: =IF(U166="zníž. prenesená",N166,0) -> 0 | BI166: =IF(U166="nulová",N166,0) -> 0 | BJ166: 2 | BK166: =ROUND(L166*K166,3) -> 0 | BL166: 64 | BM166: 343799296
C167: 35 | D167: K | E167: 141720011 | F167: Neriadené zemné pretláčanie v hornine tr. 3-4, priemer pretláčania do 50 mm | J167: m | K167: 3 | L167: 0 | N167: =ROUND(L167*K167,3) -> 0 | U167: znížená | W167: =V167*K167 -> 0 | X167: 0 | Y167: =X167*K167 -> 0 | Z167: 0 | AA167: =Z167*K167 -> 0 | AR167: 64 | AT167: K | AU167: 3 | AY167: ROZPOCET | BE167: =IF(U167="základná",N167,0) -> 0 | BF167: =IF(U167="znížená",N167,0) -> 0 | BG167: =IF(U167="zákl. prenesená",N167,0) -> 0 | BH167: =IF(U167="zníž. prenesená",N167,0) -> 0 | BI167: =IF(U167="nulová",N167,0) -> 0 | BJ167: 2 | BK167: =ROUND(L167*K167,3) -> 0 | BL167: 64 | BM167: 1117494597
D168: M32 - Pribinova ul. | N168: =BK168 -> 0 | W168: =W169+W192 -> 0 | Y168: =Y169+Y192 -> 2.2057626 | AA168: =AA169+AA192 -> 0 | AR168: 3 | AT168: D | AU168: 1 | AY168: ROZPOCET | BK168: =BK169+BK192 -> 0
D169: 21-M - Elektromontáže | N169: =BK169 -> 0 | W169: =SUM(W170:W191) -> 0 | Y169: =SUM(Y170:Y191) -> 0.095985 | AA169: =SUM(AA170:AA191) -> 0 | AR169: 3 | AT169: D | AU169: 2 | AY169: ROZPOCET | BK169: =SUM(BK170:BK191) -> 0
C170: 36 | D170: K | E170: 210010016 | F170: Rúrka ohybná elektroinštalačná z PVC uložená voľne | J170: m | K170: 2 | L170: 0 | N170: =ROUND(L170*K170,3) -> 0 | U170: znížená | W170: =V170*K170 -> 0 | X170: 0 | Y170: =X170*K170 -> 0 | Z170: 0 | AA170: =Z170*K170 -> 0 | AR170: 64 | AT170: K | AU170: 3 | AY170: ROZPOCET | BE170: =IF(U170="základná",N170,0) -> 0 | BF170: =IF(U170="znížená",N170,0) -> 0 | BG170: =IF(U170="zákl. prenesená",N170,0) -> 0 | BH170: =IF(U170="zníž. prenesená",N170,0) -> 0 | BI170: =IF(U170="nulová",N170,0) -> 0 | BJ170: 2 | BK170: =ROUND(L170*K170,3) -> 0 | BL170: 64 | BM170: 1581873680
...

Sheet 4 - Šípok - ul. Lúčna, ul...
D1: Hárok obsahuje: | F1: 1) Krycí list rozpočtu | H1: 2) Rekapitulácia rozpočtu | L1: 3) Rozpočet | O1: Späť na hárok: | S1: Rekapitulácia stavby
C2: optimalizované pre tlač zostáv vo formáte A4 - na výšku | S2: >> skryté stĺpce << | AT2: {de394425-33b4-401c-ae54-1edef6ccc2cc}
AT3: 0
C4: KRYCÍ LIST ROZPOČTU | T4: v --- nižšie sa nachádzajú doplnkové a pomocné údaje k zostavám --- v | AT4: False
D6: Stavba: | F6: ='Rekapitulácia stavby'!K6 -> Zemné a elektroinštalačné práce pre rozšírenie verejného osvetlenia
D7: Objekt: | F7: 4 - Šípok - ul. Lúčna, ul. Horská schody
D8: JKSO: | M8: KS:
D9: Miesto: | M9: Dátum: | O9: ='Rekapitulácia stavby'!AN8 -> 20. 7. 2017
D11: Objednávateľ: | M11: IČO:
E12: Mesto Partizánske | M12: IČO DPH:
D14: Zhotoviteľ: | M14: IČO: | O14: =IF('Rekapitulácia stavby'!AN13="","",'Rekapitulácia stavby'!AN13) -> Vyplň údaj
E15: =IF('Rekapitulácia stavby'!E14="","",'Rekapitulácia stavby'!E14) -> Vyplň údaj | M15: IČO DPH: | O15: =IF('Rekapitulácia stavby'!AN14="","",'Rekapitulácia stavby'!AN14) -> Vyplň údaj
D17: Projektant: | M17: IČO: | O17: =IF('Rekapitulácia stavby'!AN16="","",'Rekapitulácia stavby'!AN16)
E18: =IF('Rekapitulácia stavby'!E17="","",'Rekapitulácia stavby'!E17) | M18: IČO DPH: | O18: =IF('Rekapitulácia stavby'!AN17="","",'Rekapitulácia stavby'!AN17)
D20: Spracovateľ: | M20: IČO: | O20: =IF('Rekapitulácia stavby'!AN19="","",'Rekapitulácia stavby'!AN19)
E21: =IF('Rekapitulácia stavby'!E20="","",'Rekapitulácia stavby'!E20) | M21: IČO DPH: | O21: =IF('Rekapitulácia stavby'!AN20="","",'Rekapitulácia stavby'!AN20)
D23: Poznámka:
D27: Náklady z rozpočtu | M27: =N88 -> 0
D28: Ostatné náklady | M28: =N99 -> 0
D30: Cena bez DPH | M30: =ROUND(M27+M28,2) -> 0
D32: DPH | E32: základná | F32: 0.2 | G32: z | H32: =ROUND((((SUM(BE99:BE106)+SUM(BE124:BE153))+SUM(BE155:BE159))),2) -> 0 | M32: =ROUND(((ROUND((SUM(BE99:BE106)+SUM(BE124:BE153)), 2)*F32)+SUM(BE155:BE159)*F32),2) -> 0
E33: znížená | F33: 0.2 | G33: z | H33: =ROUND((((SUM(BF99:BF106)+SUM(BF124:BF153))+SUM(BF155:BF159))),2) -> 0 | M33: =ROUND(((ROUND((SUM(BF99:BF106)+SUM(BF124:BF153)), 2)*F33)+SUM(BF155:BF159)*F33),2) -> 0
E34: zákl. prenesená | F34: 0.2 | G34: z | H34: =ROUND((((SUM(BG99:BG106)+SUM(BG124:BG153))+SUM(BG155:BG159))),2) -> 0 | M34: 0
E35: zníž. prenesená | F35: 0.2 | G35: z | H35: =ROUND((((SUM(BH99:BH106)+SUM(BH124:BH153))+SUM(BH155:BH159))),2) -> 0 | M35: 0
E36: nulová | F36: 0 | G36: z | H36: =ROUND((((SUM(BI99:BI106)+SUM(BI124:BI153))+SUM(BI155:BI159))),2) -> 0 | M36: 0
D38: Cena s DPH | G38: v | H38: EUR | L38: =SUM(M30:M36) -> 0
D50: Projektant | J50: Spracovateľ
D59: Dátum a podpis: | G59: Pečiatka | J59: Dátum a podpis: | N59: Pečiatka
D61: Objednávateľ | J61: Zhotoviteľ
D70: Dátum a podpis: | G70: Pečiatka | J70: Dátum a podpis: | N70: Pečiatka
C76: REKAPITULÁCIA ROZPOČTU
C78: Stavba: | F78: =F6 -> Zemné a elektroinštalačné práce pre rozšírenie verejného osvetlenia
C79: Objekt: | F79: =F7 -> 4 - Šípok - ul. Lúčna, ul. Horská schody
C81: Miesto: | F81: =F9 | K81: Dátum: | M81: =IF(O9="","",O9) -> 20. 7. 2017
C83: Objednávateľ: | F83: =E12 -> Mesto Partizánske | K83: Projektant: | M83: =E18
C84: Zhotoviteľ: | F84: =IF(E15="","",E15) -> Vyplň údaj | K84: Spracovateľ: | M84: =E21
C86: Kód - Popis | N86: Cena celkom [EUR]
C88: 1) Náklady z rozpočtu | N88: =N124 -> 0 | AU88: -1
D89: M - Práce a dodávky M | N89: =N125 -> 0
D90: M41 - Prepojenie verejného osvetlenia pri kotolni CTZ s RVO na Lúčnej ul. | N90: =N126 -> 0
D91: 21-M - Elektromontáže | N91: =N127 -> 0
D92: 46-M - Zemné práce pri extr.mont.prácach | N92: =N132 -> 0
D93: M42 - Osvetlenie vonkajších schodov nad základnou školou | N93: =N143 -> 0
D94: 21-M - Elektromontáže | N94: =N144 -> 0
D95: VRN - Vedľajšie rozpočtové náklady | N95: =N150 -> 0
D96: VRN03 - Geodetické práce | N96: =N151 -> 0
D97: VP - Práce naviac | N97: =N154 -> 0
C99: 2) Ostatné náklady | N99: =ROUND(N100+N101+N102+N103+N104+N105,2) -> 0 | U99: DPH
D100: GZS | N100: =ROUND(N88*T100,2) -> 0 | U100: znížená | AY100: VRN | BE100: =IF(U100="základná",N100,0) -> 0 | BF100: =IF(U100="znížená",N100,0) -> 0 | BG100: =IF(U100="zákl. prenesená",N100,0) -> 0 | BH100: =IF(U100="zníž. prenesená",N100,0) -> 0 | BI100: =IF(U100="nulová",N100,0) -> 0 | BJ100: 2
D101: Projektové práce | N101: =ROUND(N88*T101,2) -> 0 | U101: znížená | AY101: VRN | BE101: =IF(U101="základná",N101,0) -> 0 | BF101: =IF(U101="znížená",N101,0) -> 0 | BG101: =IF(U101="zákl. prenesená",N101,0) -> 0 | BH101: =IF(U101="zníž. prenesená",N101,0) -> 0 | BI101: =IF(U101="nulová",N101,0) -> 0 | BJ101: 2
D102: Sťažené podmienky | N102: =ROUND(N88*T102,2) -> 0 | U102: znížená | AY102: VRN | BE102: =IF(U102="základná",N102,0) -> 0 | BF102: =IF(U102="znížená",N102,0) -> 0 | BG102: =IF(U102="zákl. prenesená",N102,0) -> 0 | BH102: =IF(U102="zníž. prenesená",N102,0) -> 0 | BI102: =IF(U102="nulová",N102,0) -> 0 | BJ102: 2
D103: Vplyv prostredia | N103: =ROUND(N88*T103,2) -> 0 | U103: znížená | AY103: VRN | BE103: =IF(U103="základná",N103,0) -> 0 | BF103: =IF(U103="znížená",N103,0) -> 0 | BG103: =IF(U103="zákl. prenesená",N103,0) -> 0 | BH103: =IF(U103="zníž. prenesená",N103,0) -> 0 | BI103: =IF(U103="nulová",N103,0) -> 0 | BJ103: 2
D104: Iné VRN | N104: =ROUND(N88*T104,2) -> 0 | U104: znížená | AY104: VRN | BE104: =IF(U104="základná",N104,0) -> 0 | BF104: =IF(U104="znížená",N104,0) -> 0 | BG104: =IF(U104="zákl. prenesená",N104,0) -> 0 | BH104: =IF(U104="zníž. prenesená",N104,0) -> 0 | BI104: =IF(U104="nulová",N104,0) -> 0 | BJ104: 2
D105: Kompletačná činnosť | N105: =ROUND(N88*T105,2) -> 0 | U105: znížená | AY105: KOMPLETACNA | BE105: =IF(U105="základná",N105,0) -> 0 | BF105: =IF(U105="znížená",N105,0) -> 0 | BG105: =IF(U105="zákl. prenesená",N105,0) -> 0 | BH105: =IF(U105="zníž. prenesená",N105,0) -> 0 | BI105: =IF(U105="nulová",N105,0) -> 0 | BJ105: 2
C107: Celkové náklady za stavbu 1) + 2) | L107: =ROUND(SUM(N88+N99),2) -> 0
C113: ROZPOČET
C115: Stavba: | F115: =F6 -> Zemné a elektroinštalačné práce pre rozšírenie verejného osvetlenia
C116: Objekt: | F116: =F7 -> 4 - Šípok - ul. Lúčna, ul. Horská schody
C118: Miesto: | F118: =F9 | K118: Dátum: | M118: =IF(O9="","",O9) -> 20. 7. 2017
C120: Objednávateľ: | F120: =E12 -> Mesto Partizánske | K120: Projektant: | M120: =E18
C121: Zhotoviteľ: | F121: =IF(E15="","",E15) -> Vyplň údaj | K121: Spracovateľ: | M121: =E21
C123: PČ | D123: Typ | E123: Kód | F123: Popis | J123: MJ | K123: Množstvo | L123: J.cena [EUR] | N123: Cena celkom [EUR] | T123: Poznámka | U123: DPH | V123: J. Nh [h] | W123: Nh celkom [h] | X123: J. hmotnosť_x000D_ [t] | Y123: Hmotnosť_x000D_ celkom [t] | Z123: J. suť [t] | AA123: Suť Celkom [t]
C124: Náklady z rozpočtu | N124: =BK124 -> 0 | W124: =W125+W150+W154 -> 0 | Y124: =Y125+Y150+Y154 -> 1.12436 | AA124: =AA125+AA150+AA154 -> 0 | AT124: D | AU124: -1 | BK124: =BK125+BK150+BK154 -> 0
D125: M - Práce a dodávky M | N125: =BK125 -> 0 | W125: =W126+W143 -> 0 | Y125: =Y126+Y143 -> 1.12436 | AA125: =AA126+AA143 -> 0 | AR125: 3 | AT125: D | AU125: 0 | AY125: ROZPOCET | BK125: =BK126+BK143 -> 0
D126: M41 - Prepojenie verejného osvetlenia pri kotolni CTZ s RVO na Lúčnej ul. | N126: =BK126 -> 0 | W126: =W127+W132 -> 0 | Y126: =Y127+Y132 -> 1.10006 | AA126: =AA127+AA132 -> 0 | AR126: 3 | AT126: D | AU126: 1 | AY126: ROZPOCET | BK126: =BK127+BK132 -> 0
D127: 21-M - Elektromontáže | N127: =BK127 -> 0 | W127: =SUM(W128:W131) -> 0 | Y127: =SUM(Y128:Y131) -> 0.01172 | AA127: =SUM(AA128:AA131) -> 0 | AR127: 3 | AT127: D | AU127: 2 | AY127: ROZPOCET | BK127: =SUM(BK128:BK131) -> 0
C128: 1 | D128: K | E128: 210800109 | F128: Kábel medený uložený voľne CYKY 450/750 V 3x4 | J128: m | K128: 40 | L128: 0 | N128: =ROUND(L128*K128,3) -> 0 | U128: znížená | W128: =V128*K128 -> 0 | X128: 0 | Y128: =X128*K128 -> 0 | Z128: 0 | AA128: =Z128*K128 -> 0 | AR128: 64 | AT128: K | AU128: 3 | AY128: ROZPOCET | BE128: =IF(U128="základná",N128,0) -> 0 | BF128: =IF(U128="znížená",N128,0) -> 0 | BG128: =IF(U128="zákl. prenesená",N128,0) -> 0 | BH128: =IF(U128="zníž. prenesená",N128,0) -> 0 | BI128: =IF(U128="nulová",N128,0) -> 0 | BJ128: 2 | BK128: =ROUND(L128*K128,3) -> 0 | BL128: 64 | BM128: -1011242030
C129: 2 | D129: M | E129: 3410350087 | F129: CYKY 3x4 Kábel pre pevné uloženie, medený STN | J129: m | K129: 46.4 | L129: 0 | N129: =ROUND(L129*K129,3) -> 0 | U129: znížená | W129: =V129*K129 -> 0 | X129: 0.00025 | Y129: =X129*K129 -> 0.0116 | Z129: 0 | AA129: =Z129*K129 -> 0 | AR129: 256 | AT129: M | AU129: 3 | AY129: ROZPOCET | BE129: =IF(U129="základná",N129,0) -> 0 | BF129: =IF(U129="znížená",N129,0) -> 0 | BG129: =IF(U129="zákl. prenesená",N129,0) -> 0 | BH129: =IF(U129="zníž. prenesená",N129,0) -> 0 | BI129: =IF(U129="nulová",N129,0) -> 0 | BJ129: 2 | BK129: =ROUND(L129*K129,3) -> 0 | BL129: 64 | BM129: -1658668136
C130: 3 | D130: K | E130: 210100002 | F130: Ukončenie vodičov v rozvádzač. vrátane zapojenia a vodičovej koncovky do 6 mm2 | J130: ks | K130: 4 | L130: 0 | N130: =ROUND(L130*K130,3) -> 0 | U130: znížená | W130: =V130*K130 -> 0 | X130: 0 | Y130: =X130*K130 -> 0 | Z130: 0 | AA130: =Z130*K130 -> 0 | AR130: 64 | AT130: K | AU130: 3 | AY130: ROZPOCET | BE130: =IF(U130="základná",N130,0) -> 0 | BF130: =IF(U130="znížená",N130,0) -> 0 | BG130: =IF(U130="zákl. prenesená",N130,0) -> 0 | BH130: =IF(U130="zníž. prenesená",N130,0) -> 0 | BI130: =IF(U130="nulová",N130,0) -> 0 | BJ130: 2 | BK130: =ROUND(L130*K130,3) -> 0 | BL130: 64 | BM130: -1868085635
C131: 4 | D131: M | E131: 3452104900 | F131: G-Káblové oko CU 4x4 KU-L | J131: ks | K131: 4 | L131: 0 | N131: =ROUND(L131*K131,3) -> 0 | U131: znížená | W131: =V131*K131 -> 0 | X131: 3e-05 | Y131: =X131*K131 -> 0.00012 | Z131: 0 | AA131: =Z131*K131 -> 0 | AR131: 128 | AT131: M | AU131: 3 | AY131: ROZPOCET | BE131: =IF(U131="základná",N131,0) -> 0 | BF131: =IF(U131="znížená",N131,0) -> 0 | BG131: =IF(U131="zákl. prenesená",N131,0) -> 0 | BH131: =IF(U131="zníž. prenesená",N131,0) -> 0 | BI131: =IF(U131="nulová",N131,0) -> 0 | BJ131: 2 | BK131: =ROUND(L131*K131,3) -> 0 | BL131: 128 | BM131: 1620986059
D132: 46-M - Zemné práce pri extr.mont.prácach | N132: =BK132 -> 0 | W132: =SUM(W133:W142) -> 0 | Y132: =SUM(Y133:Y142) -> 1.08834 | AA132: =SUM(AA133:AA142) -> 0 | AR132: 3 | AT132: D | AU132: 2 | AY132: ROZPOCET | BK132: =SUM(BK133:BK142) -> 0
C133: 5 | D133: K | E133: 210010016 | F133: Rúrka ohybná elektroinštalačná z PVC uložená voľne | J133: m | K133: 2 | L133: 0 | N133: =ROUND(L133*K133,3) -> 0 | U133: znížená | W133: =V133*K133 -> 0 | X133: 0 | Y133: =X133*K133 -> 0 | Z133: 0 | AA133: =Z133*K133 -> 0 | AR133: 64 | AT133: K | AU133: 3 | AY133: ROZPOCET | BE133: =IF(U133="základná",N133,0) -> 0 | BF133: =IF(U133="znížená",N133,0) -> 0 | BG133: =IF(U133="zákl. prenesená",N133,0) -> 0 | BH133: =IF(U133="zníž. prenesená",N133,0) -> 0 | BI133: =IF(U133="nulová",N133,0) -> 0 | BJ133: 2 | BK133: =ROUND(L133*K133,3) -> 0 | BL133: 64 | BM133: -983886600
C134: 6 | D134: M | E134: 3457100340 | F134: Rúrka ohybná šedá | J134: m | K134: 2 | L134: 0 | N134: =ROUND(L134*K134,3) -> 0 | U134: znížená | W134: =V134*K134 -> 0 | X134: 0.00102 | Y134: =X134*K134 -> 0.00204 | Z134: 0 | AA134: =Z134*K134 -> 0 | AR134: 256 | AT134: M | AU134: 3 | AY134: ROZPOCET | BE134: =IF(U134="základná",N134,0) -> 0 | BF134: =IF(U134="znížená",N134,0) -> 0 | BG134: =IF(U134="zákl. prenesená",N134,0) -> 0 | BH134: =IF(U134="zníž. prenesená",N134,0) -> 0 | BI134: =IF(U134="nulová",N134,0) -> 0 | BJ134: 2 | BK134: =ROUND(L134*K134,3) -> 0 | BL134: 64 | BM134: -81057423
C135: 7 | D135: K | E135: 460200143 | F135: Hĺbenie káblovej ryhy ručne 35 cm širokej a 60 cm hlbokej, v zemine triedy 3 | J135: m | K135: 30 | L135: 0 | N135: =ROUND(L135*K135,3) -> 0 | U135: znížená | W135: =V135*K135 -> 0 | X135: 0 | Y135: =X135*K135 -> 0 | Z135: 0 | AA135: =Z135*K135 -> 0 | AR135: 64 | AT135: K | AU135: 3 | AY135: ROZPOCET | BE135: =IF(U135="základná",N135,0) -> 0 | BF135: =IF(U135="znížená",N135,0) -> 0 | BG135: =IF(U135="zákl. prenesená",N135,0) -> 0 | BH135: =IF(U135="zníž. prenesená",N135,0) -> 0 | BI135: =IF(U135="nulová",N135,0) -> 0 | BJ135: 2 | BK135: =ROUND(L135*K135,3) -> 0 | BL135: 64 | BM135: -1137404382
C136: 8 | D136: K | E136: 460420022 | F136: Zriadenie, rekonšt. káblového lôžka z piesku bez zakrytia, v ryhe šír. do 65 cm, hrúbky vrstvy 10 cm | J136: m | K136: 30 | L136: 0 | N136: =ROUND(L136*K136,3) -> 0 | U136: znížená | W136: =V136*K136 -> 0 | X136: 0 | Y136: =X136*K136 -> 0 | Z136: 0 | AA136: =Z136*K136 -> 0 | AR136: 64 | AT136: K | AU136: 3 | AY136: ROZPOCET | BE136: =IF(U136="základná",N136,0) -> 0 | BF136: =IF(U136="znížená",N136,0) -> 0 | BG136: =IF(U136="zákl. prenesená",N136,0) -> 0 | BH136: =IF(U136="zníž. prenesená",N136,0) -> 0 | BI136: =IF(U136="nulová",N136,0) -> 0 | BJ136: 2 | BK136: =ROUND(L136*K136,3) -> 0 | BL136: 64 | BM136: -676276248
C137: 9 | D137: M | E137: 5831214500 | F137: Drvina vápencová zmes 0 - 4 | J137: t | K137: 1.08 | L137: 0 | N137: =ROUND(L137*K137,3) -> 0 | U137: znížená | W137: =V137*K137 -> 0 | X137: 1 | Y137: =X137*K137 -> 1.08 | Z137: 0 | AA137: =Z137*K137 -> 0 | AR137: 256 | AT137: M | AU137: 3 | AY137: ROZPOCET | BE137: =IF(U137="základná",N137,0) -> 0 | BF137: =IF(U137="znížená",N137,0) -> 0 | BG137: =IF(U137="zákl. prenesená",N137,0) -> 0 | BH137: =IF(U137="zníž. prenesená",N137,0) -> 0 | BI137: =IF(U137="nulová",N137,0) -> 0 | BJ137: 2 | BK137: =ROUND(L137*K137,3) -> 0 | BL137: 64 | BM137: 1106764375
C138: 10 | D138: K | E138: 460490012 | F138: Rozvinutie a uloženie výstražnej fólie z PVC do ryhy, šírka 33 cm | J138: m | K138: 30 | L138: 0 | N138: =ROUND(L138*K138,3) -> 0 | U138: znížená | W138: =V138*K138 -> 0 | X138: 0 | Y138: =X138*K138 -> 0 | Z138: 0 | AA138: =Z138*K138 -> 0 | AR138: 64 | AT138: K | AU138: 3 | AY138: ROZPOCET | BE138: =IF(U138="základná",N138,0) -> 0 | BF138: =IF(U138="znížená",N138,0) -> 0 | BG138: =IF(U138="zákl. prenesená",N138,0) -> 0 | BH138: =IF(U138="zníž. prenesená",N138,0) -> 0 | BI138: =IF(U138="nulová",N138,0) -> 0 | BJ138: 2 | BK138: =ROUND(L138*K138,3) -> 0 | BL138: 64 | BM138: 438141608
C139: 11 | D139: M | E139: 2830002000 | F139: Fólia červená v m | J139: m | K139: 30 | L139: 0 | N139: =ROUND(L139*K139,3) -> 0 | U139: znížená | W139: =V139*K139 -> 0 | X139: 0.00021 | Y139: =X139*K139 -> 0.0063 | Z139: 0 | AA139: =Z139*K139 -> 0 | AR139: 256 | AT139: M | AU139: 3 | AY139: ROZPOCET | BE139: =IF(U139="základná",N139,0) -> 0 | BF139: =IF(U139="znížená",N139,0) -> 0 | BG139: =IF(U139="zákl. prenesená",N139,0) -> 0 | BH139: =IF(U139="zníž. prenesená",N139,0) -> 0 | BI139: =IF(U139="nulová",N139,0) -> 0 | BJ139: 2 | BK139: =ROUND(L139*K139,3) -> 0 | BL139: 64 | BM139: -200372725
C140: 12 | D140: K | E140: 460560143 | F140: Ručný zásyp nezap. káblovej ryhy bez zhutn. zeminy, 35 cm širokej, 60 cm hlbokej v zemine tr. 3 | J140: m | K140: 30 | L140: 0 | N140: =ROUND(L140*K140,3) -> 0 | U140: znížená | W140: =V140*K140 -> 0 | X140: 0 | Y140: =X140*K140 -> 0 | Z140: 0 | AA140: =Z140*K140 -> 0 | AR140: 64 | AT140: K | AU140: 3 | AY140: ROZPOCET | BE140: =IF(U140="základná",N140,0) -> 0 | BF140: =IF(U140="znížená",N140,0) -> 0 | BG140: =IF(U140="zákl. prenesená",N140,0) -> 0 | BH140: =IF(U140="zníž. prenesená",N140,0) -> 0 | BI140: =IF(U140="nulová",N140,0) -> 0 | BJ140: 2 | BK140: =ROUND(L140*K140,3) -> 0 | BL140: 64 | BM140: 1371033386
C141: 13 | D141: K | E141: 460510001 | F141: Úplné zriadenie a osadenie káblového priestupu, vysekanie orvoru v mieste napojenia na jestvujúce verejné osvetlenie, oprava povrchu pätky | J141: ks | K141: 1 | L141: 0 | N141: =ROUND(L141*K141,3) -> 0 | U141: znížená | W141: =V141*K141 -> 0 | X141: 0 | Y141: =X141*K141 -> 0 | Z141: 0 | AA141: =Z141*K141 -> 0 | AR141: 64 | AT141: K | AU141: 3 | AY141: ROZPOCET | BE141: =IF(U141="základná",N141,0) -> 0 | BF141: =IF(U141="znížená",N141,0) -> 0 | BG141: =IF(U141="zákl. prenesená",N141,0) -> 0 | BH141: =IF(U141="zníž. prenesená",N141,0) -> 0 | BI141: =IF(U141="nulová",N141,0) -> 0 | BJ141: 2 | BK141: =ROUND(L141*K141,3) -> 0 | BL141: 64 | BM141: 1152688319
C142: 14 | D142: K | E142: 141720011 | F142: Neriadené zemné pretláčanie v hornine tr. 3-4, priemer pretláčania do 50 mm | J142: m | K142: 10 | L142: 0 | N142: =ROUND(L142*K142,3) -> 0 | U142: znížená | W142: =V142*K142 -> 0 | X142: 0 | Y142: =X142*K142 -> 0 | Z142: 0 | AA142: =Z142*K142 -> 0 | AR142: 64 | AT142: K | AU142: 3 | AY142: ROZPOCET | BE142: =IF(U142="základná",N142,0) -> 0 | BF142: =IF(U142="znížená",N142,0) -> 0 | BG142: =IF(U142="zákl. prenesená",N142,0) -> 0 | BH142: =IF(U142="zníž. prenesená",N142,0) -> 0 | BI142: =IF(U142="nulová",N142,0) -> 0 | BJ142: 2 | BK142: =ROUND(L142*K142,3) -> 0 | BL142: 64 | BM142: -1985230259
D143: M42 - Osvetlenie vonkajších schodov nad základnou školou | N143: =BK143 -> 0 | W143: =W144 -> 0 | Y143: =Y144 -> 0.0243 | AA143: =AA144 -> 0 | AR143: 3 | AT143: D | AU143: 1 | AY143: ROZPOCET | BK143: =BK144 -> 0
D144: 21-M - Elektromontáže | N144: =BK144 -> 0 | W144: =SUM(W145:W149) -> 0 | Y144: =SUM(Y145:Y149) -> 0.0243 | AA144: =SUM(AA145:AA149) -> 0 | AR144: 3 | AT144: D | AU144: 2 | AY144: ROZPOCET | BK144: =SUM(BK145:BK149) -> 0
C145: 15 | D145: K | E145: 210201810 | F145: Montáž a zapojenie svietidla 1x svetelný zdroj, uličného | J145: ks | K145: 4 | L145: 0 | N145: =ROUND(L145*K145,3) -> 0 | U145: znížená | W145: =V145*K145 -> 0 | X145: 0 | Y145: =X145*K145 -> 0 | Z145: 0 | AA145: =Z145*K145 -> 0 | AR145: 64 | AT145: K | AU145: 3 | AY145: ROZPOCET | BE145: =IF(U145="základná",N145,0) -> 0 | BF145: =IF(U145="znížená",N145,0) -> 0 | BG145: =IF(U145="zákl. prenesená",N145,0) -> 0 | BH145: =IF(U145="zníž. prenesená",N145,0) -> 0 | BI145: =IF(U145="nulová",N145,0) -> 0 | BJ145: 2 | BK145: =ROUND(L145*K145,3) -> 0 | BL145: 64 | BM145: 1006985374
C146: 16 | D146: K | E146: 210204105 | F146: Výložník oceľový dvojramenný - do hmotn.70 kg | J146: ks | K146: 1 | L146: 0 | N146: =ROUND(L146*K146,3) -> 0 | U146: znížená | W146: =V146*K146 -> 0 | X146: 0 | Y146: =X146*K146 -> 0 | Z146: 0 | AA146: =Z146*K146 -> 0 | AR146: 64 | AT146: K | AU146: 3 | AY146: ROZPOCET | BE146: =IF(U146="základná",N146,0) -> 0 | BF146: =IF(U146="znížená",N146,0) -> 0 | BG146: =IF(U146="zákl. prenesená",N146,0) -> 0 | BH146: =IF(U146="zníž. prenesená",N146,0) -> 0 | BI146: =IF(U146="nulová",N146,0) -> 0 | BJ146: 2 | BK146: =ROUND(L146*K146,3) -> 0 | BL146: 64 | BM146: -99350937
C147: 17 | D147: M | E147: 3160304400 | F147: Výložník V2 T 08 D 120 stup. /60 zinkový | J147: ks | K147: 1 | L147: 0 | N147: =ROUND(L147*K147,3) -> 0 | U147: znížená | W147: =V147*K147 -> 0 | X147: 0.0215 | Y147: =X147*K147 -> 0.0215 | Z147: 0 | AA147: =Z147*K147 -> 0 | AR147: 256 | AT147: M | AU147: 3 | AY147: ROZPOCET | BE147: =IF(U147="základná",N147,0) -> 0 | BF147: =IF(U147="znížená",N147,0) -> 0 | BG147: =IF(U147="zákl. prenesená",N147,0) -> 0 | BH147: =IF(U147="zníž. prenesená",N147,0) -> 0 | BI147: =IF(U147="nulová",N147,0) -> 0 | BJ147: 2 | BK147: =ROUND(L147*K147,3) -> 0 | BL147: 64 | BM147: 848459927
C148: 18 | D148: K | E148: 210800146 | F148: Kábel medený uložený pevne CYKY 450/750 V 3x1,5 | J148: m | K148: 20 | L148: 0 | N148: =ROUND(L148*K148,3) -> 0 | U148: znížená | W148: =V148*K148 -> 0 | X148: 0 | Y148: =X148*K148 -> 0 | Z148: 0 | AA148: =Z148*K148 -> 0 | AR148: 64 | AT148: K | AU148: 3 | AY148: ROZPOCET | BE148: =IF(U148="základná",N148,0) -> 0 | BF148: =IF(U148="znížená",N148,0) -> 0 | BG148: =IF(U148="zákl. prenesená",N148,0) -> 0 | BH148: =IF(U148="zníž. prenesená",N148,0) -> 0 | BI148: =IF(U148="nulová",N148,0) -> 0 | BJ148: 2 | BK148: =ROUND(L148*K148,3) -> 0 | BL148: 64 | BM148: -556077698
C149: 19 | D149: M | E149: 3410350085 | F149: CYKY 3x1,5 Kábel pre pevné uloženie, medený STN | J149: m | K149: 20 | L149: 0 | N149: =ROUND(L149*K149,3) -> 0 | U149: znížená | W149: =V149*K149 -> 0 | X149: 0.00014 | Y149: =X149*K149 -> 0.0028 | Z149: 0 | AA149: =Z149*K149 -> 0 | AR149: 256 | AT149: M | AU149: 3 | AY149: ROZPOCET | BE149: =IF(U149="základná",N149,0) -> 0 | BF149: =IF(U149="znížená",N149,0) -> 0 | BG149: =IF(U149="zákl. prenesená",N149,0) -> 0 | BH149: =IF(U149="zníž. prenesená",N149,0) -> 0 | BI149: =IF(U149="nulová",N149,0) -> 0 | BJ149: 2 | BK149: =ROUND(L149*K149,3) -> 0 | BL149: 64 | BM149: -416859081
D150: VRN - Vedľajšie rozpočtové náklady | N150: =BK150 -> 0 | W150: =W151 -> 0 | Y150: =Y151 -> 0 | AA150: =AA151 -> 0 | AR150: 5 | AT150: D | AU150: 0 | AY150: ROZPOCET | BK150: =BK151 -> 0
D151: VRN03 - Geodetické práce | N151: =BK151 -> 0 | W151: =SUM(W152:W153) -> 0 | Y151: =SUM(Y152:Y153) -> 0 | AA151: =SUM(AA152:AA153) -> 0 | AR151: 5 | AT151: D | AU151: 1 | AY151: ROZPOCET | BK151: =SUM(BK152:BK153) -> 0
C152: 20 | D152: K | E152: 000300013 | F152: Geodetické práce - vykonávané pred výstavbou určenie priebehu nadzemného alebo podzemného existujúceho aj plánovaného vedenia | J152: eur | K152: 1 | L152: 0 | N152: =ROUND(L152*K152,3) -> 0 | U152: znížená | W152: =V152*K152 -> 0 | X152: 0 | Y152: =X152*K152 -> 0 | Z152: 0 | AA152: =Z152*K152 -> 0 | AR152: 1024 | AT152: K | AU152: 2 | AY152: ROZPOCET | BE152: =IF(U152="základná",N152,0) -> 0 | BF152: =IF(U152="znížená",N152,0) -> 0 | BG152: =IF(U152="zákl. prenesená",N152,0) -> 0 | BH152: =IF(U152="zníž. prenesená",N152,0) -> 0 | BI152: =IF(U152="nulová",N152,0) -> 0 | BJ152: 2 | BK152: =ROUND(L152*K152,3) -> 0 | BL152: 1024 | BM152: -353023205
C153: 21 | D153: K | E153: HZS000214 | F153: Stavebno montážne práce najnáročnejšie na odbornosť - prehliadky pracoviska a revízie (Tr 4) v rozsahu viac ako 4 a menej ako 8 hodín | J153: eur | K153: 1 | L153: 0 | N153: =ROUND(L153*K153,3) -> 0 | U153: znížená | W153: =V153*K153 -> 0 | X153: 0 | Y153: =X153*K153 -> 0 | Z153: 0 | AA153: =Z153*K153 -> 0 | AR153: 512 | AT153: K | AU153: 2 | AY153: ROZPOCET | BE153: =IF(U153="základná",N153,0) -> 0 | BF153: =IF(U153="znížená",N153,0) -> 0 | BG153: =IF(U153="zákl. prenesená",N153,0) -> 0 | BH153: =IF(U153="zníž. prenesená",N153,0) -> 0 | BI153: =IF(U153="nulová",N153,0) -> 0 | BJ153: 2 | BK153: =ROUND(L153*K153,3) -> 0 | BL153: 512 | BM153: -2059619177
D154: VP - Práce naviac | N154: =BK154 -> 0 | AT154: D | AU154: 0 | AY154: PN | BK154: =SUM(BK155:BK159) -> 0
D155: K | N155: =BK155 -> 0 | U155: znížená | AT155: PN | AU155: 1 | AY155: PN | BE155: =IF(U155="základná",N155,0) -> 0 | BF155: =IF(U155="znížená",N155,0) -> 0 | BG155: =IF(U155="zákl. prenesená",N155,0) -> 0 | BH155: =IF(U155="zníž. prenesená",N155,0) -> 0 | BI155: =IF(U155="nulová",N155,0) -> 0 | BJ155: 2 | BK155: =L155*K155 -> 0
D156: K | N156: =BK156 -> 0 | U156: znížená | AT156: PN | AU156: 1 | AY156: PN | BE156: =IF(U156="základná",N156,0) -> 0 | BF156: =IF(U156="znížená",N156,0) -> 0 | BG156: =IF(U156="zákl. prenesená",N156,0) -> 0 | BH156: =IF(U156="zníž. prenesená",N156,0) -> 0 | BI156: =IF(U156="nulová",N156,0) -> 0 | BJ156: 2 | BK156: =L156*K156 -> 0
D157: K | N157: =BK157 -> 0 | U157: znížená | AT157: PN | AU157: 1 | AY157: PN | BE157: =IF(U157="základná",N157,0) -> 0 | BF157: =IF(U157="znížená",N157,0) -> 0 | BG157: =IF(U157="zákl. prenesená",N157,0) -> 0 | BH157: =IF(U157="zníž. prenesená",N157,0) -> 0 | BI157: =IF(U157="nulová",N157,0) -> 0 | BJ157: 2 | BK157: =L157*K157 -> 0
D158: K | N158: =BK158 -> 0 | U158: znížená | AT158: PN | AU158: 1 | AY158: PN | BE158: =IF(U158="základná",N158,0) -> 0 | BF158: =IF(U158="znížená",N158,0) -> 0 | BG158: =IF(U158="zákl. prenesená",N158,0) -> 0 | BH158: =IF(U158="zníž. prenesená",N158,0) -> 0 | BI158: =IF(U158="nulová",N158,0) -> 0 | BJ158: 2 | BK158: =L158*K158 -> 0
D159: K | N159: =BK159 -> 0 | U159: znížená | AT159: PN | AU159: 1 | AY159: PN | BE159: =IF(U159="základná",N159,0) -> 0 | BF159: =IF(U159="znížená",N159,0) -> 0 | BG159: =IF(U159="zákl. prenesená",N159,0) -> 0 | BH159: =IF(U159="zníž. prenesená",N159,0) -> 0 | BI159: =IF(U159="nulová",N159,0) -> 0 | BJ159: 2 | BK159: =L159*K159 -> 0
